{"text_format":"1","workbook":"xlsx","n_sheets":12,"sheets":["応募者名簿","送付状_学校審査なし","送付状","非表示_応募作品点数","非表示_入力シートプルダウン","template","作品名札_条幅","作品名札_半紙","作品名札_ポスター","外字報告書 ","応募数_集計シート","応募者名簿_集計シート"],"not_rendered":{"charts":0,"images":10,"macros":1,"external_links":0,"defined_names":8,"comments":0,"pivot_tables":0},"unopened":[],"bounds":{"document_bytes":16777216,"sheet_cells":100000,"rows_first":2000,"rows_last":500,"rows_between":2000,"halvings":0,"cell_chars":16384,"cell_head_chars":4096},"cells_cut":0,"cells_raw":0,"read":"whole","date_system":"1900"}

{"sheet":"応募者名簿","index":0,"n_rows":17,"n_cols":14,"rows_kept":17,"cut":false,"hidden":false,"merged":[[12,0,13,0],[12,1,13,2],[12,4,13,6],[4,5,4,6],[4,3,7,4],[5,5,7,8],[12,3,13,3],[9,1,9,8],[6,10,7,10],[6,11,7,11],[15,0,15,3],[15,5,15,8],[9,25,10,25],[9,14,10,14],[9,15,10,15],[9,16,10,16],[9,17,10,17],[9,18,10,18],[14,5,14,8],[15,10,15,13],[9,13,10,13],[12,8,13,11],[12,7,13,7],[10,1,10,8],[1,22,5,24],[9,23,10,24],[4,18,5,18],[4,19,5,19],[4,20,5,20],[4,21,5,21],[9,19,10,19],[9,20,10,20],[9,21,10,21],[9,22,10,22],[4,17,5,17],[1,12,5,12],[4,13,5,13],[4,14,5,14],[4,15,5,15],[4,16,5,16]]}
[]
[]
[]
[]
["県名","京都府",null,"住所　　　　　　　　　　　　　　　　　　　　　　　　　　　　　　　　　　　　　　　　　　　　　　　　　　　　　　　　　　　　　　　　　　　　　　　　　　【学校】",null,"〒"]
[]
["フリガナ",null,null,null,null,null,null,null,null,null,"校長名"]
["ＪＡ名"]
[]
["フリガナ"]
["学校名"]
[]
["Ｅ-mail　　　　　　　　　　　　　　　　　　　　　　　　　　　　　　　　　　　　　　　　　　　　　　　　　　　　　　　　　　　　　　　　　　　　　　【学校】",null,null,"TEL　　　　　　　　　　　　　　　　　　　　　　　　　　　　　　　　　　　　　　　　　　　　　　　　　　　　　　　　　　　　　　　　　　　　　　　　　【学校】",null,null,null,"担当者名　　　　　　　　　　　　　　　　　　　　　　　　　　　　　　　　　　　　　　　　　　　　　　　　　　　　　　　　　　　　　　　　　　　　　　　【学校】"]
[]
[]
["条幅の部",null,null,null,null,"半紙の部",null,null,null,null,"交通安全ポスターの部"]
["学年","氏　　　名","フリガナ","外字",null,"学年","氏　　　名","フリガナ","外字",null,"学年","氏　　　名","フリガナ","外字"]

{"sheet":"送付状_学校審査なし","index":1,"n_rows":25,"n_cols":11,"rows_kept":25,"cut":false,"hidden":true,"merged":[[1,22,5,24],[4,13,5,13],[4,14,5,14],[4,15,5,15],[4,16,5,16],[4,17,5,17],[4,18,5,18],[4,19,5,19],[4,20,5,20],[4,21,5,21],[7,2,7,4],[9,1,9,8],[9,13,10,13],[9,14,10,14],[9,15,10,15],[9,16,10,16],[9,17,10,17],[9,18,10,18],[9,19,10,19],[1,12,5,12],[9,20,10,20],[9,21,10,21],[9,22,10,22],[9,23,10,24],[9,25,10,25],[22,7,22,8],[22,10,22,11],[10,1,10,8],[24,7,25,7],[24,8,25,11],[16,12,17,13],[17,7,18,8],[17,10,18,11],[18,12,20,13],[19,7,21,8],[19,10,21,11],[21,12,21,13]]}
[]
[]
[]
[]
["県名",{"$f":"CONCATENATE(応募者名簿!$B$5)","v":"京都府"}]
[]
["フリガナ",{"$f":"CONCATENATE(応募者名簿!$B$7)","v":""}]
["所属組合名","ＪＡ京都"]
[]
["フリガナ","キョウトチュウガッコウ"]
["学校名","京都中学校"]
[]
[]
[]
[]
[]
[]
[null,null,null,null,null,null,null,"学校からＪＡへ提出する\n応募作品数",null,null,"総応募作品数"]
[]
[null,null,null,null,null,null,null,{"$f":"非表示_応募作品点数!O2+非表示_応募作品点数!O3+非表示_応募作品点数!O4","v":0},null,null,{"$f":"非表示_応募作品点数!C17","v":0}]
[]
[]
[null,null,null,null,null,null,null,"点",null,null,"点"]
[]
[null,null,null,null,null,null,null,"担当者名","杣田　宏美"]

{"sheet":"送付状","index":2,"n_rows":23,"n_cols":17,"rows_kept":23,"cut":false,"hidden":false,"merged":[[22,7,23,7],[22,8,23,11],[22,12,23,13],[22,3,23,6],[22,2,23,2],[17,7,18,7],[17,2,18,2],[17,3,18,3],[9,2,12,10],[13,2,14,2],[13,3,14,3],[13,4,14,4],[13,5,14,5],[13,6,14,6],[13,7,14,7],[13,8,14,8],[13,9,14,9],[13,10,14,10],[17,9,18,9],[17,10,18,10],[19,5,20,5],[17,4,18,4],[15,2,16,2],[15,3,16,3],[15,4,16,4],[15,5,16,5],[9,0,20,0],[17,11,18,11],[15,6,16,6],[15,7,16,7],[15,8,16,8],[15,9,16,9],[15,10,16,10],[15,11,16,11],[17,6,18,6],[17,8,18,8],[17,1,18,1],[15,1,16,1],[17,5,18,5],[19,6,20,6],[19,7,20,7],[19,1,20,1],[9,11,14,11],[9,1,14,1],[22,14,23,17],[19,8,20,8],[19,9,20,9],[19,10,20,10],[19,11,20,11],[15,13,16,14],[15,16,16,17],[17,13,19,14],[17,16,19,17],[20,13,20,14],[20,16,20,17],[19,2,20,2],[19,3,20,3],[19,4,20,4]]}
[]
[]
[]
[]
[]
[]
[]
[]
[]
["応募作品点数","区分","部門・学年別小計\n総応募数内訳を手入力してください。",null,null,null,null,null,null,null,null,"合計"]
[]
[]
[]
[null,null,"小1","小2","小3","小4","小5","小6","中1","中2","中3"]
[]
[null,"条幅の部",null,null,null,null,null,null,null,null,null,{"$f":"SUM(C16:K17)","v":0},null,"所在区域内のＪＡ　　　　　　　　　　　　　　　　　　　　　　　　　　　　　　　　　　　　　　　　　　　　　　　　　　　　　　　　　　　　　　　　　　　　　　　　　　　　　へ提出する応募作品数",null,null,"総応募作品数"]
[]
[null,"半紙の部",null,null,null,null,null,null,null,null,null,{"$f":"SUM(C18:K19)","v":0},null,{"$f":"非表示_応募作品点数!C17","v":0},null,null,{"$f":"SUM(L16:L21)","v":0}]
[]
[null,"ポスター",null,null,null,null,null,null,null,null,null,{"$f":"SUM(C20:K21)","v":0}]
[null,null,null,null,null,null,null,null,null,null,null,null,null,"点",null,null,"点"]
[]
[null,null,"E-mail　　　　　　　　　　　　　　　　　　　　　　　　　　　　　　　　　　　　　　　　　　　　　　　　　　　　　　　　　　　　　　　　　　　　　　　　　　　　　　　　　　　　　　　　　　【学校】",{"$f":"CONCATENATE(応募者名簿!$B$13)","v":""},null,null,null,"TEL　　　　　　　　　　　　　　　　　　　　　　　　　　　　　　　　　　　　　　　　　　　　　　　　　　　　　　　　　　　　　　　　　　　　　　　　　　　　　　　　　　【学校】",{"$f":"CONCATENATE(応募者名簿!$E$13)","v":""},null,null,null,"担当者名　　　　　　　　　　　　　　　　　　　　　　　　　　　　　　　　　　　　　　　　　　　　　　　　　　　　　　　　　　　　　　　　　　　　　　　　　　　【学校】",null,{"$f":"CONCATENATE(応募者名簿!$I$13)","v":""}]

{"sheet":"非表示_応募作品点数","index":3,"n_rows":22,"n_cols":17,"rows_kept":22,"cut":false,"hidden":true,"merged":[[0,1,5,1],[8,1,9,1],[6,1,7,1],[0,2,3,10],[4,2,5,2],[4,3,5,3],[4,4,5,4],[4,5,5,5],[4,6,5,6],[6,2,7,2],[8,3,9,3],[8,4,9,4],[8,5,9,5],[8,6,9,6],[4,7,5,7],[4,9,5,9],[4,10,5,10],[8,2,9,2],[8,7,9,7],[8,8,9,8],[8,9,9,9],[8,10,9,10],[16,2,20,6],[13,2,15,6],[6,8,7,8],[6,9,7,9],[6,10,7,10],[6,3,7,3],[6,4,7,4],[6,5,7,5],[6,6,7,6],[6,7,7,7],[0,0,11,0],[10,11,11,11],[10,1,11,1],[10,10,11,10],[10,9,11,9],[10,8,11,8],[10,7,11,7],[10,6,11,6],[10,5,11,5],[10,4,11,4],[10,3,11,3],[10,2,11,2],[0,11,5,11],[8,11,9,11],[6,11,7,11],[4,8,5,8]]}
["応募作品点数","区分","部門・学年別小計\n※下記の名簿上の学年欄入力数が反映されます",null,null,null,null,null,null,null,null,"合計"]
[null,null,null,null,null,null,null,null,null,null,null,null,null,"条幅の部",{"$f":"COUNTIF(応募者名簿!D18:D29,\"○\")","v":0}]
[null,null,null,null,null,null,null,null,null,null,null,null,null,"半紙の部",{"$f":"COUNTIF(応募者名簿!I18:I29,\"○\")","v":0}]
[null,null,null,null,null,null,null,null,null,null,null,null,null,"ポスターの部",{"$f":"COUNTIF(応募者名簿!N18:N29,\"○\")","v":0}]
[null,null,"小１","小２","小３","小４","小５","小６","中１","中２","中３"]
[null,null,null,null,null,null,null,null,null,null,null,null,null,"qWlK3pMZ",null,null,"qWlK3pMZn8RpYXpX"]
[null,"条幅の部",{"$f":"COUNTIF(応募者名簿!$A$18:$A$29,\"小１\")","v":0},{"$f":"COUNTIF(応募者名簿!$A$18:$A$29,\"小２\")","v":0},{"$f":"COUNTIF(応募者名簿!$A$18:$A$29,\"小３\")","v":0},{"$f":"COUNTIF(応募者名簿!$A$18:$A$29,\"小４\")","v":0},{"$f":"COUNTIF(応募者名簿!$A$18:$A$29,\"小５\")","v":0},{"$f":"COUNTIF(応募者名簿!$A$18:$A$29,\"小６\")","v":0},{"$f":"COUNTIF(応募者名簿!$A$18:$A$29,\"中１\")","v":0},{"$f":"COUNTIF(応募者名簿!$A$18:$A$29,\"中２\")","v":0},{"$f":"COUNTIF(応募者名簿!$A$18:$A$29,\"中３\")","v":0},{"$f":"SUM(C7:K8)","v":0}]
[null,null,null,null,null,null,null,null,null,null,null,null,null,"qWlK3pMZ"]
[null,"半紙の部",{"$f":"COUNTIF(応募者名簿!$F$18:$F$29,\"小１\")","v":0},{"$f":"COUNTIF(応募者名簿!$F$18:$F$29,\"小２\")","v":0},{"$f":"COUNTIF(応募者名簿!$F$18:$F$29,\"小３\")","v":0},{"$f":"COUNTIF(応募者名簿!$F$18:$F$29,\"小４\")","v":0},{"$f":"COUNTIF(応募者名簿!$F$18:$F$29,\"小５\")","v":0},{"$f":"COUNTIF(応募者名簿!$F$18:$F$29,\"小６\")","v":0},{"$f":"COUNTIF(応募者名簿!$F$18:$F$29,\"中１\")","v":0},{"$f":"COUNTIF(応募者名簿!$F$18:$F$29,\"中２\")","v":0},{"$f":"COUNTIF(応募者名簿!$F$18:$F$29,\"中３\")","v":0},{"$f":"SUM(C9:K10)","v":0},null,"n8RpYXpX"]
[]
[null,"ポスター",{"$f":"COUNTIF(応募者名簿!$K$18:$K$29,\"小１\")","v":0},{"$f":"COUNTIF(応募者名簿!$K$18:$K$29,\"小２\")","v":0},{"$f":"COUNTIF(応募者名簿!$K$18:$K$29,\"小３\")","v":0},{"$f":"COUNTIF(応募者名簿!$K$18:$K$29,\"小４\")","v":0},{"$f":"COUNTIF(応募者名簿!$K$18:$K$29,\"小５\")","v":0},{"$f":"COUNTIF(応募者名簿!$K$18:$K$29,\"小６\")","v":0},{"$f":"COUNTIF(応募者名簿!$K$18:$K$29,\"中１\")","v":0},{"$f":"COUNTIF(応募者名簿!$K$18:$K$29,\"中２\")","v":0},{"$f":"COUNTIF(応募者名簿!$K$18:$K$29,\"中３\")","v":0},{"$f":"SUM(C11:K12)","v":0}]
[]
[]
[null,null,"学校に提出のあった\n総応募作品数"]
[]
[]
[null,null,{"$f":"SUM(L7:L12)","v":0}]
[]
[]
[]
[]
[null,null,null,null,null,null,"点"]

{"sheet":"非表示_入力シートプルダウン","index":4,"n_rows":9,"n_cols":11,"rows_kept":9,"cut":false,"hidden":true,"merged":[]}
[null,null,null,null,"小１",null,{"$f":"応募者名簿!B8","v":0},{"$f":"応募者名簿!B7","v":0},{"$f":"応募者名簿!B5","v":"京都府"},null,"○"]
[null,null,null,null,"小２"]
[null,null,null,null,"小３"]
[null,null,null,null,"小４"]
[null,null,null,null,"小５"]
[null,null,null,null,"小６"]
[null,null,null,null,"中１"]
[null,null,null,null,"中２"]
[null,null,null,null,"中３"]

{"sheet":"template","index":5,"n_rows":132,"n_cols":13,"rows_kept":132,"cut":false,"hidden":true,"merged":[[3,0,4,1],[5,0,5,1],[6,0,10,1],[11,0,12,1],[13,0,13,1],[14,0,15,1],[16,0,16,1],[17,0,19,1],[3,8,4,9],[5,8,5,9],[6,8,10,9],[11,8,12,9],[13,8,13,9],[14,8,15,9],[16,8,16,9],[17,8,19,9],[13,3,13,7],[3,3,4,6],[16,3,16,7],[14,3,15,6],[17,3,18,5],[5,3,5,7],[7,3,7,6],[9,3,9,6],[127,11,128,13],[115,11,115,15],[117,11,117,14],[119,11,119,14],[121,11,122,14],[123,11,123,15],[124,11,125,14],[127,3,128,5],[115,3,115,7],[117,3,117,6],[119,3,119,6],[121,3,122,6],[123,3,123,7],[97,11,97,14],[99,11,100,14],[101,11,101,15],[102,11,103,14],[113,3,114,6],[126,3,126,7],[95,3,95,6],[97,3,97,6],[99,3,100,6],[101,3,101,7],[102,3,103,6],[124,3,125,6],[113,11,114,14],[126,11,126,15],[91,11,92,14],[104,11,104,15],[105,11,106,13],[93,11,93,15],[95,11,95,14],[35,11,35,15],[36,11,37,14],[91,3,92,6],[104,3,104,7],[105,3,106,5],[93,3,93,7],[75,11,75,14],[77,11,78,14],[79,11,79,15],[80,11,81,14],[73,11,73,14],[57,11,57,15],[58,11,59,14],[69,3,70,6],[71,3,71,7],[83,3,84,5],[82,3,82,7],[55,3,56,6],[57,3,57,7],[25,11,26,14],[38,11,38,15],[39,11,40,13],[27,11,27,15],[29,11,29,14],[31,11,31,14],[33,11,34,14],[25,3,26,6],[38,3,38,7],[39,3,40,5],[27,3,27,7],[29,3,29,6],[31,3,31,6],[3,11,4,14],[16,11,16,15],[17,11,18,13],[5,11,5,15],[7,11,7,14],[9,11,9,14],[11,11,12,14],[13,11,13,15],[14,11,15,14],[11,3,12,6],[83,11,84,13],[82,11,82,15],[58,3,59,6],[47,11,48,14],[60,11,60,15],[61,11,62,13],[49,11,49,15],[51,11,51,14],[53,11,53,14],[55,11,56,14],[60,3,60,7],[47,3,48,6],[61,3,62,5],[49,3,49,7],[51,3,51,6],[53,3,53,6],[73,3,73,6],[75,3,75,6],[77,3,78,6],[79,3,79,7],[80,3,81,6],[69,11,70,14],[71,11,71,15],[25,0,26,1],[27,0,27,1],[28,0,32,1],[33,0,34,1],[35,0,35,1],[36,0,37,1],[38,0,38,1],[39,0,41,1],[25,8,26,9],[27,8,27,9],[28,8,32,9],[33,8,34,9],[35,8,35,9],[36,8,37,9],[38,8,38,9],[39,8,41,9],[33,3,34,6],[35,3,35,7],[36,3,37,6],[47,0,48,1],[49,0,49,1],[50,0,54,1],[55,0,56,1],[57,0,57,1],[58,0,59,1],[60,0,60,1],[61,0,63,1],[47,8,48,9],[49,8,49,9],[50,8,54,9],[55,8,56,9],[57,8,57,9],[58,8,59,9],[60,8,60,9],[61,8,63,9],[69,0,70,1],[71,0,71,1],[72,0,76,1],[77,0,78,1],[79,0,79,1],[80,0,81,1],[82,0,82,1],[83,0,85,1],[69,8,70,9],[71,8,71,9],[72,8,76,9],[77,8,78,9],[79,8,79,9],[80,8,81,9],[82,8,82,9],[83,8,85,9],[91,0,92,1],[93,0,93,1],[94,0,98,1],[99,0,100,1],[101,0,101,1],[102,0,103,1],[104,0,104,1],[105,0,107,1],[91,8,92,9],[93,8,93,9],[94,8,98,9],[99,8,100,9],[101,8,101,9],[102,8,103,9],[104,8,104,9],[105,8,107,9],[113,0,114,1],[115,0,115,1],[116,0,120,1],[121,0,122,1],[123,0,123,1],[124,0,125,1],[126,0,126,1],[127,0,129,1],[113,8,114,9],[115,8,115,9],[116,8,120,9],[121,8,122,9],[123,8,123,9],[124,8,125,9],[126,8,126,9],[127,8,129,9]]}
["【作品名札】",null,null,"※作品の左下に貼付けてください",null,null,null,null,"【作品名札】",null,null,"※作品の左下に貼付けてください"]
[null,null,null,"のりしろ",null,null,null,null,null,null,null,"のりしろ"]
[]
["県名",null,null,null,null,null,null,null,"県名"]
[]
["フリガナ",null,null,null,null,null,null,null,"フリガナ"]
["学校名",null,null,null,null,null,null,null,"学校名"]
[]
[]
[]
[]
["学年",null,null,null,null,null,null,null,"学年"]
[]
["フリガナ",null,null,null,null,null,null,null,"フリガナ"]
["氏名",null,null,null,null,null,null,null,"氏名"]
[]
["フリガナ",null,null,null,null,null,null,null,"フリガナ"]
["ＪＡ名",null,null,null,null,null,null,null,"ＪＡ名"]
[]
[]
[null,null,null,null,"ＪＡ共済 小・中学生",null,null,null,null,null,null,null,"ＪＡ共済 小・中学生"]
[null,null,null,null,"書道コンクール 条幅の部",null,null,null,null,null,null,null,"書道コンクール 条幅の部"]
["【作品名札】",null,null,"※作品の左下に貼付けてください",null,null,null,null,"【作品名札】",null,null,"※作品の左下に貼付けてください"]
[null,null,null,"のりしろ",null,null,null,null,null,null,null,"のりしろ"]
[]
["県名",null,null,null,null,null,null,null,"県名"]
[]
["フリガナ",null,null,null,null,null,null,null,"フリガナ"]
["学校名",null,null,null,null,null,null,null,"学校名"]
[]
[]
[]
[]
["学年",null,null,null,null,null,null,null,"学年"]
[]
["フリガナ",null,null,null,null,null,null,null,"フリガナ"]
["氏名",null,null,null,null,null,null,null,"氏名"]
[]
["フリガナ",null,null,null,null,null,null,null,"フリガナ"]
["ＪＡ名",null,null,null,null,null,null,null,"ＪＡ名"]
[]
[]
[null,null,null,null,"ＪＡ共済 小・中学生",null,null,null,null,null,null,null,"ＪＡ共済 小・中学生"]
[null,null,null,null,"書道コンクール 条幅の部",null,null,null,null,null,null,null,"書道コンクール 条幅の部"]
["【作品名札】",null,null,"※作品の左下に貼付けてください",null,null,null,null,"【作品名札】",null,null,"※作品の左下に貼付けてください"]
[null,null,null,"のりしろ",null,null,null,null,null,null,null,"のりしろ"]
[]
["県名",null,null,null,null,null,null,null,"県名"]
[]
["フリガナ",null,null,null,null,null,null,null,"フリガナ"]
["学校名",null,null,null,null,null,null,null,"学校名"]
[]
[]
[]
[]
["学年",null,null,null,null,null,null,null,"学年"]
[]
["フリガナ",null,null,null,null,null,null,null,"フリガナ"]
["氏名",null,null,null,null,null,null,null,"氏名"]
[]
["フリガナ",null,null,null,null,null,null,null,"フリガナ"]
["ＪＡ名",null,null,null,null,null,null,null,"ＪＡ名"]
[]
[]
[null,null,null,null,"ＪＡ共済 小・中学生",null,null,null,null,null,null,null,"ＪＡ共済 小・中学生"]
[null,null,null,null,"書道コンクール 半紙の部",null,null,null,null,null,null,null,"書道コンクール 半紙の部"]
["【作品名札】",null,null,"※作品の左下に貼付けてください",null,null,null,null,"【作品名札】",null,null,"※作品の左下に貼付けてください"]
[null,null,null,"のりしろ",null,null,null,null,null,null,null,"のりしろ"]
[]
["県名",null,null,null,null,null,null,null,"県名"]
[]
["フリガナ",null,null,null,null,null,null,null,"フリガナ"]
["学校名",null,null,null,null,null,null,null,"学校名"]
[]
[]
[]
[]
["学年",null,null,null,null,null,null,null,"学年"]
[]
["フリガナ",null,null,null,null,null,null,null,"フリガナ"]
["氏名",null,null,null,null,null,null,null,"氏名"]
[]
["フリガナ",null,null,null,null,null,null,null,"フリガナ"]
["ＪＡ名",null,null,null,null,null,null,null,"ＪＡ名"]
[]
[]
[null,null,null,null,"ＪＡ共済 小・中学生",null,null,null,null,null,null,null,"ＪＡ共済 小・中学生"]
[null,null,null,null,"書道コンクール 半紙の部",null,null,null,null,null,null,null,"書道コンクール 半紙の部"]
["【作品名札】",null,null,"※作品の左下に貼付けてください",null,null,null,null,"【作品名札】",null,null,"※作品の左下に貼付けてください"]
[null,null,null,"のりしろ",null,null,null,null,null,null,null,"のりしろ"]
[]
["県名",null,null,null,null,null,null,null,"県名"]
[]
["フリガナ",null,null,null,null,null,null,null,"フリガナ"]
["学校名",null,null,null,null,null,null,null,"学校名"]
[]
[]
[]
[]
["学年",null,null,null,null,null,null,null,"学年"]
[]
["フリガナ",null,null,null,null,null,null,null,"フリガナ"]
["氏名",null,null,null,null,null,null,null,"氏名"]
[]
["フリガナ",null,null,null,null,null,null,null,"フリガナ"]
["ＪＡ名",null,null,null,null,null,null,null,"ＪＡ名"]
[]
[]
[null,null,null,null,"ＪＡ共済 小・中学生",null,null,null,null,null,null,null,"ＪＡ共済 小・中学生"]
[null,null,null,null,"交通安全ポスターコンクール",null,null,null,null,null,null,null,"交通安全ポスターコンクール"]
["【作品名札】",null,null,"※作品の左下に貼付けてください",null,null,null,null,"【作品名札】",null,null,"※作品の左下に貼付けてください"]
[null,null,null,"のりしろ",null,null,null,null,null,null,null,"のりしろ"]
[]
["県名",null,null,null,null,null,null,null,"県名"]
[]
["フリガナ",null,null,null,null,null,null,null,"フリガナ"]
["学校名",null,null,null,null,null,null,null,"学校名"]
[]
[]
[]
[]
["学年",null,null,null,null,null,null,null,"学年"]
[]
["フリガナ",null,null,null,null,null,null,null,"フリガナ"]
["氏名",null,null,null,null,null,null,null,"氏名"]
[]
["フリガナ",null,null,null,null,null,null,null,"フリガナ"]
["ＪＡ名",null,null,null,null,null,null,null,"ＪＡ名"]
[]
[]
[null,null,null,null,"ＪＡ共済 小・中学生",null,null,null,null,null,null,null,"ＪＡ共済 小・中学生"]
[null,null,null,null,"交通安全ポスターコンクール",null,null,null,null,null,null,null,"交通安全ポスターコンクール"]

{"sheet":"作品名札_条幅","index":6,"n_rows":0,"n_cols":0,"rows_kept":0,"cut":false,"hidden":false,"merged":[]}

{"sheet":"作品名札_半紙","index":7,"n_rows":0,"n_cols":0,"rows_kept":0,"cut":false,"hidden":false,"merged":[]}

{"sheet":"作品名札_ポスター","index":8,"n_rows":0,"n_cols":0,"rows_kept":0,"cut":false,"hidden":false,"merged":[]}

{"sheet":"外字報告書 ","index":9,"n_rows":58,"n_cols":25,"rows_kept":58,"cut":false,"hidden":false,"merged":[[25,1,25,3],[25,4,25,25],[45,1,48,5],[45,6,48,10],[45,11,46,25],[47,11,48,25],[37,1,40,5],[37,6,40,10],[37,11,38,25],[39,11,40,25],[43,1,44,5],[43,6,44,10],[43,11,43,25],[44,11,44,25],[29,6,32,10],[27,11,27,25],[28,11,28,25],[27,1,28,5],[27,6,28,10],[29,11,30,25],[0,25,0,26],[1,3,1,23],[3,3,3,23],[7,14,7,16],[7,17,7,25],[8,14,8,16],[8,17,8,25],[11,14,12,16],[9,14,9,16],[9,17,9,25],[11,17,12,20],[11,22,12,23],[11,24,12,25],[49,1,49,3],[49,4,49,25],[33,1,33,3],[35,1,36,5],[35,6,36,10],[35,11,35,25],[36,11,36,25],[33,4,33,25],[11,1,12,3],[41,1,41,3],[41,4,41,25],[11,8,11,10],[11,4,11,7],[12,4,12,7],[29,1,32,5],[19,1,20,5],[19,6,20,10],[19,11,19,25],[20,11,20,25],[21,1,24,5],[21,6,24,10],[21,11,22,25],[23,11,24,25],[31,11,32,25],[57,1,57,3],[57,4,57,25],[51,1,52,5],[51,6,52,10],[51,11,51,25],[52,11,52,25],[53,1,56,5],[53,6,56,10],[53,11,54,25],[55,11,56,25]]}
[]
[]
[]
[]
[]
[]
[]
[null,null,null,null,null,null,null,null,null,null,null,null,null,null,"ＪＡ名",null,null,{"$f":"CONCATENATE(応募者名簿!B8)","v":""}]
[null,null,null,null,null,null,null,null,null,null,null,null,null,null,"学校名",null,null,{"$f":"CONCATENATE(応募者名簿!$B$11)","v":""}]
[null,null,null,null,null,null,null,null,null,null,null,null,null,null,"担当者名",null,null,{"$f":"CONCATENATE(応募者名簿!I13)","v":""}]
[]
[null,null,null,null,null,null,null,null,null,null,null,null,null,null,"外字有無",null,null,{"$f":"IF(COUNTIF(応募者名簿!D18:D29,\"○\")+COUNTIF(応募者名簿!I18:I29,\"○\")+COUNTIF(応募者名簿!N18:N29,\"○\"),\"有\",\"無\")","v":"無"},null,null,null,null,"外字数",null,{"$f":"COUNTIF(応募者名簿!D18:D29,\"○\")+COUNTIF(応募者名簿!I18:I29,\"○\")+COUNTIF(応募者名簿!N18:N29,\"○\")","v":0}]
[null,null,null,null,null,null,null,null,null,null,null,null,null,null,null,null,null,null,null,null,null,{"$f":"IF(応募者名簿!B14=TRUE,\"○\",\"\")","v":""}]
[]
[null,"氏名や小学校名等、「外字」がある場合は、この書類にご記入の上作品に同封してください。"]
[null,"「外字」がない場合でも作品に同封しご提出をお願いします。"]
[]
[]
[null,"●下記内容は記入例です"]
[null,"応募の部",null,null,null,null,"学年",null,null,null,null,"フリガナ"]
[null,null,null,null,null,null,null,null,null,null,null,"正　し　い　漢　字　氏　名"]
[null,"ポスター",null,null,null,null,"小5",null,null,null,null,"ヨシダ　リョウ"]
[]
[]
[]
[null,"外字内容",null,null,"氏名の「吉」の上部の正式な字体は「土」になります。"]
[]
[null,"応募の部",null,null,null,null,"学年",null,null,null,null,"フリガナ"]
[null,null,null,null,null,null,null,null,null,null,null,"正　し　い　漢　字　氏　名"]
[]
[]
[]
[]
[null,"外字内容"]
[]
[null,"応募の部",null,null,null,null,"学年",null,null,null,null,"フリガナ"]
[null,null,null,null,null,null,null,null,null,null,null,"正　し　い　漢　字　氏　名"]
[]
[]
[]
[]
[null,"外字内容"]
[]
[null,"応募の部",null,null,null,null,"学年",null,null,null,null,"フリガナ"]
[null,null,null,null,null,null,null,null,null,null,null,"正　し　い　漢　字　氏　名"]
[]
[]
[]
[]
[null,"外字内容"]
[]
[null,"応募の部",null,null,null,null,"学年",null,null,null,null,"フリガナ"]
[null,null,null,null,null,null,null,null,null,null,null,"正　し　い　漢　字　氏　名"]
[]
[]
[]
[]
[null,"外字内容"]

{"sheet":"応募数_集計シート","index":10,"n_rows":4,"n_cols":13,"rows_kept":4,"cut":false,"hidden":false,"merged":[]}
["ＪＡ名","学校名","区分","小1","小2","小3","小4","小5","小6","中1","中2","中3","合計"]
[{"$f":"CONCATENATE(応募者名簿!$B$8)","v":""},{"$f":"CONCATENATE(応募者名簿!$B$11,応募者名簿!$D$11,応募者名簿!$E$11,応募者名簿!$I$11)","v":""},"条幅",{"$f":"非表示_応募作品点数!C7","v":0},{"$f":"非表示_応募作品点数!D7","v":0},{"$f":"非表示_応募作品点数!E7","v":0},{"$f":"非表示_応募作品点数!F7","v":0},{"$f":"非表示_応募作品点数!G7","v":0},{"$f":"非表示_応募作品点数!H7","v":0},{"$f":"非表示_応募作品点数!I7","v":0},{"$f":"非表示_応募作品点数!J7","v":0},{"$f":"非表示_応募作品点数!K7","v":0},{"$f":"SUM(D2:L2)","v":0}]
[{"$f":"CONCATENATE(応募者名簿!$B$8)","v":""},{"$f":"CONCATENATE(応募者名簿!$B$11,応募者名簿!$D$11,応募者名簿!$E$11,応募者名簿!$I$11)","v":""},"半紙",{"$f":"非表示_応募作品点数!C9","v":0},{"$f":"非表示_応募作品点数!D9","v":0},{"$f":"非表示_応募作品点数!E9","v":0},{"$f":"非表示_応募作品点数!F9","v":0},{"$f":"非表示_応募作品点数!G9","v":0},{"$f":"非表示_応募作品点数!H9","v":0},{"$f":"非表示_応募作品点数!I9","v":0},{"$f":"非表示_応募作品点数!J9","v":0},{"$f":"非表示_応募作品点数!K9","v":0},{"$f":"SUM(D3:L3)","v":0}]
[{"$f":"CONCATENATE(応募者名簿!$B$8)","v":""},{"$f":"CONCATENATE(応募者名簿!$B$11,応募者名簿!$D$11,応募者名簿!$E$11,応募者名簿!$I$11)","v":""},"ポスター",{"$f":"非表示_応募作品点数!C11","v":0},{"$f":"非表示_応募作品点数!D11","v":0},{"$f":"非表示_応募作品点数!E11","v":0},{"$f":"非表示_応募作品点数!F11","v":0},{"$f":"非表示_応募作品点数!G11","v":0},{"$f":"非表示_応募作品点数!H11","v":0},{"$f":"非表示_応募作品点数!I11","v":0},{"$f":"非表示_応募作品点数!J11","v":0},{"$f":"非表示_応募作品点数!K11","v":0},{"$f":"SUM(D4:L4)","v":0}]

{"sheet":"応募者名簿_集計シート","index":11,"n_rows":25,"n_cols":7,"rows_kept":25,"cut":false,"hidden":false,"merged":[]}
["ＪＡ名","学校名","半紙・条幅・ポスター","学年","氏名","フリガナ","外字"]
[{"$f":"応募者名簿!$B$8","v":0},{"$f":"CONCATENATE(応募者名簿!$B$11,応募者名簿!$D$11,応募者名簿!$E$11,応募者名簿!$I$11)","v":""},"条幅",{"$f":"CONCATENATE(応募者名簿!A18)","v":""},{"$f":"CONCATENATE(応募者名簿!B18)","v":""},{"$f":"CONCATENATE(応募者名簿!C18)","v":""},{"$f":"CONCATENATE(応募者名簿!D18)","v":""}]
[{"$f":"応募者名簿!$B$8","v":0},{"$f":"CONCATENATE(応募者名簿!$B$11,応募者名簿!$D$11,応募者名簿!$E$11,応募者名簿!$I$11)","v":""},"条幅",{"$f":"CONCATENATE(応募者名簿!A19)","v":""},{"$f":"CONCATENATE(応募者名簿!B19)","v":""},{"$f":"CONCATENATE(応募者名簿!C19)","v":""},{"$f":"CONCATENATE(応募者名簿!D19)","v":""}]
[{"$f":"応募者名簿!$B$8","v":0},{"$f":"CONCATENATE(応募者名簿!$B$11,応募者名簿!$D$11,応募者名簿!$E$11,応募者名簿!$I$11)","v":""},"条幅",{"$f":"CONCATENATE(応募者名簿!A20)","v":""},{"$f":"CONCATENATE(応募者名簿!B20)","v":""},{"$f":"CONCATENATE(応募者名簿!C20)","v":""},{"$f":"CONCATENATE(応募者名簿!D20)","v":""}]
[{"$f":"応募者名簿!$B$8","v":0},{"$f":"CONCATENATE(応募者名簿!$B$11,応募者名簿!$D$11,応募者名簿!$E$11,応募者名簿!$I$11)","v":""},"条幅",{"$f":"CONCATENATE(応募者名簿!A21)","v":""},{"$f":"CONCATENATE(応募者名簿!B21)","v":""},{"$f":"CONCATENATE(応募者名簿!C21)","v":""},{"$f":"CONCATENATE(応募者名簿!D21)","v":""}]
[{"$f":"応募者名簿!$B$8","v":0},{"$f":"CONCATENATE(応募者名簿!$B$11,応募者名簿!$D$11,応募者名簿!$E$11,応募者名簿!$I$11)","v":""},"条幅",{"$f":"CONCATENATE(応募者名簿!A22)","v":""},{"$f":"CONCATENATE(応募者名簿!B22)","v":""},{"$f":"CONCATENATE(応募者名簿!C22)","v":""},{"$f":"CONCATENATE(応募者名簿!D22)","v":""}]
[{"$f":"応募者名簿!$B$8","v":0},{"$f":"CONCATENATE(応募者名簿!$B$11,応募者名簿!$D$11,応募者名簿!$E$11,応募者名簿!$I$11)","v":""},"条幅",{"$f":"CONCATENATE(応募者名簿!A23)","v":""},{"$f":"CONCATENATE(応募者名簿!B23)","v":""},{"$f":"CONCATENATE(応募者名簿!C23)","v":""},{"$f":"CONCATENATE(応募者名簿!D23)","v":""}]
[{"$f":"応募者名簿!$B$8","v":0},{"$f":"CONCATENATE(応募者名簿!$B$11,応募者名簿!$D$11,応募者名簿!$E$11,応募者名簿!$I$11)","v":""},"半紙",{"$f":"CONCATENATE(応募者名簿!F18)","v":""},{"$f":"CONCATENATE(応募者名簿!G18)","v":""},{"$f":"CONCATENATE(応募者名簿!H18)","v":""},{"$f":"CONCATENATE(応募者名簿!I18)","v":""}]
[{"$f":"応募者名簿!$B$8","v":0},{"$f":"CONCATENATE(応募者名簿!$B$11,応募者名簿!$D$11,応募者名簿!$E$11,応募者名簿!$I$11)","v":""},"半紙",{"$f":"CONCATENATE(応募者名簿!F19)","v":""},{"$f":"CONCATENATE(応募者名簿!G19)","v":""},{"$f":"CONCATENATE(応募者名簿!H19)","v":""},{"$f":"CONCATENATE(応募者名簿!I19)","v":""}]
[{"$f":"応募者名簿!$B$8","v":0},{"$f":"CONCATENATE(応募者名簿!$B$11,応募者名簿!$D$11,応募者名簿!$E$11,応募者名簿!$I$11)","v":""},"半紙",{"$f":"CONCATENATE(応募者名簿!F20)","v":""},{"$f":"CONCATENATE(応募者名簿!G20)","v":""},{"$f":"CONCATENATE(応募者名簿!H20)","v":""},{"$f":"CONCATENATE(応募者名簿!I20)","v":""}]
[{"$f":"応募者名簿!$B$8","v":0},{"$f":"CONCATENATE(応募者名簿!$B$11,応募者名簿!$D$11,応募者名簿!$E$11,応募者名簿!$I$11)","v":""},"半紙",{"$f":"CONCATENATE(応募者名簿!F21)","v":""},{"$f":"CONCATENATE(応募者名簿!G21)","v":""},{"$f":"CONCATENATE(応募者名簿!H21)","v":""},{"$f":"CONCATENATE(応募者名簿!I21)","v":""}]
[{"$f":"応募者名簿!$B$8","v":0},{"$f":"CONCATENATE(応募者名簿!$B$11,応募者名簿!$D$11,応募者名簿!$E$11,応募者名簿!$I$11)","v":""},"半紙",{"$f":"CONCATENATE(応募者名簿!F22)","v":""},{"$f":"CONCATENATE(応募者名簿!G22)","v":""},{"$f":"CONCATENATE(応募者名簿!H22)","v":""},{"$f":"CONCATENATE(応募者名簿!I22)","v":""}]
[{"$f":"応募者名簿!$B$8","v":0},{"$f":"CONCATENATE(応募者名簿!$B$11,応募者名簿!$D$11,応募者名簿!$E$11,応募者名簿!$I$11)","v":""},"半紙",{"$f":"CONCATENATE(応募者名簿!F23)","v":""},{"$f":"CONCATENATE(応募者名簿!G23)","v":""},{"$f":"CONCATENATE(応募者名簿!H23)","v":""},{"$f":"CONCATENATE(応募者名簿!I23)","v":""}]
[{"$f":"応募者名簿!$B$8","v":0},{"$f":"CONCATENATE(応募者名簿!$B$11,応募者名簿!$D$11,応募者名簿!$E$11,応募者名簿!$I$11)","v":""},"交通安全ポスター",{"$f":"CONCATENATE(応募者名簿!K18)","v":""},{"$f":"CONCATENATE(応募者名簿!L18)","v":""},{"$f":"CONCATENATE(応募者名簿!M18)","v":""},{"$f":"CONCATENATE(応募者名簿!N18)","v":""}]
[{"$f":"応募者名簿!$B$8","v":0},{"$f":"CONCATENATE(応募者名簿!$B$11,応募者名簿!$D$11,応募者名簿!$E$11,応募者名簿!$I$11)","v":""},"交通安全ポスター",{"$f":"CONCATENATE(応募者名簿!K19)","v":""},{"$f":"CONCATENATE(応募者名簿!L19)","v":""},{"$f":"CONCATENATE(応募者名簿!M19)","v":""},{"$f":"CONCATENATE(応募者名簿!N19)","v":""}]
[{"$f":"応募者名簿!$B$8","v":0},{"$f":"CONCATENATE(応募者名簿!$B$11,応募者名簿!$D$11,応募者名簿!$E$11,応募者名簿!$I$11)","v":""},"交通安全ポスター",{"$f":"CONCATENATE(応募者名簿!K20)","v":""},{"$f":"CONCATENATE(応募者名簿!L20)","v":""},{"$f":"CONCATENATE(応募者名簿!M20)","v":""},{"$f":"CONCATENATE(応募者名簿!N20)","v":""}]
[{"$f":"応募者名簿!$B$8","v":0},{"$f":"CONCATENATE(応募者名簿!$B$11,応募者名簿!$D$11,応募者名簿!$E$11,応募者名簿!$I$11)","v":""},"交通安全ポスター",{"$f":"CONCATENATE(応募者名簿!K21)","v":""},{"$f":"CONCATENATE(応募者名簿!L21)","v":""},{"$f":"CONCATENATE(応募者名簿!M21)","v":""},{"$f":"CONCATENATE(応募者名簿!N21)","v":""}]
[{"$f":"応募者名簿!$B$8","v":0},{"$f":"CONCATENATE(応募者名簿!$B$11,応募者名簿!$D$11,応募者名簿!$E$11,応募者名簿!$I$11)","v":""},"交通安全ポスター",{"$f":"CONCATENATE(応募者名簿!K22)","v":""},{"$f":"CONCATENATE(応募者名簿!L22)","v":""},{"$f":"CONCATENATE(応募者名簿!M22)","v":""},{"$f":"CONCATENATE(応募者名簿!N22)","v":""}]
[{"$f":"応募者名簿!$B$8","v":0},{"$f":"CONCATENATE(応募者名簿!$B$11,応募者名簿!$D$11,応募者名簿!$E$11,応募者名簿!$I$11)","v":""},"交通安全ポスター",{"$f":"CONCATENATE(応募者名簿!K23)","v":""},{"$f":"CONCATENATE(応募者名簿!L23)","v":""},{"$f":"CONCATENATE(応募者名簿!M23)","v":""},{"$f":"CONCATENATE(応募者名簿!N23)","v":""}]
[{"$f":"応募者名簿!$B$8","v":0},{"$f":"CONCATENATE(応募者名簿!$B$11,応募者名簿!$D$11,応募者名簿!$E$11,応募者名簿!$I$11)","v":""},"交通安全ポスター",{"$f":"CONCATENATE(応募者名簿!K24)","v":""},{"$f":"CONCATENATE(応募者名簿!L24)","v":""},{"$f":"CONCATENATE(応募者名簿!M24)","v":""},{"$f":"CONCATENATE(応募者名簿!N24)","v":""}]
[{"$f":"応募者名簿!$B$8","v":0},{"$f":"CONCATENATE(応募者名簿!$B$11,応募者名簿!$D$11,応募者名簿!$E$11,応募者名簿!$I$11)","v":""},"交通安全ポスター",{"$f":"CONCATENATE(応募者名簿!K25)","v":""},{"$f":"CONCATENATE(応募者名簿!L25)","v":""},{"$f":"CONCATENATE(応募者名簿!M25)","v":""},{"$f":"CONCATENATE(応募者名簿!N25)","v":""}]
[{"$f":"応募者名簿!$B$8","v":0},{"$f":"CONCATENATE(応募者名簿!$B$11,応募者名簿!$D$11,応募者名簿!$E$11,応募者名簿!$I$11)","v":""},"交通安全ポスター",{"$f":"CONCATENATE(応募者名簿!K26)","v":""},{"$f":"CONCATENATE(応募者名簿!L26)","v":""},{"$f":"CONCATENATE(応募者名簿!M26)","v":""},{"$f":"CONCATENATE(応募者名簿!N26)","v":""}]
[{"$f":"応募者名簿!$B$8","v":0},{"$f":"CONCATENATE(応募者名簿!$B$11,応募者名簿!$D$11,応募者名簿!$E$11,応募者名簿!$I$11)","v":""},"交通安全ポスター",{"$f":"CONCATENATE(応募者名簿!K27)","v":""},{"$f":"CONCATENATE(応募者名簿!L27)","v":""},{"$f":"CONCATENATE(応募者名簿!M27)","v":""},{"$f":"CONCATENATE(応募者名簿!N27)","v":""}]
[{"$f":"応募者名簿!$B$8","v":0},{"$f":"CONCATENATE(応募者名簿!$B$11,応募者名簿!$D$11,応募者名簿!$E$11,応募者名簿!$I$11)","v":""},"交通安全ポスター",{"$f":"CONCATENATE(応募者名簿!K28)","v":""},{"$f":"CONCATENATE(応募者名簿!L28)","v":""},{"$f":"CONCATENATE(応募者名簿!M28)","v":""},{"$f":"CONCATENATE(応募者名簿!N28)","v":""}]
[{"$f":"応募者名簿!$B$8","v":0},{"$f":"CONCATENATE(応募者名簿!$B$11,応募者名簿!$D$11,応募者名簿!$E$11,応募者名簿!$I$11)","v":""},"交通安全ポスター",{"$f":"CONCATENATE(応募者名簿!K29)","v":""},{"$f":"CONCATENATE(応募者名簿!L29)","v":""},{"$f":"CONCATENATE(応募者名簿!M29)","v":""},{"$f":"CONCATENATE(応募者名簿!N29)","v":""}]