{"text_format":"1","workbook":"xlsx","n_sheets":16,"sheets":["応募者名簿","送付状_学校審査なし","送付状_学校審査あり","非表示_応募作品点数","非表示_入力シートプルダウン","template","template2","作品名札_条幅","作品名札_半紙","作品名札_ポスター","template外字報告書","配布用資料_書道","配布用資料_ポスター","外字報告書","応募数_集計シート","応募者名簿_集計シート"],"not_rendered":{"charts":0,"images":14,"macros":1,"external_links":0,"defined_names":12,"comments":0,"pivot_tables":0},"unopened":[],"bounds":{"document_bytes":16777216,"sheet_cells":100000,"rows_first":2000,"rows_last":500,"rows_between":2000,"halvings":0,"cell_chars":16384,"cell_head_chars":4096},"cells_cut":0,"cells_raw":0,"read":"whole","date_system":"1900"}

{"sheet":"応募者名簿","index":0,"n_rows":17,"n_cols":14,"rows_kept":17,"cut":false,"hidden":false,"merged":[[14,5,14,8],[15,0,15,3],[15,5,15,8],[15,10,15,13],[9,22,10,22],[9,20,10,20],[9,21,10,21],[9,23,10,24],[9,25,10,25],[12,7,13,7],[12,8,13,11],[10,1,10,8],[9,16,10,16],[9,17,10,17],[9,18,10,18],[9,19,10,19],[9,15,10,15],[1,12,5,12],[7,2,7,4],[9,1,9,8],[9,13,10,13],[9,14,10,14],[1,22,5,24],[4,13,5,13],[4,14,5,14],[4,15,5,15],[4,16,5,16],[4,17,5,17],[4,18,5,18],[4,19,5,19],[4,20,5,20],[4,21,5,21]]}
[]
[]
[]
[]
["県名"]
[]
["フリガナ"]
["ＪＡ名"]
[]
["フリガナ"]
["学校名"]
[]
[null,null,null,null,null,null,null,"担当者名"]
["※入力上限1カテゴリー1,000名となります。1,000名以上となる場合、別ファイルにて作成ください。"]
[]
["条幅の部",null,null,null,null,"半紙の部",null,null,null,null,"交通安全ポスターの部"]
["学年","氏　　　名","フリガナ","外字",null,"学年","氏　　　名","フリガナ","外字",null,"学年","氏　　　名","フリガナ","外字"]

{"sheet":"送付状_学校審査なし","index":1,"n_rows":25,"n_cols":11,"rows_kept":25,"cut":false,"hidden":true,"merged":[[16,12,17,13],[17,7,18,8],[17,10,18,11],[18,12,20,13],[19,7,21,8],[19,10,21,11],[21,12,21,13],[22,7,22,8],[22,10,22,11],[10,1,10,8],[24,7,25,7],[24,8,25,11],[9,20,10,20],[9,21,10,21],[9,22,10,22],[9,23,10,24],[9,25,10,25],[9,16,10,16],[9,17,10,17],[9,18,10,18],[9,19,10,19],[1,12,5,12],[7,2,7,4],[9,1,9,8],[9,13,10,13],[9,14,10,14],[9,15,10,15],[1,22,5,24],[4,13,5,13],[4,14,5,14],[4,15,5,15],[4,16,5,16],[4,17,5,17],[4,18,5,18],[4,19,5,19],[4,20,5,20],[4,21,5,21]]}
[]
[]
[]
[]
["県名",{"$f":"CONCATENATE(応募者名簿!$B$5)","v":""}]
[]
["フリガナ",{"$f":"CONCATENATE(応募者名簿!$B$7)","v":""}]
["所属組合名","あさかの"]
[]
["フリガナ","アサカダイサンショウガッコウ"]
["学校名","朝霞第三小学校"]
[]
[]
[]
[]
[]
[]
[null,null,null,null,null,null,null,"学校からＪＡへ提出する\n応募作品数",null,null,"総応募作品数"]
[]
[null,null,null,null,null,null,null,{"$f":"非表示_応募作品点数!O2+非表示_応募作品点数!O3+非表示_応募作品点数!O4","v":0},null,null,{"$f":"非表示_応募作品点数!C17","v":0}]
[]
[]
[null,null,null,null,null,null,null,"点",null,null,"点"]
[]
[null,null,null,null,null,null,null,"担当者名","五月二十三日"]

{"sheet":"送付状_学校審査あり","index":2,"n_rows":23,"n_cols":17,"rows_kept":23,"cut":false,"hidden":false,"merged":[[22,13,23,13],[22,14,23,17],[19,8,20,8],[19,9,20,9],[19,10,20,10],[19,11,20,11],[15,13,16,14],[15,16,16,17],[17,13,19,14],[17,16,19,17],[9,0,20,0],[17,11,18,11],[15,6,16,6],[15,7,16,7],[15,8,16,8],[15,9,16,9],[15,10,16,10],[15,11,16,11],[17,6,18,6],[17,8,18,8],[20,13,20,14],[20,16,20,17],[17,1,18,1],[15,1,16,1],[17,5,18,5],[19,6,20,6],[19,7,20,7],[19,1,20,1],[19,2,20,2],[19,3,20,3],[19,4,20,4],[19,5,20,5],[17,4,18,4],[15,2,16,2],[15,3,16,3],[15,4,16,4],[15,5,16,5],[17,7,18,7],[17,2,18,2],[17,3,18,3],[9,2,12,10],[13,2,14,2],[13,3,14,3],[13,4,14,4],[13,5,14,5],[13,6,14,6],[13,7,14,7],[13,8,14,8],[13,9,14,9],[13,10,14,10],[17,9,18,9],[17,10,18,10]]}
[]
[]
[]
[]
[]
[]
[]
[]
[]
["応募作品点数",null,"部門・学年別小計\n総応募数内訳を手入力してください。"]
[]
[null,null,null,null,null,null,null,null,null,null,null,"合計"]
[null,"区分"]
[null,null,"小1","小2","小3","小4","小5","小6","中1","中2","中3"]
[]
[null,"条幅の部",null,null,null,null,null,null,null,null,null,{"$f":"SUM(C16:K17)","v":0},null,"指定の応募先へ提出する\n応募作品数",null,null,"総応募作品数"]
[]
[null,"半紙の部",null,null,null,null,null,null,null,null,null,{"$f":"SUM(C18:K19)","v":0},null,{"$f":"非表示_応募作品点数!C17","v":0},null,null,{"$f":"SUM(L16:L21)","v":0}]
[]
[null,"ポスター",null,null,null,null,null,null,null,null,null,{"$f":"SUM(C20:K21)","v":0}]
[null,null,null,null,null,null,null,null,null,null,null,null,null,"点",null,null,"点"]
[]
[null,null,null,null,null,null,null,null,null,null,null,null,null,"担当者名",{"$f":"CONCATENATE(応募者名簿!$I$13)","v":""}]

{"sheet":"非表示_応募作品点数","index":3,"n_rows":22,"n_cols":17,"rows_kept":22,"cut":false,"hidden":true,"merged":[[0,0,11,0],[10,11,11,11],[10,1,11,1],[10,10,11,10],[10,9,11,9],[10,8,11,8],[10,7,11,7],[10,6,11,6],[10,5,11,5],[10,4,11,4],[10,3,11,3],[10,2,11,2],[0,11,5,11],[8,11,9,11],[6,11,7,11],[4,8,5,8],[16,2,20,6],[13,2,15,6],[6,8,7,8],[6,9,7,9],[6,10,7,10],[6,3,7,3],[6,4,7,4],[6,5,7,5],[6,6,7,6],[6,7,7,7],[4,10,5,10],[8,2,9,2],[8,7,9,7],[8,8,9,8],[8,9,9,9],[8,10,9,10],[0,1,5,1],[8,1,9,1],[6,1,7,1],[0,2,3,10],[4,2,5,2],[4,3,5,3],[4,4,5,4],[4,5,5,5],[4,6,5,6],[6,2,7,2],[8,3,9,3],[8,4,9,4],[8,5,9,5],[8,6,9,6],[4,7,5,7],[4,9,5,9]]}
["応募作品点数","区分","部門・学年別小計\n※下記の名簿上の学年欄入力数が反映されます",null,null,null,null,null,null,null,null,"合計"]
[null,null,null,null,null,null,null,null,null,null,null,null,null,"条幅の部",{"$f":"COUNTIF(応募者名簿!D18:D1017,\"○\")","v":0}]
[null,null,null,null,null,null,null,null,null,null,null,null,null,"半紙の部",{"$f":"COUNTIF(応募者名簿!I18:I1017,\"○\")","v":0}]
[null,null,null,null,null,null,null,null,null,null,null,null,null,"ポスターの部",{"$f":"COUNTIF(応募者名簿!N18:N1017,\"○\")","v":0}]
[null,null,"小１","小２","小３","小４","小５","小６","中１","中２","中３"]
[null,null,null,null,null,null,null,null,null,null,null,null,null,"qWlK3pMZ",null,null,"qWlK3pMZn8RpYXpX"]
[null,"条幅の部",{"$f":"COUNTIF(応募者名簿!$A$18:$A$1017,\"小１\")","v":0},{"$f":"COUNTIF(応募者名簿!$A$18:$A$1017,\"小２\")","v":0},{"$f":"COUNTIF(応募者名簿!$A$18:$A$1017,\"小３\")","v":0},{"$f":"COUNTIF(応募者名簿!$A$18:$A$1017,\"小４\")","v":0},{"$f":"COUNTIF(応募者名簿!$A$18:$A$1017,\"小５\")","v":0},{"$f":"COUNTIF(応募者名簿!$A$18:$A$1017,\"小６\")","v":0},{"$f":"COUNTIF(応募者名簿!$A$18:$A$1017,\"中１\")","v":0},{"$f":"COUNTIF(応募者名簿!$A$18:$A$1017,\"中２\")","v":0},{"$f":"COUNTIF(応募者名簿!$A$18:$A$1017,\"中３\")","v":0},{"$f":"SUM(C7:K8)","v":0}]
[null,null,null,null,null,null,null,null,null,null,null,null,null,"qWlK3pMZ"]
[null,"半紙の部",{"$f":"COUNTIF(応募者名簿!$F$18:$F$1017,\"小１\")","v":0},{"$f":"COUNTIF(応募者名簿!$F$18:$F$1017,\"小２\")","v":0},{"$f":"COUNTIF(応募者名簿!$F$18:$F$1017,\"小３\")","v":0},{"$f":"COUNTIF(応募者名簿!$F$18:$F$1017,\"小４\")","v":0},{"$f":"COUNTIF(応募者名簿!$F$18:$F$1017,\"小５\")","v":0},{"$f":"COUNTIF(応募者名簿!$F$18:$F$1017,\"小６\")","v":0},{"$f":"COUNTIF(応募者名簿!$F$18:$F$1017,\"中１\")","v":0},{"$f":"COUNTIF(応募者名簿!$F$18:$F$1017,\"中２\")","v":0},{"$f":"COUNTIF(応募者名簿!$F$18:$F$1017,\"中３\")","v":0},{"$f":"SUM(C9:K10)","v":0},null,"n8RpYXpX"]
[]
[null,"ポスター",{"$f":"COUNTIF(応募者名簿!$K$18:$K$1017,\"小１\")","v":0},{"$f":"COUNTIF(応募者名簿!$K$18:$K$1017,\"小２\")","v":0},{"$f":"COUNTIF(応募者名簿!$K$18:$K$1017,\"小３\")","v":0},{"$f":"COUNTIF(応募者名簿!$K$18:$K$1017,\"小４\")","v":0},{"$f":"COUNTIF(応募者名簿!$K$18:$K$1017,\"小５\")","v":0},{"$f":"COUNTIF(応募者名簿!$K$18:$K$1017,\"小６\")","v":0},{"$f":"COUNTIF(応募者名簿!$K$18:$K$1017,\"中１\")","v":0},{"$f":"COUNTIF(応募者名簿!$K$18:$K$1017,\"中２\")","v":0},{"$f":"COUNTIF(応募者名簿!$K$18:$K$1017,\"中３\")","v":0},{"$f":"SUM(C11:K12)","v":0}]
[]
[]
[null,null,"学校に提出のあった\n総応募作品数"]
[]
[]
[null,null,{"$f":"SUM(L7:L12)","v":0}]
[]
[]
[]
[]
[null,null,null,null,null,null,"点"]

{"sheet":"非表示_入力シートプルダウン","index":4,"n_rows":9,"n_cols":11,"rows_kept":9,"cut":false,"hidden":true,"merged":[]}
[null,null,null,null,"小１",null,{"$f":"応募者名簿!B8","v":0},{"$f":"応募者名簿!B7","v":0},{"$f":"応募者名簿!B5","v":0},null,"○"]
[null,null,null,null,"小２"]
[null,null,null,null,"小３"]
[null,null,null,null,"小４"]
[null,null,null,null,"小５"]
[null,null,null,null,"小６"]
[null,null,null,null,"中１"]
[null,null,null,null,"中２"]
[null,null,null,null,"中３"]

{"sheet":"template","index":5,"n_rows":132,"n_cols":13,"rows_kept":132,"cut":false,"hidden":true,"merged":[[9,11,9,14],[31,3,31,6],[31,11,31,14],[53,3,53,6],[53,11,53,14],[75,3,75,6],[75,11,75,14],[97,3,97,6],[97,11,97,14],[25,11,26,14],[38,11,38,15],[39,11,40,13],[27,11,27,15],[33,11,34,14],[91,11,92,14],[93,11,93,15],[35,11,35,15],[36,11,37,14],[77,11,78,14],[79,11,79,15],[80,11,81,14],[57,11,57,15],[58,11,59,14],[71,11,71,15],[113,0,114,1],[115,0,115,1],[116,0,120,1],[121,0,122,1],[123,0,123,1],[124,0,125,1],[126,0,126,1],[127,0,129,1],[113,8,114,9],[115,8,115,9],[116,8,120,9],[121,8,122,9],[123,8,123,9],[124,8,125,9],[126,8,126,9],[127,8,129,9],[119,3,119,6],[91,0,92,1],[93,0,93,1],[94,0,98,1],[99,0,100,1],[101,0,101,1],[102,0,103,1],[104,0,104,1],[105,0,107,1],[91,8,92,9],[93,8,93,9],[94,8,98,9],[99,8,100,9],[101,8,101,9],[102,8,103,9],[104,8,104,9],[105,8,107,9],[91,3,92,6],[93,3,93,7],[69,0,70,1],[71,0,71,1],[72,0,76,1],[77,0,78,1],[79,0,79,1],[80,0,81,1],[82,0,82,1],[83,0,85,1],[69,8,70,9],[71,8,71,9],[72,8,76,9],[77,8,78,9],[79,8,79,9],[80,8,81,9],[82,8,82,9],[83,8,85,9],[82,3,82,7],[69,3,70,6],[71,3,71,7],[83,3,84,5],[47,0,48,1],[49,0,49,1],[50,0,54,1],[55,0,56,1],[57,0,57,1],[58,0,59,1],[60,0,60,1],[61,0,63,1],[47,8,48,9],[49,8,49,9],[50,8,54,9],[55,8,56,9],[57,8,57,9],[58,8,59,9],[60,8,60,9],[61,8,63,9],[55,3,56,6],[57,3,57,7],[25,0,26,1],[27,0,27,1],[28,0,32,1],[33,0,34,1],[35,0,35,1],[36,0,37,1],[38,0,38,1],[39,0,41,1],[25,8,26,9],[27,8,27,9],[28,8,32,9],[33,8,34,9],[35,8,35,9],[36,8,37,9],[38,8,38,9],[39,8,41,9],[33,3,34,6],[35,3,35,7],[36,3,37,6],[25,3,26,6],[38,3,38,7],[39,3,40,5],[27,3,27,7],[3,11,4,14],[16,11,16,15],[17,11,18,13],[5,11,5,15],[11,11,12,14],[13,11,13,15],[14,11,15,14],[11,3,12,6],[83,11,84,13],[82,11,82,15],[58,3,59,6],[47,11,48,14],[60,11,60,15],[61,11,62,13],[49,11,49,15],[55,11,56,14],[60,3,60,7],[47,3,48,6],[61,3,62,5],[49,3,49,7],[77,3,78,6],[79,3,79,7],[80,3,81,6],[69,11,70,14],[99,11,100,14],[101,11,101,15],[102,11,103,14],[113,3,114,6],[126,3,126,7],[99,3,100,6],[101,3,101,7],[102,3,103,6],[124,3,125,6],[113,11,114,14],[126,11,126,15],[104,11,104,15],[105,11,106,13],[104,3,104,7],[105,3,106,5],[119,11,119,14],[127,11,128,13],[115,11,115,15],[121,11,122,14],[123,11,123,15],[124,11,125,14],[127,3,128,5],[115,3,115,7],[121,3,122,6],[123,3,123,7],[3,0,4,1],[5,0,5,1],[6,0,10,1],[11,0,12,1],[13,0,13,1],[14,0,15,1],[16,0,16,1],[17,0,19,1],[3,8,4,9],[5,8,5,9],[6,8,10,9],[11,8,12,9],[13,8,13,9],[14,8,15,9],[16,8,16,9],[17,8,19,9],[13,3,13,7],[3,3,4,6],[16,3,16,7],[14,3,15,6],[17,3,18,5],[5,3,5,7],[9,3,9,6]]}
["【作品名札】",null,null,"※作品の左下に貼付けてください",null,null,null,null,"【作品名札】",null,null,"※作品の左下に貼付けてください"]
[null,null,null,"のりしろ",null,null,null,null,null,null,null,"のりしろ"]
[]
["県名",null,null,null,null,null,null,null,"県名"]
[]
["フリガナ",null,null,null,null,null,null,null,"フリガナ"]
["学校名",null,null,null,null,null,null,null,"学校名"]
[]
[]
[]
[]
["学年",null,null,null,null,null,null,null,"学年"]
[]
["フリガナ",null,null,null,null,null,null,null,"フリガナ"]
["氏名",null,null,null,null,null,null,null,"氏名"]
[]
["フリガナ",null,null,null,null,null,null,null,"フリガナ"]
["ＪＡ名",null,null,null,null,null,null,null,"ＪＡ名"]
[]
[]
[null,null,null,null,"ＪＡ共済 小・中学生",null,null,null,null,null,null,null,"ＪＡ共済 小・中学生"]
[null,null,null,null,"書道コンクール 条幅の部",null,null,null,null,null,null,null,"書道コンクール 条幅の部"]
["【作品名札】",null,null,"※作品の左下に貼付けてください",null,null,null,null,"【作品名札】",null,null,"※作品の左下に貼付けてください"]
[null,null,null,"のりしろ",null,null,null,null,null,null,null,"のりしろ"]
[]
["県名",null,null,null,null,null,null,null,"県名"]
[]
["フリガナ",null,null,null,null,null,null,null,"フリガナ"]
["学校名",null,null,null,null,null,null,null,"学校名"]
[]
[]
[]
[]
["学年",null,null,null,null,null,null,null,"学年"]
[]
["フリガナ",null,null,null,null,null,null,null,"フリガナ"]
["氏名",null,null,null,null,null,null,null,"氏名"]
[]
["フリガナ",null,null,null,null,null,null,null,"フリガナ"]
["ＪＡ名",null,null,null,null,null,null,null,"ＪＡ名"]
[]
[]
[null,null,null,null,"ＪＡ共済 小・中学生",null,null,null,null,null,null,null,"ＪＡ共済 小・中学生"]
[null,null,null,null,"書道コンクール 条幅の部",null,null,null,null,null,null,null,"書道コンクール 条幅の部"]
["【作品名札】",null,null,"※作品の左下に貼付けてください",null,null,null,null,"【作品名札】",null,null,"※作品の左下に貼付けてください"]
[null,null,null,"のりしろ",null,null,null,null,null,null,null,"のりしろ"]
[]
["県名",null,null,null,null,null,null,null,"県名"]
[]
["フリガナ",null,null,null,null,null,null,null,"フリガナ"]
["学校名",null,null,null,null,null,null,null,"学校名"]
[]
[]
[]
[]
["学年",null,null,null,null,null,null,null,"学年"]
[]
["フリガナ",null,null,null,null,null,null,null,"フリガナ"]
["氏名",null,null,null,null,null,null,null,"氏名"]
[]
["フリガナ",null,null,null,null,null,null,null,"フリガナ"]
["ＪＡ名",null,null,null,null,null,null,null,"ＪＡ名"]
[]
[]
[null,null,null,null,"ＪＡ共済 小・中学生",null,null,null,null,null,null,null,"ＪＡ共済 小・中学生"]
[null,null,null,null,"書道コンクール 半紙の部",null,null,null,null,null,null,null,"書道コンクール 半紙の部"]
["【作品名札】",null,null,"※作品の左下に貼付けてください",null,null,null,null,"【作品名札】",null,null,"※作品の左下に貼付けてください"]
[null,null,null,"のりしろ",null,null,null,null,null,null,null,"のりしろ"]
[]
["県名",null,null,null,null,null,null,null,"県名"]
[]
["フリガナ",null,null,null,null,null,null,null,"フリガナ"]
["学校名",null,null,null,null,null,null,null,"学校名"]
[]
[]
[]
[]
["学年",null,null,null,null,null,null,null,"学年"]
[]
["フリガナ",null,null,null,null,null,null,null,"フリガナ"]
["氏名",null,null,null,null,null,null,null,"氏名"]
[]
["フリガナ",null,null,null,null,null,null,null,"フリガナ"]
["ＪＡ名",null,null,null,null,null,null,null,"ＪＡ名"]
[]
[]
[null,null,null,null,"ＪＡ共済 小・中学生",null,null,null,null,null,null,null,"ＪＡ共済 小・中学生"]
[null,null,null,null,"書道コンクール 半紙の部",null,null,null,null,null,null,null,"書道コンクール 半紙の部"]
["【作品名札】",null,null,"※作品の左下に貼付けてください",null,null,null,null,"【作品名札】",null,null,"※作品の左下に貼付けてください"]
[null,null,null,"のりしろ",null,null,null,null,null,null,null,"のりしろ"]
[]
["県名",null,null,null,null,null,null,null,"県名"]
[]
["フリガナ",null,null,null,null,null,null,null,"フリガナ"]
["学校名",null,null,null,null,null,null,null,"学校名"]
[]
[]
[]
[]
["学年",null,null,null,null,null,null,null,"学年"]
[]
["フリガナ",null,null,null,null,null,null,null,"フリガナ"]
["氏名",null,null,null,null,null,null,null,"氏名"]
[]
["フリガナ",null,null,null,null,null,null,null,"フリガナ"]
["ＪＡ名",null,null,null,null,null,null,null,"ＪＡ名"]
[]
[]
[null,null,null,null,"ＪＡ共済 小・中学生",null,null,null,null,null,null,null,"ＪＡ共済 小・中学生"]
[null,null,null,null,"交通安全ポスターコンクール",null,null,null,null,null,null,null,"交通安全ポスターコンクール"]
["【作品名札】",null,null,"※作品の左下に貼付けてください",null,null,null,null,"【作品名札】",null,null,"※作品の左下に貼付けてください"]
[null,null,null,"のりしろ",null,null,null,null,null,null,null,"のりしろ"]
[]
["県名",null,null,null,null,null,null,null,"県名"]
[]
["フリガナ",null,null,null,null,null,null,null,"フリガナ"]
["学校名",null,null,null,null,null,null,null,"学校名"]
[]
[]
[]
[]
["学年",null,null,null,null,null,null,null,"学年"]
[]
["フリガナ",null,null,null,null,null,null,null,"フリガナ"]
["氏名",null,null,null,null,null,null,null,"氏名"]
[]
["フリガナ",null,null,null,null,null,null,null,"フリガナ"]
["ＪＡ名",null,null,null,null,null,null,null,"ＪＡ名"]
[]
[]
[null,null,null,null,"ＪＡ共済 小・中学生",null,null,null,null,null,null,null,"ＪＡ共済 小・中学生"]
[null,null,null,null,"交通安全ポスターコンクール",null,null,null,null,null,null,null,"交通安全ポスターコンクール"]

{"sheet":"template2","index":6,"n_rows":7,"n_cols":12,"rows_kept":7,"cut":false,"hidden":true,"merged":[[6,1,6,3],[6,4,6,25],[0,1,1,5],[0,6,1,10],[0,11,0,25],[1,11,1,25],[2,1,5,5],[2,6,5,10],[2,11,3,25],[4,11,5,25]]}
[null,"応募の部",null,null,null,null,"学年",null,null,null,null,"フリガナ"]
[null,null,null,null,null,null,null,null,null,null,null,"正　し　い　漢　字　氏　名"]
[]
[]
[]
[]
[null,"外字内容"]

{"sheet":"作品名札_条幅","index":7,"n_rows":0,"n_cols":0,"rows_kept":0,"cut":false,"hidden":false,"merged":[]}

{"sheet":"作品名札_半紙","index":8,"n_rows":0,"n_cols":0,"rows_kept":0,"cut":false,"hidden":false,"merged":[]}

{"sheet":"作品名札_ポスター","index":9,"n_rows":0,"n_cols":0,"rows_kept":0,"cut":false,"hidden":false,"merged":[]}

{"sheet":"template外字報告書","index":10,"n_rows":57,"n_cols":25,"rows_kept":57,"cut":false,"hidden":true,"merged":[[56,1,56,3],[56,4,56,25],[50,1,51,5],[50,6,51,10],[50,11,50,25],[51,11,51,25],[52,1,55,5],[52,6,55,10],[52,11,53,25],[54,11,55,25],[44,1,47,5],[44,6,47,10],[44,11,45,25],[46,11,47,25],[48,1,48,3],[48,4,48,25],[40,1,40,3],[40,4,40,25],[42,1,43,5],[42,6,43,10],[42,11,42,25],[43,11,43,25],[34,1,35,5],[34,6,35,10],[34,11,34,25],[35,11,35,25],[36,1,39,5],[36,6,39,10],[36,11,37,25],[38,11,39,25],[28,1,31,5],[28,6,31,10],[28,11,29,25],[30,11,31,25],[32,1,32,3],[32,4,32,25],[24,1,24,3],[24,4,24,25],[26,1,27,5],[26,6,27,10],[26,11,26,25],[27,11,27,25],[18,1,19,5],[18,6,19,10],[18,11,18,25],[19,11,19,25],[20,1,23,5],[20,6,23,10],[20,11,21,25],[22,11,23,25],[8,14,8,16],[8,17,8,25],[10,1,11,3],[10,4,10,7],[10,8,10,10],[10,14,11,16],[10,17,11,20],[10,22,11,23],[10,24,11,25],[11,4,11,7],[0,3,0,23],[2,3,2,23],[6,14,6,16],[6,17,6,25],[7,14,7,16],[7,17,7,25]]}
[]
[]
[]
[]
[]
[]
[null,null,null,null,null,null,null,null,null,null,null,null,null,null,"ＪＡ名",null,null,{"$f":"CONCATENATE(応募者名簿!B8)","v":""}]
[null,null,null,null,null,null,null,null,null,null,null,null,null,null,"学校名",null,null,{"$f":"CONCATENATE(応募者名簿!$B$11)","v":""}]
[null,null,null,null,null,null,null,null,null,null,null,null,null,null,"担当者名",null,null,{"$f":"CONCATENATE(応募者名簿!I13)","v":""}]
[]
[null,null,null,null,null,null,null,null,null,null,null,null,null,null,"外字有無",null,null,{"$f":"IF(COUNTIF(応募者名簿!D18:D1017,\"○\")+COUNTIF(応募者名簿!I18:I1017,\"○\")+COUNTIF(応募者名簿!N18:N1017,\"○\"),\"有\",\"無\")","v":"無"},null,null,null,null,"外字数",null,{"$f":"COUNTIF(応募者名簿!D18:D1017,\"○\")+COUNTIF(応募者名簿!I18:I1017,\"○\")+COUNTIF(応募者名簿!N18:N1017,\"○\")","v":0}]
[null,null,null,null,null,null,null,null,null,null,null,null,null,null,null,null,null,null,null,null,null,{"$f":"IF(応募者名簿!B14=TRUE,\"○\",\"\")","v":""}]
[]
[null,"氏名に「外字」がある場合は、この書類にご記入の上作品に同封してください。"]
[null,"「外字」がない場合でも作品に同封しご提出をお願いします。"]
[null,"学校名やＪＡ名に「外字」がある場合には手書きで記載ください。"]
[]
[null,"●下記内容は記入例です"]
[null,"応募の部",null,null,null,null,"学年",null,null,null,null,"フリガナ"]
[null,null,null,null,null,null,null,null,null,null,null,"正　し　い　漢　字　氏　名"]
[null,"ポスター",null,null,null,null,"小5",null,null,null,null,"ヨシダ　リョウ"]
[]
[]
[]
[null,"外字内容",null,null,"氏名の「吉」の上部の正式な字体は「土」になります。"]
[]
[null,"応募の部",null,null,null,null,"学年",null,null,null,null,"フリガナ"]
[null,null,null,null,null,null,null,null,null,null,null,"正　し　い　漢　字　氏　名"]
[]
[]
[]
[]
[null,"外字内容"]
[]
[null,"応募の部",null,null,null,null,"学年",null,null,null,null,"フリガナ"]
[null,null,null,null,null,null,null,null,null,null,null,"正　し　い　漢　字　氏　名"]
[]
[]
[]
[]
[null,"外字内容"]
[]
[null,"応募の部",null,null,null,null,"学年",null,null,null,null,"フリガナ"]
[null,null,null,null,null,null,null,null,null,null,null,"正　し　い　漢　字　氏　名"]
[]
[]
[]
[]
[null,"外字内容"]
[]
[null,"応募の部",null,null,null,null,"学年",null,null,null,null,"フリガナ"]
[null,null,null,null,null,null,null,null,null,null,null,"正　し　い　漢　字　氏　名"]
[]
[]
[]
[]
[null,"外字内容"]

{"sheet":"配布用資料_書道","index":11,"n_rows":65,"n_cols":4,"rows_kept":65,"cut":false,"hidden":false,"merged":[[0,1,1,10],[43,0,45,1],[43,3,43,7],[44,3,45,7],[46,0,47,1],[46,2,47,7],[48,0,48,1],[48,2,48,7],[49,0,51,1],[49,2,51,7],[52,0,53,1],[52,2,53,7],[54,0,54,1],[54,2,54,7],[55,0,58,1],[55,2,58,7],[59,0,59,1],[59,2,59,7],[60,0,62,1],[60,2,62,7],[63,0,64,2],[63,3,63,6],[64,3,64,6]]}
[null,"ＪＡ共済 小・中学生 書道コンクールへ応募される児童・生徒、保護者の皆様へ"]
[]
[]
[]
[]
[]
[]
[]
[]
[]
[]
[]
[]
[]
[]
[]
[]
[]
[]
[]
[]
[]
[]
[]
[]
[]
[]
[]
[]
[]
[]
[]
[]
[]
[]
[]
[]
[]
[]
[]
[]
[]
[]
["【作品名札】",null,null,"※作品の左下に貼付けてください"]
[null,null,null,"のりしろ"]
[]
["県名",null,{"$f":"CONCATENATE(応募者名簿!B5)","v":""}]
[]
["フリガナ",null,{"$f":"CONCATENATE(応募者名簿!B10)","v":""}]
["学校名",null,{"$f":"CONCATENATE(応募者名簿!B11)","v":""}]
[]
[]
["学年"]
[]
["フリガナ"]
["氏名"]
[]
[]
[]
["フリガナ",null,{"$f":"CONCATENATE(応募者名簿!B7)","v":""}]
["ＪＡ名",null,{"$f":"CONCATENATE(応募者名簿!B8)","v":""}]
[]
[]
[null,null,null,"ＪＡ共済 小・中学生"]
[null,null,null,"書道コンクール"]

{"sheet":"配布用資料_ポスター","index":12,"n_rows":53,"n_cols":4,"rows_kept":53,"cut":false,"hidden":false,"merged":[[0,1,1,10],[31,0,33,1],[31,3,31,7],[32,3,33,7],[34,0,35,1],[34,3,35,7],[36,0,36,1],[36,3,36,7],[37,0,39,1],[38,3,38,7],[40,0,41,1],[40,4,41,6],[42,0,42,1],[43,0,46,1],[44,2,44,7],[45,2,46,7],[47,0,47,1],[47,3,47,7],[48,0,50,1],[48,3,50,7],[51,0,52,2],[51,3,51,6],[52,3,52,6]]}
[null,"ＪＡ共済 小・中学校 交通安全ポスターコンクールへ応募される児童・生徒、保護者の皆様へ"]
[]
[]
[]
[]
[]
[]
[]
[]
[]
[]
[]
[]
[]
[]
[]
[]
[]
[]
[]
[]
[]
[]
[]
[]
[]
[]
[]
[]
[]
[]
["【作品名札】",null,null,"※作品の左下に貼付けてください"]
[null,null,null,"のりしろ"]
[]
["県名",null,null,{"$f":"CONCATENATE(応募者名簿!B5)","v":""}]
[]
["フリガナ",null,null,{"$f":"CONCATENATE(応募者名簿!B10)","v":""}]
["学校名"]
[null,null,null,{"$f":"CONCATENATE(応募者名簿!B11)","v":""}]
[]
["学年"]
[]
["フリガナ"]
["氏名"]
[]
[]
[]
["フリガナ",null,null,{"$f":"CONCATENATE(応募者名簿!B7)","v":""}]
["ＪＡ名",null,null,{"$f":"CONCATENATE(応募者名簿!B8)","v":""}]
[]
[]
[null,null,null,"ＪＡ共済 小・中学生"]
[null,null,null,"交通安全ポスターコンクール"]

{"sheet":"外字報告書","index":13,"n_rows":337,"n_cols":25,"rows_kept":337,"cut":false,"hidden":false,"merged":[[332,1,335,5],[332,6,335,10],[332,11,333,25],[334,11,335,25],[336,1,336,3],[336,4,336,25],[328,1,328,3],[328,4,328,25],[330,1,331,5],[330,6,331,10],[330,11,330,25],[331,11,331,25],[322,1,323,5],[322,6,323,10],[322,11,322,25],[323,11,323,25],[324,1,327,5],[324,6,327,10],[324,11,325,25],[326,11,327,25],[316,1,319,5],[316,6,319,10],[316,11,317,25],[318,11,319,25],[320,1,320,3],[320,4,320,25],[312,1,312,3],[312,4,312,25],[314,1,315,5],[314,6,315,10],[314,11,314,25],[315,11,315,25],[306,1,307,5],[306,6,307,10],[306,11,306,25],[307,11,307,25],[308,1,311,5],[308,6,311,10],[308,11,309,25],[310,11,311,25],[300,1,303,5],[300,6,303,10],[300,11,301,25],[302,11,303,25],[304,1,304,3],[304,4,304,25],[296,1,296,3],[296,4,296,25],[298,1,299,5],[298,6,299,10],[298,11,298,25],[299,11,299,25],[290,1,291,5],[290,6,291,10],[290,11,290,25],[291,11,291,25],[292,1,295,5],[292,6,295,10],[292,11,293,25],[294,11,295,25],[284,1,287,5],[284,6,287,10],[284,11,285,25],[286,11,287,25],[288,1,288,3],[288,4,288,25],[280,1,280,3],[280,4,280,25],[282,1,283,5],[282,6,283,10],[282,11,282,25],[283,11,283,25],[274,1,275,5],[274,6,275,10],[274,11,274,25],[275,11,275,25],[276,1,279,5],[276,6,279,10],[276,11,277,25],[278,11,279,25],[268,1,271,5],[268,6,271,10],[268,11,269,25],[270,11,271,25],[272,1,272,3],[272,4,272,25],[264,1,264,3],[264,4,264,25],[266,1,267,5],[266,6,267,10],[266,11,266,25],[267,11,267,25],[258,1,259,5],[258,6,259,10],[258,11,258,25],[259,11,259,25],[260,1,263,5],[260,6,263,10],[260,11,261,25],[262,11,263,25],[252,1,255,5],[252,6,255,10],[252,11,253,25],[254,11,255,25],[256,1,256,3],[256,4,256,25],[248,1,248,3],[248,4,248,25],[250,1,251,5],[250,6,251,10],[250,11,250,25],[251,11,251,25],[242,1,243,5],[242,6,243,10],[242,11,242,25],[243,11,243,25],[244,1,247,5],[244,6,247,10],[244,11,245,25],[246,11,247,25],[236,1,239,5],[236,6,239,10],[236,11,237,25],[238,11,239,25],[240,1,240,3],[240,4,240,25],[232,1,232,3],[232,4,232,25],[234,1,235,5],[234,6,235,10],[234,11,234,25],[235,11,235,25],[226,1,227,5],[226,6,227,10],[226,11,226,25],[227,11,227,25],[228,1,231,5],[228,6,231,10],[228,11,229,25],[230,11,231,25],[220,1,223,5],[220,6,223,10],[220,11,221,25],[222,11,223,25],[224,1,224,3],[224,4,224,25],[216,1,216,3],[216,4,216,25],[218,1,219,5],[218,6,219,10],[218,11,218,25],[219,11,219,25],[210,1,211,5],[210,6,211,10],[210,11,210,25],[211,11,211,25],[212,1,215,5],[212,6,215,10],[212,11,213,25],[214,11,215,25],[204,1,207,5],[204,6,207,10],[204,11,205,25],[206,11,207,25],[208,1,208,3],[208,4,208,25],[200,1,200,3],[200,4,200,25],[202,1,203,5],[202,6,203,10],[202,11,202,25],[203,11,203,25],[194,1,195,5],[194,6,195,10],[194,11,194,25],[195,11,195,25],[196,1,199,5],[196,6,199,10],[196,11,197,25],[198,11,199,25],[188,1,191,5],[188,6,191,10],[188,11,189,25],[190,11,191,25],[192,1,192,3],[192,4,192,25],[184,1,184,3],[184,4,184,25],[186,1,187,5],[186,6,187,10],[186,11,186,25],[187,11,187,25],[178,1,179,5],[178,6,179,10],[178,11,178,25],[179,11,179,25],[180,1,183,5],[180,6,183,10],[180,11,181,25],[182,11,183,25],[172,1,175,5],[172,6,175,10],[172,11,173,25],[174,11,175,25],[176,1,176,3],[176,4,176,25],[168,1,168,3],[168,4,168,25],[170,1,171,5],[170,6,171,10],[170,11,170,25],[171,11,171,25],[162,1,163,5],[162,6,163,10],[162,11,162,25],[163,11,163,25],[164,1,167,5],[164,6,167,10],[164,11,165,25],[166,11,167,25],[156,1,159,5],[156,6,159,10],[156,11,157,25],[158,11,159,25],[160,1,160,3],[160,4,160,25],[152,1,152,3],[152,4,152,25],[154,1,155,5],[154,6,155,10],[154,11,154,25],[155,11,155,25],[146,1,147,5],[146,6,147,10],[146,11,146,25],[147,11,147,25],[148,1,151,5],[148,6,151,10],[148,11,149,25],[150,11,151,25],[140,1,143,5],[140,6,143,10],[140,11,141,25],[142,11,143,25],[144,1,144,3],[144,4,144,25],[136,1,136,3],[136,4,136,25],[138,1,139,5],[138,6,139,10],[138,11,138,25],[139,11,139,25],[130,1,131,5],[130,6,131,10],[130,11,130,25],[131,11,131,25],[132,1,135,5],[132,6,135,10],[132,11,133,25],[134,11,135,25],[124,1,127,5],[124,6,127,10],[124,11,125,25],[126,11,127,25],[128,1,128,3],[128,4,128,25],[120,1,120,3],[120,4,120,25],[122,1,123,5],[122,6,123,10],[122,11,122,25],[123,11,123,25],[114,1,115,5],[114,6,115,10],[114,11,114,25],[115,11,115,25],[116,1,119,5],[116,6,119,10],[116,11,117,25],[118,11,119,25],[108,1,111,5],[108,6,111,10],[108,11,109,25],[110,11,111,25],[112,1,112,3],[112,4,112,25],[104,1,104,3],[104,4,104,25],[106,1,107,5],[106,6,107,10],[106,11,106,25],[107,11,107,25],[98,1,99,5],[98,6,99,10],[98,11,98,25],[99,11,99,25],[100,1,103,5],[100,6,103,10],[100,11,101,25],[102,11,103,25],[92,1,95,5],[92,6,95,10],[92,11,93,25],[94,11,95,25],[96,1,96,3],[96,4,96,25],[88,1,88,3],[88,4,88,25],[90,1,91,5],[90,6,91,10],[90,11,90,25],[91,11,91,25],[82,1,83,5],[82,6,83,10],[82,11,82,25],[83,11,83,25],[84,1,87,5],[84,6,87,10],[84,11,85,25],[86,11,87,25],[76,1,79,5],[76,6,79,10],[76,11,77,25],[78,11,79,25],[80,1,80,3],[80,4,80,25],[72,1,72,3],[72,4,72,25],[74,1,75,5],[74,6,75,10],[74,11,74,25],[75,11,75,25],[66,1,67,5],[66,6,67,10],[66,11,66,25],[67,11,67,25],[68,1,71,5],[68,6,71,10],[68,11,69,25],[70,11,71,25],[60,1,63,5],[60,6,63,10],[60,11,61,25],[62,11,63,25],[64,1,64,3],[64,4,64,25],[56,1,56,3],[56,4,56,25],[58,1,59,5],[58,6,59,10],[58,11,58,25],[59,11,59,25],[50,1,51,5],[50,6,51,10],[50,11,50,25],[51,11,51,25],[52,1,55,5],[52,6,55,10],[52,11,53,25],[54,11,55,25],[44,1,47,5],[44,6,47,10],[44,11,45,25],[46,11,47,25],[48,1,48,3],[48,4,48,25],[40,1,40,3],[40,4,40,25],[42,1,43,5],[42,6,43,10],[42,11,42,25],[43,11,43,25],[34,1,35,5],[34,6,35,10],[34,11,34,25],[35,11,35,25],[36,1,39,5],[36,6,39,10],[36,11,37,25],[38,11,39,25],[28,1,31,5],[28,6,31,10],[28,11,29,25],[30,11,31,25],[32,1,32,3],[32,4,32,25],[24,1,24,3],[24,4,24,25],[26,1,27,5],[26,6,27,10],[26,11,26,25],[27,11,27,25],[18,1,19,5],[18,6,19,10],[18,11,18,25],[19,11,19,25],[20,1,23,5],[20,6,23,10],[20,11,21,25],[22,11,23,25],[0,3,0,23],[2,3,2,23],[6,14,6,16],[6,17,6,25],[7,14,7,16],[7,17,7,25],[8,14,8,16],[8,17,8,25],[10,1,11,3],[10,4,10,7],[10,8,10,10],[10,14,11,16],[10,17,11,20],[10,22,11,23],[10,24,11,25],[11,4,11,7]]}
[]
[]
[]
[]
[]
[]
[null,null,null,null,null,null,null,null,null,null,null,null,null,null,"ＪＡ名",null,null,{"$f":"CONCATENATE(応募者名簿!B8)","v":""}]
[null,null,null,null,null,null,null,null,null,null,null,null,null,null,"学校名",null,null,{"$f":"CONCATENATE(応募者名簿!$B$11)","v":""}]
[null,null,null,null,null,null,null,null,null,null,null,null,null,null,"担当者名",null,null,{"$f":"CONCATENATE(応募者名簿!I13)","v":""}]
[]
[null,null,null,null,null,null,null,null,null,null,null,null,null,null,"外字有無",null,null,{"$f":"IF(COUNTIF(応募者名簿!D18:D1017,\"○\")+COUNTIF(応募者名簿!I18:I1017,\"○\")+COUNTIF(応募者名簿!N18:N1017,\"○\"),\"有\",\"無\")","v":"無"},null,null,null,null,"外字数",null,{"$f":"COUNTIF(応募者名簿!D18:D1017,\"○\")+COUNTIF(応募者名簿!I18:I1017,\"○\")+COUNTIF(応募者名簿!N18:N1017,\"○\")","v":0}]
[null,null,null,null,null,null,null,null,null,null,null,null,null,null,null,null,null,null,null,null,null,{"$f":"IF(応募者名簿!B14=TRUE,\"○\",\"\")","v":""}]
[]
[null,"氏名に「外字」がある場合は、この書類にご記入の上作品に同封してください。"]
[null,"「外字」がない場合でも作品に同封しご提出をお願いします。"]
[null,"学校名やＪＡ名に「外字」がある場合には手書きで記載ください。"]
[]
[null,"●下記内容は記入例です"]
[null,"応募の部",null,null,null,null,"学年",null,null,null,null,"フリガナ"]
[null,null,null,null,null,null,null,null,null,null,null,"正　し　い　漢　字　氏　名"]
[null,"ポスター",null,null,null,null,"小5",null,null,null,null,"ヨシダ　リョウ"]
[]
[]
[]
[null,"外字内容",null,null,"氏名の「吉」の上部の正式な字体は「土」になります。"]
[]
[null,"応募の部",null,null,null,null,"学年",null,null,null,null,"フリガナ"]
[null,null,null,null,null,null,null,null,null,null,null,"正　し　い　漢　字　氏　名"]
[null,"条幅",null,null,null,null,"小1",null,null,null,null,"シケン　ジロウ"]
[]
[]
[]
[null,"外字内容"]
[]
[null,"応募の部",null,null,null,null,"学年",null,null,null,null,"フリガナ"]
[null,null,null,null,null,null,null,null,null,null,null,"正　し　い　漢　字　氏　名"]
[null,"条幅",null,null,null,null,null,null,null,null,null,"シケン　ジロウ"]
[]
[]
[]
[null,"外字内容"]
[]
[null,"応募の部",null,null,null,null,"学年",null,null,null,null,"フリガナ"]
[null,null,null,null,null,null,null,null,null,null,null,"正　し　い　漢　字　氏　名"]
[null,"条幅",null,null,null,null,null,null,null,null,null,"シケン　ジロウ"]
[]
[]
[]
[null,"外字内容"]
[]
[null,"応募の部",null,null,null,null,"学年",null,null,null,null,"フリガナ"]
[null,null,null,null,null,null,null,null,null,null,null,"正　し　い　漢　字　氏　名"]
[null,"条幅",null,null,null,null,null,null,null,null,null,"シケン　ジロウ"]
[]
[]
[]
[null,"外字内容"]
[]
[null,"応募の部",null,null,null,null,"学年",null,null,null,null,"フリガナ"]
[null,null,null,null,null,null,null,null,null,null,null,"正　し　い　漢　字　氏　名"]
[null,"条幅",null,null,null,null,null,null,null,null,null,"シケン　ジロウ"]
[]
[]
[]
[null,"外字内容"]
[]
[null,"応募の部",null,null,null,null,"学年",null,null,null,null,"フリガナ"]
[null,null,null,null,null,null,null,null,null,null,null,"正　し　い　漢　字　氏　名"]
[null,"条幅",null,null,null,null,null,null,null,null,null,"シケン　ジロウ"]
[]
[]
[]
[null,"外字内容"]
[]
[null,"応募の部",null,null,null,null,"学年",null,null,null,null,"フリガナ"]
[null,null,null,null,null,null,null,null,null,null,null,"正　し　い　漢　字　氏　名"]
[null,"条幅",null,null,null,null,null,null,null,null,null,"シケン　ジロウ"]
[]
[]
[]
[null,"外字内容"]
[]
[null,"応募の部",null,null,null,null,"学年",null,null,null,null,"フリガナ"]
[null,null,null,null,null,null,null,null,null,null,null,"正　し　い　漢　字　氏　名"]
[null,"条幅",null,null,null,null,null,null,null,null,null,"シケン　ジロウ"]
[]
[]
[]
[null,"外字内容"]
[]
[null,"応募の部",null,null,null,null,"学年",null,null,null,null,"フリガナ"]
[null,null,null,null,null,null,null,null,null,null,null,"正　し　い　漢　字　氏　名"]
[null,"条幅",null,null,null,null,null,null,null,null,null,"シケン　ジロウ"]
[]
[]
[]
[null,"外字内容"]
[]
[null,"応募の部",null,null,null,null,"学年",null,null,null,null,"フリガナ"]
[null,null,null,null,null,null,null,null,null,null,null,"正　し　い　漢　字　氏　名"]
[null,"条幅",null,null,null,null,null,null,null,null,null,"シケン　ジロウ"]
[]
[]
[]
[null,"外字内容"]
[]
[null,"応募の部",null,null,null,null,"学年",null,null,null,null,"フリガナ"]
[null,null,null,null,null,null,null,null,null,null,null,"正　し　い　漢　字　氏　名"]
[null,"条幅",null,null,null,null,null,null,null,null,null,"シケン　ジロウ"]
[]
[]
[]
[null,"外字内容"]
[]
[null,"応募の部",null,null,null,null,"学年",null,null,null,null,"フリガナ"]
[null,null,null,null,null,null,null,null,null,null,null,"正　し　い　漢　字　氏　名"]
[null,"条幅",null,null,null,null,null,null,null,null,null,"シケン　ジロウ"]
[]
[]
[]
[null,"外字内容"]
[]
[null,"応募の部",null,null,null,null,"学年",null,null,null,null,"フリガナ"]
[null,null,null,null,null,null,null,null,null,null,null,"正　し　い　漢　字　氏　名"]
[null,"条幅",null,null,null,null,null,null,null,null,null,"シケン　ジロウ"]
[]
[]
[]
[null,"外字内容"]
[]
[null,"応募の部",null,null,null,null,"学年",null,null,null,null,"フリガナ"]
[null,null,null,null,null,null,null,null,null,null,null,"正　し　い　漢　字　氏　名"]
[null,"半紙",null,null,null,null,null,null,null,null,null,"シケン　ジロウ"]
[]
[]
[]
[null,"外字内容"]
[]
[null,"応募の部",null,null,null,null,"学年",null,null,null,null,"フリガナ"]
[null,null,null,null,null,null,null,null,null,null,null,"正　し　い　漢　字　氏　名"]
[null,"半紙",null,null,null,null,null,null,null,null,null,"シケン　ジロウ"]
[]
[]
[]
[null,"外字内容"]
[]
[null,"応募の部",null,null,null,null,"学年",null,null,null,null,"フリガナ"]
[null,null,null,null,null,null,null,null,null,null,null,"正　し　い　漢　字　氏　名"]
[null,"半紙",null,null,null,null,null,null,null,null,null,"シケン　ジロウ"]
[]
[]
[]
[null,"外字内容"]
[]
[null,"応募の部",null,null,null,null,"学年",null,null,null,null,"フリガナ"]
[null,null,null,null,null,null,null,null,null,null,null,"正　し　い　漢　字　氏　名"]
[null,"半紙",null,null,null,null,null,null,null,null,null,"シケン　ジロウ"]
[]
[]
[]
[null,"外字内容"]
[]
[null,"応募の部",null,null,null,null,"学年",null,null,null,null,"フリガナ"]
[null,null,null,null,null,null,null,null,null,null,null,"正　し　い　漢　字　氏　名"]
[null,"半紙",null,null,null,null,null,null,null,null,null,"シケン　ジロウ"]
[]
[]
[]
[null,"外字内容"]
[]
[null,"応募の部",null,null,null,null,"学年",null,null,null,null,"フリガナ"]
[null,null,null,null,null,null,null,null,null,null,null,"正　し　い　漢　字　氏　名"]
[null,"半紙",null,null,null,null,null,null,null,null,null,"シケン　ジロウ"]
[]
[]
[]
[null,"外字内容"]
[]
[null,"応募の部",null,null,null,null,"学年",null,null,null,null,"フリガナ"]
[null,null,null,null,null,null,null,null,null,null,null,"正　し　い　漢　字　氏　名"]
[null,"半紙",null,null,null,null,null,null,null,null,null,"シケン　ジロウ"]
[]
[]
[]
[null,"外字内容"]
[]
[null,"応募の部",null,null,null,null,"学年",null,null,null,null,"フリガナ"]
[null,null,null,null,null,null,null,null,null,null,null,"正　し　い　漢　字　氏　名"]
[null,"半紙",null,null,null,null,null,null,null,null,null,"シケン　ジロウ"]
[]
[]
[]
[null,"外字内容"]
[]
[null,"応募の部",null,null,null,null,"学年",null,null,null,null,"フリガナ"]
[null,null,null,null,null,null,null,null,null,null,null,"正　し　い　漢　字　氏　名"]
[null,"半紙",null,null,null,null,null,null,null,null,null,"シケン　ジロウ"]
[]
[]
[]
[null,"外字内容"]
[]
[null,"応募の部",null,null,null,null,"学年",null,null,null,null,"フリガナ"]
[null,null,null,null,null,null,null,null,null,null,null,"正　し　い　漢　字　氏　名"]
[null,"半紙",null,null,null,null,null,null,null,null,null,"シケン　ジロウ"]
[]
[]
[]
[null,"外字内容"]
[]
[null,"応募の部",null,null,null,null,"学年",null,null,null,null,"フリガナ"]
[null,null,null,null,null,null,null,null,null,null,null,"正　し　い　漢　字　氏　名"]
[null,"半紙",null,null,null,null,null,null,null,null,null,"シケン　ジロウ"]
[]
[]
[]
[null,"外字内容"]
[]
[null,"応募の部",null,null,null,null,"学年",null,null,null,null,"フリガナ"]
[null,null,null,null,null,null,null,null,null,null,null,"正　し　い　漢　字　氏　名"]
[null,"半紙",null,null,null,null,null,null,null,null,null,"シケン　ジロウ"]
[]
[]
[]
[null,"外字内容"]
[]
[null,"応募の部",null,null,null,null,"学年",null,null,null,null,"フリガナ"]
[null,null,null,null,null,null,null,null,null,null,null,"正　し　い　漢　字　氏　名"]
[null,"半紙",null,null,null,null,null,null,null,null,null,"シケン　ジロウ"]
[]
[]
[]
[null,"外字内容"]
[]
[null,"応募の部",null,null,null,null,"学年",null,null,null,null,"フリガナ"]
[null,null,null,null,null,null,null,null,null,null,null,"正　し　い　漢　字　氏　名"]
[null,"ポスター",null,null,null,null,null,null,null,null,null,"シケン　ジロウ"]
[]
[]
[]
[null,"外字内容"]
[]
[null,"応募の部",null,null,null,null,"学年",null,null,null,null,"フリガナ"]
[null,null,null,null,null,null,null,null,null,null,null,"正　し　い　漢　字　氏　名"]
[null,"ポスター",null,null,null,null,null,null,null,null,null,"シケン　ジロウ"]
[]
[]
[]
[null,"外字内容"]
[]
[null,"応募の部",null,null,null,null,"学年",null,null,null,null,"フリガナ"]
[null,null,null,null,null,null,null,null,null,null,null,"正　し　い　漢　字　氏　名"]
[null,"ポスター",null,null,null,null,null,null,null,null,null,"シケン　ジロウ"]
[]
[]
[]
[null,"外字内容"]
[]
[null,"応募の部",null,null,null,null,"学年",null,null,null,null,"フリガナ"]
[null,null,null,null,null,null,null,null,null,null,null,"正　し　い　漢　字　氏　名"]
[null,"ポスター",null,null,null,null,null,null,null,null,null,"シケン　ジロウ"]
[]
[]
[]
[null,"外字内容"]
[]
[null,"応募の部",null,null,null,null,"学年",null,null,null,null,"フリガナ"]
[null,null,null,null,null,null,null,null,null,null,null,"正　し　い　漢　字　氏　名"]
[null,"ポスター",null,null,null,null,null,null,null,null,null,"シケン　ジロウ"]
[]
[]
[]
[null,"外字内容"]
[]
[null,"応募の部",null,null,null,null,"学年",null,null,null,null,"フリガナ"]
[null,null,null,null,null,null,null,null,null,null,null,"正　し　い　漢　字　氏　名"]
[null,"ポスター",null,null,null,null,null,null,null,null,null,"シケン　ジロウ"]
[]
[]
[]
[null,"外字内容"]
[]
[null,"応募の部",null,null,null,null,"学年",null,null,null,null,"フリガナ"]
[null,null,null,null,null,null,null,null,null,null,null,"正　し　い　漢　字　氏　名"]
[null,"ポスター",null,null,null,null,null,null,null,null,null,"シケン　ジロウ"]
[]
[]
[]
[null,"外字内容"]
[]
[null,"応募の部",null,null,null,null,"学年",null,null,null,null,"フリガナ"]
[null,null,null,null,null,null,null,null,null,null,null,"正　し　い　漢　字　氏　名"]
[null,"ポスター",null,null,null,null,null,null,null,null,null,"シケン　ジロウ"]
[]
[]
[]
[null,"外字内容"]
[]
[null,"応募の部",null,null,null,null,"学年",null,null,null,null,"フリガナ"]
[null,null,null,null,null,null,null,null,null,null,null,"正　し　い　漢　字　氏　名"]
[null,"ポスター",null,null,null,null,null,null,null,null,null,"シケン　ジロウ"]
[]
[]
[]
[null,"外字内容"]
[]
[null,"応募の部",null,null,null,null,"学年",null,null,null,null,"フリガナ"]
[null,null,null,null,null,null,null,null,null,null,null,"正　し　い　漢　字　氏　名"]
[null,"ポスター",null,null,null,null,null,null,null,null,null,"シケン　ジロウ"]
[]
[]
[]
[null,"外字内容"]
[]
[null,"応募の部",null,null,null,null,"学年",null,null,null,null,"フリガナ"]
[null,null,null,null,null,null,null,null,null,null,null,"正　し　い　漢　字　氏　名"]
[null,"ポスター",null,null,null,null,null,null,null,null,null,"シケン　ジロウ"]
[]
[]
[]
[null,"外字内容"]
[]
[null,"応募の部",null,null,null,null,"学年",null,null,null,null,"フリガナ"]
[null,null,null,null,null,null,null,null,null,null,null,"正　し　い　漢　字　氏　名"]
[null,"ポスター",null,null,null,null,null,null,null,null,null,"シケン　ジロウ"]
[]
[]
[]
[null,"外字内容"]
[]
[null,"応募の部",null,null,null,null,"学年",null,null,null,null,"フリガナ"]
[null,null,null,null,null,null,null,null,null,null,null,"正　し　い　漢　字　氏　名"]
[null,"ポスター",null,null,null,null,null,null,null,null,null,"シケン　ジロウ"]
[]
[]
[]
[null,"外字内容"]

{"sheet":"応募数_集計シート","index":14,"n_rows":4,"n_cols":13,"rows_kept":4,"cut":false,"hidden":false,"merged":[]}
["ＪＡ名","学校名","区分","小1","小2","小3","小4","小5","小6","中1","中2","中3","合計"]
[{"$f":"CONCATENATE(応募者名簿!$B$8)","v":""},{"$f":"CONCATENATE(応募者名簿!$B$11,応募者名簿!$D$11,応募者名簿!$E$11,応募者名簿!$I$11)","v":""},"条幅",{"$f":"非表示_応募作品点数!C7","v":0},{"$f":"非表示_応募作品点数!D7","v":0},{"$f":"非表示_応募作品点数!E7","v":0},{"$f":"非表示_応募作品点数!F7","v":0},{"$f":"非表示_応募作品点数!G7","v":0},{"$f":"非表示_応募作品点数!H7","v":0},{"$f":"非表示_応募作品点数!I7","v":0},{"$f":"非表示_応募作品点数!J7","v":0},{"$f":"非表示_応募作品点数!K7","v":0},{"$f":"SUM(D2:L2)","v":0}]
[{"$f":"CONCATENATE(応募者名簿!$B$8)","v":""},{"$f":"CONCATENATE(応募者名簿!$B$11,応募者名簿!$D$11,応募者名簿!$E$11,応募者名簿!$I$11)","v":""},"半紙",{"$f":"非表示_応募作品点数!C9","v":0},{"$f":"非表示_応募作品点数!D9","v":0},{"$f":"非表示_応募作品点数!E9","v":0},{"$f":"非表示_応募作品点数!F9","v":0},{"$f":"非表示_応募作品点数!G9","v":0},{"$f":"非表示_応募作品点数!H9","v":0},{"$f":"非表示_応募作品点数!I9","v":0},{"$f":"非表示_応募作品点数!J9","v":0},{"$f":"非表示_応募作品点数!K9","v":0},{"$f":"SUM(D3:L3)","v":0}]
[{"$f":"CONCATENATE(応募者名簿!$B$8)","v":""},{"$f":"CONCATENATE(応募者名簿!$B$11,応募者名簿!$D$11,応募者名簿!$E$11,応募者名簿!$I$11)","v":""},"ポスター",{"$f":"非表示_応募作品点数!C11","v":0},{"$f":"非表示_応募作品点数!D11","v":0},{"$f":"非表示_応募作品点数!E11","v":0},{"$f":"非表示_応募作品点数!F11","v":0},{"$f":"非表示_応募作品点数!G11","v":0},{"$f":"非表示_応募作品点数!H11","v":0},{"$f":"非表示_応募作品点数!I11","v":0},{"$f":"非表示_応募作品点数!J11","v":0},{"$f":"非表示_応募作品点数!K11","v":0},{"$f":"SUM(D4:L4)","v":0}]

{"sheet":"応募者名簿_集計シート","index":15,"n_rows":3004,"n_cols":7,"rows_kept":3004,"cut":false,"hidden":false,"merged":[]}
["ＪＡ名","学校名","半紙・条幅・ポスター","学年","氏名","フリガナ","外字"]
[{"$f":"応募者名簿!$B$8","v":0},{"$f":"CONCATENATE(応募者名簿!$B$11,応募者名簿!$D$11,応募者名簿!$E$11,応募者名簿!$I$11)","v":""},"条幅",{"$f":"CONCATENATE(応募者名簿!A18)","v":""},{"$f":"CONCATENATE(応募者名簿!B18)","v":""},{"$f":"CONCATENATE(応募者名簿!C18)","v":""},{"$f":"CONCATENATE(応募者名簿!D18)","v":""}]
[{"$f":"応募者名簿!$B$8","v":0},{"$f":"CONCATENATE(応募者名簿!$B$11,応募者名簿!$D$11,応募者名簿!$E$11,応募者名簿!$I$11)","v":""},"条幅",{"$f":"CONCATENATE(応募者名簿!A19)","v":""},{"$f":"CONCATENATE(応募者名簿!B19)","v":""},{"$f":"CONCATENATE(応募者名簿!C19)","v":""},{"$f":"CONCATENATE(応募者名簿!D19)","v":""}]
[{"$f":"応募者名簿!$B$8","v":0},{"$f":"CONCATENATE(応募者名簿!$B$11,応募者名簿!$D$11,応募者名簿!$E$11,応募者名簿!$I$11)","v":""},"条幅",{"$f":"CONCATENATE(応募者名簿!A20)","v":""},{"$f":"CONCATENATE(応募者名簿!B20)","v":""},{"$f":"CONCATENATE(応募者名簿!C20)","v":""},{"$f":"CONCATENATE(応募者名簿!D20)","v":""}]
[{"$f":"応募者名簿!$B$8","v":0},{"$f":"CONCATENATE(応募者名簿!$B$11,応募者名簿!$D$11,応募者名簿!$E$11,応募者名簿!$I$11)","v":""},"条幅",{"$f":"CONCATENATE(応募者名簿!A21)","v":""},{"$f":"CONCATENATE(応募者名簿!B21)","v":""},{"$f":"CONCATENATE(応募者名簿!C21)","v":""},{"$f":"CONCATENATE(応募者名簿!D21)","v":""}]
[{"$f":"応募者名簿!$B$8","v":0},{"$f":"CONCATENATE(応募者名簿!$B$11,応募者名簿!$D$11,応募者名簿!$E$11,応募者名簿!$I$11)","v":""},"条幅",{"$f":"CONCATENATE(応募者名簿!A22)","v":""},{"$f":"CONCATENATE(応募者名簿!B22)","v":""},{"$f":"CONCATENATE(応募者名簿!C22)","v":""},{"$f":"CONCATENATE(応募者名簿!D22)","v":""}]
[{"$f":"応募者名簿!$B$8","v":0},{"$f":"CONCATENATE(応募者名簿!$B$11,応募者名簿!$D$11,応募者名簿!$E$11,応募者名簿!$I$11)","v":""},"条幅",{"$f":"CONCATENATE(応募者名簿!A23)","v":""},{"$f":"CONCATENATE(応募者名簿!B23)","v":""},{"$f":"CONCATENATE(応募者名簿!C23)","v":""},{"$f":"CONCATENATE(応募者名簿!D23)","v":""}]
[{"$f":"応募者名簿!$B$8","v":0},{"$f":"CONCATENATE(応募者名簿!$B$11,応募者名簿!$D$11,応募者名簿!$E$11,応募者名簿!$I$11)","v":""},"条幅",{"$f":"CONCATENATE(応募者名簿!A24)","v":""},{"$f":"CONCATENATE(応募者名簿!B24)","v":""},{"$f":"CONCATENATE(応募者名簿!C24)","v":""},{"$f":"CONCATENATE(応募者名簿!D24)","v":""}]
[{"$f":"応募者名簿!$B$8","v":0},{"$f":"CONCATENATE(応募者名簿!$B$11,応募者名簿!$D$11,応募者名簿!$E$11,応募者名簿!$I$11)","v":""},"条幅",{"$f":"CONCATENATE(応募者名簿!A25)","v":""},{"$f":"CONCATENATE(応募者名簿!B25)","v":""},{"$f":"CONCATENATE(応募者名簿!C25)","v":""},{"$f":"CONCATENATE(応募者名簿!D25)","v":""}]
[{"$f":"応募者名簿!$B$8","v":0},{"$f":"CONCATENATE(応募者名簿!$B$11,応募者名簿!$D$11,応募者名簿!$E$11,応募者名簿!$I$11)","v":""},"条幅",{"$f":"CONCATENATE(応募者名簿!A26)","v":""},{"$f":"CONCATENATE(応募者名簿!B26)","v":""},{"$f":"CONCATENATE(応募者名簿!C26)","v":""},{"$f":"CONCATENATE(応募者名簿!D26)","v":""}]
[{"$f":"応募者名簿!$B$8","v":0},{"$f":"CONCATENATE(応募者名簿!$B$11,応募者名簿!$D$11,応募者名簿!$E$11,応募者名簿!$I$11)","v":""},"条幅",{"$f":"CONCATENATE(応募者名簿!A27)","v":""},{"$f":"CONCATENATE(応募者名簿!B27)","v":""},{"$f":"CONCATENATE(応募者名簿!C27)","v":""},{"$f":"CONCATENATE(応募者名簿!D27)","v":""}]
[{"$f":"応募者名簿!$B$8","v":0},{"$f":"CONCATENATE(応募者名簿!$B$11,応募者名簿!$D$11,応募者名簿!$E$11,応募者名簿!$I$11)","v":""},"条幅",{"$f":"CONCATENATE(応募者名簿!A28)","v":""},{"$f":"CONCATENATE(応募者名簿!B28)","v":""},{"$f":"CONCATENATE(応募者名簿!C28)","v":""},{"$f":"CONCATENATE(応募者名簿!D28)","v":""}]
[{"$f":"応募者名簿!$B$8","v":0},{"$f":"CONCATENATE(応募者名簿!$B$11,応募者名簿!$D$11,応募者名簿!$E$11,応募者名簿!$I$11)","v":""},"条幅",{"$f":"CONCATENATE(応募者名簿!A29)","v":""},{"$f":"CONCATENATE(応募者名簿!B29)","v":""},{"$f":"CONCATENATE(応募者名簿!C29)","v":""},{"$f":"CONCATENATE(応募者名簿!D29)","v":""}]
[{"$f":"応募者名簿!$B$8","v":0},{"$f":"CONCATENATE(応募者名簿!$B$11,応募者名簿!$D$11,応募者名簿!$E$11,応募者名簿!$I$11)","v":""},"条幅",{"$f":"CONCATENATE(応募者名簿!A30)","v":""},{"$f":"CONCATENATE(応募者名簿!B30)","v":""},{"$f":"CONCATENATE(応募者名簿!C30)","v":""},{"$f":"CONCATENATE(応募者名簿!D30)","v":""}]
[{"$f":"応募者名簿!$B$8","v":0},{"$f":"CONCATENATE(応募者名簿!$B$11,応募者名簿!$D$11,応募者名簿!$E$11,応募者名簿!$I$11)","v":""},"条幅",{"$f":"CONCATENATE(応募者名簿!A31)","v":""},{"$f":"CONCATENATE(応募者名簿!B31)","v":""},{"$f":"CONCATENATE(応募者名簿!C31)","v":""},{"$f":"CONCATENATE(応募者名簿!D31)","v":""}]
[{"$f":"応募者名簿!$B$8","v":0},{"$f":"CONCATENATE(応募者名簿!$B$11,応募者名簿!$D$11,応募者名簿!$E$11,応募者名簿!$I$11)","v":""},"条幅",{"$f":"CONCATENATE(応募者名簿!A32)","v":""},{"$f":"CONCATENATE(応募者名簿!B32)","v":""},{"$f":"CONCATENATE(応募者名簿!C32)","v":""},{"$f":"CONCATENATE(応募者名簿!D32)","v":""}]
[{"$f":"応募者名簿!$B$8","v":0},{"$f":"CONCATENATE(応募者名簿!$B$11,応募者名簿!$D$11,応募者名簿!$E$11,応募者名簿!$I$11)","v":""},"条幅",{"$f":"CONCATENATE(応募者名簿!A33)","v":""},{"$f":"CONCATENATE(応募者名簿!B33)","v":""},{"$f":"CONCATENATE(応募者名簿!C33)","v":""},{"$f":"CONCATENATE(応募者名簿!D33)","v":""}]
[{"$f":"応募者名簿!$B$8","v":0},{"$f":"CONCATENATE(応募者名簿!$B$11,応募者名簿!$D$11,応募者名簿!$E$11,応募者名簿!$I$11)","v":""},"条幅",{"$f":"CONCATENATE(応募者名簿!A34)","v":""},{"$f":"CONCATENATE(応募者名簿!B34)","v":""},{"$f":"CONCATENATE(応募者名簿!C34)","v":""},{"$f":"CONCATENATE(応募者名簿!D34)","v":""}]
[{"$f":"応募者名簿!$B$8","v":0},{"$f":"CONCATENATE(応募者名簿!$B$11,応募者名簿!$D$11,応募者名簿!$E$11,応募者名簿!$I$11)","v":""},"条幅",{"$f":"CONCATENATE(応募者名簿!A35)","v":""},{"$f":"CONCATENATE(応募者名簿!B35)","v":""},{"$f":"CONCATENATE(応募者名簿!C35)","v":""},{"$f":"CONCATENATE(応募者名簿!D35)","v":""}]
[{"$f":"応募者名簿!$B$8","v":0},{"$f":"CONCATENATE(応募者名簿!$B$11,応募者名簿!$D$11,応募者名簿!$E$11,応募者名簿!$I$11)","v":""},"条幅",{"$f":"CONCATENATE(応募者名簿!A36)","v":""},{"$f":"CONCATENATE(応募者名簿!B36)","v":""},{"$f":"CONCATENATE(応募者名簿!C36)","v":""},{"$f":"CONCATENATE(応募者名簿!D36)","v":""}]
[{"$f":"応募者名簿!$B$8","v":0},{"$f":"CONCATENATE(応募者名簿!$B$11,応募者名簿!$D$11,応募者名簿!$E$11,応募者名簿!$I$11)","v":""},"条幅",{"$f":"CONCATENATE(応募者名簿!A37)","v":""},{"$f":"CONCATENATE(応募者名簿!B37)","v":""},{"$f":"CONCATENATE(応募者名簿!C37)","v":""},{"$f":"CONCATENATE(応募者名簿!D37)","v":""}]
[{"$f":"応募者名簿!$B$8","v":0},{"$f":"CONCATENATE(応募者名簿!$B$11,応募者名簿!$D$11,応募者名簿!$E$11,応募者名簿!$I$11)","v":""},"条幅",{"$f":"CONCATENATE(応募者名簿!A38)","v":""},{"$f":"CONCATENATE(応募者名簿!B38)","v":""},{"$f":"CONCATENATE(応募者名簿!C38)","v":""},{"$f":"CONCATENATE(応募者名簿!D38)","v":""}]
[{"$f":"応募者名簿!$B$8","v":0},{"$f":"CONCATENATE(応募者名簿!$B$11,応募者名簿!$D$11,応募者名簿!$E$11,応募者名簿!$I$11)","v":""},"条幅",{"$f":"CONCATENATE(応募者名簿!A39)","v":""},{"$f":"CONCATENATE(応募者名簿!B39)","v":""},{"$f":"CONCATENATE(応募者名簿!C39)","v":""},{"$f":"CONCATENATE(応募者名簿!D39)","v":""}]
[{"$f":"応募者名簿!$B$8","v":0},{"$f":"CONCATENATE(応募者名簿!$B$11,応募者名簿!$D$11,応募者名簿!$E$11,応募者名簿!$I$11)","v":""},"条幅",{"$f":"CONCATENATE(応募者名簿!A40)","v":""},{"$f":"CONCATENATE(応募者名簿!B40)","v":""},{"$f":"CONCATENATE(応募者名簿!C40)","v":""},{"$f":"CONCATENATE(応募者名簿!D40)","v":""}]
[{"$f":"応募者名簿!$B$8","v":0},{"$f":"CONCATENATE(応募者名簿!$B$11,応募者名簿!$D$11,応募者名簿!$E$11,応募者名簿!$I$11)","v":""},"条幅",{"$f":"CONCATENATE(応募者名簿!A41)","v":""},{"$f":"CONCATENATE(応募者名簿!B41)","v":""},{"$f":"CONCATENATE(応募者名簿!C41)","v":""},{"$f":"CONCATENATE(応募者名簿!D41)","v":""}]
[{"$f":"応募者名簿!$B$8","v":0},{"$f":"CONCATENATE(応募者名簿!$B$11,応募者名簿!$D$11,応募者名簿!$E$11,応募者名簿!$I$11)","v":""},"条幅",{"$f":"CONCATENATE(応募者名簿!A42)","v":""},{"$f":"CONCATENATE(応募者名簿!B42)","v":""},{"$f":"CONCATENATE(応募者名簿!C42)","v":""},{"$f":"CONCATENATE(応募者名簿!D42)","v":""}]
[{"$f":"応募者名簿!$B$8","v":0},{"$f":"CONCATENATE(応募者名簿!$B$11,応募者名簿!$D$11,応募者名簿!$E$11,応募者名簿!$I$11)","v":""},"条幅",{"$f":"CONCATENATE(応募者名簿!A43)","v":""},{"$f":"CONCATENATE(応募者名簿!B43)","v":""},{"$f":"CONCATENATE(応募者名簿!C43)","v":""},{"$f":"CONCATENATE(応募者名簿!D43)","v":""}]
[{"$f":"応募者名簿!$B$8","v":0},{"$f":"CONCATENATE(応募者名簿!$B$11,応募者名簿!$D$11,応募者名簿!$E$11,応募者名簿!$I$11)","v":""},"条幅",{"$f":"CONCATENATE(応募者名簿!A44)","v":""},{"$f":"CONCATENATE(応募者名簿!B44)","v":""},{"$f":"CONCATENATE(応募者名簿!C44)","v":""},{"$f":"CONCATENATE(応募者名簿!D44)","v":""}]
[{"$f":"応募者名簿!$B$8","v":0},{"$f":"CONCATENATE(応募者名簿!$B$11,応募者名簿!$D$11,応募者名簿!$E$11,応募者名簿!$I$11)","v":""},"条幅",{"$f":"CONCATENATE(応募者名簿!A45)","v":""},{"$f":"CONCATENATE(応募者名簿!B45)","v":""},{"$f":"CONCATENATE(応募者名簿!C45)","v":""},{"$f":"CONCATENATE(応募者名簿!D45)","v":""}]
[{"$f":"応募者名簿!$B$8","v":0},{"$f":"CONCATENATE(応募者名簿!$B$11,応募者名簿!$D$11,応募者名簿!$E$11,応募者名簿!$I$11)","v":""},"条幅",{"$f":"CONCATENATE(応募者名簿!A46)","v":""},{"$f":"CONCATENATE(応募者名簿!B46)","v":""},{"$f":"CONCATENATE(応募者名簿!C46)","v":""},{"$f":"CONCATENATE(応募者名簿!D46)","v":""}]
[{"$f":"応募者名簿!$B$8","v":0},{"$f":"CONCATENATE(応募者名簿!$B$11,応募者名簿!$D$11,応募者名簿!$E$11,応募者名簿!$I$11)","v":""},"条幅",{"$f":"CONCATENATE(応募者名簿!A47)","v":""},{"$f":"CONCATENATE(応募者名簿!B47)","v":""},{"$f":"CONCATENATE(応募者名簿!C47)","v":""},{"$f":"CONCATENATE(応募者名簿!D47)","v":""}]
[{"$f":"応募者名簿!$B$8","v":0},{"$f":"CONCATENATE(応募者名簿!$B$11,応募者名簿!$D$11,応募者名簿!$E$11,応募者名簿!$I$11)","v":""},"条幅",{"$f":"CONCATENATE(応募者名簿!A48)","v":""},{"$f":"CONCATENATE(応募者名簿!B48)","v":""},{"$f":"CONCATENATE(応募者名簿!C48)","v":""},{"$f":"CONCATENATE(応募者名簿!D48)","v":""}]
[{"$f":"応募者名簿!$B$8","v":0},{"$f":"CONCATENATE(応募者名簿!$B$11,応募者名簿!$D$11,応募者名簿!$E$11,応募者名簿!$I$11)","v":""},"条幅",{"$f":"CONCATENATE(応募者名簿!A49)","v":""},{"$f":"CONCATENATE(応募者名簿!B49)","v":""},{"$f":"CONCATENATE(応募者名簿!C49)","v":""},{"$f":"CONCATENATE(応募者名簿!D49)","v":""}]
[{"$f":"応募者名簿!$B$8","v":0},{"$f":"CONCATENATE(応募者名簿!$B$11,応募者名簿!$D$11,応募者名簿!$E$11,応募者名簿!$I$11)","v":""},"条幅",{"$f":"CONCATENATE(応募者名簿!A50)","v":""},{"$f":"CONCATENATE(応募者名簿!B50)","v":""},{"$f":"CONCATENATE(応募者名簿!C50)","v":""},{"$f":"CONCATENATE(応募者名簿!D50)","v":""}]
[{"$f":"応募者名簿!$B$8","v":0},{"$f":"CONCATENATE(応募者名簿!$B$11,応募者名簿!$D$11,応募者名簿!$E$11,応募者名簿!$I$11)","v":""},"条幅",{"$f":"CONCATENATE(応募者名簿!A51)","v":""},{"$f":"CONCATENATE(応募者名簿!B51)","v":""},{"$f":"CONCATENATE(応募者名簿!C51)","v":""},{"$f":"CONCATENATE(応募者名簿!D51)","v":""}]
[{"$f":"応募者名簿!$B$8","v":0},{"$f":"CONCATENATE(応募者名簿!$B$11,応募者名簿!$D$11,応募者名簿!$E$11,応募者名簿!$I$11)","v":""},"条幅",{"$f":"CONCATENATE(応募者名簿!A52)","v":""},{"$f":"CONCATENATE(応募者名簿!B52)","v":""},{"$f":"CONCATENATE(応募者名簿!C52)","v":""},{"$f":"CONCATENATE(応募者名簿!D52)","v":""}]
[{"$f":"応募者名簿!$B$8","v":0},{"$f":"CONCATENATE(応募者名簿!$B$11,応募者名簿!$D$11,応募者名簿!$E$11,応募者名簿!$I$11)","v":""},"条幅",{"$f":"CONCATENATE(応募者名簿!A53)","v":""},{"$f":"CONCATENATE(応募者名簿!B53)","v":""},{"$f":"CONCATENATE(応募者名簿!C53)","v":""},{"$f":"CONCATENATE(応募者名簿!D53)","v":""}]
[{"$f":"応募者名簿!$B$8","v":0},{"$f":"CONCATENATE(応募者名簿!$B$11,応募者名簿!$D$11,応募者名簿!$E$11,応募者名簿!$I$11)","v":""},"条幅",{"$f":"CONCATENATE(応募者名簿!A54)","v":""},{"$f":"CONCATENATE(応募者名簿!B54)","v":""},{"$f":"CONCATENATE(応募者名簿!C54)","v":""},{"$f":"CONCATENATE(応募者名簿!D54)","v":""}]
[{"$f":"応募者名簿!$B$8","v":0},{"$f":"CONCATENATE(応募者名簿!$B$11,応募者名簿!$D$11,応募者名簿!$E$11,応募者名簿!$I$11)","v":""},"条幅",{"$f":"CONCATENATE(応募者名簿!A55)","v":""},{"$f":"CONCATENATE(応募者名簿!B55)","v":""},{"$f":"CONCATENATE(応募者名簿!C55)","v":""},{"$f":"CONCATENATE(応募者名簿!D55)","v":""}]
[{"$f":"応募者名簿!$B$8","v":0},{"$f":"CONCATENATE(応募者名簿!$B$11,応募者名簿!$D$11,応募者名簿!$E$11,応募者名簿!$I$11)","v":""},"条幅",{"$f":"CONCATENATE(応募者名簿!A56)","v":""},{"$f":"CONCATENATE(応募者名簿!B56)","v":""},{"$f":"CONCATENATE(応募者名簿!C56)","v":""},{"$f":"CONCATENATE(応募者名簿!D56)","v":""}]
[{"$f":"応募者名簿!$B$8","v":0},{"$f":"CONCATENATE(応募者名簿!$B$11,応募者名簿!$D$11,応募者名簿!$E$11,応募者名簿!$I$11)","v":""},"条幅",{"$f":"CONCATENATE(応募者名簿!A57)","v":""},{"$f":"CONCATENATE(応募者名簿!B57)","v":""},{"$f":"CONCATENATE(応募者名簿!C57)","v":""},{"$f":"CONCATENATE(応募者名簿!D57)","v":""}]
[{"$f":"応募者名簿!$B$8","v":0},{"$f":"CONCATENATE(応募者名簿!$B$11,応募者名簿!$D$11,応募者名簿!$E$11,応募者名簿!$I$11)","v":""},"条幅",{"$f":"CONCATENATE(応募者名簿!A58)","v":""},{"$f":"CONCATENATE(応募者名簿!B58)","v":""},{"$f":"CONCATENATE(応募者名簿!C58)","v":""},{"$f":"CONCATENATE(応募者名簿!D58)","v":""}]
[{"$f":"応募者名簿!$B$8","v":0},{"$f":"CONCATENATE(応募者名簿!$B$11,応募者名簿!$D$11,応募者名簿!$E$11,応募者名簿!$I$11)","v":""},"条幅",{"$f":"CONCATENATE(応募者名簿!A59)","v":""},{"$f":"CONCATENATE(応募者名簿!B59)","v":""},{"$f":"CONCATENATE(応募者名簿!C59)","v":""},{"$f":"CONCATENATE(応募者名簿!D59)","v":""}]
[{"$f":"応募者名簿!$B$8","v":0},{"$f":"CONCATENATE(応募者名簿!$B$11,応募者名簿!$D$11,応募者名簿!$E$11,応募者名簿!$I$11)","v":""},"条幅",{"$f":"CONCATENATE(応募者名簿!A60)","v":""},{"$f":"CONCATENATE(応募者名簿!B60)","v":""},{"$f":"CONCATENATE(応募者名簿!C60)","v":""},{"$f":"CONCATENATE(応募者名簿!D60)","v":""}]
[{"$f":"応募者名簿!$B$8","v":0},{"$f":"CONCATENATE(応募者名簿!$B$11,応募者名簿!$D$11,応募者名簿!$E$11,応募者名簿!$I$11)","v":""},"条幅",{"$f":"CONCATENATE(応募者名簿!A61)","v":""},{"$f":"CONCATENATE(応募者名簿!B61)","v":""},{"$f":"CONCATENATE(応募者名簿!C61)","v":""},{"$f":"CONCATENATE(応募者名簿!D61)","v":""}]
[{"$f":"応募者名簿!$B$8","v":0},{"$f":"CONCATENATE(応募者名簿!$B$11,応募者名簿!$D$11,応募者名簿!$E$11,応募者名簿!$I$11)","v":""},"条幅",{"$f":"CONCATENATE(応募者名簿!A62)","v":""},{"$f":"CONCATENATE(応募者名簿!B62)","v":""},{"$f":"CONCATENATE(応募者名簿!C62)","v":""},{"$f":"CONCATENATE(応募者名簿!D62)","v":""}]
[{"$f":"応募者名簿!$B$8","v":0},{"$f":"CONCATENATE(応募者名簿!$B$11,応募者名簿!$D$11,応募者名簿!$E$11,応募者名簿!$I$11)","v":""},"条幅",{"$f":"CONCATENATE(応募者名簿!A63)","v":""},{"$f":"CONCATENATE(応募者名簿!B63)","v":""},{"$f":"CONCATENATE(応募者名簿!C63)","v":""},{"$f":"CONCATENATE(応募者名簿!D63)","v":""}]
[{"$f":"応募者名簿!$B$8","v":0},{"$f":"CONCATENATE(応募者名簿!$B$11,応募者名簿!$D$11,応募者名簿!$E$11,応募者名簿!$I$11)","v":""},"条幅",{"$f":"CONCATENATE(応募者名簿!A64)","v":""},{"$f":"CONCATENATE(応募者名簿!B64)","v":""},{"$f":"CONCATENATE(応募者名簿!C64)","v":""},{"$f":"CONCATENATE(応募者名簿!D64)","v":""}]
[{"$f":"応募者名簿!$B$8","v":0},{"$f":"CONCATENATE(応募者名簿!$B$11,応募者名簿!$D$11,応募者名簿!$E$11,応募者名簿!$I$11)","v":""},"条幅",{"$f":"CONCATENATE(応募者名簿!A65)","v":""},{"$f":"CONCATENATE(応募者名簿!B65)","v":""},{"$f":"CONCATENATE(応募者名簿!C65)","v":""},{"$f":"CONCATENATE(応募者名簿!D65)","v":""}]
[{"$f":"応募者名簿!$B$8","v":0},{"$f":"CONCATENATE(応募者名簿!$B$11,応募者名簿!$D$11,応募者名簿!$E$11,応募者名簿!$I$11)","v":""},"条幅",{"$f":"CONCATENATE(応募者名簿!A66)","v":""},{"$f":"CONCATENATE(応募者名簿!B66)","v":""},{"$f":"CONCATENATE(応募者名簿!C66)","v":""},{"$f":"CONCATENATE(応募者名簿!D66)","v":""}]
[{"$f":"応募者名簿!$B$8","v":0},{"$f":"CONCATENATE(応募者名簿!$B$11,応募者名簿!$D$11,応募者名簿!$E$11,応募者名簿!$I$11)","v":""},"条幅",{"$f":"CONCATENATE(応募者名簿!A67)","v":""},{"$f":"CONCATENATE(応募者名簿!B67)","v":""},{"$f":"CONCATENATE(応募者名簿!C67)","v":""},{"$f":"CONCATENATE(応募者名簿!D67)","v":""}]
[{"$f":"応募者名簿!$B$8","v":0},{"$f":"CONCATENATE(応募者名簿!$B$11,応募者名簿!$D$11,応募者名簿!$E$11,応募者名簿!$I$11)","v":""},"条幅",{"$f":"CONCATENATE(応募者名簿!A68)","v":""},{"$f":"CONCATENATE(応募者名簿!B68)","v":""},{"$f":"CONCATENATE(応募者名簿!C68)","v":""},{"$f":"CONCATENATE(応募者名簿!D68)","v":""}]
[{"$f":"応募者名簿!$B$8","v":0},{"$f":"CONCATENATE(応募者名簿!$B$11,応募者名簿!$D$11,応募者名簿!$E$11,応募者名簿!$I$11)","v":""},"条幅",{"$f":"CONCATENATE(応募者名簿!A69)","v":""},{"$f":"CONCATENATE(応募者名簿!B69)","v":""},{"$f":"CONCATENATE(応募者名簿!C69)","v":""},{"$f":"CONCATENATE(応募者名簿!D69)","v":""}]
[{"$f":"応募者名簿!$B$8","v":0},{"$f":"CONCATENATE(応募者名簿!$B$11,応募者名簿!$D$11,応募者名簿!$E$11,応募者名簿!$I$11)","v":""},"条幅",{"$f":"CONCATENATE(応募者名簿!A70)","v":""},{"$f":"CONCATENATE(応募者名簿!B70)","v":""},{"$f":"CONCATENATE(応募者名簿!C70)","v":""},{"$f":"CONCATENATE(応募者名簿!D70)","v":""}]
[{"$f":"応募者名簿!$B$8","v":0},{"$f":"CONCATENATE(応募者名簿!$B$11,応募者名簿!$D$11,応募者名簿!$E$11,応募者名簿!$I$11)","v":""},"条幅",{"$f":"CONCATENATE(応募者名簿!A71)","v":""},{"$f":"CONCATENATE(応募者名簿!B71)","v":""},{"$f":"CONCATENATE(応募者名簿!C71)","v":""},{"$f":"CONCATENATE(応募者名簿!D71)","v":""}]
[{"$f":"応募者名簿!$B$8","v":0},{"$f":"CONCATENATE(応募者名簿!$B$11,応募者名簿!$D$11,応募者名簿!$E$11,応募者名簿!$I$11)","v":""},"条幅",{"$f":"CONCATENATE(応募者名簿!A72)","v":""},{"$f":"CONCATENATE(応募者名簿!B72)","v":""},{"$f":"CONCATENATE(応募者名簿!C72)","v":""},{"$f":"CONCATENATE(応募者名簿!D72)","v":""}]
[{"$f":"応募者名簿!$B$8","v":0},{"$f":"CONCATENATE(応募者名簿!$B$11,応募者名簿!$D$11,応募者名簿!$E$11,応募者名簿!$I$11)","v":""},"条幅",{"$f":"CONCATENATE(応募者名簿!A73)","v":""},{"$f":"CONCATENATE(応募者名簿!B73)","v":""},{"$f":"CONCATENATE(応募者名簿!C73)","v":""},{"$f":"CONCATENATE(応募者名簿!D73)","v":""}]
[{"$f":"応募者名簿!$B$8","v":0},{"$f":"CONCATENATE(応募者名簿!$B$11,応募者名簿!$D$11,応募者名簿!$E$11,応募者名簿!$I$11)","v":""},"条幅",{"$f":"CONCATENATE(応募者名簿!A74)","v":""},{"$f":"CONCATENATE(応募者名簿!B74)","v":""},{"$f":"CONCATENATE(応募者名簿!C74)","v":""},{"$f":"CONCATENATE(応募者名簿!D74)","v":""}]
[{"$f":"応募者名簿!$B$8","v":0},{"$f":"CONCATENATE(応募者名簿!$B$11,応募者名簿!$D$11,応募者名簿!$E$11,応募者名簿!$I$11)","v":""},"条幅",{"$f":"CONCATENATE(応募者名簿!A75)","v":""},{"$f":"CONCATENATE(応募者名簿!B75)","v":""},{"$f":"CONCATENATE(応募者名簿!C75)","v":""},{"$f":"CONCATENATE(応募者名簿!D75)","v":""}]
[{"$f":"応募者名簿!$B$8","v":0},{"$f":"CONCATENATE(応募者名簿!$B$11,応募者名簿!$D$11,応募者名簿!$E$11,応募者名簿!$I$11)","v":""},"条幅",{"$f":"CONCATENATE(応募者名簿!A76)","v":""},{"$f":"CONCATENATE(応募者名簿!B76)","v":""},{"$f":"CONCATENATE(応募者名簿!C76)","v":""},{"$f":"CONCATENATE(応募者名簿!D76)","v":""}]
[{"$f":"応募者名簿!$B$8","v":0},{"$f":"CONCATENATE(応募者名簿!$B$11,応募者名簿!$D$11,応募者名簿!$E$11,応募者名簿!$I$11)","v":""},"条幅",{"$f":"CONCATENATE(応募者名簿!A77)","v":""},{"$f":"CONCATENATE(応募者名簿!B77)","v":""},{"$f":"CONCATENATE(応募者名簿!C77)","v":""},{"$f":"CONCATENATE(応募者名簿!D77)","v":""}]
[{"$f":"応募者名簿!$B$8","v":0},{"$f":"CONCATENATE(応募者名簿!$B$11,応募者名簿!$D$11,応募者名簿!$E$11,応募者名簿!$I$11)","v":""},"条幅",{"$f":"CONCATENATE(応募者名簿!A78)","v":""},{"$f":"CONCATENATE(応募者名簿!B78)","v":""},{"$f":"CONCATENATE(応募者名簿!C78)","v":""},{"$f":"CONCATENATE(応募者名簿!D78)","v":""}]
[{"$f":"応募者名簿!$B$8","v":0},{"$f":"CONCATENATE(応募者名簿!$B$11,応募者名簿!$D$11,応募者名簿!$E$11,応募者名簿!$I$11)","v":""},"条幅",{"$f":"CONCATENATE(応募者名簿!A79)","v":""},{"$f":"CONCATENATE(応募者名簿!B79)","v":""},{"$f":"CONCATENATE(応募者名簿!C79)","v":""},{"$f":"CONCATENATE(応募者名簿!D79)","v":""}]
[{"$f":"応募者名簿!$B$8","v":0},{"$f":"CONCATENATE(応募者名簿!$B$11,応募者名簿!$D$11,応募者名簿!$E$11,応募者名簿!$I$11)","v":""},"条幅",{"$f":"CONCATENATE(応募者名簿!A80)","v":""},{"$f":"CONCATENATE(応募者名簿!B80)","v":""},{"$f":"CONCATENATE(応募者名簿!C80)","v":""},{"$f":"CONCATENATE(応募者名簿!D80)","v":""}]
[{"$f":"応募者名簿!$B$8","v":0},{"$f":"CONCATENATE(応募者名簿!$B$11,応募者名簿!$D$11,応募者名簿!$E$11,応募者名簿!$I$11)","v":""},"条幅",{"$f":"CONCATENATE(応募者名簿!A81)","v":""},{"$f":"CONCATENATE(応募者名簿!B81)","v":""},{"$f":"CONCATENATE(応募者名簿!C81)","v":""},{"$f":"CONCATENATE(応募者名簿!D81)","v":""}]
[{"$f":"応募者名簿!$B$8","v":0},{"$f":"CONCATENATE(応募者名簿!$B$11,応募者名簿!$D$11,応募者名簿!$E$11,応募者名簿!$I$11)","v":""},"条幅",{"$f":"CONCATENATE(応募者名簿!A82)","v":""},{"$f":"CONCATENATE(応募者名簿!B82)","v":""},{"$f":"CONCATENATE(応募者名簿!C82)","v":""},{"$f":"CONCATENATE(応募者名簿!D82)","v":""}]
[{"$f":"応募者名簿!$B$8","v":0},{"$f":"CONCATENATE(応募者名簿!$B$11,応募者名簿!$D$11,応募者名簿!$E$11,応募者名簿!$I$11)","v":""},"条幅",{"$f":"CONCATENATE(応募者名簿!A83)","v":""},{"$f":"CONCATENATE(応募者名簿!B83)","v":""},{"$f":"CONCATENATE(応募者名簿!C83)","v":""},{"$f":"CONCATENATE(応募者名簿!D83)","v":""}]
[{"$f":"応募者名簿!$B$8","v":0},{"$f":"CONCATENATE(応募者名簿!$B$11,応募者名簿!$D$11,応募者名簿!$E$11,応募者名簿!$I$11)","v":""},"条幅",{"$f":"CONCATENATE(応募者名簿!A84)","v":""},{"$f":"CONCATENATE(応募者名簿!B84)","v":""},{"$f":"CONCATENATE(応募者名簿!C84)","v":""},{"$f":"CONCATENATE(応募者名簿!D84)","v":""}]
[{"$f":"応募者名簿!$B$8","v":0},{"$f":"CONCATENATE(応募者名簿!$B$11,応募者名簿!$D$11,応募者名簿!$E$11,応募者名簿!$I$11)","v":""},"条幅",{"$f":"CONCATENATE(応募者名簿!A85)","v":""},{"$f":"CONCATENATE(応募者名簿!B85)","v":""},{"$f":"CONCATENATE(応募者名簿!C85)","v":""},{"$f":"CONCATENATE(応募者名簿!D85)","v":""}]
[{"$f":"応募者名簿!$B$8","v":0},{"$f":"CONCATENATE(応募者名簿!$B$11,応募者名簿!$D$11,応募者名簿!$E$11,応募者名簿!$I$11)","v":""},"条幅",{"$f":"CONCATENATE(応募者名簿!A86)","v":""},{"$f":"CONCATENATE(応募者名簿!B86)","v":""},{"$f":"CONCATENATE(応募者名簿!C86)","v":""},{"$f":"CONCATENATE(応募者名簿!D86)","v":""}]
[{"$f":"応募者名簿!$B$8","v":0},{"$f":"CONCATENATE(応募者名簿!$B$11,応募者名簿!$D$11,応募者名簿!$E$11,応募者名簿!$I$11)","v":""},"条幅",{"$f":"CONCATENATE(応募者名簿!A87)","v":""},{"$f":"CONCATENATE(応募者名簿!B87)","v":""},{"$f":"CONCATENATE(応募者名簿!C87)","v":""},{"$f":"CONCATENATE(応募者名簿!D87)","v":""}]
[{"$f":"応募者名簿!$B$8","v":0},{"$f":"CONCATENATE(応募者名簿!$B$11,応募者名簿!$D$11,応募者名簿!$E$11,応募者名簿!$I$11)","v":""},"条幅",{"$f":"CONCATENATE(応募者名簿!A88)","v":""},{"$f":"CONCATENATE(応募者名簿!B88)","v":""},{"$f":"CONCATENATE(応募者名簿!C88)","v":""},{"$f":"CONCATENATE(応募者名簿!D88)","v":""}]
[{"$f":"応募者名簿!$B$8","v":0},{"$f":"CONCATENATE(応募者名簿!$B$11,応募者名簿!$D$11,応募者名簿!$E$11,応募者名簿!$I$11)","v":""},"条幅",{"$f":"CONCATENATE(応募者名簿!A89)","v":""},{"$f":"CONCATENATE(応募者名簿!B89)","v":""},{"$f":"CONCATENATE(応募者名簿!C89)","v":""},{"$f":"CONCATENATE(応募者名簿!D89)","v":""}]
[{"$f":"応募者名簿!$B$8","v":0},{"$f":"CONCATENATE(応募者名簿!$B$11,応募者名簿!$D$11,応募者名簿!$E$11,応募者名簿!$I$11)","v":""},"条幅",{"$f":"CONCATENATE(応募者名簿!A90)","v":""},{"$f":"CONCATENATE(応募者名簿!B90)","v":""},{"$f":"CONCATENATE(応募者名簿!C90)","v":""},{"$f":"CONCATENATE(応募者名簿!D90)","v":""}]
[{"$f":"応募者名簿!$B$8","v":0},{"$f":"CONCATENATE(応募者名簿!$B$11,応募者名簿!$D$11,応募者名簿!$E$11,応募者名簿!$I$11)","v":""},"条幅",{"$f":"CONCATENATE(応募者名簿!A91)","v":""},{"$f":"CONCATENATE(応募者名簿!B91)","v":""},{"$f":"CONCATENATE(応募者名簿!C91)","v":""},{"$f":"CONCATENATE(応募者名簿!D91)","v":""}]
[{"$f":"応募者名簿!$B$8","v":0},{"$f":"CONCATENATE(応募者名簿!$B$11,応募者名簿!$D$11,応募者名簿!$E$11,応募者名簿!$I$11)","v":""},"条幅",{"$f":"CONCATENATE(応募者名簿!A92)","v":""},{"$f":"CONCATENATE(応募者名簿!B92)","v":""},{"$f":"CONCATENATE(応募者名簿!C92)","v":""},{"$f":"CONCATENATE(応募者名簿!D92)","v":""}]
[{"$f":"応募者名簿!$B$8","v":0},{"$f":"CONCATENATE(応募者名簿!$B$11,応募者名簿!$D$11,応募者名簿!$E$11,応募者名簿!$I$11)","v":""},"条幅",{"$f":"CONCATENATE(応募者名簿!A93)","v":""},{"$f":"CONCATENATE(応募者名簿!B93)","v":""},{"$f":"CONCATENATE(応募者名簿!C93)","v":""},{"$f":"CONCATENATE(応募者名簿!D93)","v":""}]
[{"$f":"応募者名簿!$B$8","v":0},{"$f":"CONCATENATE(応募者名簿!$B$11,応募者名簿!$D$11,応募者名簿!$E$11,応募者名簿!$I$11)","v":""},"条幅",{"$f":"CONCATENATE(応募者名簿!A94)","v":""},{"$f":"CONCATENATE(応募者名簿!B94)","v":""},{"$f":"CONCATENATE(応募者名簿!C94)","v":""},{"$f":"CONCATENATE(応募者名簿!D94)","v":""}]
[{"$f":"応募者名簿!$B$8","v":0},{"$f":"CONCATENATE(応募者名簿!$B$11,応募者名簿!$D$11,応募者名簿!$E$11,応募者名簿!$I$11)","v":""},"条幅",{"$f":"CONCATENATE(応募者名簿!A95)","v":""},{"$f":"CONCATENATE(応募者名簿!B95)","v":""},{"$f":"CONCATENATE(応募者名簿!C95)","v":""},{"$f":"CONCATENATE(応募者名簿!D95)","v":""}]
[{"$f":"応募者名簿!$B$8","v":0},{"$f":"CONCATENATE(応募者名簿!$B$11,応募者名簿!$D$11,応募者名簿!$E$11,応募者名簿!$I$11)","v":""},"条幅",{"$f":"CONCATENATE(応募者名簿!A96)","v":""},{"$f":"CONCATENATE(応募者名簿!B96)","v":""},{"$f":"CONCATENATE(応募者名簿!C96)","v":""},{"$f":"CONCATENATE(応募者名簿!D96)","v":""}]
[{"$f":"応募者名簿!$B$8","v":0},{"$f":"CONCATENATE(応募者名簿!$B$11,応募者名簿!$D$11,応募者名簿!$E$11,応募者名簿!$I$11)","v":""},"条幅",{"$f":"CONCATENATE(応募者名簿!A97)","v":""},{"$f":"CONCATENATE(応募者名簿!B97)","v":""},{"$f":"CONCATENATE(応募者名簿!C97)","v":""},{"$f":"CONCATENATE(応募者名簿!D97)","v":""}]
[{"$f":"応募者名簿!$B$8","v":0},{"$f":"CONCATENATE(応募者名簿!$B$11,応募者名簿!$D$11,応募者名簿!$E$11,応募者名簿!$I$11)","v":""},"条幅",{"$f":"CONCATENATE(応募者名簿!A98)","v":""},{"$f":"CONCATENATE(応募者名簿!B98)","v":""},{"$f":"CONCATENATE(応募者名簿!C98)","v":""},{"$f":"CONCATENATE(応募者名簿!D98)","v":""}]
[{"$f":"応募者名簿!$B$8","v":0},{"$f":"CONCATENATE(応募者名簿!$B$11,応募者名簿!$D$11,応募者名簿!$E$11,応募者名簿!$I$11)","v":""},"条幅",{"$f":"CONCATENATE(応募者名簿!A99)","v":""},{"$f":"CONCATENATE(応募者名簿!B99)","v":""},{"$f":"CONCATENATE(応募者名簿!C99)","v":""},{"$f":"CONCATENATE(応募者名簿!D99)","v":""}]
[{"$f":"応募者名簿!$B$8","v":0},{"$f":"CONCATENATE(応募者名簿!$B$11,応募者名簿!$D$11,応募者名簿!$E$11,応募者名簿!$I$11)","v":""},"条幅",{"$f":"CONCATENATE(応募者名簿!A100)","v":""},{"$f":"CONCATENATE(応募者名簿!B100)","v":""},{"$f":"CONCATENATE(応募者名簿!C100)","v":""},{"$f":"CONCATENATE(応募者名簿!D100)","v":""}]
[{"$f":"応募者名簿!$B$8","v":0},{"$f":"CONCATENATE(応募者名簿!$B$11,応募者名簿!$D$11,応募者名簿!$E$11,応募者名簿!$I$11)","v":""},"条幅",{"$f":"CONCATENATE(応募者名簿!A101)","v":""},{"$f":"CONCATENATE(応募者名簿!B101)","v":""},{"$f":"CONCATENATE(応募者名簿!C101)","v":""},{"$f":"CONCATENATE(応募者名簿!D101)","v":""}]
[{"$f":"応募者名簿!$B$8","v":0},{"$f":"CONCATENATE(応募者名簿!$B$11,応募者名簿!$D$11,応募者名簿!$E$11,応募者名簿!$I$11)","v":""},"条幅",{"$f":"CONCATENATE(応募者名簿!A102)","v":""},{"$f":"CONCATENATE(応募者名簿!B102)","v":""},{"$f":"CONCATENATE(応募者名簿!C102)","v":""},{"$f":"CONCATENATE(応募者名簿!D102)","v":""}]
[{"$f":"応募者名簿!$B$8","v":0},{"$f":"CONCATENATE(応募者名簿!$B$11,応募者名簿!$D$11,応募者名簿!$E$11,応募者名簿!$I$11)","v":""},"条幅",{"$f":"CONCATENATE(応募者名簿!A103)","v":""},{"$f":"CONCATENATE(応募者名簿!B103)","v":""},{"$f":"CONCATENATE(応募者名簿!C103)","v":""},{"$f":"CONCATENATE(応募者名簿!D103)","v":""}]
[{"$f":"応募者名簿!$B$8","v":0},{"$f":"CONCATENATE(応募者名簿!$B$11,応募者名簿!$D$11,応募者名簿!$E$11,応募者名簿!$I$11)","v":""},"条幅",{"$f":"CONCATENATE(応募者名簿!A104)","v":""},{"$f":"CONCATENATE(応募者名簿!B104)","v":""},{"$f":"CONCATENATE(応募者名簿!C104)","v":""},{"$f":"CONCATENATE(応募者名簿!D104)","v":""}]
[{"$f":"応募者名簿!$B$8","v":0},{"$f":"CONCATENATE(応募者名簿!$B$11,応募者名簿!$D$11,応募者名簿!$E$11,応募者名簿!$I$11)","v":""},"条幅",{"$f":"CONCATENATE(応募者名簿!A105)","v":""},{"$f":"CONCATENATE(応募者名簿!B105)","v":""},{"$f":"CONCATENATE(応募者名簿!C105)","v":""},{"$f":"CONCATENATE(応募者名簿!D105)","v":""}]
[{"$f":"応募者名簿!$B$8","v":0},{"$f":"CONCATENATE(応募者名簿!$B$11,応募者名簿!$D$11,応募者名簿!$E$11,応募者名簿!$I$11)","v":""},"条幅",{"$f":"CONCATENATE(応募者名簿!A106)","v":""},{"$f":"CONCATENATE(応募者名簿!B106)","v":""},{"$f":"CONCATENATE(応募者名簿!C106)","v":""},{"$f":"CONCATENATE(応募者名簿!D106)","v":""}]
[{"$f":"応募者名簿!$B$8","v":0},{"$f":"CONCATENATE(応募者名簿!$B$11,応募者名簿!$D$11,応募者名簿!$E$11,応募者名簿!$I$11)","v":""},"条幅",{"$f":"CONCATENATE(応募者名簿!A107)","v":""},{"$f":"CONCATENATE(応募者名簿!B107)","v":""},{"$f":"CONCATENATE(応募者名簿!C107)","v":""},{"$f":"CONCATENATE(応募者名簿!D107)","v":""}]
[{"$f":"応募者名簿!$B$8","v":0},{"$f":"CONCATENATE(応募者名簿!$B$11,応募者名簿!$D$11,応募者名簿!$E$11,応募者名簿!$I$11)","v":""},"条幅",{"$f":"CONCATENATE(応募者名簿!A108)","v":""},{"$f":"CONCATENATE(応募者名簿!B108)","v":""},{"$f":"CONCATENATE(応募者名簿!C108)","v":""},{"$f":"CONCATENATE(応募者名簿!D108)","v":""}]
[{"$f":"応募者名簿!$B$8","v":0},{"$f":"CONCATENATE(応募者名簿!$B$11,応募者名簿!$D$11,応募者名簿!$E$11,応募者名簿!$I$11)","v":""},"条幅",{"$f":"CONCATENATE(応募者名簿!A109)","v":""},{"$f":"CONCATENATE(応募者名簿!B109)","v":""},{"$f":"CONCATENATE(応募者名簿!C109)","v":""},{"$f":"CONCATENATE(応募者名簿!D109)","v":""}]
[{"$f":"応募者名簿!$B$8","v":0},{"$f":"CONCATENATE(応募者名簿!$B$11,応募者名簿!$D$11,応募者名簿!$E$11,応募者名簿!$I$11)","v":""},"条幅",{"$f":"CONCATENATE(応募者名簿!A110)","v":""},{"$f":"CONCATENATE(応募者名簿!B110)","v":""},{"$f":"CONCATENATE(応募者名簿!C110)","v":""},{"$f":"CONCATENATE(応募者名簿!D110)","v":""}]
[{"$f":"応募者名簿!$B$8","v":0},{"$f":"CONCATENATE(応募者名簿!$B$11,応募者名簿!$D$11,応募者名簿!$E$11,応募者名簿!$I$11)","v":""},"条幅",{"$f":"CONCATENATE(応募者名簿!A111)","v":""},{"$f":"CONCATENATE(応募者名簿!B111)","v":""},{"$f":"CONCATENATE(応募者名簿!C111)","v":""},{"$f":"CONCATENATE(応募者名簿!D111)","v":""}]
[{"$f":"応募者名簿!$B$8","v":0},{"$f":"CONCATENATE(応募者名簿!$B$11,応募者名簿!$D$11,応募者名簿!$E$11,応募者名簿!$I$11)","v":""},"条幅",{"$f":"CONCATENATE(応募者名簿!A112)","v":""},{"$f":"CONCATENATE(応募者名簿!B112)","v":""},{"$f":"CONCATENATE(応募者名簿!C112)","v":""},{"$f":"CONCATENATE(応募者名簿!D112)","v":""}]
[{"$f":"応募者名簿!$B$8","v":0},{"$f":"CONCATENATE(応募者名簿!$B$11,応募者名簿!$D$11,応募者名簿!$E$11,応募者名簿!$I$11)","v":""},"条幅",{"$f":"CONCATENATE(応募者名簿!A113)","v":""},{"$f":"CONCATENATE(応募者名簿!B113)","v":""},{"$f":"CONCATENATE(応募者名簿!C113)","v":""},{"$f":"CONCATENATE(応募者名簿!D113)","v":""}]
[{"$f":"応募者名簿!$B$8","v":0},{"$f":"CONCATENATE(応募者名簿!$B$11,応募者名簿!$D$11,応募者名簿!$E$11,応募者名簿!$I$11)","v":""},"条幅",{"$f":"CONCATENATE(応募者名簿!A114)","v":""},{"$f":"CONCATENATE(応募者名簿!B114)","v":""},{"$f":"CONCATENATE(応募者名簿!C114)","v":""},{"$f":"CONCATENATE(応募者名簿!D114)","v":""}]
[{"$f":"応募者名簿!$B$8","v":0},{"$f":"CONCATENATE(応募者名簿!$B$11,応募者名簿!$D$11,応募者名簿!$E$11,応募者名簿!$I$11)","v":""},"条幅",{"$f":"CONCATENATE(応募者名簿!A115)","v":""},{"$f":"CONCATENATE(応募者名簿!B115)","v":""},{"$f":"CONCATENATE(応募者名簿!C115)","v":""},{"$f":"CONCATENATE(応募者名簿!D115)","v":""}]
[{"$f":"応募者名簿!$B$8","v":0},{"$f":"CONCATENATE(応募者名簿!$B$11,応募者名簿!$D$11,応募者名簿!$E$11,応募者名簿!$I$11)","v":""},"条幅",{"$f":"CONCATENATE(応募者名簿!A116)","v":""},{"$f":"CONCATENATE(応募者名簿!B116)","v":""},{"$f":"CONCATENATE(応募者名簿!C116)","v":""},{"$f":"CONCATENATE(応募者名簿!D116)","v":""}]
[{"$f":"応募者名簿!$B$8","v":0},{"$f":"CONCATENATE(応募者名簿!$B$11,応募者名簿!$D$11,応募者名簿!$E$11,応募者名簿!$I$11)","v":""},"条幅",{"$f":"CONCATENATE(応募者名簿!A117)","v":""},{"$f":"CONCATENATE(応募者名簿!B117)","v":""},{"$f":"CONCATENATE(応募者名簿!C117)","v":""},{"$f":"CONCATENATE(応募者名簿!D117)","v":""}]
[{"$f":"応募者名簿!$B$8","v":0},{"$f":"CONCATENATE(応募者名簿!$B$11,応募者名簿!$D$11,応募者名簿!$E$11,応募者名簿!$I$11)","v":""},"条幅",{"$f":"CONCATENATE(応募者名簿!A118)","v":""},{"$f":"CONCATENATE(応募者名簿!B118)","v":""},{"$f":"CONCATENATE(応募者名簿!C118)","v":""},{"$f":"CONCATENATE(応募者名簿!D118)","v":""}]
[{"$f":"応募者名簿!$B$8","v":0},{"$f":"CONCATENATE(応募者名簿!$B$11,応募者名簿!$D$11,応募者名簿!$E$11,応募者名簿!$I$11)","v":""},"条幅",{"$f":"CONCATENATE(応募者名簿!A119)","v":""},{"$f":"CONCATENATE(応募者名簿!B119)","v":""},{"$f":"CONCATENATE(応募者名簿!C119)","v":""},{"$f":"CONCATENATE(応募者名簿!D119)","v":""}]
[{"$f":"応募者名簿!$B$8","v":0},{"$f":"CONCATENATE(応募者名簿!$B$11,応募者名簿!$D$11,応募者名簿!$E$11,応募者名簿!$I$11)","v":""},"条幅",{"$f":"CONCATENATE(応募者名簿!A120)","v":""},{"$f":"CONCATENATE(応募者名簿!B120)","v":""},{"$f":"CONCATENATE(応募者名簿!C120)","v":""},{"$f":"CONCATENATE(応募者名簿!D120)","v":""}]
[{"$f":"応募者名簿!$B$8","v":0},{"$f":"CONCATENATE(応募者名簿!$B$11,応募者名簿!$D$11,応募者名簿!$E$11,応募者名簿!$I$11)","v":""},"条幅",{"$f":"CONCATENATE(応募者名簿!A121)","v":""},{"$f":"CONCATENATE(応募者名簿!B121)","v":""},{"$f":"CONCATENATE(応募者名簿!C121)","v":""},{"$f":"CONCATENATE(応募者名簿!D121)","v":""}]
[{"$f":"応募者名簿!$B$8","v":0},{"$f":"CONCATENATE(応募者名簿!$B$11,応募者名簿!$D$11,応募者名簿!$E$11,応募者名簿!$I$11)","v":""},"条幅",{"$f":"CONCATENATE(応募者名簿!A122)","v":""},{"$f":"CONCATENATE(応募者名簿!B122)","v":""},{"$f":"CONCATENATE(応募者名簿!C122)","v":""},{"$f":"CONCATENATE(応募者名簿!D122)","v":""}]
[{"$f":"応募者名簿!$B$8","v":0},{"$f":"CONCATENATE(応募者名簿!$B$11,応募者名簿!$D$11,応募者名簿!$E$11,応募者名簿!$I$11)","v":""},"条幅",{"$f":"CONCATENATE(応募者名簿!A123)","v":""},{"$f":"CONCATENATE(応募者名簿!B123)","v":""},{"$f":"CONCATENATE(応募者名簿!C123)","v":""},{"$f":"CONCATENATE(応募者名簿!D123)","v":""}]
[{"$f":"応募者名簿!$B$8","v":0},{"$f":"CONCATENATE(応募者名簿!$B$11,応募者名簿!$D$11,応募者名簿!$E$11,応募者名簿!$I$11)","v":""},"条幅",{"$f":"CONCATENATE(応募者名簿!A124)","v":""},{"$f":"CONCATENATE(応募者名簿!B124)","v":""},{"$f":"CONCATENATE(応募者名簿!C124)","v":""},{"$f":"CONCATENATE(応募者名簿!D124)","v":""}]
[{"$f":"応募者名簿!$B$8","v":0},{"$f":"CONCATENATE(応募者名簿!$B$11,応募者名簿!$D$11,応募者名簿!$E$11,応募者名簿!$I$11)","v":""},"条幅",{"$f":"CONCATENATE(応募者名簿!A125)","v":""},{"$f":"CONCATENATE(応募者名簿!B125)","v":""},{"$f":"CONCATENATE(応募者名簿!C125)","v":""},{"$f":"CONCATENATE(応募者名簿!D125)","v":""}]
[{"$f":"応募者名簿!$B$8","v":0},{"$f":"CONCATENATE(応募者名簿!$B$11,応募者名簿!$D$11,応募者名簿!$E$11,応募者名簿!$I$11)","v":""},"条幅",{"$f":"CONCATENATE(応募者名簿!A126)","v":""},{"$f":"CONCATENATE(応募者名簿!B126)","v":""},{"$f":"CONCATENATE(応募者名簿!C126)","v":""},{"$f":"CONCATENATE(応募者名簿!D126)","v":""}]
[{"$f":"応募者名簿!$B$8","v":0},{"$f":"CONCATENATE(応募者名簿!$B$11,応募者名簿!$D$11,応募者名簿!$E$11,応募者名簿!$I$11)","v":""},"条幅",{"$f":"CONCATENATE(応募者名簿!A127)","v":""},{"$f":"CONCATENATE(応募者名簿!B127)","v":""},{"$f":"CONCATENATE(応募者名簿!C127)","v":""},{"$f":"CONCATENATE(応募者名簿!D127)","v":""}]
[{"$f":"応募者名簿!$B$8","v":0},{"$f":"CONCATENATE(応募者名簿!$B$11,応募者名簿!$D$11,応募者名簿!$E$11,応募者名簿!$I$11)","v":""},"条幅",{"$f":"CONCATENATE(応募者名簿!A128)","v":""},{"$f":"CONCATENATE(応募者名簿!B128)","v":""},{"$f":"CONCATENATE(応募者名簿!C128)","v":""},{"$f":"CONCATENATE(応募者名簿!D128)","v":""}]
[{"$f":"応募者名簿!$B$8","v":0},{"$f":"CONCATENATE(応募者名簿!$B$11,応募者名簿!$D$11,応募者名簿!$E$11,応募者名簿!$I$11)","v":""},"条幅",{"$f":"CONCATENATE(応募者名簿!A129)","v":""},{"$f":"CONCATENATE(応募者名簿!B129)","v":""},{"$f":"CONCATENATE(応募者名簿!C129)","v":""},{"$f":"CONCATENATE(応募者名簿!D129)","v":""}]
[{"$f":"応募者名簿!$B$8","v":0},{"$f":"CONCATENATE(応募者名簿!$B$11,応募者名簿!$D$11,応募者名簿!$E$11,応募者名簿!$I$11)","v":""},"条幅",{"$f":"CONCATENATE(応募者名簿!A130)","v":""},{"$f":"CONCATENATE(応募者名簿!B130)","v":""},{"$f":"CONCATENATE(応募者名簿!C130)","v":""},{"$f":"CONCATENATE(応募者名簿!D130)","v":""}]
[{"$f":"応募者名簿!$B$8","v":0},{"$f":"CONCATENATE(応募者名簿!$B$11,応募者名簿!$D$11,応募者名簿!$E$11,応募者名簿!$I$11)","v":""},"条幅",{"$f":"CONCATENATE(応募者名簿!A131)","v":""},{"$f":"CONCATENATE(応募者名簿!B131)","v":""},{"$f":"CONCATENATE(応募者名簿!C131)","v":""},{"$f":"CONCATENATE(応募者名簿!D131)","v":""}]
[{"$f":"応募者名簿!$B$8","v":0},{"$f":"CONCATENATE(応募者名簿!$B$11,応募者名簿!$D$11,応募者名簿!$E$11,応募者名簿!$I$11)","v":""},"条幅",{"$f":"CONCATENATE(応募者名簿!A132)","v":""},{"$f":"CONCATENATE(応募者名簿!B132)","v":""},{"$f":"CONCATENATE(応募者名簿!C132)","v":""},{"$f":"CONCATENATE(応募者名簿!D132)","v":""}]
[{"$f":"応募者名簿!$B$8","v":0},{"$f":"CONCATENATE(応募者名簿!$B$11,応募者名簿!$D$11,応募者名簿!$E$11,応募者名簿!$I$11)","v":""},"条幅",{"$f":"CONCATENATE(応募者名簿!A133)","v":""},{"$f":"CONCATENATE(応募者名簿!B133)","v":""},{"$f":"CONCATENATE(応募者名簿!C133)","v":""},{"$f":"CONCATENATE(応募者名簿!D133)","v":""}]
[{"$f":"応募者名簿!$B$8","v":0},{"$f":"CONCATENATE(応募者名簿!$B$11,応募者名簿!$D$11,応募者名簿!$E$11,応募者名簿!$I$11)","v":""},"条幅",{"$f":"CONCATENATE(応募者名簿!A134)","v":""},{"$f":"CONCATENATE(応募者名簿!B134)","v":""},{"$f":"CONCATENATE(応募者名簿!C134)","v":""},{"$f":"CONCATENATE(応募者名簿!D134)","v":""}]
[{"$f":"応募者名簿!$B$8","v":0},{"$f":"CONCATENATE(応募者名簿!$B$11,応募者名簿!$D$11,応募者名簿!$E$11,応募者名簿!$I$11)","v":""},"条幅",{"$f":"CONCATENATE(応募者名簿!A135)","v":""},{"$f":"CONCATENATE(応募者名簿!B135)","v":""},{"$f":"CONCATENATE(応募者名簿!C135)","v":""},{"$f":"CONCATENATE(応募者名簿!D135)","v":""}]
[{"$f":"応募者名簿!$B$8","v":0},{"$f":"CONCATENATE(応募者名簿!$B$11,応募者名簿!$D$11,応募者名簿!$E$11,応募者名簿!$I$11)","v":""},"条幅",{"$f":"CONCATENATE(応募者名簿!A136)","v":""},{"$f":"CONCATENATE(応募者名簿!B136)","v":""},{"$f":"CONCATENATE(応募者名簿!C136)","v":""},{"$f":"CONCATENATE(応募者名簿!D136)","v":""}]
[{"$f":"応募者名簿!$B$8","v":0},{"$f":"CONCATENATE(応募者名簿!$B$11,応募者名簿!$D$11,応募者名簿!$E$11,応募者名簿!$I$11)","v":""},"条幅",{"$f":"CONCATENATE(応募者名簿!A137)","v":""},{"$f":"CONCATENATE(応募者名簿!B137)","v":""},{"$f":"CONCATENATE(応募者名簿!C137)","v":""},{"$f":"CONCATENATE(応募者名簿!D137)","v":""}]
[{"$f":"応募者名簿!$B$8","v":0},{"$f":"CONCATENATE(応募者名簿!$B$11,応募者名簿!$D$11,応募者名簿!$E$11,応募者名簿!$I$11)","v":""},"条幅",{"$f":"CONCATENATE(応募者名簿!A138)","v":""},{"$f":"CONCATENATE(応募者名簿!B138)","v":""},{"$f":"CONCATENATE(応募者名簿!C138)","v":""},{"$f":"CONCATENATE(応募者名簿!D138)","v":""}]
[{"$f":"応募者名簿!$B$8","v":0},{"$f":"CONCATENATE(応募者名簿!$B$11,応募者名簿!$D$11,応募者名簿!$E$11,応募者名簿!$I$11)","v":""},"条幅",{"$f":"CONCATENATE(応募者名簿!A139)","v":""},{"$f":"CONCATENATE(応募者名簿!B139)","v":""},{"$f":"CONCATENATE(応募者名簿!C139)","v":""},{"$f":"CONCATENATE(応募者名簿!D139)","v":""}]
[{"$f":"応募者名簿!$B$8","v":0},{"$f":"CONCATENATE(応募者名簿!$B$11,応募者名簿!$D$11,応募者名簿!$E$11,応募者名簿!$I$11)","v":""},"条幅",{"$f":"CONCATENATE(応募者名簿!A140)","v":""},{"$f":"CONCATENATE(応募者名簿!B140)","v":""},{"$f":"CONCATENATE(応募者名簿!C140)","v":""},{"$f":"CONCATENATE(応募者名簿!D140)","v":""}]
[{"$f":"応募者名簿!$B$8","v":0},{"$f":"CONCATENATE(応募者名簿!$B$11,応募者名簿!$D$11,応募者名簿!$E$11,応募者名簿!$I$11)","v":""},"条幅",{"$f":"CONCATENATE(応募者名簿!A141)","v":""},{"$f":"CONCATENATE(応募者名簿!B141)","v":""},{"$f":"CONCATENATE(応募者名簿!C141)","v":""},{"$f":"CONCATENATE(応募者名簿!D141)","v":""}]
[{"$f":"応募者名簿!$B$8","v":0},{"$f":"CONCATENATE(応募者名簿!$B$11,応募者名簿!$D$11,応募者名簿!$E$11,応募者名簿!$I$11)","v":""},"条幅",{"$f":"CONCATENATE(応募者名簿!A142)","v":""},{"$f":"CONCATENATE(応募者名簿!B142)","v":""},{"$f":"CONCATENATE(応募者名簿!C142)","v":""},{"$f":"CONCATENATE(応募者名簿!D142)","v":""}]
[{"$f":"応募者名簿!$B$8","v":0},{"$f":"CONCATENATE(応募者名簿!$B$11,応募者名簿!$D$11,応募者名簿!$E$11,応募者名簿!$I$11)","v":""},"条幅",{"$f":"CONCATENATE(応募者名簿!A143)","v":""},{"$f":"CONCATENATE(応募者名簿!B143)","v":""},{"$f":"CONCATENATE(応募者名簿!C143)","v":""},{"$f":"CONCATENATE(応募者名簿!D143)","v":""}]
[{"$f":"応募者名簿!$B$8","v":0},{"$f":"CONCATENATE(応募者名簿!$B$11,応募者名簿!$D$11,応募者名簿!$E$11,応募者名簿!$I$11)","v":""},"条幅",{"$f":"CONCATENATE(応募者名簿!A144)","v":""},{"$f":"CONCATENATE(応募者名簿!B144)","v":""},{"$f":"CONCATENATE(応募者名簿!C144)","v":""},{"$f":"CONCATENATE(応募者名簿!D144)","v":""}]
[{"$f":"応募者名簿!$B$8","v":0},{"$f":"CONCATENATE(応募者名簿!$B$11,応募者名簿!$D$11,応募者名簿!$E$11,応募者名簿!$I$11)","v":""},"条幅",{"$f":"CONCATENATE(応募者名簿!A145)","v":""},{"$f":"CONCATENATE(応募者名簿!B145)","v":""},{"$f":"CONCATENATE(応募者名簿!C145)","v":""},{"$f":"CONCATENATE(応募者名簿!D145)","v":""}]
[{"$f":"応募者名簿!$B$8","v":0},{"$f":"CONCATENATE(応募者名簿!$B$11,応募者名簿!$D$11,応募者名簿!$E$11,応募者名簿!$I$11)","v":""},"条幅",{"$f":"CONCATENATE(応募者名簿!A146)","v":""},{"$f":"CONCATENATE(応募者名簿!B146)","v":""},{"$f":"CONCATENATE(応募者名簿!C146)","v":""},{"$f":"CONCATENATE(応募者名簿!D146)","v":""}]
[{"$f":"応募者名簿!$B$8","v":0},{"$f":"CONCATENATE(応募者名簿!$B$11,応募者名簿!$D$11,応募者名簿!$E$11,応募者名簿!$I$11)","v":""},"条幅",{"$f":"CONCATENATE(応募者名簿!A147)","v":""},{"$f":"CONCATENATE(応募者名簿!B147)","v":""},{"$f":"CONCATENATE(応募者名簿!C147)","v":""},{"$f":"CONCATENATE(応募者名簿!D147)","v":""}]
[{"$f":"応募者名簿!$B$8","v":0},{"$f":"CONCATENATE(応募者名簿!$B$11,応募者名簿!$D$11,応募者名簿!$E$11,応募者名簿!$I$11)","v":""},"条幅",{"$f":"CONCATENATE(応募者名簿!A148)","v":""},{"$f":"CONCATENATE(応募者名簿!B148)","v":""},{"$f":"CONCATENATE(応募者名簿!C148)","v":""},{"$f":"CONCATENATE(応募者名簿!D148)","v":""}]
[{"$f":"応募者名簿!$B$8","v":0},{"$f":"CONCATENATE(応募者名簿!$B$11,応募者名簿!$D$11,応募者名簿!$E$11,応募者名簿!$I$11)","v":""},"条幅",{"$f":"CONCATENATE(応募者名簿!A149)","v":""},{"$f":"CONCATENATE(応募者名簿!B149)","v":""},{"$f":"CONCATENATE(応募者名簿!C149)","v":""},{"$f":"CONCATENATE(応募者名簿!D149)","v":""}]
[{"$f":"応募者名簿!$B$8","v":0},{"$f":"CONCATENATE(応募者名簿!$B$11,応募者名簿!$D$11,応募者名簿!$E$11,応募者名簿!$I$11)","v":""},"条幅",{"$f":"CONCATENATE(応募者名簿!A150)","v":""},{"$f":"CONCATENATE(応募者名簿!B150)","v":""},{"$f":"CONCATENATE(応募者名簿!C150)","v":""},{"$f":"CONCATENATE(応募者名簿!D150)","v":""}]
[{"$f":"応募者名簿!$B$8","v":0},{"$f":"CONCATENATE(応募者名簿!$B$11,応募者名簿!$D$11,応募者名簿!$E$11,応募者名簿!$I$11)","v":""},"条幅",{"$f":"CONCATENATE(応募者名簿!A151)","v":""},{"$f":"CONCATENATE(応募者名簿!B151)","v":""},{"$f":"CONCATENATE(応募者名簿!C151)","v":""},{"$f":"CONCATENATE(応募者名簿!D151)","v":""}]
[{"$f":"応募者名簿!$B$8","v":0},{"$f":"CONCATENATE(応募者名簿!$B$11,応募者名簿!$D$11,応募者名簿!$E$11,応募者名簿!$I$11)","v":""},"条幅",{"$f":"CONCATENATE(応募者名簿!A152)","v":""},{"$f":"CONCATENATE(応募者名簿!B152)","v":""},{"$f":"CONCATENATE(応募者名簿!C152)","v":""},{"$f":"CONCATENATE(応募者名簿!D152)","v":""}]
[{"$f":"応募者名簿!$B$8","v":0},{"$f":"CONCATENATE(応募者名簿!$B$11,応募者名簿!$D$11,応募者名簿!$E$11,応募者名簿!$I$11)","v":""},"条幅",{"$f":"CONCATENATE(応募者名簿!A153)","v":""},{"$f":"CONCATENATE(応募者名簿!B153)","v":""},{"$f":"CONCATENATE(応募者名簿!C153)","v":""},{"$f":"CONCATENATE(応募者名簿!D153)","v":""}]
[{"$f":"応募者名簿!$B$8","v":0},{"$f":"CONCATENATE(応募者名簿!$B$11,応募者名簿!$D$11,応募者名簿!$E$11,応募者名簿!$I$11)","v":""},"条幅",{"$f":"CONCATENATE(応募者名簿!A154)","v":""},{"$f":"CONCATENATE(応募者名簿!B154)","v":""},{"$f":"CONCATENATE(応募者名簿!C154)","v":""},{"$f":"CONCATENATE(応募者名簿!D154)","v":""}]
[{"$f":"応募者名簿!$B$8","v":0},{"$f":"CONCATENATE(応募者名簿!$B$11,応募者名簿!$D$11,応募者名簿!$E$11,応募者名簿!$I$11)","v":""},"条幅",{"$f":"CONCATENATE(応募者名簿!A155)","v":""},{"$f":"CONCATENATE(応募者名簿!B155)","v":""},{"$f":"CONCATENATE(応募者名簿!C155)","v":""},{"$f":"CONCATENATE(応募者名簿!D155)","v":""}]
[{"$f":"応募者名簿!$B$8","v":0},{"$f":"CONCATENATE(応募者名簿!$B$11,応募者名簿!$D$11,応募者名簿!$E$11,応募者名簿!$I$11)","v":""},"条幅",{"$f":"CONCATENATE(応募者名簿!A156)","v":""},{"$f":"CONCATENATE(応募者名簿!B156)","v":""},{"$f":"CONCATENATE(応募者名簿!C156)","v":""},{"$f":"CONCATENATE(応募者名簿!D156)","v":""}]
[{"$f":"応募者名簿!$B$8","v":0},{"$f":"CONCATENATE(応募者名簿!$B$11,応募者名簿!$D$11,応募者名簿!$E$11,応募者名簿!$I$11)","v":""},"条幅",{"$f":"CONCATENATE(応募者名簿!A157)","v":""},{"$f":"CONCATENATE(応募者名簿!B157)","v":""},{"$f":"CONCATENATE(応募者名簿!C157)","v":""},{"$f":"CONCATENATE(応募者名簿!D157)","v":""}]
[{"$f":"応募者名簿!$B$8","v":0},{"$f":"CONCATENATE(応募者名簿!$B$11,応募者名簿!$D$11,応募者名簿!$E$11,応募者名簿!$I$11)","v":""},"条幅",{"$f":"CONCATENATE(応募者名簿!A158)","v":""},{"$f":"CONCATENATE(応募者名簿!B158)","v":""},{"$f":"CONCATENATE(応募者名簿!C158)","v":""},{"$f":"CONCATENATE(応募者名簿!D158)","v":""}]
[{"$f":"応募者名簿!$B$8","v":0},{"$f":"CONCATENATE(応募者名簿!$B$11,応募者名簿!$D$11,応募者名簿!$E$11,応募者名簿!$I$11)","v":""},"条幅",{"$f":"CONCATENATE(応募者名簿!A159)","v":""},{"$f":"CONCATENATE(応募者名簿!B159)","v":""},{"$f":"CONCATENATE(応募者名簿!C159)","v":""},{"$f":"CONCATENATE(応募者名簿!D159)","v":""}]
[{"$f":"応募者名簿!$B$8","v":0},{"$f":"CONCATENATE(応募者名簿!$B$11,応募者名簿!$D$11,応募者名簿!$E$11,応募者名簿!$I$11)","v":""},"条幅",{"$f":"CONCATENATE(応募者名簿!A160)","v":""},{"$f":"CONCATENATE(応募者名簿!B160)","v":""},{"$f":"CONCATENATE(応募者名簿!C160)","v":""},{"$f":"CONCATENATE(応募者名簿!D160)","v":""}]
[{"$f":"応募者名簿!$B$8","v":0},{"$f":"CONCATENATE(応募者名簿!$B$11,応募者名簿!$D$11,応募者名簿!$E$11,応募者名簿!$I$11)","v":""},"条幅",{"$f":"CONCATENATE(応募者名簿!A161)","v":""},{"$f":"CONCATENATE(応募者名簿!B161)","v":""},{"$f":"CONCATENATE(応募者名簿!C161)","v":""},{"$f":"CONCATENATE(応募者名簿!D161)","v":""}]
[{"$f":"応募者名簿!$B$8","v":0},{"$f":"CONCATENATE(応募者名簿!$B$11,応募者名簿!$D$11,応募者名簿!$E$11,応募者名簿!$I$11)","v":""},"条幅",{"$f":"CONCATENATE(応募者名簿!A162)","v":""},{"$f":"CONCATENATE(応募者名簿!B162)","v":""},{"$f":"CONCATENATE(応募者名簿!C162)","v":""},{"$f":"CONCATENATE(応募者名簿!D162)","v":""}]
[{"$f":"応募者名簿!$B$8","v":0},{"$f":"CONCATENATE(応募者名簿!$B$11,応募者名簿!$D$11,応募者名簿!$E$11,応募者名簿!$I$11)","v":""},"条幅",{"$f":"CONCATENATE(応募者名簿!A163)","v":""},{"$f":"CONCATENATE(応募者名簿!B163)","v":""},{"$f":"CONCATENATE(応募者名簿!C163)","v":""},{"$f":"CONCATENATE(応募者名簿!D163)","v":""}]
[{"$f":"応募者名簿!$B$8","v":0},{"$f":"CONCATENATE(応募者名簿!$B$11,応募者名簿!$D$11,応募者名簿!$E$11,応募者名簿!$I$11)","v":""},"条幅",{"$f":"CONCATENATE(応募者名簿!A164)","v":""},{"$f":"CONCATENATE(応募者名簿!B164)","v":""},{"$f":"CONCATENATE(応募者名簿!C164)","v":""},{"$f":"CONCATENATE(応募者名簿!D164)","v":""}]
[{"$f":"応募者名簿!$B$8","v":0},{"$f":"CONCATENATE(応募者名簿!$B$11,応募者名簿!$D$11,応募者名簿!$E$11,応募者名簿!$I$11)","v":""},"条幅",{"$f":"CONCATENATE(応募者名簿!A165)","v":""},{"$f":"CONCATENATE(応募者名簿!B165)","v":""},{"$f":"CONCATENATE(応募者名簿!C165)","v":""},{"$f":"CONCATENATE(応募者名簿!D165)","v":""}]
[{"$f":"応募者名簿!$B$8","v":0},{"$f":"CONCATENATE(応募者名簿!$B$11,応募者名簿!$D$11,応募者名簿!$E$11,応募者名簿!$I$11)","v":""},"条幅",{"$f":"CONCATENATE(応募者名簿!A166)","v":""},{"$f":"CONCATENATE(応募者名簿!B166)","v":""},{"$f":"CONCATENATE(応募者名簿!C166)","v":""},{"$f":"CONCATENATE(応募者名簿!D166)","v":""}]
[{"$f":"応募者名簿!$B$8","v":0},{"$f":"CONCATENATE(応募者名簿!$B$11,応募者名簿!$D$11,応募者名簿!$E$11,応募者名簿!$I$11)","v":""},"条幅",{"$f":"CONCATENATE(応募者名簿!A167)","v":""},{"$f":"CONCATENATE(応募者名簿!B167)","v":""},{"$f":"CONCATENATE(応募者名簿!C167)","v":""},{"$f":"CONCATENATE(応募者名簿!D167)","v":""}]
[{"$f":"応募者名簿!$B$8","v":0},{"$f":"CONCATENATE(応募者名簿!$B$11,応募者名簿!$D$11,応募者名簿!$E$11,応募者名簿!$I$11)","v":""},"条幅",{"$f":"CONCATENATE(応募者名簿!A168)","v":""},{"$f":"CONCATENATE(応募者名簿!B168)","v":""},{"$f":"CONCATENATE(応募者名簿!C168)","v":""},{"$f":"CONCATENATE(応募者名簿!D168)","v":""}]
[{"$f":"応募者名簿!$B$8","v":0},{"$f":"CONCATENATE(応募者名簿!$B$11,応募者名簿!$D$11,応募者名簿!$E$11,応募者名簿!$I$11)","v":""},"条幅",{"$f":"CONCATENATE(応募者名簿!A169)","v":""},{"$f":"CONCATENATE(応募者名簿!B169)","v":""},{"$f":"CONCATENATE(応募者名簿!C169)","v":""},{"$f":"CONCATENATE(応募者名簿!D169)","v":""}]
[{"$f":"応募者名簿!$B$8","v":0},{"$f":"CONCATENATE(応募者名簿!$B$11,応募者名簿!$D$11,応募者名簿!$E$11,応募者名簿!$I$11)","v":""},"条幅",{"$f":"CONCATENATE(応募者名簿!A170)","v":""},{"$f":"CONCATENATE(応募者名簿!B170)","v":""},{"$f":"CONCATENATE(応募者名簿!C170)","v":""},{"$f":"CONCATENATE(応募者名簿!D170)","v":""}]
[{"$f":"応募者名簿!$B$8","v":0},{"$f":"CONCATENATE(応募者名簿!$B$11,応募者名簿!$D$11,応募者名簿!$E$11,応募者名簿!$I$11)","v":""},"条幅",{"$f":"CONCATENATE(応募者名簿!A171)","v":""},{"$f":"CONCATENATE(応募者名簿!B171)","v":""},{"$f":"CONCATENATE(応募者名簿!C171)","v":""},{"$f":"CONCATENATE(応募者名簿!D171)","v":""}]
[{"$f":"応募者名簿!$B$8","v":0},{"$f":"CONCATENATE(応募者名簿!$B$11,応募者名簿!$D$11,応募者名簿!$E$11,応募者名簿!$I$11)","v":""},"条幅",{"$f":"CONCATENATE(応募者名簿!A172)","v":""},{"$f":"CONCATENATE(応募者名簿!B172)","v":""},{"$f":"CONCATENATE(応募者名簿!C172)","v":""},{"$f":"CONCATENATE(応募者名簿!D172)","v":""}]
[{"$f":"応募者名簿!$B$8","v":0},{"$f":"CONCATENATE(応募者名簿!$B$11,応募者名簿!$D$11,応募者名簿!$E$11,応募者名簿!$I$11)","v":""},"条幅",{"$f":"CONCATENATE(応募者名簿!A173)","v":""},{"$f":"CONCATENATE(応募者名簿!B173)","v":""},{"$f":"CONCATENATE(応募者名簿!C173)","v":""},{"$f":"CONCATENATE(応募者名簿!D173)","v":""}]
[{"$f":"応募者名簿!$B$8","v":0},{"$f":"CONCATENATE(応募者名簿!$B$11,応募者名簿!$D$11,応募者名簿!$E$11,応募者名簿!$I$11)","v":""},"条幅",{"$f":"CONCATENATE(応募者名簿!A174)","v":""},{"$f":"CONCATENATE(応募者名簿!B174)","v":""},{"$f":"CONCATENATE(応募者名簿!C174)","v":""},{"$f":"CONCATENATE(応募者名簿!D174)","v":""}]
[{"$f":"応募者名簿!$B$8","v":0},{"$f":"CONCATENATE(応募者名簿!$B$11,応募者名簿!$D$11,応募者名簿!$E$11,応募者名簿!$I$11)","v":""},"条幅",{"$f":"CONCATENATE(応募者名簿!A175)","v":""},{"$f":"CONCATENATE(応募者名簿!B175)","v":""},{"$f":"CONCATENATE(応募者名簿!C175)","v":""},{"$f":"CONCATENATE(応募者名簿!D175)","v":""}]
[{"$f":"応募者名簿!$B$8","v":0},{"$f":"CONCATENATE(応募者名簿!$B$11,応募者名簿!$D$11,応募者名簿!$E$11,応募者名簿!$I$11)","v":""},"条幅",{"$f":"CONCATENATE(応募者名簿!A176)","v":""},{"$f":"CONCATENATE(応募者名簿!B176)","v":""},{"$f":"CONCATENATE(応募者名簿!C176)","v":""},{"$f":"CONCATENATE(応募者名簿!D176)","v":""}]
[{"$f":"応募者名簿!$B$8","v":0},{"$f":"CONCATENATE(応募者名簿!$B$11,応募者名簿!$D$11,応募者名簿!$E$11,応募者名簿!$I$11)","v":""},"条幅",{"$f":"CONCATENATE(応募者名簿!A177)","v":""},{"$f":"CONCATENATE(応募者名簿!B177)","v":""},{"$f":"CONCATENATE(応募者名簿!C177)","v":""},{"$f":"CONCATENATE(応募者名簿!D177)","v":""}]
[{"$f":"応募者名簿!$B$8","v":0},{"$f":"CONCATENATE(応募者名簿!$B$11,応募者名簿!$D$11,応募者名簿!$E$11,応募者名簿!$I$11)","v":""},"条幅",{"$f":"CONCATENATE(応募者名簿!A178)","v":""},{"$f":"CONCATENATE(応募者名簿!B178)","v":""},{"$f":"CONCATENATE(応募者名簿!C178)","v":""},{"$f":"CONCATENATE(応募者名簿!D178)","v":""}]
[{"$f":"応募者名簿!$B$8","v":0},{"$f":"CONCATENATE(応募者名簿!$B$11,応募者名簿!$D$11,応募者名簿!$E$11,応募者名簿!$I$11)","v":""},"条幅",{"$f":"CONCATENATE(応募者名簿!A179)","v":""},{"$f":"CONCATENATE(応募者名簿!B179)","v":""},{"$f":"CONCATENATE(応募者名簿!C179)","v":""},{"$f":"CONCATENATE(応募者名簿!D179)","v":""}]
[{"$f":"応募者名簿!$B$8","v":0},{"$f":"CONCATENATE(応募者名簿!$B$11,応募者名簿!$D$11,応募者名簿!$E$11,応募者名簿!$I$11)","v":""},"条幅",{"$f":"CONCATENATE(応募者名簿!A180)","v":""},{"$f":"CONCATENATE(応募者名簿!B180)","v":""},{"$f":"CONCATENATE(応募者名簿!C180)","v":""},{"$f":"CONCATENATE(応募者名簿!D180)","v":""}]
[{"$f":"応募者名簿!$B$8","v":0},{"$f":"CONCATENATE(応募者名簿!$B$11,応募者名簿!$D$11,応募者名簿!$E$11,応募者名簿!$I$11)","v":""},"条幅",{"$f":"CONCATENATE(応募者名簿!A181)","v":""},{"$f":"CONCATENATE(応募者名簿!B181)","v":""},{"$f":"CONCATENATE(応募者名簿!C181)","v":""},{"$f":"CONCATENATE(応募者名簿!D181)","v":""}]
[{"$f":"応募者名簿!$B$8","v":0},{"$f":"CONCATENATE(応募者名簿!$B$11,応募者名簿!$D$11,応募者名簿!$E$11,応募者名簿!$I$11)","v":""},"条幅",{"$f":"CONCATENATE(応募者名簿!A182)","v":""},{"$f":"CONCATENATE(応募者名簿!B182)","v":""},{"$f":"CONCATENATE(応募者名簿!C182)","v":""},{"$f":"CONCATENATE(応募者名簿!D182)","v":""}]
[{"$f":"応募者名簿!$B$8","v":0},{"$f":"CONCATENATE(応募者名簿!$B$11,応募者名簿!$D$11,応募者名簿!$E$11,応募者名簿!$I$11)","v":""},"条幅",{"$f":"CONCATENATE(応募者名簿!A183)","v":""},{"$f":"CONCATENATE(応募者名簿!B183)","v":""},{"$f":"CONCATENATE(応募者名簿!C183)","v":""},{"$f":"CONCATENATE(応募者名簿!D183)","v":""}]
[{"$f":"応募者名簿!$B$8","v":0},{"$f":"CONCATENATE(応募者名簿!$B$11,応募者名簿!$D$11,応募者名簿!$E$11,応募者名簿!$I$11)","v":""},"条幅",{"$f":"CONCATENATE(応募者名簿!A184)","v":""},{"$f":"CONCATENATE(応募者名簿!B184)","v":""},{"$f":"CONCATENATE(応募者名簿!C184)","v":""},{"$f":"CONCATENATE(応募者名簿!D184)","v":""}]
[{"$f":"応募者名簿!$B$8","v":0},{"$f":"CONCATENATE(応募者名簿!$B$11,応募者名簿!$D$11,応募者名簿!$E$11,応募者名簿!$I$11)","v":""},"条幅",{"$f":"CONCATENATE(応募者名簿!A185)","v":""},{"$f":"CONCATENATE(応募者名簿!B185)","v":""},{"$f":"CONCATENATE(応募者名簿!C185)","v":""},{"$f":"CONCATENATE(応募者名簿!D185)","v":""}]
[{"$f":"応募者名簿!$B$8","v":0},{"$f":"CONCATENATE(応募者名簿!$B$11,応募者名簿!$D$11,応募者名簿!$E$11,応募者名簿!$I$11)","v":""},"条幅",{"$f":"CONCATENATE(応募者名簿!A186)","v":""},{"$f":"CONCATENATE(応募者名簿!B186)","v":""},{"$f":"CONCATENATE(応募者名簿!C186)","v":""},{"$f":"CONCATENATE(応募者名簿!D186)","v":""}]
[{"$f":"応募者名簿!$B$8","v":0},{"$f":"CONCATENATE(応募者名簿!$B$11,応募者名簿!$D$11,応募者名簿!$E$11,応募者名簿!$I$11)","v":""},"条幅",{"$f":"CONCATENATE(応募者名簿!A187)","v":""},{"$f":"CONCATENATE(応募者名簿!B187)","v":""},{"$f":"CONCATENATE(応募者名簿!C187)","v":""},{"$f":"CONCATENATE(応募者名簿!D187)","v":""}]
[{"$f":"応募者名簿!$B$8","v":0},{"$f":"CONCATENATE(応募者名簿!$B$11,応募者名簿!$D$11,応募者名簿!$E$11,応募者名簿!$I$11)","v":""},"条幅",{"$f":"CONCATENATE(応募者名簿!A188)","v":""},{"$f":"CONCATENATE(応募者名簿!B188)","v":""},{"$f":"CONCATENATE(応募者名簿!C188)","v":""},{"$f":"CONCATENATE(応募者名簿!D188)","v":""}]
[{"$f":"応募者名簿!$B$8","v":0},{"$f":"CONCATENATE(応募者名簿!$B$11,応募者名簿!$D$11,応募者名簿!$E$11,応募者名簿!$I$11)","v":""},"条幅",{"$f":"CONCATENATE(応募者名簿!A189)","v":""},{"$f":"CONCATENATE(応募者名簿!B189)","v":""},{"$f":"CONCATENATE(応募者名簿!C189)","v":""},{"$f":"CONCATENATE(応募者名簿!D189)","v":""}]
[{"$f":"応募者名簿!$B$8","v":0},{"$f":"CONCATENATE(応募者名簿!$B$11,応募者名簿!$D$11,応募者名簿!$E$11,応募者名簿!$I$11)","v":""},"条幅",{"$f":"CONCATENATE(応募者名簿!A190)","v":""},{"$f":"CONCATENATE(応募者名簿!B190)","v":""},{"$f":"CONCATENATE(応募者名簿!C190)","v":""},{"$f":"CONCATENATE(応募者名簿!D190)","v":""}]
[{"$f":"応募者名簿!$B$8","v":0},{"$f":"CONCATENATE(応募者名簿!$B$11,応募者名簿!$D$11,応募者名簿!$E$11,応募者名簿!$I$11)","v":""},"条幅",{"$f":"CONCATENATE(応募者名簿!A191)","v":""},{"$f":"CONCATENATE(応募者名簿!B191)","v":""},{"$f":"CONCATENATE(応募者名簿!C191)","v":""},{"$f":"CONCATENATE(応募者名簿!D191)","v":""}]
[{"$f":"応募者名簿!$B$8","v":0},{"$f":"CONCATENATE(応募者名簿!$B$11,応募者名簿!$D$11,応募者名簿!$E$11,応募者名簿!$I$11)","v":""},"条幅",{"$f":"CONCATENATE(応募者名簿!A192)","v":""},{"$f":"CONCATENATE(応募者名簿!B192)","v":""},{"$f":"CONCATENATE(応募者名簿!C192)","v":""},{"$f":"CONCATENATE(応募者名簿!D192)","v":""}]
[{"$f":"応募者名簿!$B$8","v":0},{"$f":"CONCATENATE(応募者名簿!$B$11,応募者名簿!$D$11,応募者名簿!$E$11,応募者名簿!$I$11)","v":""},"条幅",{"$f":"CONCATENATE(応募者名簿!A193)","v":""},{"$f":"CONCATENATE(応募者名簿!B193)","v":""},{"$f":"CONCATENATE(応募者名簿!C193)","v":""},{"$f":"CONCATENATE(応募者名簿!D193)","v":""}]
[{"$f":"応募者名簿!$B$8","v":0},{"$f":"CONCATENATE(応募者名簿!$B$11,応募者名簿!$D$11,応募者名簿!$E$11,応募者名簿!$I$11)","v":""},"条幅",{"$f":"CONCATENATE(応募者名簿!A194)","v":""},{"$f":"CONCATENATE(応募者名簿!B194)","v":""},{"$f":"CONCATENATE(応募者名簿!C194)","v":""},{"$f":"CONCATENATE(応募者名簿!D194)","v":""}]
[{"$f":"応募者名簿!$B$8","v":0},{"$f":"CONCATENATE(応募者名簿!$B$11,応募者名簿!$D$11,応募者名簿!$E$11,応募者名簿!$I$11)","v":""},"条幅",{"$f":"CONCATENATE(応募者名簿!A195)","v":""},{"$f":"CONCATENATE(応募者名簿!B195)","v":""},{"$f":"CONCATENATE(応募者名簿!C195)","v":""},{"$f":"CONCATENATE(応募者名簿!D195)","v":""}]
[{"$f":"応募者名簿!$B$8","v":0},{"$f":"CONCATENATE(応募者名簿!$B$11,応募者名簿!$D$11,応募者名簿!$E$11,応募者名簿!$I$11)","v":""},"条幅",{"$f":"CONCATENATE(応募者名簿!A196)","v":""},{"$f":"CONCATENATE(応募者名簿!B196)","v":""},{"$f":"CONCATENATE(応募者名簿!C196)","v":""},{"$f":"CONCATENATE(応募者名簿!D196)","v":""}]
[{"$f":"応募者名簿!$B$8","v":0},{"$f":"CONCATENATE(応募者名簿!$B$11,応募者名簿!$D$11,応募者名簿!$E$11,応募者名簿!$I$11)","v":""},"条幅",{"$f":"CONCATENATE(応募者名簿!A197)","v":""},{"$f":"CONCATENATE(応募者名簿!B197)","v":""},{"$f":"CONCATENATE(応募者名簿!C197)","v":""},{"$f":"CONCATENATE(応募者名簿!D197)","v":""}]
[{"$f":"応募者名簿!$B$8","v":0},{"$f":"CONCATENATE(応募者名簿!$B$11,応募者名簿!$D$11,応募者名簿!$E$11,応募者名簿!$I$11)","v":""},"条幅",{"$f":"CONCATENATE(応募者名簿!A198)","v":""},{"$f":"CONCATENATE(応募者名簿!B198)","v":""},{"$f":"CONCATENATE(応募者名簿!C198)","v":""},{"$f":"CONCATENATE(応募者名簿!D198)","v":""}]
[{"$f":"応募者名簿!$B$8","v":0},{"$f":"CONCATENATE(応募者名簿!$B$11,応募者名簿!$D$11,応募者名簿!$E$11,応募者名簿!$I$11)","v":""},"条幅",{"$f":"CONCATENATE(応募者名簿!A199)","v":""},{"$f":"CONCATENATE(応募者名簿!B199)","v":""},{"$f":"CONCATENATE(応募者名簿!C199)","v":""},{"$f":"CONCATENATE(応募者名簿!D199)","v":""}]
[{"$f":"応募者名簿!$B$8","v":0},{"$f":"CONCATENATE(応募者名簿!$B$11,応募者名簿!$D$11,応募者名簿!$E$11,応募者名簿!$I$11)","v":""},"条幅",{"$f":"CONCATENATE(応募者名簿!A200)","v":""},{"$f":"CONCATENATE(応募者名簿!B200)","v":""},{"$f":"CONCATENATE(応募者名簿!C200)","v":""},{"$f":"CONCATENATE(応募者名簿!D200)","v":""}]
[{"$f":"応募者名簿!$B$8","v":0},{"$f":"CONCATENATE(応募者名簿!$B$11,応募者名簿!$D$11,応募者名簿!$E$11,応募者名簿!$I$11)","v":""},"条幅",{"$f":"CONCATENATE(応募者名簿!A201)","v":""},{"$f":"CONCATENATE(応募者名簿!B201)","v":""},{"$f":"CONCATENATE(応募者名簿!C201)","v":""},{"$f":"CONCATENATE(応募者名簿!D201)","v":""}]
[{"$f":"応募者名簿!$B$8","v":0},{"$f":"CONCATENATE(応募者名簿!$B$11,応募者名簿!$D$11,応募者名簿!$E$11,応募者名簿!$I$11)","v":""},"条幅",{"$f":"CONCATENATE(応募者名簿!A202)","v":""},{"$f":"CONCATENATE(応募者名簿!B202)","v":""},{"$f":"CONCATENATE(応募者名簿!C202)","v":""},{"$f":"CONCATENATE(応募者名簿!D202)","v":""}]
[{"$f":"応募者名簿!$B$8","v":0},{"$f":"CONCATENATE(応募者名簿!$B$11,応募者名簿!$D$11,応募者名簿!$E$11,応募者名簿!$I$11)","v":""},"条幅",{"$f":"CONCATENATE(応募者名簿!A203)","v":""},{"$f":"CONCATENATE(応募者名簿!B203)","v":""},{"$f":"CONCATENATE(応募者名簿!C203)","v":""},{"$f":"CONCATENATE(応募者名簿!D203)","v":""}]
[{"$f":"応募者名簿!$B$8","v":0},{"$f":"CONCATENATE(応募者名簿!$B$11,応募者名簿!$D$11,応募者名簿!$E$11,応募者名簿!$I$11)","v":""},"条幅",{"$f":"CONCATENATE(応募者名簿!A204)","v":""},{"$f":"CONCATENATE(応募者名簿!B204)","v":""},{"$f":"CONCATENATE(応募者名簿!C204)","v":""},{"$f":"CONCATENATE(応募者名簿!D204)","v":""}]
[{"$f":"応募者名簿!$B$8","v":0},{"$f":"CONCATENATE(応募者名簿!$B$11,応募者名簿!$D$11,応募者名簿!$E$11,応募者名簿!$I$11)","v":""},"条幅",{"$f":"CONCATENATE(応募者名簿!A205)","v":""},{"$f":"CONCATENATE(応募者名簿!B205)","v":""},{"$f":"CONCATENATE(応募者名簿!C205)","v":""},{"$f":"CONCATENATE(応募者名簿!D205)","v":""}]
[{"$f":"応募者名簿!$B$8","v":0},{"$f":"CONCATENATE(応募者名簿!$B$11,応募者名簿!$D$11,応募者名簿!$E$11,応募者名簿!$I$11)","v":""},"条幅",{"$f":"CONCATENATE(応募者名簿!A206)","v":""},{"$f":"CONCATENATE(応募者名簿!B206)","v":""},{"$f":"CONCATENATE(応募者名簿!C206)","v":""},{"$f":"CONCATENATE(応募者名簿!D206)","v":""}]
[{"$f":"応募者名簿!$B$8","v":0},{"$f":"CONCATENATE(応募者名簿!$B$11,応募者名簿!$D$11,応募者名簿!$E$11,応募者名簿!$I$11)","v":""},"条幅",{"$f":"CONCATENATE(応募者名簿!A207)","v":""},{"$f":"CONCATENATE(応募者名簿!B207)","v":""},{"$f":"CONCATENATE(応募者名簿!C207)","v":""},{"$f":"CONCATENATE(応募者名簿!D207)","v":""}]
[{"$f":"応募者名簿!$B$8","v":0},{"$f":"CONCATENATE(応募者名簿!$B$11,応募者名簿!$D$11,応募者名簿!$E$11,応募者名簿!$I$11)","v":""},"条幅",{"$f":"CONCATENATE(応募者名簿!A208)","v":""},{"$f":"CONCATENATE(応募者名簿!B208)","v":""},{"$f":"CONCATENATE(応募者名簿!C208)","v":""},{"$f":"CONCATENATE(応募者名簿!D208)","v":""}]
[{"$f":"応募者名簿!$B$8","v":0},{"$f":"CONCATENATE(応募者名簿!$B$11,応募者名簿!$D$11,応募者名簿!$E$11,応募者名簿!$I$11)","v":""},"条幅",{"$f":"CONCATENATE(応募者名簿!A209)","v":""},{"$f":"CONCATENATE(応募者名簿!B209)","v":""},{"$f":"CONCATENATE(応募者名簿!C209)","v":""},{"$f":"CONCATENATE(応募者名簿!D209)","v":""}]
[{"$f":"応募者名簿!$B$8","v":0},{"$f":"CONCATENATE(応募者名簿!$B$11,応募者名簿!$D$11,応募者名簿!$E$11,応募者名簿!$I$11)","v":""},"条幅",{"$f":"CONCATENATE(応募者名簿!A210)","v":""},{"$f":"CONCATENATE(応募者名簿!B210)","v":""},{"$f":"CONCATENATE(応募者名簿!C210)","v":""},{"$f":"CONCATENATE(応募者名簿!D210)","v":""}]
[{"$f":"応募者名簿!$B$8","v":0},{"$f":"CONCATENATE(応募者名簿!$B$11,応募者名簿!$D$11,応募者名簿!$E$11,応募者名簿!$I$11)","v":""},"条幅",{"$f":"CONCATENATE(応募者名簿!A211)","v":""},{"$f":"CONCATENATE(応募者名簿!B211)","v":""},{"$f":"CONCATENATE(応募者名簿!C211)","v":""},{"$f":"CONCATENATE(応募者名簿!D211)","v":""}]
[{"$f":"応募者名簿!$B$8","v":0},{"$f":"CONCATENATE(応募者名簿!$B$11,応募者名簿!$D$11,応募者名簿!$E$11,応募者名簿!$I$11)","v":""},"条幅",{"$f":"CONCATENATE(応募者名簿!A212)","v":""},{"$f":"CONCATENATE(応募者名簿!B212)","v":""},{"$f":"CONCATENATE(応募者名簿!C212)","v":""},{"$f":"CONCATENATE(応募者名簿!D212)","v":""}]
[{"$f":"応募者名簿!$B$8","v":0},{"$f":"CONCATENATE(応募者名簿!$B$11,応募者名簿!$D$11,応募者名簿!$E$11,応募者名簿!$I$11)","v":""},"条幅",{"$f":"CONCATENATE(応募者名簿!A213)","v":""},{"$f":"CONCATENATE(応募者名簿!B213)","v":""},{"$f":"CONCATENATE(応募者名簿!C213)","v":""},{"$f":"CONCATENATE(応募者名簿!D213)","v":""}]
[{"$f":"応募者名簿!$B$8","v":0},{"$f":"CONCATENATE(応募者名簿!$B$11,応募者名簿!$D$11,応募者名簿!$E$11,応募者名簿!$I$11)","v":""},"条幅",{"$f":"CONCATENATE(応募者名簿!A214)","v":""},{"$f":"CONCATENATE(応募者名簿!B214)","v":""},{"$f":"CONCATENATE(応募者名簿!C214)","v":""},{"$f":"CONCATENATE(応募者名簿!D214)","v":""}]
[{"$f":"応募者名簿!$B$8","v":0},{"$f":"CONCATENATE(応募者名簿!$B$11,応募者名簿!$D$11,応募者名簿!$E$11,応募者名簿!$I$11)","v":""},"条幅",{"$f":"CONCATENATE(応募者名簿!A215)","v":""},{"$f":"CONCATENATE(応募者名簿!B215)","v":""},{"$f":"CONCATENATE(応募者名簿!C215)","v":""},{"$f":"CONCATENATE(応募者名簿!D215)","v":""}]
[{"$f":"応募者名簿!$B$8","v":0},{"$f":"CONCATENATE(応募者名簿!$B$11,応募者名簿!$D$11,応募者名簿!$E$11,応募者名簿!$I$11)","v":""},"条幅",{"$f":"CONCATENATE(応募者名簿!A216)","v":""},{"$f":"CONCATENATE(応募者名簿!B216)","v":""},{"$f":"CONCATENATE(応募者名簿!C216)","v":""},{"$f":"CONCATENATE(応募者名簿!D216)","v":""}]
[{"$f":"応募者名簿!$B$8","v":0},{"$f":"CONCATENATE(応募者名簿!$B$11,応募者名簿!$D$11,応募者名簿!$E$11,応募者名簿!$I$11)","v":""},"条幅",{"$f":"CONCATENATE(応募者名簿!A217)","v":""},{"$f":"CONCATENATE(応募者名簿!B217)","v":""},{"$f":"CONCATENATE(応募者名簿!C217)","v":""},{"$f":"CONCATENATE(応募者名簿!D217)","v":""}]
[{"$f":"応募者名簿!$B$8","v":0},{"$f":"CONCATENATE(応募者名簿!$B$11,応募者名簿!$D$11,応募者名簿!$E$11,応募者名簿!$I$11)","v":""},"条幅",{"$f":"CONCATENATE(応募者名簿!A218)","v":""},{"$f":"CONCATENATE(応募者名簿!B218)","v":""},{"$f":"CONCATENATE(応募者名簿!C218)","v":""},{"$f":"CONCATENATE(応募者名簿!D218)","v":""}]
[{"$f":"応募者名簿!$B$8","v":0},{"$f":"CONCATENATE(応募者名簿!$B$11,応募者名簿!$D$11,応募者名簿!$E$11,応募者名簿!$I$11)","v":""},"条幅",{"$f":"CONCATENATE(応募者名簿!A219)","v":""},{"$f":"CONCATENATE(応募者名簿!B219)","v":""},{"$f":"CONCATENATE(応募者名簿!C219)","v":""},{"$f":"CONCATENATE(応募者名簿!D219)","v":""}]
[{"$f":"応募者名簿!$B$8","v":0},{"$f":"CONCATENATE(応募者名簿!$B$11,応募者名簿!$D$11,応募者名簿!$E$11,応募者名簿!$I$11)","v":""},"条幅",{"$f":"CONCATENATE(応募者名簿!A220)","v":""},{"$f":"CONCATENATE(応募者名簿!B220)","v":""},{"$f":"CONCATENATE(応募者名簿!C220)","v":""},{"$f":"CONCATENATE(応募者名簿!D220)","v":""}]
[{"$f":"応募者名簿!$B$8","v":0},{"$f":"CONCATENATE(応募者名簿!$B$11,応募者名簿!$D$11,応募者名簿!$E$11,応募者名簿!$I$11)","v":""},"条幅",{"$f":"CONCATENATE(応募者名簿!A221)","v":""},{"$f":"CONCATENATE(応募者名簿!B221)","v":""},{"$f":"CONCATENATE(応募者名簿!C221)","v":""},{"$f":"CONCATENATE(応募者名簿!D221)","v":""}]
[{"$f":"応募者名簿!$B$8","v":0},{"$f":"CONCATENATE(応募者名簿!$B$11,応募者名簿!$D$11,応募者名簿!$E$11,応募者名簿!$I$11)","v":""},"条幅",{"$f":"CONCATENATE(応募者名簿!A222)","v":""},{"$f":"CONCATENATE(応募者名簿!B222)","v":""},{"$f":"CONCATENATE(応募者名簿!C222)","v":""},{"$f":"CONCATENATE(応募者名簿!D222)","v":""}]
[{"$f":"応募者名簿!$B$8","v":0},{"$f":"CONCATENATE(応募者名簿!$B$11,応募者名簿!$D$11,応募者名簿!$E$11,応募者名簿!$I$11)","v":""},"条幅",{"$f":"CONCATENATE(応募者名簿!A223)","v":""},{"$f":"CONCATENATE(応募者名簿!B223)","v":""},{"$f":"CONCATENATE(応募者名簿!C223)","v":""},{"$f":"CONCATENATE(応募者名簿!D223)","v":""}]
[{"$f":"応募者名簿!$B$8","v":0},{"$f":"CONCATENATE(応募者名簿!$B$11,応募者名簿!$D$11,応募者名簿!$E$11,応募者名簿!$I$11)","v":""},"条幅",{"$f":"CONCATENATE(応募者名簿!A224)","v":""},{"$f":"CONCATENATE(応募者名簿!B224)","v":""},{"$f":"CONCATENATE(応募者名簿!C224)","v":""},{"$f":"CONCATENATE(応募者名簿!D224)","v":""}]
[{"$f":"応募者名簿!$B$8","v":0},{"$f":"CONCATENATE(応募者名簿!$B$11,応募者名簿!$D$11,応募者名簿!$E$11,応募者名簿!$I$11)","v":""},"条幅",{"$f":"CONCATENATE(応募者名簿!A225)","v":""},{"$f":"CONCATENATE(応募者名簿!B225)","v":""},{"$f":"CONCATENATE(応募者名簿!C225)","v":""},{"$f":"CONCATENATE(応募者名簿!D225)","v":""}]
[{"$f":"応募者名簿!$B$8","v":0},{"$f":"CONCATENATE(応募者名簿!$B$11,応募者名簿!$D$11,応募者名簿!$E$11,応募者名簿!$I$11)","v":""},"条幅",{"$f":"CONCATENATE(応募者名簿!A226)","v":""},{"$f":"CONCATENATE(応募者名簿!B226)","v":""},{"$f":"CONCATENATE(応募者名簿!C226)","v":""},{"$f":"CONCATENATE(応募者名簿!D226)","v":""}]
[{"$f":"応募者名簿!$B$8","v":0},{"$f":"CONCATENATE(応募者名簿!$B$11,応募者名簿!$D$11,応募者名簿!$E$11,応募者名簿!$I$11)","v":""},"条幅",{"$f":"CONCATENATE(応募者名簿!A227)","v":""},{"$f":"CONCATENATE(応募者名簿!B227)","v":""},{"$f":"CONCATENATE(応募者名簿!C227)","v":""},{"$f":"CONCATENATE(応募者名簿!D227)","v":""}]
[{"$f":"応募者名簿!$B$8","v":0},{"$f":"CONCATENATE(応募者名簿!$B$11,応募者名簿!$D$11,応募者名簿!$E$11,応募者名簿!$I$11)","v":""},"条幅",{"$f":"CONCATENATE(応募者名簿!A228)","v":""},{"$f":"CONCATENATE(応募者名簿!B228)","v":""},{"$f":"CONCATENATE(応募者名簿!C228)","v":""},{"$f":"CONCATENATE(応募者名簿!D228)","v":""}]
[{"$f":"応募者名簿!$B$8","v":0},{"$f":"CONCATENATE(応募者名簿!$B$11,応募者名簿!$D$11,応募者名簿!$E$11,応募者名簿!$I$11)","v":""},"条幅",{"$f":"CONCATENATE(応募者名簿!A229)","v":""},{"$f":"CONCATENATE(応募者名簿!B229)","v":""},{"$f":"CONCATENATE(応募者名簿!C229)","v":""},{"$f":"CONCATENATE(応募者名簿!D229)","v":""}]
[{"$f":"応募者名簿!$B$8","v":0},{"$f":"CONCATENATE(応募者名簿!$B$11,応募者名簿!$D$11,応募者名簿!$E$11,応募者名簿!$I$11)","v":""},"条幅",{"$f":"CONCATENATE(応募者名簿!A230)","v":""},{"$f":"CONCATENATE(応募者名簿!B230)","v":""},{"$f":"CONCATENATE(応募者名簿!C230)","v":""},{"$f":"CONCATENATE(応募者名簿!D230)","v":""}]
[{"$f":"応募者名簿!$B$8","v":0},{"$f":"CONCATENATE(応募者名簿!$B$11,応募者名簿!$D$11,応募者名簿!$E$11,応募者名簿!$I$11)","v":""},"条幅",{"$f":"CONCATENATE(応募者名簿!A231)","v":""},{"$f":"CONCATENATE(応募者名簿!B231)","v":""},{"$f":"CONCATENATE(応募者名簿!C231)","v":""},{"$f":"CONCATENATE(応募者名簿!D231)","v":""}]
[{"$f":"応募者名簿!$B$8","v":0},{"$f":"CONCATENATE(応募者名簿!$B$11,応募者名簿!$D$11,応募者名簿!$E$11,応募者名簿!$I$11)","v":""},"条幅",{"$f":"CONCATENATE(応募者名簿!A232)","v":""},{"$f":"CONCATENATE(応募者名簿!B232)","v":""},{"$f":"CONCATENATE(応募者名簿!C232)","v":""},{"$f":"CONCATENATE(応募者名簿!D232)","v":""}]
[{"$f":"応募者名簿!$B$8","v":0},{"$f":"CONCATENATE(応募者名簿!$B$11,応募者名簿!$D$11,応募者名簿!$E$11,応募者名簿!$I$11)","v":""},"条幅",{"$f":"CONCATENATE(応募者名簿!A233)","v":""},{"$f":"CONCATENATE(応募者名簿!B233)","v":""},{"$f":"CONCATENATE(応募者名簿!C233)","v":""},{"$f":"CONCATENATE(応募者名簿!D233)","v":""}]
[{"$f":"応募者名簿!$B$8","v":0},{"$f":"CONCATENATE(応募者名簿!$B$11,応募者名簿!$D$11,応募者名簿!$E$11,応募者名簿!$I$11)","v":""},"条幅",{"$f":"CONCATENATE(応募者名簿!A234)","v":""},{"$f":"CONCATENATE(応募者名簿!B234)","v":""},{"$f":"CONCATENATE(応募者名簿!C234)","v":""},{"$f":"CONCATENATE(応募者名簿!D234)","v":""}]
[{"$f":"応募者名簿!$B$8","v":0},{"$f":"CONCATENATE(応募者名簿!$B$11,応募者名簿!$D$11,応募者名簿!$E$11,応募者名簿!$I$11)","v":""},"条幅",{"$f":"CONCATENATE(応募者名簿!A235)","v":""},{"$f":"CONCATENATE(応募者名簿!B235)","v":""},{"$f":"CONCATENATE(応募者名簿!C235)","v":""},{"$f":"CONCATENATE(応募者名簿!D235)","v":""}]
[{"$f":"応募者名簿!$B$8","v":0},{"$f":"CONCATENATE(応募者名簿!$B$11,応募者名簿!$D$11,応募者名簿!$E$11,応募者名簿!$I$11)","v":""},"条幅",{"$f":"CONCATENATE(応募者名簿!A236)","v":""},{"$f":"CONCATENATE(応募者名簿!B236)","v":""},{"$f":"CONCATENATE(応募者名簿!C236)","v":""},{"$f":"CONCATENATE(応募者名簿!D236)","v":""}]
[{"$f":"応募者名簿!$B$8","v":0},{"$f":"CONCATENATE(応募者名簿!$B$11,応募者名簿!$D$11,応募者名簿!$E$11,応募者名簿!$I$11)","v":""},"条幅",{"$f":"CONCATENATE(応募者名簿!A237)","v":""},{"$f":"CONCATENATE(応募者名簿!B237)","v":""},{"$f":"CONCATENATE(応募者名簿!C237)","v":""},{"$f":"CONCATENATE(応募者名簿!D237)","v":""}]
[{"$f":"応募者名簿!$B$8","v":0},{"$f":"CONCATENATE(応募者名簿!$B$11,応募者名簿!$D$11,応募者名簿!$E$11,応募者名簿!$I$11)","v":""},"条幅",{"$f":"CONCATENATE(応募者名簿!A238)","v":""},{"$f":"CONCATENATE(応募者名簿!B238)","v":""},{"$f":"CONCATENATE(応募者名簿!C238)","v":""},{"$f":"CONCATENATE(応募者名簿!D238)","v":""}]
[{"$f":"応募者名簿!$B$8","v":0},{"$f":"CONCATENATE(応募者名簿!$B$11,応募者名簿!$D$11,応募者名簿!$E$11,応募者名簿!$I$11)","v":""},"条幅",{"$f":"CONCATENATE(応募者名簿!A239)","v":""},{"$f":"CONCATENATE(応募者名簿!B239)","v":""},{"$f":"CONCATENATE(応募者名簿!C239)","v":""},{"$f":"CONCATENATE(応募者名簿!D239)","v":""}]
[{"$f":"応募者名簿!$B$8","v":0},{"$f":"CONCATENATE(応募者名簿!$B$11,応募者名簿!$D$11,応募者名簿!$E$11,応募者名簿!$I$11)","v":""},"条幅",{"$f":"CONCATENATE(応募者名簿!A240)","v":""},{"$f":"CONCATENATE(応募者名簿!B240)","v":""},{"$f":"CONCATENATE(応募者名簿!C240)","v":""},{"$f":"CONCATENATE(応募者名簿!D240)","v":""}]
[{"$f":"応募者名簿!$B$8","v":0},{"$f":"CONCATENATE(応募者名簿!$B$11,応募者名簿!$D$11,応募者名簿!$E$11,応募者名簿!$I$11)","v":""},"条幅",{"$f":"CONCATENATE(応募者名簿!A241)","v":""},{"$f":"CONCATENATE(応募者名簿!B241)","v":""},{"$f":"CONCATENATE(応募者名簿!C241)","v":""},{"$f":"CONCATENATE(応募者名簿!D241)","v":""}]
[{"$f":"応募者名簿!$B$8","v":0},{"$f":"CONCATENATE(応募者名簿!$B$11,応募者名簿!$D$11,応募者名簿!$E$11,応募者名簿!$I$11)","v":""},"条幅",{"$f":"CONCATENATE(応募者名簿!A242)","v":""},{"$f":"CONCATENATE(応募者名簿!B242)","v":""},{"$f":"CONCATENATE(応募者名簿!C242)","v":""},{"$f":"CONCATENATE(応募者名簿!D242)","v":""}]
[{"$f":"応募者名簿!$B$8","v":0},{"$f":"CONCATENATE(応募者名簿!$B$11,応募者名簿!$D$11,応募者名簿!$E$11,応募者名簿!$I$11)","v":""},"条幅",{"$f":"CONCATENATE(応募者名簿!A243)","v":""},{"$f":"CONCATENATE(応募者名簿!B243)","v":""},{"$f":"CONCATENATE(応募者名簿!C243)","v":""},{"$f":"CONCATENATE(応募者名簿!D243)","v":""}]
[{"$f":"応募者名簿!$B$8","v":0},{"$f":"CONCATENATE(応募者名簿!$B$11,応募者名簿!$D$11,応募者名簿!$E$11,応募者名簿!$I$11)","v":""},"条幅",{"$f":"CONCATENATE(応募者名簿!A244)","v":""},{"$f":"CONCATENATE(応募者名簿!B244)","v":""},{"$f":"CONCATENATE(応募者名簿!C244)","v":""},{"$f":"CONCATENATE(応募者名簿!D244)","v":""}]
[{"$f":"応募者名簿!$B$8","v":0},{"$f":"CONCATENATE(応募者名簿!$B$11,応募者名簿!$D$11,応募者名簿!$E$11,応募者名簿!$I$11)","v":""},"条幅",{"$f":"CONCATENATE(応募者名簿!A245)","v":""},{"$f":"CONCATENATE(応募者名簿!B245)","v":""},{"$f":"CONCATENATE(応募者名簿!C245)","v":""},{"$f":"CONCATENATE(応募者名簿!D245)","v":""}]
[{"$f":"応募者名簿!$B$8","v":0},{"$f":"CONCATENATE(応募者名簿!$B$11,応募者名簿!$D$11,応募者名簿!$E$11,応募者名簿!$I$11)","v":""},"条幅",{"$f":"CONCATENATE(応募者名簿!A246)","v":""},{"$f":"CONCATENATE(応募者名簿!B246)","v":""},{"$f":"CONCATENATE(応募者名簿!C246)","v":""},{"$f":"CONCATENATE(応募者名簿!D246)","v":""}]
[{"$f":"応募者名簿!$B$8","v":0},{"$f":"CONCATENATE(応募者名簿!$B$11,応募者名簿!$D$11,応募者名簿!$E$11,応募者名簿!$I$11)","v":""},"条幅",{"$f":"CONCATENATE(応募者名簿!A247)","v":""},{"$f":"CONCATENATE(応募者名簿!B247)","v":""},{"$f":"CONCATENATE(応募者名簿!C247)","v":""},{"$f":"CONCATENATE(応募者名簿!D247)","v":""}]
[{"$f":"応募者名簿!$B$8","v":0},{"$f":"CONCATENATE(応募者名簿!$B$11,応募者名簿!$D$11,応募者名簿!$E$11,応募者名簿!$I$11)","v":""},"条幅",{"$f":"CONCATENATE(応募者名簿!A248)","v":""},{"$f":"CONCATENATE(応募者名簿!B248)","v":""},{"$f":"CONCATENATE(応募者名簿!C248)","v":""},{"$f":"CONCATENATE(応募者名簿!D248)","v":""}]
[{"$f":"応募者名簿!$B$8","v":0},{"$f":"CONCATENATE(応募者名簿!$B$11,応募者名簿!$D$11,応募者名簿!$E$11,応募者名簿!$I$11)","v":""},"条幅",{"$f":"CONCATENATE(応募者名簿!A249)","v":""},{"$f":"CONCATENATE(応募者名簿!B249)","v":""},{"$f":"CONCATENATE(応募者名簿!C249)","v":""},{"$f":"CONCATENATE(応募者名簿!D249)","v":""}]
[{"$f":"応募者名簿!$B$8","v":0},{"$f":"CONCATENATE(応募者名簿!$B$11,応募者名簿!$D$11,応募者名簿!$E$11,応募者名簿!$I$11)","v":""},"条幅",{"$f":"CONCATENATE(応募者名簿!A250)","v":""},{"$f":"CONCATENATE(応募者名簿!B250)","v":""},{"$f":"CONCATENATE(応募者名簿!C250)","v":""},{"$f":"CONCATENATE(応募者名簿!D250)","v":""}]
[{"$f":"応募者名簿!$B$8","v":0},{"$f":"CONCATENATE(応募者名簿!$B$11,応募者名簿!$D$11,応募者名簿!$E$11,応募者名簿!$I$11)","v":""},"条幅",{"$f":"CONCATENATE(応募者名簿!A251)","v":""},{"$f":"CONCATENATE(応募者名簿!B251)","v":""},{"$f":"CONCATENATE(応募者名簿!C251)","v":""},{"$f":"CONCATENATE(応募者名簿!D251)","v":""}]
[{"$f":"応募者名簿!$B$8","v":0},{"$f":"CONCATENATE(応募者名簿!$B$11,応募者名簿!$D$11,応募者名簿!$E$11,応募者名簿!$I$11)","v":""},"条幅",{"$f":"CONCATENATE(応募者名簿!A252)","v":""},{"$f":"CONCATENATE(応募者名簿!B252)","v":""},{"$f":"CONCATENATE(応募者名簿!C252)","v":""},{"$f":"CONCATENATE(応募者名簿!D252)","v":""}]
[{"$f":"応募者名簿!$B$8","v":0},{"$f":"CONCATENATE(応募者名簿!$B$11,応募者名簿!$D$11,応募者名簿!$E$11,応募者名簿!$I$11)","v":""},"条幅",{"$f":"CONCATENATE(応募者名簿!A253)","v":""},{"$f":"CONCATENATE(応募者名簿!B253)","v":""},{"$f":"CONCATENATE(応募者名簿!C253)","v":""},{"$f":"CONCATENATE(応募者名簿!D253)","v":""}]
[{"$f":"応募者名簿!$B$8","v":0},{"$f":"CONCATENATE(応募者名簿!$B$11,応募者名簿!$D$11,応募者名簿!$E$11,応募者名簿!$I$11)","v":""},"条幅",{"$f":"CONCATENATE(応募者名簿!A254)","v":""},{"$f":"CONCATENATE(応募者名簿!B254)","v":""},{"$f":"CONCATENATE(応募者名簿!C254)","v":""},{"$f":"CONCATENATE(応募者名簿!D254)","v":""}]
[{"$f":"応募者名簿!$B$8","v":0},{"$f":"CONCATENATE(応募者名簿!$B$11,応募者名簿!$D$11,応募者名簿!$E$11,応募者名簿!$I$11)","v":""},"条幅",{"$f":"CONCATENATE(応募者名簿!A255)","v":""},{"$f":"CONCATENATE(応募者名簿!B255)","v":""},{"$f":"CONCATENATE(応募者名簿!C255)","v":""},{"$f":"CONCATENATE(応募者名簿!D255)","v":""}]
[{"$f":"応募者名簿!$B$8","v":0},{"$f":"CONCATENATE(応募者名簿!$B$11,応募者名簿!$D$11,応募者名簿!$E$11,応募者名簿!$I$11)","v":""},"条幅",{"$f":"CONCATENATE(応募者名簿!A256)","v":""},{"$f":"CONCATENATE(応募者名簿!B256)","v":""},{"$f":"CONCATENATE(応募者名簿!C256)","v":""},{"$f":"CONCATENATE(応募者名簿!D256)","v":""}]
[{"$f":"応募者名簿!$B$8","v":0},{"$f":"CONCATENATE(応募者名簿!$B$11,応募者名簿!$D$11,応募者名簿!$E$11,応募者名簿!$I$11)","v":""},"条幅",{"$f":"CONCATENATE(応募者名簿!A257)","v":""},{"$f":"CONCATENATE(応募者名簿!B257)","v":""},{"$f":"CONCATENATE(応募者名簿!C257)","v":""},{"$f":"CONCATENATE(応募者名簿!D257)","v":""}]
[{"$f":"応募者名簿!$B$8","v":0},{"$f":"CONCATENATE(応募者名簿!$B$11,応募者名簿!$D$11,応募者名簿!$E$11,応募者名簿!$I$11)","v":""},"条幅",{"$f":"CONCATENATE(応募者名簿!A258)","v":""},{"$f":"CONCATENATE(応募者名簿!B258)","v":""},{"$f":"CONCATENATE(応募者名簿!C258)","v":""},{"$f":"CONCATENATE(応募者名簿!D258)","v":""}]
[{"$f":"応募者名簿!$B$8","v":0},{"$f":"CONCATENATE(応募者名簿!$B$11,応募者名簿!$D$11,応募者名簿!$E$11,応募者名簿!$I$11)","v":""},"条幅",{"$f":"CONCATENATE(応募者名簿!A259)","v":""},{"$f":"CONCATENATE(応募者名簿!B259)","v":""},{"$f":"CONCATENATE(応募者名簿!C259)","v":""},{"$f":"CONCATENATE(応募者名簿!D259)","v":""}]
[{"$f":"応募者名簿!$B$8","v":0},{"$f":"CONCATENATE(応募者名簿!$B$11,応募者名簿!$D$11,応募者名簿!$E$11,応募者名簿!$I$11)","v":""},"条幅",{"$f":"CONCATENATE(応募者名簿!A260)","v":""},{"$f":"CONCATENATE(応募者名簿!B260)","v":""},{"$f":"CONCATENATE(応募者名簿!C260)","v":""},{"$f":"CONCATENATE(応募者名簿!D260)","v":""}]
[{"$f":"応募者名簿!$B$8","v":0},{"$f":"CONCATENATE(応募者名簿!$B$11,応募者名簿!$D$11,応募者名簿!$E$11,応募者名簿!$I$11)","v":""},"条幅",{"$f":"CONCATENATE(応募者名簿!A261)","v":""},{"$f":"CONCATENATE(応募者名簿!B261)","v":""},{"$f":"CONCATENATE(応募者名簿!C261)","v":""},{"$f":"CONCATENATE(応募者名簿!D261)","v":""}]
[{"$f":"応募者名簿!$B$8","v":0},{"$f":"CONCATENATE(応募者名簿!$B$11,応募者名簿!$D$11,応募者名簿!$E$11,応募者名簿!$I$11)","v":""},"条幅",{"$f":"CONCATENATE(応募者名簿!A262)","v":""},{"$f":"CONCATENATE(応募者名簿!B262)","v":""},{"$f":"CONCATENATE(応募者名簿!C262)","v":""},{"$f":"CONCATENATE(応募者名簿!D262)","v":""}]
[{"$f":"応募者名簿!$B$8","v":0},{"$f":"CONCATENATE(応募者名簿!$B$11,応募者名簿!$D$11,応募者名簿!$E$11,応募者名簿!$I$11)","v":""},"条幅",{"$f":"CONCATENATE(応募者名簿!A263)","v":""},{"$f":"CONCATENATE(応募者名簿!B263)","v":""},{"$f":"CONCATENATE(応募者名簿!C263)","v":""},{"$f":"CONCATENATE(応募者名簿!D263)","v":""}]
[{"$f":"応募者名簿!$B$8","v":0},{"$f":"CONCATENATE(応募者名簿!$B$11,応募者名簿!$D$11,応募者名簿!$E$11,応募者名簿!$I$11)","v":""},"条幅",{"$f":"CONCATENATE(応募者名簿!A264)","v":""},{"$f":"CONCATENATE(応募者名簿!B264)","v":""},{"$f":"CONCATENATE(応募者名簿!C264)","v":""},{"$f":"CONCATENATE(応募者名簿!D264)","v":""}]
[{"$f":"応募者名簿!$B$8","v":0},{"$f":"CONCATENATE(応募者名簿!$B$11,応募者名簿!$D$11,応募者名簿!$E$11,応募者名簿!$I$11)","v":""},"条幅",{"$f":"CONCATENATE(応募者名簿!A265)","v":""},{"$f":"CONCATENATE(応募者名簿!B265)","v":""},{"$f":"CONCATENATE(応募者名簿!C265)","v":""},{"$f":"CONCATENATE(応募者名簿!D265)","v":""}]
[{"$f":"応募者名簿!$B$8","v":0},{"$f":"CONCATENATE(応募者名簿!$B$11,応募者名簿!$D$11,応募者名簿!$E$11,応募者名簿!$I$11)","v":""},"条幅",{"$f":"CONCATENATE(応募者名簿!A266)","v":""},{"$f":"CONCATENATE(応募者名簿!B266)","v":""},{"$f":"CONCATENATE(応募者名簿!C266)","v":""},{"$f":"CONCATENATE(応募者名簿!D266)","v":""}]
[{"$f":"応募者名簿!$B$8","v":0},{"$f":"CONCATENATE(応募者名簿!$B$11,応募者名簿!$D$11,応募者名簿!$E$11,応募者名簿!$I$11)","v":""},"条幅",{"$f":"CONCATENATE(応募者名簿!A267)","v":""},{"$f":"CONCATENATE(応募者名簿!B267)","v":""},{"$f":"CONCATENATE(応募者名簿!C267)","v":""},{"$f":"CONCATENATE(応募者名簿!D267)","v":""}]
[{"$f":"応募者名簿!$B$8","v":0},{"$f":"CONCATENATE(応募者名簿!$B$11,応募者名簿!$D$11,応募者名簿!$E$11,応募者名簿!$I$11)","v":""},"条幅",{"$f":"CONCATENATE(応募者名簿!A268)","v":""},{"$f":"CONCATENATE(応募者名簿!B268)","v":""},{"$f":"CONCATENATE(応募者名簿!C268)","v":""},{"$f":"CONCATENATE(応募者名簿!D268)","v":""}]
[{"$f":"応募者名簿!$B$8","v":0},{"$f":"CONCATENATE(応募者名簿!$B$11,応募者名簿!$D$11,応募者名簿!$E$11,応募者名簿!$I$11)","v":""},"条幅",{"$f":"CONCATENATE(応募者名簿!A269)","v":""},{"$f":"CONCATENATE(応募者名簿!B269)","v":""},{"$f":"CONCATENATE(応募者名簿!C269)","v":""},{"$f":"CONCATENATE(応募者名簿!D269)","v":""}]
[{"$f":"応募者名簿!$B$8","v":0},{"$f":"CONCATENATE(応募者名簿!$B$11,応募者名簿!$D$11,応募者名簿!$E$11,応募者名簿!$I$11)","v":""},"条幅",{"$f":"CONCATENATE(応募者名簿!A270)","v":""},{"$f":"CONCATENATE(応募者名簿!B270)","v":""},{"$f":"CONCATENATE(応募者名簿!C270)","v":""},{"$f":"CONCATENATE(応募者名簿!D270)","v":""}]
[{"$f":"応募者名簿!$B$8","v":0},{"$f":"CONCATENATE(応募者名簿!$B$11,応募者名簿!$D$11,応募者名簿!$E$11,応募者名簿!$I$11)","v":""},"条幅",{"$f":"CONCATENATE(応募者名簿!A271)","v":""},{"$f":"CONCATENATE(応募者名簿!B271)","v":""},{"$f":"CONCATENATE(応募者名簿!C271)","v":""},{"$f":"CONCATENATE(応募者名簿!D271)","v":""}]
[{"$f":"応募者名簿!$B$8","v":0},{"$f":"CONCATENATE(応募者名簿!$B$11,応募者名簿!$D$11,応募者名簿!$E$11,応募者名簿!$I$11)","v":""},"条幅",{"$f":"CONCATENATE(応募者名簿!A272)","v":""},{"$f":"CONCATENATE(応募者名簿!B272)","v":""},{"$f":"CONCATENATE(応募者名簿!C272)","v":""},{"$f":"CONCATENATE(応募者名簿!D272)","v":""}]
[{"$f":"応募者名簿!$B$8","v":0},{"$f":"CONCATENATE(応募者名簿!$B$11,応募者名簿!$D$11,応募者名簿!$E$11,応募者名簿!$I$11)","v":""},"条幅",{"$f":"CONCATENATE(応募者名簿!A273)","v":""},{"$f":"CONCATENATE(応募者名簿!B273)","v":""},{"$f":"CONCATENATE(応募者名簿!C273)","v":""},{"$f":"CONCATENATE(応募者名簿!D273)","v":""}]
[{"$f":"応募者名簿!$B$8","v":0},{"$f":"CONCATENATE(応募者名簿!$B$11,応募者名簿!$D$11,応募者名簿!$E$11,応募者名簿!$I$11)","v":""},"条幅",{"$f":"CONCATENATE(応募者名簿!A274)","v":""},{"$f":"CONCATENATE(応募者名簿!B274)","v":""},{"$f":"CONCATENATE(応募者名簿!C274)","v":""},{"$f":"CONCATENATE(応募者名簿!D274)","v":""}]
[{"$f":"応募者名簿!$B$8","v":0},{"$f":"CONCATENATE(応募者名簿!$B$11,応募者名簿!$D$11,応募者名簿!$E$11,応募者名簿!$I$11)","v":""},"条幅",{"$f":"CONCATENATE(応募者名簿!A275)","v":""},{"$f":"CONCATENATE(応募者名簿!B275)","v":""},{"$f":"CONCATENATE(応募者名簿!C275)","v":""},{"$f":"CONCATENATE(応募者名簿!D275)","v":""}]
[{"$f":"応募者名簿!$B$8","v":0},{"$f":"CONCATENATE(応募者名簿!$B$11,応募者名簿!$D$11,応募者名簿!$E$11,応募者名簿!$I$11)","v":""},"条幅",{"$f":"CONCATENATE(応募者名簿!A276)","v":""},{"$f":"CONCATENATE(応募者名簿!B276)","v":""},{"$f":"CONCATENATE(応募者名簿!C276)","v":""},{"$f":"CONCATENATE(応募者名簿!D276)","v":""}]
[{"$f":"応募者名簿!$B$8","v":0},{"$f":"CONCATENATE(応募者名簿!$B$11,応募者名簿!$D$11,応募者名簿!$E$11,応募者名簿!$I$11)","v":""},"条幅",{"$f":"CONCATENATE(応募者名簿!A277)","v":""},{"$f":"CONCATENATE(応募者名簿!B277)","v":""},{"$f":"CONCATENATE(応募者名簿!C277)","v":""},{"$f":"CONCATENATE(応募者名簿!D277)","v":""}]
[{"$f":"応募者名簿!$B$8","v":0},{"$f":"CONCATENATE(応募者名簿!$B$11,応募者名簿!$D$11,応募者名簿!$E$11,応募者名簿!$I$11)","v":""},"条幅",{"$f":"CONCATENATE(応募者名簿!A278)","v":""},{"$f":"CONCATENATE(応募者名簿!B278)","v":""},{"$f":"CONCATENATE(応募者名簿!C278)","v":""},{"$f":"CONCATENATE(応募者名簿!D278)","v":""}]
[{"$f":"応募者名簿!$B$8","v":0},{"$f":"CONCATENATE(応募者名簿!$B$11,応募者名簿!$D$11,応募者名簿!$E$11,応募者名簿!$I$11)","v":""},"条幅",{"$f":"CONCATENATE(応募者名簿!A279)","v":""},{"$f":"CONCATENATE(応募者名簿!B279)","v":""},{"$f":"CONCATENATE(応募者名簿!C279)","v":""},{"$f":"CONCATENATE(応募者名簿!D279)","v":""}]
[{"$f":"応募者名簿!$B$8","v":0},{"$f":"CONCATENATE(応募者名簿!$B$11,応募者名簿!$D$11,応募者名簿!$E$11,応募者名簿!$I$11)","v":""},"条幅",{"$f":"CONCATENATE(応募者名簿!A280)","v":""},{"$f":"CONCATENATE(応募者名簿!B280)","v":""},{"$f":"CONCATENATE(応募者名簿!C280)","v":""},{"$f":"CONCATENATE(応募者名簿!D280)","v":""}]
[{"$f":"応募者名簿!$B$8","v":0},{"$f":"CONCATENATE(応募者名簿!$B$11,応募者名簿!$D$11,応募者名簿!$E$11,応募者名簿!$I$11)","v":""},"条幅",{"$f":"CONCATENATE(応募者名簿!A281)","v":""},{"$f":"CONCATENATE(応募者名簿!B281)","v":""},{"$f":"CONCATENATE(応募者名簿!C281)","v":""},{"$f":"CONCATENATE(応募者名簿!D281)","v":""}]
[{"$f":"応募者名簿!$B$8","v":0},{"$f":"CONCATENATE(応募者名簿!$B$11,応募者名簿!$D$11,応募者名簿!$E$11,応募者名簿!$I$11)","v":""},"条幅",{"$f":"CONCATENATE(応募者名簿!A282)","v":""},{"$f":"CONCATENATE(応募者名簿!B282)","v":""},{"$f":"CONCATENATE(応募者名簿!C282)","v":""},{"$f":"CONCATENATE(応募者名簿!D282)","v":""}]
[{"$f":"応募者名簿!$B$8","v":0},{"$f":"CONCATENATE(応募者名簿!$B$11,応募者名簿!$D$11,応募者名簿!$E$11,応募者名簿!$I$11)","v":""},"条幅",{"$f":"CONCATENATE(応募者名簿!A283)","v":""},{"$f":"CONCATENATE(応募者名簿!B283)","v":""},{"$f":"CONCATENATE(応募者名簿!C283)","v":""},{"$f":"CONCATENATE(応募者名簿!D283)","v":""}]
[{"$f":"応募者名簿!$B$8","v":0},{"$f":"CONCATENATE(応募者名簿!$B$11,応募者名簿!$D$11,応募者名簿!$E$11,応募者名簿!$I$11)","v":""},"条幅",{"$f":"CONCATENATE(応募者名簿!A284)","v":""},{"$f":"CONCATENATE(応募者名簿!B284)","v":""},{"$f":"CONCATENATE(応募者名簿!C284)","v":""},{"$f":"CONCATENATE(応募者名簿!D284)","v":""}]
[{"$f":"応募者名簿!$B$8","v":0},{"$f":"CONCATENATE(応募者名簿!$B$11,応募者名簿!$D$11,応募者名簿!$E$11,応募者名簿!$I$11)","v":""},"条幅",{"$f":"CONCATENATE(応募者名簿!A285)","v":""},{"$f":"CONCATENATE(応募者名簿!B285)","v":""},{"$f":"CONCATENATE(応募者名簿!C285)","v":""},{"$f":"CONCATENATE(応募者名簿!D285)","v":""}]
[{"$f":"応募者名簿!$B$8","v":0},{"$f":"CONCATENATE(応募者名簿!$B$11,応募者名簿!$D$11,応募者名簿!$E$11,応募者名簿!$I$11)","v":""},"条幅",{"$f":"CONCATENATE(応募者名簿!A286)","v":""},{"$f":"CONCATENATE(応募者名簿!B286)","v":""},{"$f":"CONCATENATE(応募者名簿!C286)","v":""},{"$f":"CONCATENATE(応募者名簿!D286)","v":""}]
[{"$f":"応募者名簿!$B$8","v":0},{"$f":"CONCATENATE(応募者名簿!$B$11,応募者名簿!$D$11,応募者名簿!$E$11,応募者名簿!$I$11)","v":""},"条幅",{"$f":"CONCATENATE(応募者名簿!A287)","v":""},{"$f":"CONCATENATE(応募者名簿!B287)","v":""},{"$f":"CONCATENATE(応募者名簿!C287)","v":""},{"$f":"CONCATENATE(応募者名簿!D287)","v":""}]
[{"$f":"応募者名簿!$B$8","v":0},{"$f":"CONCATENATE(応募者名簿!$B$11,応募者名簿!$D$11,応募者名簿!$E$11,応募者名簿!$I$11)","v":""},"条幅",{"$f":"CONCATENATE(応募者名簿!A288)","v":""},{"$f":"CONCATENATE(応募者名簿!B288)","v":""},{"$f":"CONCATENATE(応募者名簿!C288)","v":""},{"$f":"CONCATENATE(応募者名簿!D288)","v":""}]
[{"$f":"応募者名簿!$B$8","v":0},{"$f":"CONCATENATE(応募者名簿!$B$11,応募者名簿!$D$11,応募者名簿!$E$11,応募者名簿!$I$11)","v":""},"条幅",{"$f":"CONCATENATE(応募者名簿!A289)","v":""},{"$f":"CONCATENATE(応募者名簿!B289)","v":""},{"$f":"CONCATENATE(応募者名簿!C289)","v":""},{"$f":"CONCATENATE(応募者名簿!D289)","v":""}]
[{"$f":"応募者名簿!$B$8","v":0},{"$f":"CONCATENATE(応募者名簿!$B$11,応募者名簿!$D$11,応募者名簿!$E$11,応募者名簿!$I$11)","v":""},"条幅",{"$f":"CONCATENATE(応募者名簿!A290)","v":""},{"$f":"CONCATENATE(応募者名簿!B290)","v":""},{"$f":"CONCATENATE(応募者名簿!C290)","v":""},{"$f":"CONCATENATE(応募者名簿!D290)","v":""}]
[{"$f":"応募者名簿!$B$8","v":0},{"$f":"CONCATENATE(応募者名簿!$B$11,応募者名簿!$D$11,応募者名簿!$E$11,応募者名簿!$I$11)","v":""},"条幅",{"$f":"CONCATENATE(応募者名簿!A291)","v":""},{"$f":"CONCATENATE(応募者名簿!B291)","v":""},{"$f":"CONCATENATE(応募者名簿!C291)","v":""},{"$f":"CONCATENATE(応募者名簿!D291)","v":""}]
[{"$f":"応募者名簿!$B$8","v":0},{"$f":"CONCATENATE(応募者名簿!$B$11,応募者名簿!$D$11,応募者名簿!$E$11,応募者名簿!$I$11)","v":""},"条幅",{"$f":"CONCATENATE(応募者名簿!A292)","v":""},{"$f":"CONCATENATE(応募者名簿!B292)","v":""},{"$f":"CONCATENATE(応募者名簿!C292)","v":""},{"$f":"CONCATENATE(応募者名簿!D292)","v":""}]
[{"$f":"応募者名簿!$B$8","v":0},{"$f":"CONCATENATE(応募者名簿!$B$11,応募者名簿!$D$11,応募者名簿!$E$11,応募者名簿!$I$11)","v":""},"条幅",{"$f":"CONCATENATE(応募者名簿!A293)","v":""},{"$f":"CONCATENATE(応募者名簿!B293)","v":""},{"$f":"CONCATENATE(応募者名簿!C293)","v":""},{"$f":"CONCATENATE(応募者名簿!D293)","v":""}]
[{"$f":"応募者名簿!$B$8","v":0},{"$f":"CONCATENATE(応募者名簿!$B$11,応募者名簿!$D$11,応募者名簿!$E$11,応募者名簿!$I$11)","v":""},"条幅",{"$f":"CONCATENATE(応募者名簿!A294)","v":""},{"$f":"CONCATENATE(応募者名簿!B294)","v":""},{"$f":"CONCATENATE(応募者名簿!C294)","v":""},{"$f":"CONCATENATE(応募者名簿!D294)","v":""}]
[{"$f":"応募者名簿!$B$8","v":0},{"$f":"CONCATENATE(応募者名簿!$B$11,応募者名簿!$D$11,応募者名簿!$E$11,応募者名簿!$I$11)","v":""},"条幅",{"$f":"CONCATENATE(応募者名簿!A295)","v":""},{"$f":"CONCATENATE(応募者名簿!B295)","v":""},{"$f":"CONCATENATE(応募者名簿!C295)","v":""},{"$f":"CONCATENATE(応募者名簿!D295)","v":""}]
[{"$f":"応募者名簿!$B$8","v":0},{"$f":"CONCATENATE(応募者名簿!$B$11,応募者名簿!$D$11,応募者名簿!$E$11,応募者名簿!$I$11)","v":""},"条幅",{"$f":"CONCATENATE(応募者名簿!A296)","v":""},{"$f":"CONCATENATE(応募者名簿!B296)","v":""},{"$f":"CONCATENATE(応募者名簿!C296)","v":""},{"$f":"CONCATENATE(応募者名簿!D296)","v":""}]
[{"$f":"応募者名簿!$B$8","v":0},{"$f":"CONCATENATE(応募者名簿!$B$11,応募者名簿!$D$11,応募者名簿!$E$11,応募者名簿!$I$11)","v":""},"条幅",{"$f":"CONCATENATE(応募者名簿!A297)","v":""},{"$f":"CONCATENATE(応募者名簿!B297)","v":""},{"$f":"CONCATENATE(応募者名簿!C297)","v":""},{"$f":"CONCATENATE(応募者名簿!D297)","v":""}]
[{"$f":"応募者名簿!$B$8","v":0},{"$f":"CONCATENATE(応募者名簿!$B$11,応募者名簿!$D$11,応募者名簿!$E$11,応募者名簿!$I$11)","v":""},"条幅",{"$f":"CONCATENATE(応募者名簿!A298)","v":""},{"$f":"CONCATENATE(応募者名簿!B298)","v":""},{"$f":"CONCATENATE(応募者名簿!C298)","v":""},{"$f":"CONCATENATE(応募者名簿!D298)","v":""}]
[{"$f":"応募者名簿!$B$8","v":0},{"$f":"CONCATENATE(応募者名簿!$B$11,応募者名簿!$D$11,応募者名簿!$E$11,応募者名簿!$I$11)","v":""},"条幅",{"$f":"CONCATENATE(応募者名簿!A299)","v":""},{"$f":"CONCATENATE(応募者名簿!B299)","v":""},{"$f":"CONCATENATE(応募者名簿!C299)","v":""},{"$f":"CONCATENATE(応募者名簿!D299)","v":""}]
[{"$f":"応募者名簿!$B$8","v":0},{"$f":"CONCATENATE(応募者名簿!$B$11,応募者名簿!$D$11,応募者名簿!$E$11,応募者名簿!$I$11)","v":""},"条幅",{"$f":"CONCATENATE(応募者名簿!A300)","v":""},{"$f":"CONCATENATE(応募者名簿!B300)","v":""},{"$f":"CONCATENATE(応募者名簿!C300)","v":""},{"$f":"CONCATENATE(応募者名簿!D300)","v":""}]
[{"$f":"応募者名簿!$B$8","v":0},{"$f":"CONCATENATE(応募者名簿!$B$11,応募者名簿!$D$11,応募者名簿!$E$11,応募者名簿!$I$11)","v":""},"条幅",{"$f":"CONCATENATE(応募者名簿!A301)","v":""},{"$f":"CONCATENATE(応募者名簿!B301)","v":""},{"$f":"CONCATENATE(応募者名簿!C301)","v":""},{"$f":"CONCATENATE(応募者名簿!D301)","v":""}]
[{"$f":"応募者名簿!$B$8","v":0},{"$f":"CONCATENATE(応募者名簿!$B$11,応募者名簿!$D$11,応募者名簿!$E$11,応募者名簿!$I$11)","v":""},"条幅",{"$f":"CONCATENATE(応募者名簿!A302)","v":""},{"$f":"CONCATENATE(応募者名簿!B302)","v":""},{"$f":"CONCATENATE(応募者名簿!C302)","v":""},{"$f":"CONCATENATE(応募者名簿!D302)","v":""}]
[{"$f":"応募者名簿!$B$8","v":0},{"$f":"CONCATENATE(応募者名簿!$B$11,応募者名簿!$D$11,応募者名簿!$E$11,応募者名簿!$I$11)","v":""},"条幅",{"$f":"CONCATENATE(応募者名簿!A303)","v":""},{"$f":"CONCATENATE(応募者名簿!B303)","v":""},{"$f":"CONCATENATE(応募者名簿!C303)","v":""},{"$f":"CONCATENATE(応募者名簿!D303)","v":""}]
[{"$f":"応募者名簿!$B$8","v":0},{"$f":"CONCATENATE(応募者名簿!$B$11,応募者名簿!$D$11,応募者名簿!$E$11,応募者名簿!$I$11)","v":""},"条幅",{"$f":"CONCATENATE(応募者名簿!A304)","v":""},{"$f":"CONCATENATE(応募者名簿!B304)","v":""},{"$f":"CONCATENATE(応募者名簿!C304)","v":""},{"$f":"CONCATENATE(応募者名簿!D304)","v":""}]
[{"$f":"応募者名簿!$B$8","v":0},{"$f":"CONCATENATE(応募者名簿!$B$11,応募者名簿!$D$11,応募者名簿!$E$11,応募者名簿!$I$11)","v":""},"条幅",{"$f":"CONCATENATE(応募者名簿!A305)","v":""},{"$f":"CONCATENATE(応募者名簿!B305)","v":""},{"$f":"CONCATENATE(応募者名簿!C305)","v":""},{"$f":"CONCATENATE(応募者名簿!D305)","v":""}]
[{"$f":"応募者名簿!$B$8","v":0},{"$f":"CONCATENATE(応募者名簿!$B$11,応募者名簿!$D$11,応募者名簿!$E$11,応募者名簿!$I$11)","v":""},"条幅",{"$f":"CONCATENATE(応募者名簿!A306)","v":""},{"$f":"CONCATENATE(応募者名簿!B306)","v":""},{"$f":"CONCATENATE(応募者名簿!C306)","v":""},{"$f":"CONCATENATE(応募者名簿!D306)","v":""}]
[{"$f":"応募者名簿!$B$8","v":0},{"$f":"CONCATENATE(応募者名簿!$B$11,応募者名簿!$D$11,応募者名簿!$E$11,応募者名簿!$I$11)","v":""},"条幅",{"$f":"CONCATENATE(応募者名簿!A307)","v":""},{"$f":"CONCATENATE(応募者名簿!B307)","v":""},{"$f":"CONCATENATE(応募者名簿!C307)","v":""},{"$f":"CONCATENATE(応募者名簿!D307)","v":""}]
[{"$f":"応募者名簿!$B$8","v":0},{"$f":"CONCATENATE(応募者名簿!$B$11,応募者名簿!$D$11,応募者名簿!$E$11,応募者名簿!$I$11)","v":""},"条幅",{"$f":"CONCATENATE(応募者名簿!A308)","v":""},{"$f":"CONCATENATE(応募者名簿!B308)","v":""},{"$f":"CONCATENATE(応募者名簿!C308)","v":""},{"$f":"CONCATENATE(応募者名簿!D308)","v":""}]
[{"$f":"応募者名簿!$B$8","v":0},{"$f":"CONCATENATE(応募者名簿!$B$11,応募者名簿!$D$11,応募者名簿!$E$11,応募者名簿!$I$11)","v":""},"条幅",{"$f":"CONCATENATE(応募者名簿!A309)","v":""},{"$f":"CONCATENATE(応募者名簿!B309)","v":""},{"$f":"CONCATENATE(応募者名簿!C309)","v":""},{"$f":"CONCATENATE(応募者名簿!D309)","v":""}]
[{"$f":"応募者名簿!$B$8","v":0},{"$f":"CONCATENATE(応募者名簿!$B$11,応募者名簿!$D$11,応募者名簿!$E$11,応募者名簿!$I$11)","v":""},"条幅",{"$f":"CONCATENATE(応募者名簿!A310)","v":""},{"$f":"CONCATENATE(応募者名簿!B310)","v":""},{"$f":"CONCATENATE(応募者名簿!C310)","v":""},{"$f":"CONCATENATE(応募者名簿!D310)","v":""}]
[{"$f":"応募者名簿!$B$8","v":0},{"$f":"CONCATENATE(応募者名簿!$B$11,応募者名簿!$D$11,応募者名簿!$E$11,応募者名簿!$I$11)","v":""},"条幅",{"$f":"CONCATENATE(応募者名簿!A311)","v":""},{"$f":"CONCATENATE(応募者名簿!B311)","v":""},{"$f":"CONCATENATE(応募者名簿!C311)","v":""},{"$f":"CONCATENATE(応募者名簿!D311)","v":""}]
[{"$f":"応募者名簿!$B$8","v":0},{"$f":"CONCATENATE(応募者名簿!$B$11,応募者名簿!$D$11,応募者名簿!$E$11,応募者名簿!$I$11)","v":""},"条幅",{"$f":"CONCATENATE(応募者名簿!A312)","v":""},{"$f":"CONCATENATE(応募者名簿!B312)","v":""},{"$f":"CONCATENATE(応募者名簿!C312)","v":""},{"$f":"CONCATENATE(応募者名簿!D312)","v":""}]
[{"$f":"応募者名簿!$B$8","v":0},{"$f":"CONCATENATE(応募者名簿!$B$11,応募者名簿!$D$11,応募者名簿!$E$11,応募者名簿!$I$11)","v":""},"条幅",{"$f":"CONCATENATE(応募者名簿!A313)","v":""},{"$f":"CONCATENATE(応募者名簿!B313)","v":""},{"$f":"CONCATENATE(応募者名簿!C313)","v":""},{"$f":"CONCATENATE(応募者名簿!D313)","v":""}]
[{"$f":"応募者名簿!$B$8","v":0},{"$f":"CONCATENATE(応募者名簿!$B$11,応募者名簿!$D$11,応募者名簿!$E$11,応募者名簿!$I$11)","v":""},"条幅",{"$f":"CONCATENATE(応募者名簿!A314)","v":""},{"$f":"CONCATENATE(応募者名簿!B314)","v":""},{"$f":"CONCATENATE(応募者名簿!C314)","v":""},{"$f":"CONCATENATE(応募者名簿!D314)","v":""}]
[{"$f":"応募者名簿!$B$8","v":0},{"$f":"CONCATENATE(応募者名簿!$B$11,応募者名簿!$D$11,応募者名簿!$E$11,応募者名簿!$I$11)","v":""},"条幅",{"$f":"CONCATENATE(応募者名簿!A315)","v":""},{"$f":"CONCATENATE(応募者名簿!B315)","v":""},{"$f":"CONCATENATE(応募者名簿!C315)","v":""},{"$f":"CONCATENATE(応募者名簿!D315)","v":""}]
[{"$f":"応募者名簿!$B$8","v":0},{"$f":"CONCATENATE(応募者名簿!$B$11,応募者名簿!$D$11,応募者名簿!$E$11,応募者名簿!$I$11)","v":""},"条幅",{"$f":"CONCATENATE(応募者名簿!A316)","v":""},{"$f":"CONCATENATE(応募者名簿!B316)","v":""},{"$f":"CONCATENATE(応募者名簿!C316)","v":""},{"$f":"CONCATENATE(応募者名簿!D316)","v":""}]
[{"$f":"応募者名簿!$B$8","v":0},{"$f":"CONCATENATE(応募者名簿!$B$11,応募者名簿!$D$11,応募者名簿!$E$11,応募者名簿!$I$11)","v":""},"条幅",{"$f":"CONCATENATE(応募者名簿!A317)","v":""},{"$f":"CONCATENATE(応募者名簿!B317)","v":""},{"$f":"CONCATENATE(応募者名簿!C317)","v":""},{"$f":"CONCATENATE(応募者名簿!D317)","v":""}]
[{"$f":"応募者名簿!$B$8","v":0},{"$f":"CONCATENATE(応募者名簿!$B$11,応募者名簿!$D$11,応募者名簿!$E$11,応募者名簿!$I$11)","v":""},"条幅",{"$f":"CONCATENATE(応募者名簿!A318)","v":""},{"$f":"CONCATENATE(応募者名簿!B318)","v":""},{"$f":"CONCATENATE(応募者名簿!C318)","v":""},{"$f":"CONCATENATE(応募者名簿!D318)","v":""}]
[{"$f":"応募者名簿!$B$8","v":0},{"$f":"CONCATENATE(応募者名簿!$B$11,応募者名簿!$D$11,応募者名簿!$E$11,応募者名簿!$I$11)","v":""},"条幅",{"$f":"CONCATENATE(応募者名簿!A319)","v":""},{"$f":"CONCATENATE(応募者名簿!B319)","v":""},{"$f":"CONCATENATE(応募者名簿!C319)","v":""},{"$f":"CONCATENATE(応募者名簿!D319)","v":""}]
[{"$f":"応募者名簿!$B$8","v":0},{"$f":"CONCATENATE(応募者名簿!$B$11,応募者名簿!$D$11,応募者名簿!$E$11,応募者名簿!$I$11)","v":""},"条幅",{"$f":"CONCATENATE(応募者名簿!A320)","v":""},{"$f":"CONCATENATE(応募者名簿!B320)","v":""},{"$f":"CONCATENATE(応募者名簿!C320)","v":""},{"$f":"CONCATENATE(応募者名簿!D320)","v":""}]
[{"$f":"応募者名簿!$B$8","v":0},{"$f":"CONCATENATE(応募者名簿!$B$11,応募者名簿!$D$11,応募者名簿!$E$11,応募者名簿!$I$11)","v":""},"条幅",{"$f":"CONCATENATE(応募者名簿!A321)","v":""},{"$f":"CONCATENATE(応募者名簿!B321)","v":""},{"$f":"CONCATENATE(応募者名簿!C321)","v":""},{"$f":"CONCATENATE(応募者名簿!D321)","v":""}]
[{"$f":"応募者名簿!$B$8","v":0},{"$f":"CONCATENATE(応募者名簿!$B$11,応募者名簿!$D$11,応募者名簿!$E$11,応募者名簿!$I$11)","v":""},"条幅",{"$f":"CONCATENATE(応募者名簿!A322)","v":""},{"$f":"CONCATENATE(応募者名簿!B322)","v":""},{"$f":"CONCATENATE(応募者名簿!C322)","v":""},{"$f":"CONCATENATE(応募者名簿!D322)","v":""}]
[{"$f":"応募者名簿!$B$8","v":0},{"$f":"CONCATENATE(応募者名簿!$B$11,応募者名簿!$D$11,応募者名簿!$E$11,応募者名簿!$I$11)","v":""},"条幅",{"$f":"CONCATENATE(応募者名簿!A323)","v":""},{"$f":"CONCATENATE(応募者名簿!B323)","v":""},{"$f":"CONCATENATE(応募者名簿!C323)","v":""},{"$f":"CONCATENATE(応募者名簿!D323)","v":""}]
[{"$f":"応募者名簿!$B$8","v":0},{"$f":"CONCATENATE(応募者名簿!$B$11,応募者名簿!$D$11,応募者名簿!$E$11,応募者名簿!$I$11)","v":""},"条幅",{"$f":"CONCATENATE(応募者名簿!A324)","v":""},{"$f":"CONCATENATE(応募者名簿!B324)","v":""},{"$f":"CONCATENATE(応募者名簿!C324)","v":""},{"$f":"CONCATENATE(応募者名簿!D324)","v":""}]
[{"$f":"応募者名簿!$B$8","v":0},{"$f":"CONCATENATE(応募者名簿!$B$11,応募者名簿!$D$11,応募者名簿!$E$11,応募者名簿!$I$11)","v":""},"条幅",{"$f":"CONCATENATE(応募者名簿!A325)","v":""},{"$f":"CONCATENATE(応募者名簿!B325)","v":""},{"$f":"CONCATENATE(応募者名簿!C325)","v":""},{"$f":"CONCATENATE(応募者名簿!D325)","v":""}]
[{"$f":"応募者名簿!$B$8","v":0},{"$f":"CONCATENATE(応募者名簿!$B$11,応募者名簿!$D$11,応募者名簿!$E$11,応募者名簿!$I$11)","v":""},"条幅",{"$f":"CONCATENATE(応募者名簿!A326)","v":""},{"$f":"CONCATENATE(応募者名簿!B326)","v":""},{"$f":"CONCATENATE(応募者名簿!C326)","v":""},{"$f":"CONCATENATE(応募者名簿!D326)","v":""}]
[{"$f":"応募者名簿!$B$8","v":0},{"$f":"CONCATENATE(応募者名簿!$B$11,応募者名簿!$D$11,応募者名簿!$E$11,応募者名簿!$I$11)","v":""},"条幅",{"$f":"CONCATENATE(応募者名簿!A327)","v":""},{"$f":"CONCATENATE(応募者名簿!B327)","v":""},{"$f":"CONCATENATE(応募者名簿!C327)","v":""},{"$f":"CONCATENATE(応募者名簿!D327)","v":""}]
[{"$f":"応募者名簿!$B$8","v":0},{"$f":"CONCATENATE(応募者名簿!$B$11,応募者名簿!$D$11,応募者名簿!$E$11,応募者名簿!$I$11)","v":""},"条幅",{"$f":"CONCATENATE(応募者名簿!A328)","v":""},{"$f":"CONCATENATE(応募者名簿!B328)","v":""},{"$f":"CONCATENATE(応募者名簿!C328)","v":""},{"$f":"CONCATENATE(応募者名簿!D328)","v":""}]
[{"$f":"応募者名簿!$B$8","v":0},{"$f":"CONCATENATE(応募者名簿!$B$11,応募者名簿!$D$11,応募者名簿!$E$11,応募者名簿!$I$11)","v":""},"条幅",{"$f":"CONCATENATE(応募者名簿!A329)","v":""},{"$f":"CONCATENATE(応募者名簿!B329)","v":""},{"$f":"CONCATENATE(応募者名簿!C329)","v":""},{"$f":"CONCATENATE(応募者名簿!D329)","v":""}]
[{"$f":"応募者名簿!$B$8","v":0},{"$f":"CONCATENATE(応募者名簿!$B$11,応募者名簿!$D$11,応募者名簿!$E$11,応募者名簿!$I$11)","v":""},"条幅",{"$f":"CONCATENATE(応募者名簿!A330)","v":""},{"$f":"CONCATENATE(応募者名簿!B330)","v":""},{"$f":"CONCATENATE(応募者名簿!C330)","v":""},{"$f":"CONCATENATE(応募者名簿!D330)","v":""}]
[{"$f":"応募者名簿!$B$8","v":0},{"$f":"CONCATENATE(応募者名簿!$B$11,応募者名簿!$D$11,応募者名簿!$E$11,応募者名簿!$I$11)","v":""},"条幅",{"$f":"CONCATENATE(応募者名簿!A331)","v":""},{"$f":"CONCATENATE(応募者名簿!B331)","v":""},{"$f":"CONCATENATE(応募者名簿!C331)","v":""},{"$f":"CONCATENATE(応募者名簿!D331)","v":""}]
[{"$f":"応募者名簿!$B$8","v":0},{"$f":"CONCATENATE(応募者名簿!$B$11,応募者名簿!$D$11,応募者名簿!$E$11,応募者名簿!$I$11)","v":""},"条幅",{"$f":"CONCATENATE(応募者名簿!A332)","v":""},{"$f":"CONCATENATE(応募者名簿!B332)","v":""},{"$f":"CONCATENATE(応募者名簿!C332)","v":""},{"$f":"CONCATENATE(応募者名簿!D332)","v":""}]
[{"$f":"応募者名簿!$B$8","v":0},{"$f":"CONCATENATE(応募者名簿!$B$11,応募者名簿!$D$11,応募者名簿!$E$11,応募者名簿!$I$11)","v":""},"条幅",{"$f":"CONCATENATE(応募者名簿!A333)","v":""},{"$f":"CONCATENATE(応募者名簿!B333)","v":""},{"$f":"CONCATENATE(応募者名簿!C333)","v":""},{"$f":"CONCATENATE(応募者名簿!D333)","v":""}]
[{"$f":"応募者名簿!$B$8","v":0},{"$f":"CONCATENATE(応募者名簿!$B$11,応募者名簿!$D$11,応募者名簿!$E$11,応募者名簿!$I$11)","v":""},"条幅",{"$f":"CONCATENATE(応募者名簿!A334)","v":""},{"$f":"CONCATENATE(応募者名簿!B334)","v":""},{"$f":"CONCATENATE(応募者名簿!C334)","v":""},{"$f":"CONCATENATE(応募者名簿!D334)","v":""}]
[{"$f":"応募者名簿!$B$8","v":0},{"$f":"CONCATENATE(応募者名簿!$B$11,応募者名簿!$D$11,応募者名簿!$E$11,応募者名簿!$I$11)","v":""},"条幅",{"$f":"CONCATENATE(応募者名簿!A335)","v":""},{"$f":"CONCATENATE(応募者名簿!B335)","v":""},{"$f":"CONCATENATE(応募者名簿!C335)","v":""},{"$f":"CONCATENATE(応募者名簿!D335)","v":""}]
[{"$f":"応募者名簿!$B$8","v":0},{"$f":"CONCATENATE(応募者名簿!$B$11,応募者名簿!$D$11,応募者名簿!$E$11,応募者名簿!$I$11)","v":""},"条幅",{"$f":"CONCATENATE(応募者名簿!A336)","v":""},{"$f":"CONCATENATE(応募者名簿!B336)","v":""},{"$f":"CONCATENATE(応募者名簿!C336)","v":""},{"$f":"CONCATENATE(応募者名簿!D336)","v":""}]
[{"$f":"応募者名簿!$B$8","v":0},{"$f":"CONCATENATE(応募者名簿!$B$11,応募者名簿!$D$11,応募者名簿!$E$11,応募者名簿!$I$11)","v":""},"条幅",{"$f":"CONCATENATE(応募者名簿!A337)","v":""},{"$f":"CONCATENATE(応募者名簿!B337)","v":""},{"$f":"CONCATENATE(応募者名簿!C337)","v":""},{"$f":"CONCATENATE(応募者名簿!D337)","v":""}]
[{"$f":"応募者名簿!$B$8","v":0},{"$f":"CONCATENATE(応募者名簿!$B$11,応募者名簿!$D$11,応募者名簿!$E$11,応募者名簿!$I$11)","v":""},"条幅",{"$f":"CONCATENATE(応募者名簿!A338)","v":""},{"$f":"CONCATENATE(応募者名簿!B338)","v":""},{"$f":"CONCATENATE(応募者名簿!C338)","v":""},{"$f":"CONCATENATE(応募者名簿!D338)","v":""}]
[{"$f":"応募者名簿!$B$8","v":0},{"$f":"CONCATENATE(応募者名簿!$B$11,応募者名簿!$D$11,応募者名簿!$E$11,応募者名簿!$I$11)","v":""},"条幅",{"$f":"CONCATENATE(応募者名簿!A339)","v":""},{"$f":"CONCATENATE(応募者名簿!B339)","v":""},{"$f":"CONCATENATE(応募者名簿!C339)","v":""},{"$f":"CONCATENATE(応募者名簿!D339)","v":""}]
[{"$f":"応募者名簿!$B$8","v":0},{"$f":"CONCATENATE(応募者名簿!$B$11,応募者名簿!$D$11,応募者名簿!$E$11,応募者名簿!$I$11)","v":""},"条幅",{"$f":"CONCATENATE(応募者名簿!A340)","v":""},{"$f":"CONCATENATE(応募者名簿!B340)","v":""},{"$f":"CONCATENATE(応募者名簿!C340)","v":""},{"$f":"CONCATENATE(応募者名簿!D340)","v":""}]
[{"$f":"応募者名簿!$B$8","v":0},{"$f":"CONCATENATE(応募者名簿!$B$11,応募者名簿!$D$11,応募者名簿!$E$11,応募者名簿!$I$11)","v":""},"条幅",{"$f":"CONCATENATE(応募者名簿!A341)","v":""},{"$f":"CONCATENATE(応募者名簿!B341)","v":""},{"$f":"CONCATENATE(応募者名簿!C341)","v":""},{"$f":"CONCATENATE(応募者名簿!D341)","v":""}]
[{"$f":"応募者名簿!$B$8","v":0},{"$f":"CONCATENATE(応募者名簿!$B$11,応募者名簿!$D$11,応募者名簿!$E$11,応募者名簿!$I$11)","v":""},"条幅",{"$f":"CONCATENATE(応募者名簿!A342)","v":""},{"$f":"CONCATENATE(応募者名簿!B342)","v":""},{"$f":"CONCATENATE(応募者名簿!C342)","v":""},{"$f":"CONCATENATE(応募者名簿!D342)","v":""}]
[{"$f":"応募者名簿!$B$8","v":0},{"$f":"CONCATENATE(応募者名簿!$B$11,応募者名簿!$D$11,応募者名簿!$E$11,応募者名簿!$I$11)","v":""},"条幅",{"$f":"CONCATENATE(応募者名簿!A343)","v":""},{"$f":"CONCATENATE(応募者名簿!B343)","v":""},{"$f":"CONCATENATE(応募者名簿!C343)","v":""},{"$f":"CONCATENATE(応募者名簿!D343)","v":""}]
[{"$f":"応募者名簿!$B$8","v":0},{"$f":"CONCATENATE(応募者名簿!$B$11,応募者名簿!$D$11,応募者名簿!$E$11,応募者名簿!$I$11)","v":""},"条幅",{"$f":"CONCATENATE(応募者名簿!A344)","v":""},{"$f":"CONCATENATE(応募者名簿!B344)","v":""},{"$f":"CONCATENATE(応募者名簿!C344)","v":""},{"$f":"CONCATENATE(応募者名簿!D344)","v":""}]
[{"$f":"応募者名簿!$B$8","v":0},{"$f":"CONCATENATE(応募者名簿!$B$11,応募者名簿!$D$11,応募者名簿!$E$11,応募者名簿!$I$11)","v":""},"条幅",{"$f":"CONCATENATE(応募者名簿!A345)","v":""},{"$f":"CONCATENATE(応募者名簿!B345)","v":""},{"$f":"CONCATENATE(応募者名簿!C345)","v":""},{"$f":"CONCATENATE(応募者名簿!D345)","v":""}]
[{"$f":"応募者名簿!$B$8","v":0},{"$f":"CONCATENATE(応募者名簿!$B$11,応募者名簿!$D$11,応募者名簿!$E$11,応募者名簿!$I$11)","v":""},"条幅",{"$f":"CONCATENATE(応募者名簿!A346)","v":""},{"$f":"CONCATENATE(応募者名簿!B346)","v":""},{"$f":"CONCATENATE(応募者名簿!C346)","v":""},{"$f":"CONCATENATE(応募者名簿!D346)","v":""}]
[{"$f":"応募者名簿!$B$8","v":0},{"$f":"CONCATENATE(応募者名簿!$B$11,応募者名簿!$D$11,応募者名簿!$E$11,応募者名簿!$I$11)","v":""},"条幅",{"$f":"CONCATENATE(応募者名簿!A347)","v":""},{"$f":"CONCATENATE(応募者名簿!B347)","v":""},{"$f":"CONCATENATE(応募者名簿!C347)","v":""},{"$f":"CONCATENATE(応募者名簿!D347)","v":""}]
[{"$f":"応募者名簿!$B$8","v":0},{"$f":"CONCATENATE(応募者名簿!$B$11,応募者名簿!$D$11,応募者名簿!$E$11,応募者名簿!$I$11)","v":""},"条幅",{"$f":"CONCATENATE(応募者名簿!A348)","v":""},{"$f":"CONCATENATE(応募者名簿!B348)","v":""},{"$f":"CONCATENATE(応募者名簿!C348)","v":""},{"$f":"CONCATENATE(応募者名簿!D348)","v":""}]
[{"$f":"応募者名簿!$B$8","v":0},{"$f":"CONCATENATE(応募者名簿!$B$11,応募者名簿!$D$11,応募者名簿!$E$11,応募者名簿!$I$11)","v":""},"条幅",{"$f":"CONCATENATE(応募者名簿!A349)","v":""},{"$f":"CONCATENATE(応募者名簿!B349)","v":""},{"$f":"CONCATENATE(応募者名簿!C349)","v":""},{"$f":"CONCATENATE(応募者名簿!D349)","v":""}]
[{"$f":"応募者名簿!$B$8","v":0},{"$f":"CONCATENATE(応募者名簿!$B$11,応募者名簿!$D$11,応募者名簿!$E$11,応募者名簿!$I$11)","v":""},"条幅",{"$f":"CONCATENATE(応募者名簿!A350)","v":""},{"$f":"CONCATENATE(応募者名簿!B350)","v":""},{"$f":"CONCATENATE(応募者名簿!C350)","v":""},{"$f":"CONCATENATE(応募者名簿!D350)","v":""}]
[{"$f":"応募者名簿!$B$8","v":0},{"$f":"CONCATENATE(応募者名簿!$B$11,応募者名簿!$D$11,応募者名簿!$E$11,応募者名簿!$I$11)","v":""},"条幅",{"$f":"CONCATENATE(応募者名簿!A351)","v":""},{"$f":"CONCATENATE(応募者名簿!B351)","v":""},{"$f":"CONCATENATE(応募者名簿!C351)","v":""},{"$f":"CONCATENATE(応募者名簿!D351)","v":""}]
[{"$f":"応募者名簿!$B$8","v":0},{"$f":"CONCATENATE(応募者名簿!$B$11,応募者名簿!$D$11,応募者名簿!$E$11,応募者名簿!$I$11)","v":""},"条幅",{"$f":"CONCATENATE(応募者名簿!A352)","v":""},{"$f":"CONCATENATE(応募者名簿!B352)","v":""},{"$f":"CONCATENATE(応募者名簿!C352)","v":""},{"$f":"CONCATENATE(応募者名簿!D352)","v":""}]
[{"$f":"応募者名簿!$B$8","v":0},{"$f":"CONCATENATE(応募者名簿!$B$11,応募者名簿!$D$11,応募者名簿!$E$11,応募者名簿!$I$11)","v":""},"条幅",{"$f":"CONCATENATE(応募者名簿!A353)","v":""},{"$f":"CONCATENATE(応募者名簿!B353)","v":""},{"$f":"CONCATENATE(応募者名簿!C353)","v":""},{"$f":"CONCATENATE(応募者名簿!D353)","v":""}]
[{"$f":"応募者名簿!$B$8","v":0},{"$f":"CONCATENATE(応募者名簿!$B$11,応募者名簿!$D$11,応募者名簿!$E$11,応募者名簿!$I$11)","v":""},"条幅",{"$f":"CONCATENATE(応募者名簿!A354)","v":""},{"$f":"CONCATENATE(応募者名簿!B354)","v":""},{"$f":"CONCATENATE(応募者名簿!C354)","v":""},{"$f":"CONCATENATE(応募者名簿!D354)","v":""}]
[{"$f":"応募者名簿!$B$8","v":0},{"$f":"CONCATENATE(応募者名簿!$B$11,応募者名簿!$D$11,応募者名簿!$E$11,応募者名簿!$I$11)","v":""},"条幅",{"$f":"CONCATENATE(応募者名簿!A355)","v":""},{"$f":"CONCATENATE(応募者名簿!B355)","v":""},{"$f":"CONCATENATE(応募者名簿!C355)","v":""},{"$f":"CONCATENATE(応募者名簿!D355)","v":""}]
[{"$f":"応募者名簿!$B$8","v":0},{"$f":"CONCATENATE(応募者名簿!$B$11,応募者名簿!$D$11,応募者名簿!$E$11,応募者名簿!$I$11)","v":""},"条幅",{"$f":"CONCATENATE(応募者名簿!A356)","v":""},{"$f":"CONCATENATE(応募者名簿!B356)","v":""},{"$f":"CONCATENATE(応募者名簿!C356)","v":""},{"$f":"CONCATENATE(応募者名簿!D356)","v":""}]
[{"$f":"応募者名簿!$B$8","v":0},{"$f":"CONCATENATE(応募者名簿!$B$11,応募者名簿!$D$11,応募者名簿!$E$11,応募者名簿!$I$11)","v":""},"条幅",{"$f":"CONCATENATE(応募者名簿!A357)","v":""},{"$f":"CONCATENATE(応募者名簿!B357)","v":""},{"$f":"CONCATENATE(応募者名簿!C357)","v":""},{"$f":"CONCATENATE(応募者名簿!D357)","v":""}]
[{"$f":"応募者名簿!$B$8","v":0},{"$f":"CONCATENATE(応募者名簿!$B$11,応募者名簿!$D$11,応募者名簿!$E$11,応募者名簿!$I$11)","v":""},"条幅",{"$f":"CONCATENATE(応募者名簿!A358)","v":""},{"$f":"CONCATENATE(応募者名簿!B358)","v":""},{"$f":"CONCATENATE(応募者名簿!C358)","v":""},{"$f":"CONCATENATE(応募者名簿!D358)","v":""}]
[{"$f":"応募者名簿!$B$8","v":0},{"$f":"CONCATENATE(応募者名簿!$B$11,応募者名簿!$D$11,応募者名簿!$E$11,応募者名簿!$I$11)","v":""},"条幅",{"$f":"CONCATENATE(応募者名簿!A359)","v":""},{"$f":"CONCATENATE(応募者名簿!B359)","v":""},{"$f":"CONCATENATE(応募者名簿!C359)","v":""},{"$f":"CONCATENATE(応募者名簿!D359)","v":""}]
[{"$f":"応募者名簿!$B$8","v":0},{"$f":"CONCATENATE(応募者名簿!$B$11,応募者名簿!$D$11,応募者名簿!$E$11,応募者名簿!$I$11)","v":""},"条幅",{"$f":"CONCATENATE(応募者名簿!A360)","v":""},{"$f":"CONCATENATE(応募者名簿!B360)","v":""},{"$f":"CONCATENATE(応募者名簿!C360)","v":""},{"$f":"CONCATENATE(応募者名簿!D360)","v":""}]
[{"$f":"応募者名簿!$B$8","v":0},{"$f":"CONCATENATE(応募者名簿!$B$11,応募者名簿!$D$11,応募者名簿!$E$11,応募者名簿!$I$11)","v":""},"条幅",{"$f":"CONCATENATE(応募者名簿!A361)","v":""},{"$f":"CONCATENATE(応募者名簿!B361)","v":""},{"$f":"CONCATENATE(応募者名簿!C361)","v":""},{"$f":"CONCATENATE(応募者名簿!D361)","v":""}]
[{"$f":"応募者名簿!$B$8","v":0},{"$f":"CONCATENATE(応募者名簿!$B$11,応募者名簿!$D$11,応募者名簿!$E$11,応募者名簿!$I$11)","v":""},"条幅",{"$f":"CONCATENATE(応募者名簿!A362)","v":""},{"$f":"CONCATENATE(応募者名簿!B362)","v":""},{"$f":"CONCATENATE(応募者名簿!C362)","v":""},{"$f":"CONCATENATE(応募者名簿!D362)","v":""}]
[{"$f":"応募者名簿!$B$8","v":0},{"$f":"CONCATENATE(応募者名簿!$B$11,応募者名簿!$D$11,応募者名簿!$E$11,応募者名簿!$I$11)","v":""},"条幅",{"$f":"CONCATENATE(応募者名簿!A363)","v":""},{"$f":"CONCATENATE(応募者名簿!B363)","v":""},{"$f":"CONCATENATE(応募者名簿!C363)","v":""},{"$f":"CONCATENATE(応募者名簿!D363)","v":""}]
[{"$f":"応募者名簿!$B$8","v":0},{"$f":"CONCATENATE(応募者名簿!$B$11,応募者名簿!$D$11,応募者名簿!$E$11,応募者名簿!$I$11)","v":""},"条幅",{"$f":"CONCATENATE(応募者名簿!A364)","v":""},{"$f":"CONCATENATE(応募者名簿!B364)","v":""},{"$f":"CONCATENATE(応募者名簿!C364)","v":""},{"$f":"CONCATENATE(応募者名簿!D364)","v":""}]
[{"$f":"応募者名簿!$B$8","v":0},{"$f":"CONCATENATE(応募者名簿!$B$11,応募者名簿!$D$11,応募者名簿!$E$11,応募者名簿!$I$11)","v":""},"条幅",{"$f":"CONCATENATE(応募者名簿!A365)","v":""},{"$f":"CONCATENATE(応募者名簿!B365)","v":""},{"$f":"CONCATENATE(応募者名簿!C365)","v":""},{"$f":"CONCATENATE(応募者名簿!D365)","v":""}]
[{"$f":"応募者名簿!$B$8","v":0},{"$f":"CONCATENATE(応募者名簿!$B$11,応募者名簿!$D$11,応募者名簿!$E$11,応募者名簿!$I$11)","v":""},"条幅",{"$f":"CONCATENATE(応募者名簿!A366)","v":""},{"$f":"CONCATENATE(応募者名簿!B366)","v":""},{"$f":"CONCATENATE(応募者名簿!C366)","v":""},{"$f":"CONCATENATE(応募者名簿!D366)","v":""}]
[{"$f":"応募者名簿!$B$8","v":0},{"$f":"CONCATENATE(応募者名簿!$B$11,応募者名簿!$D$11,応募者名簿!$E$11,応募者名簿!$I$11)","v":""},"条幅",{"$f":"CONCATENATE(応募者名簿!A367)","v":""},{"$f":"CONCATENATE(応募者名簿!B367)","v":""},{"$f":"CONCATENATE(応募者名簿!C367)","v":""},{"$f":"CONCATENATE(応募者名簿!D367)","v":""}]
[{"$f":"応募者名簿!$B$8","v":0},{"$f":"CONCATENATE(応募者名簿!$B$11,応募者名簿!$D$11,応募者名簿!$E$11,応募者名簿!$I$11)","v":""},"条幅",{"$f":"CONCATENATE(応募者名簿!A368)","v":""},{"$f":"CONCATENATE(応募者名簿!B368)","v":""},{"$f":"CONCATENATE(応募者名簿!C368)","v":""},{"$f":"CONCATENATE(応募者名簿!D368)","v":""}]
[{"$f":"応募者名簿!$B$8","v":0},{"$f":"CONCATENATE(応募者名簿!$B$11,応募者名簿!$D$11,応募者名簿!$E$11,応募者名簿!$I$11)","v":""},"条幅",{"$f":"CONCATENATE(応募者名簿!A369)","v":""},{"$f":"CONCATENATE(応募者名簿!B369)","v":""},{"$f":"CONCATENATE(応募者名簿!C369)","v":""},{"$f":"CONCATENATE(応募者名簿!D369)","v":""}]
[{"$f":"応募者名簿!$B$8","v":0},{"$f":"CONCATENATE(応募者名簿!$B$11,応募者名簿!$D$11,応募者名簿!$E$11,応募者名簿!$I$11)","v":""},"条幅",{"$f":"CONCATENATE(応募者名簿!A370)","v":""},{"$f":"CONCATENATE(応募者名簿!B370)","v":""},{"$f":"CONCATENATE(応募者名簿!C370)","v":""},{"$f":"CONCATENATE(応募者名簿!D370)","v":""}]
[{"$f":"応募者名簿!$B$8","v":0},{"$f":"CONCATENATE(応募者名簿!$B$11,応募者名簿!$D$11,応募者名簿!$E$11,応募者名簿!$I$11)","v":""},"条幅",{"$f":"CONCATENATE(応募者名簿!A371)","v":""},{"$f":"CONCATENATE(応募者名簿!B371)","v":""},{"$f":"CONCATENATE(応募者名簿!C371)","v":""},{"$f":"CONCATENATE(応募者名簿!D371)","v":""}]
[{"$f":"応募者名簿!$B$8","v":0},{"$f":"CONCATENATE(応募者名簿!$B$11,応募者名簿!$D$11,応募者名簿!$E$11,応募者名簿!$I$11)","v":""},"条幅",{"$f":"CONCATENATE(応募者名簿!A372)","v":""},{"$f":"CONCATENATE(応募者名簿!B372)","v":""},{"$f":"CONCATENATE(応募者名簿!C372)","v":""},{"$f":"CONCATENATE(応募者名簿!D372)","v":""}]
[{"$f":"応募者名簿!$B$8","v":0},{"$f":"CONCATENATE(応募者名簿!$B$11,応募者名簿!$D$11,応募者名簿!$E$11,応募者名簿!$I$11)","v":""},"条幅",{"$f":"CONCATENATE(応募者名簿!A373)","v":""},{"$f":"CONCATENATE(応募者名簿!B373)","v":""},{"$f":"CONCATENATE(応募者名簿!C373)","v":""},{"$f":"CONCATENATE(応募者名簿!D373)","v":""}]
[{"$f":"応募者名簿!$B$8","v":0},{"$f":"CONCATENATE(応募者名簿!$B$11,応募者名簿!$D$11,応募者名簿!$E$11,応募者名簿!$I$11)","v":""},"条幅",{"$f":"CONCATENATE(応募者名簿!A374)","v":""},{"$f":"CONCATENATE(応募者名簿!B374)","v":""},{"$f":"CONCATENATE(応募者名簿!C374)","v":""},{"$f":"CONCATENATE(応募者名簿!D374)","v":""}]
[{"$f":"応募者名簿!$B$8","v":0},{"$f":"CONCATENATE(応募者名簿!$B$11,応募者名簿!$D$11,応募者名簿!$E$11,応募者名簿!$I$11)","v":""},"条幅",{"$f":"CONCATENATE(応募者名簿!A375)","v":""},{"$f":"CONCATENATE(応募者名簿!B375)","v":""},{"$f":"CONCATENATE(応募者名簿!C375)","v":""},{"$f":"CONCATENATE(応募者名簿!D375)","v":""}]
[{"$f":"応募者名簿!$B$8","v":0},{"$f":"CONCATENATE(応募者名簿!$B$11,応募者名簿!$D$11,応募者名簿!$E$11,応募者名簿!$I$11)","v":""},"条幅",{"$f":"CONCATENATE(応募者名簿!A376)","v":""},{"$f":"CONCATENATE(応募者名簿!B376)","v":""},{"$f":"CONCATENATE(応募者名簿!C376)","v":""},{"$f":"CONCATENATE(応募者名簿!D376)","v":""}]
[{"$f":"応募者名簿!$B$8","v":0},{"$f":"CONCATENATE(応募者名簿!$B$11,応募者名簿!$D$11,応募者名簿!$E$11,応募者名簿!$I$11)","v":""},"条幅",{"$f":"CONCATENATE(応募者名簿!A377)","v":""},{"$f":"CONCATENATE(応募者名簿!B377)","v":""},{"$f":"CONCATENATE(応募者名簿!C377)","v":""},{"$f":"CONCATENATE(応募者名簿!D377)","v":""}]
[{"$f":"応募者名簿!$B$8","v":0},{"$f":"CONCATENATE(応募者名簿!$B$11,応募者名簿!$D$11,応募者名簿!$E$11,応募者名簿!$I$11)","v":""},"条幅",{"$f":"CONCATENATE(応募者名簿!A378)","v":""},{"$f":"CONCATENATE(応募者名簿!B378)","v":""},{"$f":"CONCATENATE(応募者名簿!C378)","v":""},{"$f":"CONCATENATE(応募者名簿!D378)","v":""}]
[{"$f":"応募者名簿!$B$8","v":0},{"$f":"CONCATENATE(応募者名簿!$B$11,応募者名簿!$D$11,応募者名簿!$E$11,応募者名簿!$I$11)","v":""},"条幅",{"$f":"CONCATENATE(応募者名簿!A379)","v":""},{"$f":"CONCATENATE(応募者名簿!B379)","v":""},{"$f":"CONCATENATE(応募者名簿!C379)","v":""},{"$f":"CONCATENATE(応募者名簿!D379)","v":""}]
[{"$f":"応募者名簿!$B$8","v":0},{"$f":"CONCATENATE(応募者名簿!$B$11,応募者名簿!$D$11,応募者名簿!$E$11,応募者名簿!$I$11)","v":""},"条幅",{"$f":"CONCATENATE(応募者名簿!A380)","v":""},{"$f":"CONCATENATE(応募者名簿!B380)","v":""},{"$f":"CONCATENATE(応募者名簿!C380)","v":""},{"$f":"CONCATENATE(応募者名簿!D380)","v":""}]
[{"$f":"応募者名簿!$B$8","v":0},{"$f":"CONCATENATE(応募者名簿!$B$11,応募者名簿!$D$11,応募者名簿!$E$11,応募者名簿!$I$11)","v":""},"条幅",{"$f":"CONCATENATE(応募者名簿!A381)","v":""},{"$f":"CONCATENATE(応募者名簿!B381)","v":""},{"$f":"CONCATENATE(応募者名簿!C381)","v":""},{"$f":"CONCATENATE(応募者名簿!D381)","v":""}]
[{"$f":"応募者名簿!$B$8","v":0},{"$f":"CONCATENATE(応募者名簿!$B$11,応募者名簿!$D$11,応募者名簿!$E$11,応募者名簿!$I$11)","v":""},"条幅",{"$f":"CONCATENATE(応募者名簿!A382)","v":""},{"$f":"CONCATENATE(応募者名簿!B382)","v":""},{"$f":"CONCATENATE(応募者名簿!C382)","v":""},{"$f":"CONCATENATE(応募者名簿!D382)","v":""}]
[{"$f":"応募者名簿!$B$8","v":0},{"$f":"CONCATENATE(応募者名簿!$B$11,応募者名簿!$D$11,応募者名簿!$E$11,応募者名簿!$I$11)","v":""},"条幅",{"$f":"CONCATENATE(応募者名簿!A383)","v":""},{"$f":"CONCATENATE(応募者名簿!B383)","v":""},{"$f":"CONCATENATE(応募者名簿!C383)","v":""},{"$f":"CONCATENATE(応募者名簿!D383)","v":""}]
[{"$f":"応募者名簿!$B$8","v":0},{"$f":"CONCATENATE(応募者名簿!$B$11,応募者名簿!$D$11,応募者名簿!$E$11,応募者名簿!$I$11)","v":""},"条幅",{"$f":"CONCATENATE(応募者名簿!A384)","v":""},{"$f":"CONCATENATE(応募者名簿!B384)","v":""},{"$f":"CONCATENATE(応募者名簿!C384)","v":""},{"$f":"CONCATENATE(応募者名簿!D384)","v":""}]
[{"$f":"応募者名簿!$B$8","v":0},{"$f":"CONCATENATE(応募者名簿!$B$11,応募者名簿!$D$11,応募者名簿!$E$11,応募者名簿!$I$11)","v":""},"条幅",{"$f":"CONCATENATE(応募者名簿!A385)","v":""},{"$f":"CONCATENATE(応募者名簿!B385)","v":""},{"$f":"CONCATENATE(応募者名簿!C385)","v":""},{"$f":"CONCATENATE(応募者名簿!D385)","v":""}]
[{"$f":"応募者名簿!$B$8","v":0},{"$f":"CONCATENATE(応募者名簿!$B$11,応募者名簿!$D$11,応募者名簿!$E$11,応募者名簿!$I$11)","v":""},"条幅",{"$f":"CONCATENATE(応募者名簿!A386)","v":""},{"$f":"CONCATENATE(応募者名簿!B386)","v":""},{"$f":"CONCATENATE(応募者名簿!C386)","v":""},{"$f":"CONCATENATE(応募者名簿!D386)","v":""}]
[{"$f":"応募者名簿!$B$8","v":0},{"$f":"CONCATENATE(応募者名簿!$B$11,応募者名簿!$D$11,応募者名簿!$E$11,応募者名簿!$I$11)","v":""},"条幅",{"$f":"CONCATENATE(応募者名簿!A387)","v":""},{"$f":"CONCATENATE(応募者名簿!B387)","v":""},{"$f":"CONCATENATE(応募者名簿!C387)","v":""},{"$f":"CONCATENATE(応募者名簿!D387)","v":""}]
[{"$f":"応募者名簿!$B$8","v":0},{"$f":"CONCATENATE(応募者名簿!$B$11,応募者名簿!$D$11,応募者名簿!$E$11,応募者名簿!$I$11)","v":""},"条幅",{"$f":"CONCATENATE(応募者名簿!A388)","v":""},{"$f":"CONCATENATE(応募者名簿!B388)","v":""},{"$f":"CONCATENATE(応募者名簿!C388)","v":""},{"$f":"CONCATENATE(応募者名簿!D388)","v":""}]
[{"$f":"応募者名簿!$B$8","v":0},{"$f":"CONCATENATE(応募者名簿!$B$11,応募者名簿!$D$11,応募者名簿!$E$11,応募者名簿!$I$11)","v":""},"条幅",{"$f":"CONCATENATE(応募者名簿!A389)","v":""},{"$f":"CONCATENATE(応募者名簿!B389)","v":""},{"$f":"CONCATENATE(応募者名簿!C389)","v":""},{"$f":"CONCATENATE(応募者名簿!D389)","v":""}]
[{"$f":"応募者名簿!$B$8","v":0},{"$f":"CONCATENATE(応募者名簿!$B$11,応募者名簿!$D$11,応募者名簿!$E$11,応募者名簿!$I$11)","v":""},"条幅",{"$f":"CONCATENATE(応募者名簿!A390)","v":""},{"$f":"CONCATENATE(応募者名簿!B390)","v":""},{"$f":"CONCATENATE(応募者名簿!C390)","v":""},{"$f":"CONCATENATE(応募者名簿!D390)","v":""}]
[{"$f":"応募者名簿!$B$8","v":0},{"$f":"CONCATENATE(応募者名簿!$B$11,応募者名簿!$D$11,応募者名簿!$E$11,応募者名簿!$I$11)","v":""},"条幅",{"$f":"CONCATENATE(応募者名簿!A391)","v":""},{"$f":"CONCATENATE(応募者名簿!B391)","v":""},{"$f":"CONCATENATE(応募者名簿!C391)","v":""},{"$f":"CONCATENATE(応募者名簿!D391)","v":""}]
[{"$f":"応募者名簿!$B$8","v":0},{"$f":"CONCATENATE(応募者名簿!$B$11,応募者名簿!$D$11,応募者名簿!$E$11,応募者名簿!$I$11)","v":""},"条幅",{"$f":"CONCATENATE(応募者名簿!A392)","v":""},{"$f":"CONCATENATE(応募者名簿!B392)","v":""},{"$f":"CONCATENATE(応募者名簿!C392)","v":""},{"$f":"CONCATENATE(応募者名簿!D392)","v":""}]
[{"$f":"応募者名簿!$B$8","v":0},{"$f":"CONCATENATE(応募者名簿!$B$11,応募者名簿!$D$11,応募者名簿!$E$11,応募者名簿!$I$11)","v":""},"条幅",{"$f":"CONCATENATE(応募者名簿!A393)","v":""},{"$f":"CONCATENATE(応募者名簿!B393)","v":""},{"$f":"CONCATENATE(応募者名簿!C393)","v":""},{"$f":"CONCATENATE(応募者名簿!D393)","v":""}]
[{"$f":"応募者名簿!$B$8","v":0},{"$f":"CONCATENATE(応募者名簿!$B$11,応募者名簿!$D$11,応募者名簿!$E$11,応募者名簿!$I$11)","v":""},"条幅",{"$f":"CONCATENATE(応募者名簿!A394)","v":""},{"$f":"CONCATENATE(応募者名簿!B394)","v":""},{"$f":"CONCATENATE(応募者名簿!C394)","v":""},{"$f":"CONCATENATE(応募者名簿!D394)","v":""}]
[{"$f":"応募者名簿!$B$8","v":0},{"$f":"CONCATENATE(応募者名簿!$B$11,応募者名簿!$D$11,応募者名簿!$E$11,応募者名簿!$I$11)","v":""},"条幅",{"$f":"CONCATENATE(応募者名簿!A395)","v":""},{"$f":"CONCATENATE(応募者名簿!B395)","v":""},{"$f":"CONCATENATE(応募者名簿!C395)","v":""},{"$f":"CONCATENATE(応募者名簿!D395)","v":""}]
[{"$f":"応募者名簿!$B$8","v":0},{"$f":"CONCATENATE(応募者名簿!$B$11,応募者名簿!$D$11,応募者名簿!$E$11,応募者名簿!$I$11)","v":""},"条幅",{"$f":"CONCATENATE(応募者名簿!A396)","v":""},{"$f":"CONCATENATE(応募者名簿!B396)","v":""},{"$f":"CONCATENATE(応募者名簿!C396)","v":""},{"$f":"CONCATENATE(応募者名簿!D396)","v":""}]
[{"$f":"応募者名簿!$B$8","v":0},{"$f":"CONCATENATE(応募者名簿!$B$11,応募者名簿!$D$11,応募者名簿!$E$11,応募者名簿!$I$11)","v":""},"条幅",{"$f":"CONCATENATE(応募者名簿!A397)","v":""},{"$f":"CONCATENATE(応募者名簿!B397)","v":""},{"$f":"CONCATENATE(応募者名簿!C397)","v":""},{"$f":"CONCATENATE(応募者名簿!D397)","v":""}]
[{"$f":"応募者名簿!$B$8","v":0},{"$f":"CONCATENATE(応募者名簿!$B$11,応募者名簿!$D$11,応募者名簿!$E$11,応募者名簿!$I$11)","v":""},"条幅",{"$f":"CONCATENATE(応募者名簿!A398)","v":""},{"$f":"CONCATENATE(応募者名簿!B398)","v":""},{"$f":"CONCATENATE(応募者名簿!C398)","v":""},{"$f":"CONCATENATE(応募者名簿!D398)","v":""}]
[{"$f":"応募者名簿!$B$8","v":0},{"$f":"CONCATENATE(応募者名簿!$B$11,応募者名簿!$D$11,応募者名簿!$E$11,応募者名簿!$I$11)","v":""},"条幅",{"$f":"CONCATENATE(応募者名簿!A399)","v":""},{"$f":"CONCATENATE(応募者名簿!B399)","v":""},{"$f":"CONCATENATE(応募者名簿!C399)","v":""},{"$f":"CONCATENATE(応募者名簿!D399)","v":""}]
[{"$f":"応募者名簿!$B$8","v":0},{"$f":"CONCATENATE(応募者名簿!$B$11,応募者名簿!$D$11,応募者名簿!$E$11,応募者名簿!$I$11)","v":""},"条幅",{"$f":"CONCATENATE(応募者名簿!A400)","v":""},{"$f":"CONCATENATE(応募者名簿!B400)","v":""},{"$f":"CONCATENATE(応募者名簿!C400)","v":""},{"$f":"CONCATENATE(応募者名簿!D400)","v":""}]
[{"$f":"応募者名簿!$B$8","v":0},{"$f":"CONCATENATE(応募者名簿!$B$11,応募者名簿!$D$11,応募者名簿!$E$11,応募者名簿!$I$11)","v":""},"条幅",{"$f":"CONCATENATE(応募者名簿!A401)","v":""},{"$f":"CONCATENATE(応募者名簿!B401)","v":""},{"$f":"CONCATENATE(応募者名簿!C401)","v":""},{"$f":"CONCATENATE(応募者名簿!D401)","v":""}]
[{"$f":"応募者名簿!$B$8","v":0},{"$f":"CONCATENATE(応募者名簿!$B$11,応募者名簿!$D$11,応募者名簿!$E$11,応募者名簿!$I$11)","v":""},"条幅",{"$f":"CONCATENATE(応募者名簿!A402)","v":""},{"$f":"CONCATENATE(応募者名簿!B402)","v":""},{"$f":"CONCATENATE(応募者名簿!C402)","v":""},{"$f":"CONCATENATE(応募者名簿!D402)","v":""}]
[{"$f":"応募者名簿!$B$8","v":0},{"$f":"CONCATENATE(応募者名簿!$B$11,応募者名簿!$D$11,応募者名簿!$E$11,応募者名簿!$I$11)","v":""},"条幅",{"$f":"CONCATENATE(応募者名簿!A403)","v":""},{"$f":"CONCATENATE(応募者名簿!B403)","v":""},{"$f":"CONCATENATE(応募者名簿!C403)","v":""},{"$f":"CONCATENATE(応募者名簿!D403)","v":""}]
[{"$f":"応募者名簿!$B$8","v":0},{"$f":"CONCATENATE(応募者名簿!$B$11,応募者名簿!$D$11,応募者名簿!$E$11,応募者名簿!$I$11)","v":""},"条幅",{"$f":"CONCATENATE(応募者名簿!A404)","v":""},{"$f":"CONCATENATE(応募者名簿!B404)","v":""},{"$f":"CONCATENATE(応募者名簿!C404)","v":""},{"$f":"CONCATENATE(応募者名簿!D404)","v":""}]
[{"$f":"応募者名簿!$B$8","v":0},{"$f":"CONCATENATE(応募者名簿!$B$11,応募者名簿!$D$11,応募者名簿!$E$11,応募者名簿!$I$11)","v":""},"条幅",{"$f":"CONCATENATE(応募者名簿!A405)","v":""},{"$f":"CONCATENATE(応募者名簿!B405)","v":""},{"$f":"CONCATENATE(応募者名簿!C405)","v":""},{"$f":"CONCATENATE(応募者名簿!D405)","v":""}]
[{"$f":"応募者名簿!$B$8","v":0},{"$f":"CONCATENATE(応募者名簿!$B$11,応募者名簿!$D$11,応募者名簿!$E$11,応募者名簿!$I$11)","v":""},"条幅",{"$f":"CONCATENATE(応募者名簿!A406)","v":""},{"$f":"CONCATENATE(応募者名簿!B406)","v":""},{"$f":"CONCATENATE(応募者名簿!C406)","v":""},{"$f":"CONCATENATE(応募者名簿!D406)","v":""}]
[{"$f":"応募者名簿!$B$8","v":0},{"$f":"CONCATENATE(応募者名簿!$B$11,応募者名簿!$D$11,応募者名簿!$E$11,応募者名簿!$I$11)","v":""},"条幅",{"$f":"CONCATENATE(応募者名簿!A407)","v":""},{"$f":"CONCATENATE(応募者名簿!B407)","v":""},{"$f":"CONCATENATE(応募者名簿!C407)","v":""},{"$f":"CONCATENATE(応募者名簿!D407)","v":""}]
[{"$f":"応募者名簿!$B$8","v":0},{"$f":"CONCATENATE(応募者名簿!$B$11,応募者名簿!$D$11,応募者名簿!$E$11,応募者名簿!$I$11)","v":""},"条幅",{"$f":"CONCATENATE(応募者名簿!A408)","v":""},{"$f":"CONCATENATE(応募者名簿!B408)","v":""},{"$f":"CONCATENATE(応募者名簿!C408)","v":""},{"$f":"CONCATENATE(応募者名簿!D408)","v":""}]
[{"$f":"応募者名簿!$B$8","v":0},{"$f":"CONCATENATE(応募者名簿!$B$11,応募者名簿!$D$11,応募者名簿!$E$11,応募者名簿!$I$11)","v":""},"条幅",{"$f":"CONCATENATE(応募者名簿!A409)","v":""},{"$f":"CONCATENATE(応募者名簿!B409)","v":""},{"$f":"CONCATENATE(応募者名簿!C409)","v":""},{"$f":"CONCATENATE(応募者名簿!D409)","v":""}]
[{"$f":"応募者名簿!$B$8","v":0},{"$f":"CONCATENATE(応募者名簿!$B$11,応募者名簿!$D$11,応募者名簿!$E$11,応募者名簿!$I$11)","v":""},"条幅",{"$f":"CONCATENATE(応募者名簿!A410)","v":""},{"$f":"CONCATENATE(応募者名簿!B410)","v":""},{"$f":"CONCATENATE(応募者名簿!C410)","v":""},{"$f":"CONCATENATE(応募者名簿!D410)","v":""}]
[{"$f":"応募者名簿!$B$8","v":0},{"$f":"CONCATENATE(応募者名簿!$B$11,応募者名簿!$D$11,応募者名簿!$E$11,応募者名簿!$I$11)","v":""},"条幅",{"$f":"CONCATENATE(応募者名簿!A411)","v":""},{"$f":"CONCATENATE(応募者名簿!B411)","v":""},{"$f":"CONCATENATE(応募者名簿!C411)","v":""},{"$f":"CONCATENATE(応募者名簿!D411)","v":""}]
[{"$f":"応募者名簿!$B$8","v":0},{"$f":"CONCATENATE(応募者名簿!$B$11,応募者名簿!$D$11,応募者名簿!$E$11,応募者名簿!$I$11)","v":""},"条幅",{"$f":"CONCATENATE(応募者名簿!A412)","v":""},{"$f":"CONCATENATE(応募者名簿!B412)","v":""},{"$f":"CONCATENATE(応募者名簿!C412)","v":""},{"$f":"CONCATENATE(応募者名簿!D412)","v":""}]
[{"$f":"応募者名簿!$B$8","v":0},{"$f":"CONCATENATE(応募者名簿!$B$11,応募者名簿!$D$11,応募者名簿!$E$11,応募者名簿!$I$11)","v":""},"条幅",{"$f":"CONCATENATE(応募者名簿!A413)","v":""},{"$f":"CONCATENATE(応募者名簿!B413)","v":""},{"$f":"CONCATENATE(応募者名簿!C413)","v":""},{"$f":"CONCATENATE(応募者名簿!D413)","v":""}]
[{"$f":"応募者名簿!$B$8","v":0},{"$f":"CONCATENATE(応募者名簿!$B$11,応募者名簿!$D$11,応募者名簿!$E$11,応募者名簿!$I$11)","v":""},"条幅",{"$f":"CONCATENATE(応募者名簿!A414)","v":""},{"$f":"CONCATENATE(応募者名簿!B414)","v":""},{"$f":"CONCATENATE(応募者名簿!C414)","v":""},{"$f":"CONCATENATE(応募者名簿!D414)","v":""}]
[{"$f":"応募者名簿!$B$8","v":0},{"$f":"CONCATENATE(応募者名簿!$B$11,応募者名簿!$D$11,応募者名簿!$E$11,応募者名簿!$I$11)","v":""},"条幅",{"$f":"CONCATENATE(応募者名簿!A415)","v":""},{"$f":"CONCATENATE(応募者名簿!B415)","v":""},{"$f":"CONCATENATE(応募者名簿!C415)","v":""},{"$f":"CONCATENATE(応募者名簿!D415)","v":""}]
[{"$f":"応募者名簿!$B$8","v":0},{"$f":"CONCATENATE(応募者名簿!$B$11,応募者名簿!$D$11,応募者名簿!$E$11,応募者名簿!$I$11)","v":""},"条幅",{"$f":"CONCATENATE(応募者名簿!A416)","v":""},{"$f":"CONCATENATE(応募者名簿!B416)","v":""},{"$f":"CONCATENATE(応募者名簿!C416)","v":""},{"$f":"CONCATENATE(応募者名簿!D416)","v":""}]
[{"$f":"応募者名簿!$B$8","v":0},{"$f":"CONCATENATE(応募者名簿!$B$11,応募者名簿!$D$11,応募者名簿!$E$11,応募者名簿!$I$11)","v":""},"条幅",{"$f":"CONCATENATE(応募者名簿!A417)","v":""},{"$f":"CONCATENATE(応募者名簿!B417)","v":""},{"$f":"CONCATENATE(応募者名簿!C417)","v":""},{"$f":"CONCATENATE(応募者名簿!D417)","v":""}]
[{"$f":"応募者名簿!$B$8","v":0},{"$f":"CONCATENATE(応募者名簿!$B$11,応募者名簿!$D$11,応募者名簿!$E$11,応募者名簿!$I$11)","v":""},"条幅",{"$f":"CONCATENATE(応募者名簿!A418)","v":""},{"$f":"CONCATENATE(応募者名簿!B418)","v":""},{"$f":"CONCATENATE(応募者名簿!C418)","v":""},{"$f":"CONCATENATE(応募者名簿!D418)","v":""}]
[{"$f":"応募者名簿!$B$8","v":0},{"$f":"CONCATENATE(応募者名簿!$B$11,応募者名簿!$D$11,応募者名簿!$E$11,応募者名簿!$I$11)","v":""},"条幅",{"$f":"CONCATENATE(応募者名簿!A419)","v":""},{"$f":"CONCATENATE(応募者名簿!B419)","v":""},{"$f":"CONCATENATE(応募者名簿!C419)","v":""},{"$f":"CONCATENATE(応募者名簿!D419)","v":""}]
[{"$f":"応募者名簿!$B$8","v":0},{"$f":"CONCATENATE(応募者名簿!$B$11,応募者名簿!$D$11,応募者名簿!$E$11,応募者名簿!$I$11)","v":""},"条幅",{"$f":"CONCATENATE(応募者名簿!A420)","v":""},{"$f":"CONCATENATE(応募者名簿!B420)","v":""},{"$f":"CONCATENATE(応募者名簿!C420)","v":""},{"$f":"CONCATENATE(応募者名簿!D420)","v":""}]
[{"$f":"応募者名簿!$B$8","v":0},{"$f":"CONCATENATE(応募者名簿!$B$11,応募者名簿!$D$11,応募者名簿!$E$11,応募者名簿!$I$11)","v":""},"条幅",{"$f":"CONCATENATE(応募者名簿!A421)","v":""},{"$f":"CONCATENATE(応募者名簿!B421)","v":""},{"$f":"CONCATENATE(応募者名簿!C421)","v":""},{"$f":"CONCATENATE(応募者名簿!D421)","v":""}]
[{"$f":"応募者名簿!$B$8","v":0},{"$f":"CONCATENATE(応募者名簿!$B$11,応募者名簿!$D$11,応募者名簿!$E$11,応募者名簿!$I$11)","v":""},"条幅",{"$f":"CONCATENATE(応募者名簿!A422)","v":""},{"$f":"CONCATENATE(応募者名簿!B422)","v":""},{"$f":"CONCATENATE(応募者名簿!C422)","v":""},{"$f":"CONCATENATE(応募者名簿!D422)","v":""}]
[{"$f":"応募者名簿!$B$8","v":0},{"$f":"CONCATENATE(応募者名簿!$B$11,応募者名簿!$D$11,応募者名簿!$E$11,応募者名簿!$I$11)","v":""},"条幅",{"$f":"CONCATENATE(応募者名簿!A423)","v":""},{"$f":"CONCATENATE(応募者名簿!B423)","v":""},{"$f":"CONCATENATE(応募者名簿!C423)","v":""},{"$f":"CONCATENATE(応募者名簿!D423)","v":""}]
[{"$f":"応募者名簿!$B$8","v":0},{"$f":"CONCATENATE(応募者名簿!$B$11,応募者名簿!$D$11,応募者名簿!$E$11,応募者名簿!$I$11)","v":""},"条幅",{"$f":"CONCATENATE(応募者名簿!A424)","v":""},{"$f":"CONCATENATE(応募者名簿!B424)","v":""},{"$f":"CONCATENATE(応募者名簿!C424)","v":""},{"$f":"CONCATENATE(応募者名簿!D424)","v":""}]
[{"$f":"応募者名簿!$B$8","v":0},{"$f":"CONCATENATE(応募者名簿!$B$11,応募者名簿!$D$11,応募者名簿!$E$11,応募者名簿!$I$11)","v":""},"条幅",{"$f":"CONCATENATE(応募者名簿!A425)","v":""},{"$f":"CONCATENATE(応募者名簿!B425)","v":""},{"$f":"CONCATENATE(応募者名簿!C425)","v":""},{"$f":"CONCATENATE(応募者名簿!D425)","v":""}]
[{"$f":"応募者名簿!$B$8","v":0},{"$f":"CONCATENATE(応募者名簿!$B$11,応募者名簿!$D$11,応募者名簿!$E$11,応募者名簿!$I$11)","v":""},"条幅",{"$f":"CONCATENATE(応募者名簿!A426)","v":""},{"$f":"CONCATENATE(応募者名簿!B426)","v":""},{"$f":"CONCATENATE(応募者名簿!C426)","v":""},{"$f":"CONCATENATE(応募者名簿!D426)","v":""}]
[{"$f":"応募者名簿!$B$8","v":0},{"$f":"CONCATENATE(応募者名簿!$B$11,応募者名簿!$D$11,応募者名簿!$E$11,応募者名簿!$I$11)","v":""},"条幅",{"$f":"CONCATENATE(応募者名簿!A427)","v":""},{"$f":"CONCATENATE(応募者名簿!B427)","v":""},{"$f":"CONCATENATE(応募者名簿!C427)","v":""},{"$f":"CONCATENATE(応募者名簿!D427)","v":""}]
[{"$f":"応募者名簿!$B$8","v":0},{"$f":"CONCATENATE(応募者名簿!$B$11,応募者名簿!$D$11,応募者名簿!$E$11,応募者名簿!$I$11)","v":""},"条幅",{"$f":"CONCATENATE(応募者名簿!A428)","v":""},{"$f":"CONCATENATE(応募者名簿!B428)","v":""},{"$f":"CONCATENATE(応募者名簿!C428)","v":""},{"$f":"CONCATENATE(応募者名簿!D428)","v":""}]
[{"$f":"応募者名簿!$B$8","v":0},{"$f":"CONCATENATE(応募者名簿!$B$11,応募者名簿!$D$11,応募者名簿!$E$11,応募者名簿!$I$11)","v":""},"条幅",{"$f":"CONCATENATE(応募者名簿!A429)","v":""},{"$f":"CONCATENATE(応募者名簿!B429)","v":""},{"$f":"CONCATENATE(応募者名簿!C429)","v":""},{"$f":"CONCATENATE(応募者名簿!D429)","v":""}]
[{"$f":"応募者名簿!$B$8","v":0},{"$f":"CONCATENATE(応募者名簿!$B$11,応募者名簿!$D$11,応募者名簿!$E$11,応募者名簿!$I$11)","v":""},"条幅",{"$f":"CONCATENATE(応募者名簿!A430)","v":""},{"$f":"CONCATENATE(応募者名簿!B430)","v":""},{"$f":"CONCATENATE(応募者名簿!C430)","v":""},{"$f":"CONCATENATE(応募者名簿!D430)","v":""}]
[{"$f":"応募者名簿!$B$8","v":0},{"$f":"CONCATENATE(応募者名簿!$B$11,応募者名簿!$D$11,応募者名簿!$E$11,応募者名簿!$I$11)","v":""},"条幅",{"$f":"CONCATENATE(応募者名簿!A431)","v":""},{"$f":"CONCATENATE(応募者名簿!B431)","v":""},{"$f":"CONCATENATE(応募者名簿!C431)","v":""},{"$f":"CONCATENATE(応募者名簿!D431)","v":""}]
[{"$f":"応募者名簿!$B$8","v":0},{"$f":"CONCATENATE(応募者名簿!$B$11,応募者名簿!$D$11,応募者名簿!$E$11,応募者名簿!$I$11)","v":""},"条幅",{"$f":"CONCATENATE(応募者名簿!A432)","v":""},{"$f":"CONCATENATE(応募者名簿!B432)","v":""},{"$f":"CONCATENATE(応募者名簿!C432)","v":""},{"$f":"CONCATENATE(応募者名簿!D432)","v":""}]
[{"$f":"応募者名簿!$B$8","v":0},{"$f":"CONCATENATE(応募者名簿!$B$11,応募者名簿!$D$11,応募者名簿!$E$11,応募者名簿!$I$11)","v":""},"条幅",{"$f":"CONCATENATE(応募者名簿!A433)","v":""},{"$f":"CONCATENATE(応募者名簿!B433)","v":""},{"$f":"CONCATENATE(応募者名簿!C433)","v":""},{"$f":"CONCATENATE(応募者名簿!D433)","v":""}]
[{"$f":"応募者名簿!$B$8","v":0},{"$f":"CONCATENATE(応募者名簿!$B$11,応募者名簿!$D$11,応募者名簿!$E$11,応募者名簿!$I$11)","v":""},"条幅",{"$f":"CONCATENATE(応募者名簿!A434)","v":""},{"$f":"CONCATENATE(応募者名簿!B434)","v":""},{"$f":"CONCATENATE(応募者名簿!C434)","v":""},{"$f":"CONCATENATE(応募者名簿!D434)","v":""}]
[{"$f":"応募者名簿!$B$8","v":0},{"$f":"CONCATENATE(応募者名簿!$B$11,応募者名簿!$D$11,応募者名簿!$E$11,応募者名簿!$I$11)","v":""},"条幅",{"$f":"CONCATENATE(応募者名簿!A435)","v":""},{"$f":"CONCATENATE(応募者名簿!B435)","v":""},{"$f":"CONCATENATE(応募者名簿!C435)","v":""},{"$f":"CONCATENATE(応募者名簿!D435)","v":""}]
[{"$f":"応募者名簿!$B$8","v":0},{"$f":"CONCATENATE(応募者名簿!$B$11,応募者名簿!$D$11,応募者名簿!$E$11,応募者名簿!$I$11)","v":""},"条幅",{"$f":"CONCATENATE(応募者名簿!A436)","v":""},{"$f":"CONCATENATE(応募者名簿!B436)","v":""},{"$f":"CONCATENATE(応募者名簿!C436)","v":""},{"$f":"CONCATENATE(応募者名簿!D436)","v":""}]
[{"$f":"応募者名簿!$B$8","v":0},{"$f":"CONCATENATE(応募者名簿!$B$11,応募者名簿!$D$11,応募者名簿!$E$11,応募者名簿!$I$11)","v":""},"条幅",{"$f":"CONCATENATE(応募者名簿!A437)","v":""},{"$f":"CONCATENATE(応募者名簿!B437)","v":""},{"$f":"CONCATENATE(応募者名簿!C437)","v":""},{"$f":"CONCATENATE(応募者名簿!D437)","v":""}]
[{"$f":"応募者名簿!$B$8","v":0},{"$f":"CONCATENATE(応募者名簿!$B$11,応募者名簿!$D$11,応募者名簿!$E$11,応募者名簿!$I$11)","v":""},"条幅",{"$f":"CONCATENATE(応募者名簿!A438)","v":""},{"$f":"CONCATENATE(応募者名簿!B438)","v":""},{"$f":"CONCATENATE(応募者名簿!C438)","v":""},{"$f":"CONCATENATE(応募者名簿!D438)","v":""}]
[{"$f":"応募者名簿!$B$8","v":0},{"$f":"CONCATENATE(応募者名簿!$B$11,応募者名簿!$D$11,応募者名簿!$E$11,応募者名簿!$I$11)","v":""},"条幅",{"$f":"CONCATENATE(応募者名簿!A439)","v":""},{"$f":"CONCATENATE(応募者名簿!B439)","v":""},{"$f":"CONCATENATE(応募者名簿!C439)","v":""},{"$f":"CONCATENATE(応募者名簿!D439)","v":""}]
[{"$f":"応募者名簿!$B$8","v":0},{"$f":"CONCATENATE(応募者名簿!$B$11,応募者名簿!$D$11,応募者名簿!$E$11,応募者名簿!$I$11)","v":""},"条幅",{"$f":"CONCATENATE(応募者名簿!A440)","v":""},{"$f":"CONCATENATE(応募者名簿!B440)","v":""},{"$f":"CONCATENATE(応募者名簿!C440)","v":""},{"$f":"CONCATENATE(応募者名簿!D440)","v":""}]
[{"$f":"応募者名簿!$B$8","v":0},{"$f":"CONCATENATE(応募者名簿!$B$11,応募者名簿!$D$11,応募者名簿!$E$11,応募者名簿!$I$11)","v":""},"条幅",{"$f":"CONCATENATE(応募者名簿!A441)","v":""},{"$f":"CONCATENATE(応募者名簿!B441)","v":""},{"$f":"CONCATENATE(応募者名簿!C441)","v":""},{"$f":"CONCATENATE(応募者名簿!D441)","v":""}]
[{"$f":"応募者名簿!$B$8","v":0},{"$f":"CONCATENATE(応募者名簿!$B$11,応募者名簿!$D$11,応募者名簿!$E$11,応募者名簿!$I$11)","v":""},"条幅",{"$f":"CONCATENATE(応募者名簿!A442)","v":""},{"$f":"CONCATENATE(応募者名簿!B442)","v":""},{"$f":"CONCATENATE(応募者名簿!C442)","v":""},{"$f":"CONCATENATE(応募者名簿!D442)","v":""}]
[{"$f":"応募者名簿!$B$8","v":0},{"$f":"CONCATENATE(応募者名簿!$B$11,応募者名簿!$D$11,応募者名簿!$E$11,応募者名簿!$I$11)","v":""},"条幅",{"$f":"CONCATENATE(応募者名簿!A443)","v":""},{"$f":"CONCATENATE(応募者名簿!B443)","v":""},{"$f":"CONCATENATE(応募者名簿!C443)","v":""},{"$f":"CONCATENATE(応募者名簿!D443)","v":""}]
[{"$f":"応募者名簿!$B$8","v":0},{"$f":"CONCATENATE(応募者名簿!$B$11,応募者名簿!$D$11,応募者名簿!$E$11,応募者名簿!$I$11)","v":""},"条幅",{"$f":"CONCATENATE(応募者名簿!A444)","v":""},{"$f":"CONCATENATE(応募者名簿!B444)","v":""},{"$f":"CONCATENATE(応募者名簿!C444)","v":""},{"$f":"CONCATENATE(応募者名簿!D444)","v":""}]
[{"$f":"応募者名簿!$B$8","v":0},{"$f":"CONCATENATE(応募者名簿!$B$11,応募者名簿!$D$11,応募者名簿!$E$11,応募者名簿!$I$11)","v":""},"条幅",{"$f":"CONCATENATE(応募者名簿!A445)","v":""},{"$f":"CONCATENATE(応募者名簿!B445)","v":""},{"$f":"CONCATENATE(応募者名簿!C445)","v":""},{"$f":"CONCATENATE(応募者名簿!D445)","v":""}]
[{"$f":"応募者名簿!$B$8","v":0},{"$f":"CONCATENATE(応募者名簿!$B$11,応募者名簿!$D$11,応募者名簿!$E$11,応募者名簿!$I$11)","v":""},"条幅",{"$f":"CONCATENATE(応募者名簿!A446)","v":""},{"$f":"CONCATENATE(応募者名簿!B446)","v":""},{"$f":"CONCATENATE(応募者名簿!C446)","v":""},{"$f":"CONCATENATE(応募者名簿!D446)","v":""}]
[{"$f":"応募者名簿!$B$8","v":0},{"$f":"CONCATENATE(応募者名簿!$B$11,応募者名簿!$D$11,応募者名簿!$E$11,応募者名簿!$I$11)","v":""},"条幅",{"$f":"CONCATENATE(応募者名簿!A447)","v":""},{"$f":"CONCATENATE(応募者名簿!B447)","v":""},{"$f":"CONCATENATE(応募者名簿!C447)","v":""},{"$f":"CONCATENATE(応募者名簿!D447)","v":""}]
[{"$f":"応募者名簿!$B$8","v":0},{"$f":"CONCATENATE(応募者名簿!$B$11,応募者名簿!$D$11,応募者名簿!$E$11,応募者名簿!$I$11)","v":""},"条幅",{"$f":"CONCATENATE(応募者名簿!A448)","v":""},{"$f":"CONCATENATE(応募者名簿!B448)","v":""},{"$f":"CONCATENATE(応募者名簿!C448)","v":""},{"$f":"CONCATENATE(応募者名簿!D448)","v":""}]
[{"$f":"応募者名簿!$B$8","v":0},{"$f":"CONCATENATE(応募者名簿!$B$11,応募者名簿!$D$11,応募者名簿!$E$11,応募者名簿!$I$11)","v":""},"条幅",{"$f":"CONCATENATE(応募者名簿!A449)","v":""},{"$f":"CONCATENATE(応募者名簿!B449)","v":""},{"$f":"CONCATENATE(応募者名簿!C449)","v":""},{"$f":"CONCATENATE(応募者名簿!D449)","v":""}]
[{"$f":"応募者名簿!$B$8","v":0},{"$f":"CONCATENATE(応募者名簿!$B$11,応募者名簿!$D$11,応募者名簿!$E$11,応募者名簿!$I$11)","v":""},"条幅",{"$f":"CONCATENATE(応募者名簿!A450)","v":""},{"$f":"CONCATENATE(応募者名簿!B450)","v":""},{"$f":"CONCATENATE(応募者名簿!C450)","v":""},{"$f":"CONCATENATE(応募者名簿!D450)","v":""}]
[{"$f":"応募者名簿!$B$8","v":0},{"$f":"CONCATENATE(応募者名簿!$B$11,応募者名簿!$D$11,応募者名簿!$E$11,応募者名簿!$I$11)","v":""},"条幅",{"$f":"CONCATENATE(応募者名簿!A451)","v":""},{"$f":"CONCATENATE(応募者名簿!B451)","v":""},{"$f":"CONCATENATE(応募者名簿!C451)","v":""},{"$f":"CONCATENATE(応募者名簿!D451)","v":""}]
[{"$f":"応募者名簿!$B$8","v":0},{"$f":"CONCATENATE(応募者名簿!$B$11,応募者名簿!$D$11,応募者名簿!$E$11,応募者名簿!$I$11)","v":""},"条幅",{"$f":"CONCATENATE(応募者名簿!A452)","v":""},{"$f":"CONCATENATE(応募者名簿!B452)","v":""},{"$f":"CONCATENATE(応募者名簿!C452)","v":""},{"$f":"CONCATENATE(応募者名簿!D452)","v":""}]
[{"$f":"応募者名簿!$B$8","v":0},{"$f":"CONCATENATE(応募者名簿!$B$11,応募者名簿!$D$11,応募者名簿!$E$11,応募者名簿!$I$11)","v":""},"条幅",{"$f":"CONCATENATE(応募者名簿!A453)","v":""},{"$f":"CONCATENATE(応募者名簿!B453)","v":""},{"$f":"CONCATENATE(応募者名簿!C453)","v":""},{"$f":"CONCATENATE(応募者名簿!D453)","v":""}]
[{"$f":"応募者名簿!$B$8","v":0},{"$f":"CONCATENATE(応募者名簿!$B$11,応募者名簿!$D$11,応募者名簿!$E$11,応募者名簿!$I$11)","v":""},"条幅",{"$f":"CONCATENATE(応募者名簿!A454)","v":""},{"$f":"CONCATENATE(応募者名簿!B454)","v":""},{"$f":"CONCATENATE(応募者名簿!C454)","v":""},{"$f":"CONCATENATE(応募者名簿!D454)","v":""}]
[{"$f":"応募者名簿!$B$8","v":0},{"$f":"CONCATENATE(応募者名簿!$B$11,応募者名簿!$D$11,応募者名簿!$E$11,応募者名簿!$I$11)","v":""},"条幅",{"$f":"CONCATENATE(応募者名簿!A455)","v":""},{"$f":"CONCATENATE(応募者名簿!B455)","v":""},{"$f":"CONCATENATE(応募者名簿!C455)","v":""},{"$f":"CONCATENATE(応募者名簿!D455)","v":""}]
[{"$f":"応募者名簿!$B$8","v":0},{"$f":"CONCATENATE(応募者名簿!$B$11,応募者名簿!$D$11,応募者名簿!$E$11,応募者名簿!$I$11)","v":""},"条幅",{"$f":"CONCATENATE(応募者名簿!A456)","v":""},{"$f":"CONCATENATE(応募者名簿!B456)","v":""},{"$f":"CONCATENATE(応募者名簿!C456)","v":""},{"$f":"CONCATENATE(応募者名簿!D456)","v":""}]
[{"$f":"応募者名簿!$B$8","v":0},{"$f":"CONCATENATE(応募者名簿!$B$11,応募者名簿!$D$11,応募者名簿!$E$11,応募者名簿!$I$11)","v":""},"条幅",{"$f":"CONCATENATE(応募者名簿!A457)","v":""},{"$f":"CONCATENATE(応募者名簿!B457)","v":""},{"$f":"CONCATENATE(応募者名簿!C457)","v":""},{"$f":"CONCATENATE(応募者名簿!D457)","v":""}]
[{"$f":"応募者名簿!$B$8","v":0},{"$f":"CONCATENATE(応募者名簿!$B$11,応募者名簿!$D$11,応募者名簿!$E$11,応募者名簿!$I$11)","v":""},"条幅",{"$f":"CONCATENATE(応募者名簿!A458)","v":""},{"$f":"CONCATENATE(応募者名簿!B458)","v":""},{"$f":"CONCATENATE(応募者名簿!C458)","v":""},{"$f":"CONCATENATE(応募者名簿!D458)","v":""}]
[{"$f":"応募者名簿!$B$8","v":0},{"$f":"CONCATENATE(応募者名簿!$B$11,応募者名簿!$D$11,応募者名簿!$E$11,応募者名簿!$I$11)","v":""},"条幅",{"$f":"CONCATENATE(応募者名簿!A459)","v":""},{"$f":"CONCATENATE(応募者名簿!B459)","v":""},{"$f":"CONCATENATE(応募者名簿!C459)","v":""},{"$f":"CONCATENATE(応募者名簿!D459)","v":""}]
[{"$f":"応募者名簿!$B$8","v":0},{"$f":"CONCATENATE(応募者名簿!$B$11,応募者名簿!$D$11,応募者名簿!$E$11,応募者名簿!$I$11)","v":""},"条幅",{"$f":"CONCATENATE(応募者名簿!A460)","v":""},{"$f":"CONCATENATE(応募者名簿!B460)","v":""},{"$f":"CONCATENATE(応募者名簿!C460)","v":""},{"$f":"CONCATENATE(応募者名簿!D460)","v":""}]
[{"$f":"応募者名簿!$B$8","v":0},{"$f":"CONCATENATE(応募者名簿!$B$11,応募者名簿!$D$11,応募者名簿!$E$11,応募者名簿!$I$11)","v":""},"条幅",{"$f":"CONCATENATE(応募者名簿!A461)","v":""},{"$f":"CONCATENATE(応募者名簿!B461)","v":""},{"$f":"CONCATENATE(応募者名簿!C461)","v":""},{"$f":"CONCATENATE(応募者名簿!D461)","v":""}]
[{"$f":"応募者名簿!$B$8","v":0},{"$f":"CONCATENATE(応募者名簿!$B$11,応募者名簿!$D$11,応募者名簿!$E$11,応募者名簿!$I$11)","v":""},"条幅",{"$f":"CONCATENATE(応募者名簿!A462)","v":""},{"$f":"CONCATENATE(応募者名簿!B462)","v":""},{"$f":"CONCATENATE(応募者名簿!C462)","v":""},{"$f":"CONCATENATE(応募者名簿!D462)","v":""}]
[{"$f":"応募者名簿!$B$8","v":0},{"$f":"CONCATENATE(応募者名簿!$B$11,応募者名簿!$D$11,応募者名簿!$E$11,応募者名簿!$I$11)","v":""},"条幅",{"$f":"CONCATENATE(応募者名簿!A463)","v":""},{"$f":"CONCATENATE(応募者名簿!B463)","v":""},{"$f":"CONCATENATE(応募者名簿!C463)","v":""},{"$f":"CONCATENATE(応募者名簿!D463)","v":""}]
[{"$f":"応募者名簿!$B$8","v":0},{"$f":"CONCATENATE(応募者名簿!$B$11,応募者名簿!$D$11,応募者名簿!$E$11,応募者名簿!$I$11)","v":""},"条幅",{"$f":"CONCATENATE(応募者名簿!A464)","v":""},{"$f":"CONCATENATE(応募者名簿!B464)","v":""},{"$f":"CONCATENATE(応募者名簿!C464)","v":""},{"$f":"CONCATENATE(応募者名簿!D464)","v":""}]
[{"$f":"応募者名簿!$B$8","v":0},{"$f":"CONCATENATE(応募者名簿!$B$11,応募者名簿!$D$11,応募者名簿!$E$11,応募者名簿!$I$11)","v":""},"条幅",{"$f":"CONCATENATE(応募者名簿!A465)","v":""},{"$f":"CONCATENATE(応募者名簿!B465)","v":""},{"$f":"CONCATENATE(応募者名簿!C465)","v":""},{"$f":"CONCATENATE(応募者名簿!D465)","v":""}]
[{"$f":"応募者名簿!$B$8","v":0},{"$f":"CONCATENATE(応募者名簿!$B$11,応募者名簿!$D$11,応募者名簿!$E$11,応募者名簿!$I$11)","v":""},"条幅",{"$f":"CONCATENATE(応募者名簿!A466)","v":""},{"$f":"CONCATENATE(応募者名簿!B466)","v":""},{"$f":"CONCATENATE(応募者名簿!C466)","v":""},{"$f":"CONCATENATE(応募者名簿!D466)","v":""}]
[{"$f":"応募者名簿!$B$8","v":0},{"$f":"CONCATENATE(応募者名簿!$B$11,応募者名簿!$D$11,応募者名簿!$E$11,応募者名簿!$I$11)","v":""},"条幅",{"$f":"CONCATENATE(応募者名簿!A467)","v":""},{"$f":"CONCATENATE(応募者名簿!B467)","v":""},{"$f":"CONCATENATE(応募者名簿!C467)","v":""},{"$f":"CONCATENATE(応募者名簿!D467)","v":""}]
[{"$f":"応募者名簿!$B$8","v":0},{"$f":"CONCATENATE(応募者名簿!$B$11,応募者名簿!$D$11,応募者名簿!$E$11,応募者名簿!$I$11)","v":""},"条幅",{"$f":"CONCATENATE(応募者名簿!A468)","v":""},{"$f":"CONCATENATE(応募者名簿!B468)","v":""},{"$f":"CONCATENATE(応募者名簿!C468)","v":""},{"$f":"CONCATENATE(応募者名簿!D468)","v":""}]
[{"$f":"応募者名簿!$B$8","v":0},{"$f":"CONCATENATE(応募者名簿!$B$11,応募者名簿!$D$11,応募者名簿!$E$11,応募者名簿!$I$11)","v":""},"条幅",{"$f":"CONCATENATE(応募者名簿!A469)","v":""},{"$f":"CONCATENATE(応募者名簿!B469)","v":""},{"$f":"CONCATENATE(応募者名簿!C469)","v":""},{"$f":"CONCATENATE(応募者名簿!D469)","v":""}]
[{"$f":"応募者名簿!$B$8","v":0},{"$f":"CONCATENATE(応募者名簿!$B$11,応募者名簿!$D$11,応募者名簿!$E$11,応募者名簿!$I$11)","v":""},"条幅",{"$f":"CONCATENATE(応募者名簿!A470)","v":""},{"$f":"CONCATENATE(応募者名簿!B470)","v":""},{"$f":"CONCATENATE(応募者名簿!C470)","v":""},{"$f":"CONCATENATE(応募者名簿!D470)","v":""}]
[{"$f":"応募者名簿!$B$8","v":0},{"$f":"CONCATENATE(応募者名簿!$B$11,応募者名簿!$D$11,応募者名簿!$E$11,応募者名簿!$I$11)","v":""},"条幅",{"$f":"CONCATENATE(応募者名簿!A471)","v":""},{"$f":"CONCATENATE(応募者名簿!B471)","v":""},{"$f":"CONCATENATE(応募者名簿!C471)","v":""},{"$f":"CONCATENATE(応募者名簿!D471)","v":""}]
[{"$f":"応募者名簿!$B$8","v":0},{"$f":"CONCATENATE(応募者名簿!$B$11,応募者名簿!$D$11,応募者名簿!$E$11,応募者名簿!$I$11)","v":""},"条幅",{"$f":"CONCATENATE(応募者名簿!A472)","v":""},{"$f":"CONCATENATE(応募者名簿!B472)","v":""},{"$f":"CONCATENATE(応募者名簿!C472)","v":""},{"$f":"CONCATENATE(応募者名簿!D472)","v":""}]
[{"$f":"応募者名簿!$B$8","v":0},{"$f":"CONCATENATE(応募者名簿!$B$11,応募者名簿!$D$11,応募者名簿!$E$11,応募者名簿!$I$11)","v":""},"条幅",{"$f":"CONCATENATE(応募者名簿!A473)","v":""},{"$f":"CONCATENATE(応募者名簿!B473)","v":""},{"$f":"CONCATENATE(応募者名簿!C473)","v":""},{"$f":"CONCATENATE(応募者名簿!D473)","v":""}]
[{"$f":"応募者名簿!$B$8","v":0},{"$f":"CONCATENATE(応募者名簿!$B$11,応募者名簿!$D$11,応募者名簿!$E$11,応募者名簿!$I$11)","v":""},"条幅",{"$f":"CONCATENATE(応募者名簿!A474)","v":""},{"$f":"CONCATENATE(応募者名簿!B474)","v":""},{"$f":"CONCATENATE(応募者名簿!C474)","v":""},{"$f":"CONCATENATE(応募者名簿!D474)","v":""}]
[{"$f":"応募者名簿!$B$8","v":0},{"$f":"CONCATENATE(応募者名簿!$B$11,応募者名簿!$D$11,応募者名簿!$E$11,応募者名簿!$I$11)","v":""},"条幅",{"$f":"CONCATENATE(応募者名簿!A475)","v":""},{"$f":"CONCATENATE(応募者名簿!B475)","v":""},{"$f":"CONCATENATE(応募者名簿!C475)","v":""},{"$f":"CONCATENATE(応募者名簿!D475)","v":""}]
[{"$f":"応募者名簿!$B$8","v":0},{"$f":"CONCATENATE(応募者名簿!$B$11,応募者名簿!$D$11,応募者名簿!$E$11,応募者名簿!$I$11)","v":""},"条幅",{"$f":"CONCATENATE(応募者名簿!A476)","v":""},{"$f":"CONCATENATE(応募者名簿!B476)","v":""},{"$f":"CONCATENATE(応募者名簿!C476)","v":""},{"$f":"CONCATENATE(応募者名簿!D476)","v":""}]
[{"$f":"応募者名簿!$B$8","v":0},{"$f":"CONCATENATE(応募者名簿!$B$11,応募者名簿!$D$11,応募者名簿!$E$11,応募者名簿!$I$11)","v":""},"条幅",{"$f":"CONCATENATE(応募者名簿!A477)","v":""},{"$f":"CONCATENATE(応募者名簿!B477)","v":""},{"$f":"CONCATENATE(応募者名簿!C477)","v":""},{"$f":"CONCATENATE(応募者名簿!D477)","v":""}]
[{"$f":"応募者名簿!$B$8","v":0},{"$f":"CONCATENATE(応募者名簿!$B$11,応募者名簿!$D$11,応募者名簿!$E$11,応募者名簿!$I$11)","v":""},"条幅",{"$f":"CONCATENATE(応募者名簿!A478)","v":""},{"$f":"CONCATENATE(応募者名簿!B478)","v":""},{"$f":"CONCATENATE(応募者名簿!C478)","v":""},{"$f":"CONCATENATE(応募者名簿!D478)","v":""}]
[{"$f":"応募者名簿!$B$8","v":0},{"$f":"CONCATENATE(応募者名簿!$B$11,応募者名簿!$D$11,応募者名簿!$E$11,応募者名簿!$I$11)","v":""},"条幅",{"$f":"CONCATENATE(応募者名簿!A479)","v":""},{"$f":"CONCATENATE(応募者名簿!B479)","v":""},{"$f":"CONCATENATE(応募者名簿!C479)","v":""},{"$f":"CONCATENATE(応募者名簿!D479)","v":""}]
[{"$f":"応募者名簿!$B$8","v":0},{"$f":"CONCATENATE(応募者名簿!$B$11,応募者名簿!$D$11,応募者名簿!$E$11,応募者名簿!$I$11)","v":""},"条幅",{"$f":"CONCATENATE(応募者名簿!A480)","v":""},{"$f":"CONCATENATE(応募者名簿!B480)","v":""},{"$f":"CONCATENATE(応募者名簿!C480)","v":""},{"$f":"CONCATENATE(応募者名簿!D480)","v":""}]
[{"$f":"応募者名簿!$B$8","v":0},{"$f":"CONCATENATE(応募者名簿!$B$11,応募者名簿!$D$11,応募者名簿!$E$11,応募者名簿!$I$11)","v":""},"条幅",{"$f":"CONCATENATE(応募者名簿!A481)","v":""},{"$f":"CONCATENATE(応募者名簿!B481)","v":""},{"$f":"CONCATENATE(応募者名簿!C481)","v":""},{"$f":"CONCATENATE(応募者名簿!D481)","v":""}]
[{"$f":"応募者名簿!$B$8","v":0},{"$f":"CONCATENATE(応募者名簿!$B$11,応募者名簿!$D$11,応募者名簿!$E$11,応募者名簿!$I$11)","v":""},"条幅",{"$f":"CONCATENATE(応募者名簿!A482)","v":""},{"$f":"CONCATENATE(応募者名簿!B482)","v":""},{"$f":"CONCATENATE(応募者名簿!C482)","v":""},{"$f":"CONCATENATE(応募者名簿!D482)","v":""}]
[{"$f":"応募者名簿!$B$8","v":0},{"$f":"CONCATENATE(応募者名簿!$B$11,応募者名簿!$D$11,応募者名簿!$E$11,応募者名簿!$I$11)","v":""},"条幅",{"$f":"CONCATENATE(応募者名簿!A483)","v":""},{"$f":"CONCATENATE(応募者名簿!B483)","v":""},{"$f":"CONCATENATE(応募者名簿!C483)","v":""},{"$f":"CONCATENATE(応募者名簿!D483)","v":""}]
[{"$f":"応募者名簿!$B$8","v":0},{"$f":"CONCATENATE(応募者名簿!$B$11,応募者名簿!$D$11,応募者名簿!$E$11,応募者名簿!$I$11)","v":""},"条幅",{"$f":"CONCATENATE(応募者名簿!A484)","v":""},{"$f":"CONCATENATE(応募者名簿!B484)","v":""},{"$f":"CONCATENATE(応募者名簿!C484)","v":""},{"$f":"CONCATENATE(応募者名簿!D484)","v":""}]
[{"$f":"応募者名簿!$B$8","v":0},{"$f":"CONCATENATE(応募者名簿!$B$11,応募者名簿!$D$11,応募者名簿!$E$11,応募者名簿!$I$11)","v":""},"条幅",{"$f":"CONCATENATE(応募者名簿!A485)","v":""},{"$f":"CONCATENATE(応募者名簿!B485)","v":""},{"$f":"CONCATENATE(応募者名簿!C485)","v":""},{"$f":"CONCATENATE(応募者名簿!D485)","v":""}]
[{"$f":"応募者名簿!$B$8","v":0},{"$f":"CONCATENATE(応募者名簿!$B$11,応募者名簿!$D$11,応募者名簿!$E$11,応募者名簿!$I$11)","v":""},"条幅",{"$f":"CONCATENATE(応募者名簿!A486)","v":""},{"$f":"CONCATENATE(応募者名簿!B486)","v":""},{"$f":"CONCATENATE(応募者名簿!C486)","v":""},{"$f":"CONCATENATE(応募者名簿!D486)","v":""}]
[{"$f":"応募者名簿!$B$8","v":0},{"$f":"CONCATENATE(応募者名簿!$B$11,応募者名簿!$D$11,応募者名簿!$E$11,応募者名簿!$I$11)","v":""},"条幅",{"$f":"CONCATENATE(応募者名簿!A487)","v":""},{"$f":"CONCATENATE(応募者名簿!B487)","v":""},{"$f":"CONCATENATE(応募者名簿!C487)","v":""},{"$f":"CONCATENATE(応募者名簿!D487)","v":""}]
[{"$f":"応募者名簿!$B$8","v":0},{"$f":"CONCATENATE(応募者名簿!$B$11,応募者名簿!$D$11,応募者名簿!$E$11,応募者名簿!$I$11)","v":""},"条幅",{"$f":"CONCATENATE(応募者名簿!A488)","v":""},{"$f":"CONCATENATE(応募者名簿!B488)","v":""},{"$f":"CONCATENATE(応募者名簿!C488)","v":""},{"$f":"CONCATENATE(応募者名簿!D488)","v":""}]
[{"$f":"応募者名簿!$B$8","v":0},{"$f":"CONCATENATE(応募者名簿!$B$11,応募者名簿!$D$11,応募者名簿!$E$11,応募者名簿!$I$11)","v":""},"条幅",{"$f":"CONCATENATE(応募者名簿!A489)","v":""},{"$f":"CONCATENATE(応募者名簿!B489)","v":""},{"$f":"CONCATENATE(応募者名簿!C489)","v":""},{"$f":"CONCATENATE(応募者名簿!D489)","v":""}]
[{"$f":"応募者名簿!$B$8","v":0},{"$f":"CONCATENATE(応募者名簿!$B$11,応募者名簿!$D$11,応募者名簿!$E$11,応募者名簿!$I$11)","v":""},"条幅",{"$f":"CONCATENATE(応募者名簿!A490)","v":""},{"$f":"CONCATENATE(応募者名簿!B490)","v":""},{"$f":"CONCATENATE(応募者名簿!C490)","v":""},{"$f":"CONCATENATE(応募者名簿!D490)","v":""}]
[{"$f":"応募者名簿!$B$8","v":0},{"$f":"CONCATENATE(応募者名簿!$B$11,応募者名簿!$D$11,応募者名簿!$E$11,応募者名簿!$I$11)","v":""},"条幅",{"$f":"CONCATENATE(応募者名簿!A491)","v":""},{"$f":"CONCATENATE(応募者名簿!B491)","v":""},{"$f":"CONCATENATE(応募者名簿!C491)","v":""},{"$f":"CONCATENATE(応募者名簿!D491)","v":""}]
[{"$f":"応募者名簿!$B$8","v":0},{"$f":"CONCATENATE(応募者名簿!$B$11,応募者名簿!$D$11,応募者名簿!$E$11,応募者名簿!$I$11)","v":""},"条幅",{"$f":"CONCATENATE(応募者名簿!A492)","v":""},{"$f":"CONCATENATE(応募者名簿!B492)","v":""},{"$f":"CONCATENATE(応募者名簿!C492)","v":""},{"$f":"CONCATENATE(応募者名簿!D492)","v":""}]
[{"$f":"応募者名簿!$B$8","v":0},{"$f":"CONCATENATE(応募者名簿!$B$11,応募者名簿!$D$11,応募者名簿!$E$11,応募者名簿!$I$11)","v":""},"条幅",{"$f":"CONCATENATE(応募者名簿!A493)","v":""},{"$f":"CONCATENATE(応募者名簿!B493)","v":""},{"$f":"CONCATENATE(応募者名簿!C493)","v":""},{"$f":"CONCATENATE(応募者名簿!D493)","v":""}]
[{"$f":"応募者名簿!$B$8","v":0},{"$f":"CONCATENATE(応募者名簿!$B$11,応募者名簿!$D$11,応募者名簿!$E$11,応募者名簿!$I$11)","v":""},"条幅",{"$f":"CONCATENATE(応募者名簿!A494)","v":""},{"$f":"CONCATENATE(応募者名簿!B494)","v":""},{"$f":"CONCATENATE(応募者名簿!C494)","v":""},{"$f":"CONCATENATE(応募者名簿!D494)","v":""}]
[{"$f":"応募者名簿!$B$8","v":0},{"$f":"CONCATENATE(応募者名簿!$B$11,応募者名簿!$D$11,応募者名簿!$E$11,応募者名簿!$I$11)","v":""},"条幅",{"$f":"CONCATENATE(応募者名簿!A495)","v":""},{"$f":"CONCATENATE(応募者名簿!B495)","v":""},{"$f":"CONCATENATE(応募者名簿!C495)","v":""},{"$f":"CONCATENATE(応募者名簿!D495)","v":""}]
[{"$f":"応募者名簿!$B$8","v":0},{"$f":"CONCATENATE(応募者名簿!$B$11,応募者名簿!$D$11,応募者名簿!$E$11,応募者名簿!$I$11)","v":""},"条幅",{"$f":"CONCATENATE(応募者名簿!A496)","v":""},{"$f":"CONCATENATE(応募者名簿!B496)","v":""},{"$f":"CONCATENATE(応募者名簿!C496)","v":""},{"$f":"CONCATENATE(応募者名簿!D496)","v":""}]
[{"$f":"応募者名簿!$B$8","v":0},{"$f":"CONCATENATE(応募者名簿!$B$11,応募者名簿!$D$11,応募者名簿!$E$11,応募者名簿!$I$11)","v":""},"条幅",{"$f":"CONCATENATE(応募者名簿!A497)","v":""},{"$f":"CONCATENATE(応募者名簿!B497)","v":""},{"$f":"CONCATENATE(応募者名簿!C497)","v":""},{"$f":"CONCATENATE(応募者名簿!D497)","v":""}]
[{"$f":"応募者名簿!$B$8","v":0},{"$f":"CONCATENATE(応募者名簿!$B$11,応募者名簿!$D$11,応募者名簿!$E$11,応募者名簿!$I$11)","v":""},"条幅",{"$f":"CONCATENATE(応募者名簿!A498)","v":""},{"$f":"CONCATENATE(応募者名簿!B498)","v":""},{"$f":"CONCATENATE(応募者名簿!C498)","v":""},{"$f":"CONCATENATE(応募者名簿!D498)","v":""}]
[{"$f":"応募者名簿!$B$8","v":0},{"$f":"CONCATENATE(応募者名簿!$B$11,応募者名簿!$D$11,応募者名簿!$E$11,応募者名簿!$I$11)","v":""},"条幅",{"$f":"CONCATENATE(応募者名簿!A499)","v":""},{"$f":"CONCATENATE(応募者名簿!B499)","v":""},{"$f":"CONCATENATE(応募者名簿!C499)","v":""},{"$f":"CONCATENATE(応募者名簿!D499)","v":""}]
[{"$f":"応募者名簿!$B$8","v":0},{"$f":"CONCATENATE(応募者名簿!$B$11,応募者名簿!$D$11,応募者名簿!$E$11,応募者名簿!$I$11)","v":""},"条幅",{"$f":"CONCATENATE(応募者名簿!A500)","v":""},{"$f":"CONCATENATE(応募者名簿!B500)","v":""},{"$f":"CONCATENATE(応募者名簿!C500)","v":""},{"$f":"CONCATENATE(応募者名簿!D500)","v":""}]
[{"$f":"応募者名簿!$B$8","v":0},{"$f":"CONCATENATE(応募者名簿!$B$11,応募者名簿!$D$11,応募者名簿!$E$11,応募者名簿!$I$11)","v":""},"条幅",{"$f":"CONCATENATE(応募者名簿!A501)","v":""},{"$f":"CONCATENATE(応募者名簿!B501)","v":""},{"$f":"CONCATENATE(応募者名簿!C501)","v":""},{"$f":"CONCATENATE(応募者名簿!D501)","v":""}]
[{"$f":"応募者名簿!$B$8","v":0},{"$f":"CONCATENATE(応募者名簿!$B$11,応募者名簿!$D$11,応募者名簿!$E$11,応募者名簿!$I$11)","v":""},"条幅",{"$f":"CONCATENATE(応募者名簿!A502)","v":""},{"$f":"CONCATENATE(応募者名簿!B502)","v":""},{"$f":"CONCATENATE(応募者名簿!C502)","v":""},{"$f":"CONCATENATE(応募者名簿!D502)","v":""}]
[{"$f":"応募者名簿!$B$8","v":0},{"$f":"CONCATENATE(応募者名簿!$B$11,応募者名簿!$D$11,応募者名簿!$E$11,応募者名簿!$I$11)","v":""},"条幅",{"$f":"CONCATENATE(応募者名簿!A503)","v":""},{"$f":"CONCATENATE(応募者名簿!B503)","v":""},{"$f":"CONCATENATE(応募者名簿!C503)","v":""},{"$f":"CONCATENATE(応募者名簿!D503)","v":""}]
[{"$f":"応募者名簿!$B$8","v":0},{"$f":"CONCATENATE(応募者名簿!$B$11,応募者名簿!$D$11,応募者名簿!$E$11,応募者名簿!$I$11)","v":""},"条幅",{"$f":"CONCATENATE(応募者名簿!A504)","v":""},{"$f":"CONCATENATE(応募者名簿!B504)","v":""},{"$f":"CONCATENATE(応募者名簿!C504)","v":""},{"$f":"CONCATENATE(応募者名簿!D504)","v":""}]
[{"$f":"応募者名簿!$B$8","v":0},{"$f":"CONCATENATE(応募者名簿!$B$11,応募者名簿!$D$11,応募者名簿!$E$11,応募者名簿!$I$11)","v":""},"条幅",{"$f":"CONCATENATE(応募者名簿!A505)","v":""},{"$f":"CONCATENATE(応募者名簿!B505)","v":""},{"$f":"CONCATENATE(応募者名簿!C505)","v":""},{"$f":"CONCATENATE(応募者名簿!D505)","v":""}]
[{"$f":"応募者名簿!$B$8","v":0},{"$f":"CONCATENATE(応募者名簿!$B$11,応募者名簿!$D$11,応募者名簿!$E$11,応募者名簿!$I$11)","v":""},"条幅",{"$f":"CONCATENATE(応募者名簿!A506)","v":""},{"$f":"CONCATENATE(応募者名簿!B506)","v":""},{"$f":"CONCATENATE(応募者名簿!C506)","v":""},{"$f":"CONCATENATE(応募者名簿!D506)","v":""}]
[{"$f":"応募者名簿!$B$8","v":0},{"$f":"CONCATENATE(応募者名簿!$B$11,応募者名簿!$D$11,応募者名簿!$E$11,応募者名簿!$I$11)","v":""},"条幅",{"$f":"CONCATENATE(応募者名簿!A507)","v":""},{"$f":"CONCATENATE(応募者名簿!B507)","v":""},{"$f":"CONCATENATE(応募者名簿!C507)","v":""},{"$f":"CONCATENATE(応募者名簿!D507)","v":""}]
[{"$f":"応募者名簿!$B$8","v":0},{"$f":"CONCATENATE(応募者名簿!$B$11,応募者名簿!$D$11,応募者名簿!$E$11,応募者名簿!$I$11)","v":""},"条幅",{"$f":"CONCATENATE(応募者名簿!A508)","v":""},{"$f":"CONCATENATE(応募者名簿!B508)","v":""},{"$f":"CONCATENATE(応募者名簿!C508)","v":""},{"$f":"CONCATENATE(応募者名簿!D508)","v":""}]
[{"$f":"応募者名簿!$B$8","v":0},{"$f":"CONCATENATE(応募者名簿!$B$11,応募者名簿!$D$11,応募者名簿!$E$11,応募者名簿!$I$11)","v":""},"条幅",{"$f":"CONCATENATE(応募者名簿!A509)","v":""},{"$f":"CONCATENATE(応募者名簿!B509)","v":""},{"$f":"CONCATENATE(応募者名簿!C509)","v":""},{"$f":"CONCATENATE(応募者名簿!D509)","v":""}]
[{"$f":"応募者名簿!$B$8","v":0},{"$f":"CONCATENATE(応募者名簿!$B$11,応募者名簿!$D$11,応募者名簿!$E$11,応募者名簿!$I$11)","v":""},"条幅",{"$f":"CONCATENATE(応募者名簿!A510)","v":""},{"$f":"CONCATENATE(応募者名簿!B510)","v":""},{"$f":"CONCATENATE(応募者名簿!C510)","v":""},{"$f":"CONCATENATE(応募者名簿!D510)","v":""}]
[{"$f":"応募者名簿!$B$8","v":0},{"$f":"CONCATENATE(応募者名簿!$B$11,応募者名簿!$D$11,応募者名簿!$E$11,応募者名簿!$I$11)","v":""},"条幅",{"$f":"CONCATENATE(応募者名簿!A511)","v":""},{"$f":"CONCATENATE(応募者名簿!B511)","v":""},{"$f":"CONCATENATE(応募者名簿!C511)","v":""},{"$f":"CONCATENATE(応募者名簿!D511)","v":""}]
[{"$f":"応募者名簿!$B$8","v":0},{"$f":"CONCATENATE(応募者名簿!$B$11,応募者名簿!$D$11,応募者名簿!$E$11,応募者名簿!$I$11)","v":""},"条幅",{"$f":"CONCATENATE(応募者名簿!A512)","v":""},{"$f":"CONCATENATE(応募者名簿!B512)","v":""},{"$f":"CONCATENATE(応募者名簿!C512)","v":""},{"$f":"CONCATENATE(応募者名簿!D512)","v":""}]
[{"$f":"応募者名簿!$B$8","v":0},{"$f":"CONCATENATE(応募者名簿!$B$11,応募者名簿!$D$11,応募者名簿!$E$11,応募者名簿!$I$11)","v":""},"条幅",{"$f":"CONCATENATE(応募者名簿!A513)","v":""},{"$f":"CONCATENATE(応募者名簿!B513)","v":""},{"$f":"CONCATENATE(応募者名簿!C513)","v":""},{"$f":"CONCATENATE(応募者名簿!D513)","v":""}]
[{"$f":"応募者名簿!$B$8","v":0},{"$f":"CONCATENATE(応募者名簿!$B$11,応募者名簿!$D$11,応募者名簿!$E$11,応募者名簿!$I$11)","v":""},"条幅",{"$f":"CONCATENATE(応募者名簿!A514)","v":""},{"$f":"CONCATENATE(応募者名簿!B514)","v":""},{"$f":"CONCATENATE(応募者名簿!C514)","v":""},{"$f":"CONCATENATE(応募者名簿!D514)","v":""}]
[{"$f":"応募者名簿!$B$8","v":0},{"$f":"CONCATENATE(応募者名簿!$B$11,応募者名簿!$D$11,応募者名簿!$E$11,応募者名簿!$I$11)","v":""},"条幅",{"$f":"CONCATENATE(応募者名簿!A515)","v":""},{"$f":"CONCATENATE(応募者名簿!B515)","v":""},{"$f":"CONCATENATE(応募者名簿!C515)","v":""},{"$f":"CONCATENATE(応募者名簿!D515)","v":""}]
[{"$f":"応募者名簿!$B$8","v":0},{"$f":"CONCATENATE(応募者名簿!$B$11,応募者名簿!$D$11,応募者名簿!$E$11,応募者名簿!$I$11)","v":""},"条幅",{"$f":"CONCATENATE(応募者名簿!A516)","v":""},{"$f":"CONCATENATE(応募者名簿!B516)","v":""},{"$f":"CONCATENATE(応募者名簿!C516)","v":""},{"$f":"CONCATENATE(応募者名簿!D516)","v":""}]
[{"$f":"応募者名簿!$B$8","v":0},{"$f":"CONCATENATE(応募者名簿!$B$11,応募者名簿!$D$11,応募者名簿!$E$11,応募者名簿!$I$11)","v":""},"条幅",{"$f":"CONCATENATE(応募者名簿!A517)","v":""},{"$f":"CONCATENATE(応募者名簿!B517)","v":""},{"$f":"CONCATENATE(応募者名簿!C517)","v":""},{"$f":"CONCATENATE(応募者名簿!D517)","v":""}]
[{"$f":"応募者名簿!$B$8","v":0},{"$f":"CONCATENATE(応募者名簿!$B$11,応募者名簿!$D$11,応募者名簿!$E$11,応募者名簿!$I$11)","v":""},"条幅",{"$f":"CONCATENATE(応募者名簿!A518)","v":""},{"$f":"CONCATENATE(応募者名簿!B518)","v":""},{"$f":"CONCATENATE(応募者名簿!C518)","v":""},{"$f":"CONCATENATE(応募者名簿!D518)","v":""}]
[{"$f":"応募者名簿!$B$8","v":0},{"$f":"CONCATENATE(応募者名簿!$B$11,応募者名簿!$D$11,応募者名簿!$E$11,応募者名簿!$I$11)","v":""},"条幅",{"$f":"CONCATENATE(応募者名簿!A519)","v":""},{"$f":"CONCATENATE(応募者名簿!B519)","v":""},{"$f":"CONCATENATE(応募者名簿!C519)","v":""},{"$f":"CONCATENATE(応募者名簿!D519)","v":""}]
[{"$f":"応募者名簿!$B$8","v":0},{"$f":"CONCATENATE(応募者名簿!$B$11,応募者名簿!$D$11,応募者名簿!$E$11,応募者名簿!$I$11)","v":""},"条幅",{"$f":"CONCATENATE(応募者名簿!A520)","v":""},{"$f":"CONCATENATE(応募者名簿!B520)","v":""},{"$f":"CONCATENATE(応募者名簿!C520)","v":""},{"$f":"CONCATENATE(応募者名簿!D520)","v":""}]
[{"$f":"応募者名簿!$B$8","v":0},{"$f":"CONCATENATE(応募者名簿!$B$11,応募者名簿!$D$11,応募者名簿!$E$11,応募者名簿!$I$11)","v":""},"条幅",{"$f":"CONCATENATE(応募者名簿!A521)","v":""},{"$f":"CONCATENATE(応募者名簿!B521)","v":""},{"$f":"CONCATENATE(応募者名簿!C521)","v":""},{"$f":"CONCATENATE(応募者名簿!D521)","v":""}]
[{"$f":"応募者名簿!$B$8","v":0},{"$f":"CONCATENATE(応募者名簿!$B$11,応募者名簿!$D$11,応募者名簿!$E$11,応募者名簿!$I$11)","v":""},"条幅",{"$f":"CONCATENATE(応募者名簿!A522)","v":""},{"$f":"CONCATENATE(応募者名簿!B522)","v":""},{"$f":"CONCATENATE(応募者名簿!C522)","v":""},{"$f":"CONCATENATE(応募者名簿!D522)","v":""}]
[{"$f":"応募者名簿!$B$8","v":0},{"$f":"CONCATENATE(応募者名簿!$B$11,応募者名簿!$D$11,応募者名簿!$E$11,応募者名簿!$I$11)","v":""},"条幅",{"$f":"CONCATENATE(応募者名簿!A523)","v":""},{"$f":"CONCATENATE(応募者名簿!B523)","v":""},{"$f":"CONCATENATE(応募者名簿!C523)","v":""},{"$f":"CONCATENATE(応募者名簿!D523)","v":""}]
[{"$f":"応募者名簿!$B$8","v":0},{"$f":"CONCATENATE(応募者名簿!$B$11,応募者名簿!$D$11,応募者名簿!$E$11,応募者名簿!$I$11)","v":""},"条幅",{"$f":"CONCATENATE(応募者名簿!A524)","v":""},{"$f":"CONCATENATE(応募者名簿!B524)","v":""},{"$f":"CONCATENATE(応募者名簿!C524)","v":""},{"$f":"CONCATENATE(応募者名簿!D524)","v":""}]
[{"$f":"応募者名簿!$B$8","v":0},{"$f":"CONCATENATE(応募者名簿!$B$11,応募者名簿!$D$11,応募者名簿!$E$11,応募者名簿!$I$11)","v":""},"条幅",{"$f":"CONCATENATE(応募者名簿!A525)","v":""},{"$f":"CONCATENATE(応募者名簿!B525)","v":""},{"$f":"CONCATENATE(応募者名簿!C525)","v":""},{"$f":"CONCATENATE(応募者名簿!D525)","v":""}]
[{"$f":"応募者名簿!$B$8","v":0},{"$f":"CONCATENATE(応募者名簿!$B$11,応募者名簿!$D$11,応募者名簿!$E$11,応募者名簿!$I$11)","v":""},"条幅",{"$f":"CONCATENATE(応募者名簿!A526)","v":""},{"$f":"CONCATENATE(応募者名簿!B526)","v":""},{"$f":"CONCATENATE(応募者名簿!C526)","v":""},{"$f":"CONCATENATE(応募者名簿!D526)","v":""}]
[{"$f":"応募者名簿!$B$8","v":0},{"$f":"CONCATENATE(応募者名簿!$B$11,応募者名簿!$D$11,応募者名簿!$E$11,応募者名簿!$I$11)","v":""},"条幅",{"$f":"CONCATENATE(応募者名簿!A527)","v":""},{"$f":"CONCATENATE(応募者名簿!B527)","v":""},{"$f":"CONCATENATE(応募者名簿!C527)","v":""},{"$f":"CONCATENATE(応募者名簿!D527)","v":""}]
[{"$f":"応募者名簿!$B$8","v":0},{"$f":"CONCATENATE(応募者名簿!$B$11,応募者名簿!$D$11,応募者名簿!$E$11,応募者名簿!$I$11)","v":""},"条幅",{"$f":"CONCATENATE(応募者名簿!A528)","v":""},{"$f":"CONCATENATE(応募者名簿!B528)","v":""},{"$f":"CONCATENATE(応募者名簿!C528)","v":""},{"$f":"CONCATENATE(応募者名簿!D528)","v":""}]
[{"$f":"応募者名簿!$B$8","v":0},{"$f":"CONCATENATE(応募者名簿!$B$11,応募者名簿!$D$11,応募者名簿!$E$11,応募者名簿!$I$11)","v":""},"条幅",{"$f":"CONCATENATE(応募者名簿!A529)","v":""},{"$f":"CONCATENATE(応募者名簿!B529)","v":""},{"$f":"CONCATENATE(応募者名簿!C529)","v":""},{"$f":"CONCATENATE(応募者名簿!D529)","v":""}]
[{"$f":"応募者名簿!$B$8","v":0},{"$f":"CONCATENATE(応募者名簿!$B$11,応募者名簿!$D$11,応募者名簿!$E$11,応募者名簿!$I$11)","v":""},"条幅",{"$f":"CONCATENATE(応募者名簿!A530)","v":""},{"$f":"CONCATENATE(応募者名簿!B530)","v":""},{"$f":"CONCATENATE(応募者名簿!C530)","v":""},{"$f":"CONCATENATE(応募者名簿!D530)","v":""}]
[{"$f":"応募者名簿!$B$8","v":0},{"$f":"CONCATENATE(応募者名簿!$B$11,応募者名簿!$D$11,応募者名簿!$E$11,応募者名簿!$I$11)","v":""},"条幅",{"$f":"CONCATENATE(応募者名簿!A531)","v":""},{"$f":"CONCATENATE(応募者名簿!B531)","v":""},{"$f":"CONCATENATE(応募者名簿!C531)","v":""},{"$f":"CONCATENATE(応募者名簿!D531)","v":""}]
[{"$f":"応募者名簿!$B$8","v":0},{"$f":"CONCATENATE(応募者名簿!$B$11,応募者名簿!$D$11,応募者名簿!$E$11,応募者名簿!$I$11)","v":""},"条幅",{"$f":"CONCATENATE(応募者名簿!A532)","v":""},{"$f":"CONCATENATE(応募者名簿!B532)","v":""},{"$f":"CONCATENATE(応募者名簿!C532)","v":""},{"$f":"CONCATENATE(応募者名簿!D532)","v":""}]
[{"$f":"応募者名簿!$B$8","v":0},{"$f":"CONCATENATE(応募者名簿!$B$11,応募者名簿!$D$11,応募者名簿!$E$11,応募者名簿!$I$11)","v":""},"条幅",{"$f":"CONCATENATE(応募者名簿!A533)","v":""},{"$f":"CONCATENATE(応募者名簿!B533)","v":""},{"$f":"CONCATENATE(応募者名簿!C533)","v":""},{"$f":"CONCATENATE(応募者名簿!D533)","v":""}]
[{"$f":"応募者名簿!$B$8","v":0},{"$f":"CONCATENATE(応募者名簿!$B$11,応募者名簿!$D$11,応募者名簿!$E$11,応募者名簿!$I$11)","v":""},"条幅",{"$f":"CONCATENATE(応募者名簿!A534)","v":""},{"$f":"CONCATENATE(応募者名簿!B534)","v":""},{"$f":"CONCATENATE(応募者名簿!C534)","v":""},{"$f":"CONCATENATE(応募者名簿!D534)","v":""}]
[{"$f":"応募者名簿!$B$8","v":0},{"$f":"CONCATENATE(応募者名簿!$B$11,応募者名簿!$D$11,応募者名簿!$E$11,応募者名簿!$I$11)","v":""},"条幅",{"$f":"CONCATENATE(応募者名簿!A535)","v":""},{"$f":"CONCATENATE(応募者名簿!B535)","v":""},{"$f":"CONCATENATE(応募者名簿!C535)","v":""},{"$f":"CONCATENATE(応募者名簿!D535)","v":""}]
[{"$f":"応募者名簿!$B$8","v":0},{"$f":"CONCATENATE(応募者名簿!$B$11,応募者名簿!$D$11,応募者名簿!$E$11,応募者名簿!$I$11)","v":""},"条幅",{"$f":"CONCATENATE(応募者名簿!A536)","v":""},{"$f":"CONCATENATE(応募者名簿!B536)","v":""},{"$f":"CONCATENATE(応募者名簿!C536)","v":""},{"$f":"CONCATENATE(応募者名簿!D536)","v":""}]
[{"$f":"応募者名簿!$B$8","v":0},{"$f":"CONCATENATE(応募者名簿!$B$11,応募者名簿!$D$11,応募者名簿!$E$11,応募者名簿!$I$11)","v":""},"条幅",{"$f":"CONCATENATE(応募者名簿!A537)","v":""},{"$f":"CONCATENATE(応募者名簿!B537)","v":""},{"$f":"CONCATENATE(応募者名簿!C537)","v":""},{"$f":"CONCATENATE(応募者名簿!D537)","v":""}]
[{"$f":"応募者名簿!$B$8","v":0},{"$f":"CONCATENATE(応募者名簿!$B$11,応募者名簿!$D$11,応募者名簿!$E$11,応募者名簿!$I$11)","v":""},"条幅",{"$f":"CONCATENATE(応募者名簿!A538)","v":""},{"$f":"CONCATENATE(応募者名簿!B538)","v":""},{"$f":"CONCATENATE(応募者名簿!C538)","v":""},{"$f":"CONCATENATE(応募者名簿!D538)","v":""}]
[{"$f":"応募者名簿!$B$8","v":0},{"$f":"CONCATENATE(応募者名簿!$B$11,応募者名簿!$D$11,応募者名簿!$E$11,応募者名簿!$I$11)","v":""},"条幅",{"$f":"CONCATENATE(応募者名簿!A539)","v":""},{"$f":"CONCATENATE(応募者名簿!B539)","v":""},{"$f":"CONCATENATE(応募者名簿!C539)","v":""},{"$f":"CONCATENATE(応募者名簿!D539)","v":""}]
[{"$f":"応募者名簿!$B$8","v":0},{"$f":"CONCATENATE(応募者名簿!$B$11,応募者名簿!$D$11,応募者名簿!$E$11,応募者名簿!$I$11)","v":""},"条幅",{"$f":"CONCATENATE(応募者名簿!A540)","v":""},{"$f":"CONCATENATE(応募者名簿!B540)","v":""},{"$f":"CONCATENATE(応募者名簿!C540)","v":""},{"$f":"CONCATENATE(応募者名簿!D540)","v":""}]
[{"$f":"応募者名簿!$B$8","v":0},{"$f":"CONCATENATE(応募者名簿!$B$11,応募者名簿!$D$11,応募者名簿!$E$11,応募者名簿!$I$11)","v":""},"条幅",{"$f":"CONCATENATE(応募者名簿!A541)","v":""},{"$f":"CONCATENATE(応募者名簿!B541)","v":""},{"$f":"CONCATENATE(応募者名簿!C541)","v":""},{"$f":"CONCATENATE(応募者名簿!D541)","v":""}]
[{"$f":"応募者名簿!$B$8","v":0},{"$f":"CONCATENATE(応募者名簿!$B$11,応募者名簿!$D$11,応募者名簿!$E$11,応募者名簿!$I$11)","v":""},"条幅",{"$f":"CONCATENATE(応募者名簿!A542)","v":""},{"$f":"CONCATENATE(応募者名簿!B542)","v":""},{"$f":"CONCATENATE(応募者名簿!C542)","v":""},{"$f":"CONCATENATE(応募者名簿!D542)","v":""}]
[{"$f":"応募者名簿!$B$8","v":0},{"$f":"CONCATENATE(応募者名簿!$B$11,応募者名簿!$D$11,応募者名簿!$E$11,応募者名簿!$I$11)","v":""},"条幅",{"$f":"CONCATENATE(応募者名簿!A543)","v":""},{"$f":"CONCATENATE(応募者名簿!B543)","v":""},{"$f":"CONCATENATE(応募者名簿!C543)","v":""},{"$f":"CONCATENATE(応募者名簿!D543)","v":""}]
[{"$f":"応募者名簿!$B$8","v":0},{"$f":"CONCATENATE(応募者名簿!$B$11,応募者名簿!$D$11,応募者名簿!$E$11,応募者名簿!$I$11)","v":""},"条幅",{"$f":"CONCATENATE(応募者名簿!A544)","v":""},{"$f":"CONCATENATE(応募者名簿!B544)","v":""},{"$f":"CONCATENATE(応募者名簿!C544)","v":""},{"$f":"CONCATENATE(応募者名簿!D544)","v":""}]
[{"$f":"応募者名簿!$B$8","v":0},{"$f":"CONCATENATE(応募者名簿!$B$11,応募者名簿!$D$11,応募者名簿!$E$11,応募者名簿!$I$11)","v":""},"条幅",{"$f":"CONCATENATE(応募者名簿!A545)","v":""},{"$f":"CONCATENATE(応募者名簿!B545)","v":""},{"$f":"CONCATENATE(応募者名簿!C545)","v":""},{"$f":"CONCATENATE(応募者名簿!D545)","v":""}]
[{"$f":"応募者名簿!$B$8","v":0},{"$f":"CONCATENATE(応募者名簿!$B$11,応募者名簿!$D$11,応募者名簿!$E$11,応募者名簿!$I$11)","v":""},"条幅",{"$f":"CONCATENATE(応募者名簿!A546)","v":""},{"$f":"CONCATENATE(応募者名簿!B546)","v":""},{"$f":"CONCATENATE(応募者名簿!C546)","v":""},{"$f":"CONCATENATE(応募者名簿!D546)","v":""}]
[{"$f":"応募者名簿!$B$8","v":0},{"$f":"CONCATENATE(応募者名簿!$B$11,応募者名簿!$D$11,応募者名簿!$E$11,応募者名簿!$I$11)","v":""},"条幅",{"$f":"CONCATENATE(応募者名簿!A547)","v":""},{"$f":"CONCATENATE(応募者名簿!B547)","v":""},{"$f":"CONCATENATE(応募者名簿!C547)","v":""},{"$f":"CONCATENATE(応募者名簿!D547)","v":""}]
[{"$f":"応募者名簿!$B$8","v":0},{"$f":"CONCATENATE(応募者名簿!$B$11,応募者名簿!$D$11,応募者名簿!$E$11,応募者名簿!$I$11)","v":""},"条幅",{"$f":"CONCATENATE(応募者名簿!A548)","v":""},{"$f":"CONCATENATE(応募者名簿!B548)","v":""},{"$f":"CONCATENATE(応募者名簿!C548)","v":""},{"$f":"CONCATENATE(応募者名簿!D548)","v":""}]
[{"$f":"応募者名簿!$B$8","v":0},{"$f":"CONCATENATE(応募者名簿!$B$11,応募者名簿!$D$11,応募者名簿!$E$11,応募者名簿!$I$11)","v":""},"条幅",{"$f":"CONCATENATE(応募者名簿!A549)","v":""},{"$f":"CONCATENATE(応募者名簿!B549)","v":""},{"$f":"CONCATENATE(応募者名簿!C549)","v":""},{"$f":"CONCATENATE(応募者名簿!D549)","v":""}]
[{"$f":"応募者名簿!$B$8","v":0},{"$f":"CONCATENATE(応募者名簿!$B$11,応募者名簿!$D$11,応募者名簿!$E$11,応募者名簿!$I$11)","v":""},"条幅",{"$f":"CONCATENATE(応募者名簿!A550)","v":""},{"$f":"CONCATENATE(応募者名簿!B550)","v":""},{"$f":"CONCATENATE(応募者名簿!C550)","v":""},{"$f":"CONCATENATE(応募者名簿!D550)","v":""}]
[{"$f":"応募者名簿!$B$8","v":0},{"$f":"CONCATENATE(応募者名簿!$B$11,応募者名簿!$D$11,応募者名簿!$E$11,応募者名簿!$I$11)","v":""},"条幅",{"$f":"CONCATENATE(応募者名簿!A551)","v":""},{"$f":"CONCATENATE(応募者名簿!B551)","v":""},{"$f":"CONCATENATE(応募者名簿!C551)","v":""},{"$f":"CONCATENATE(応募者名簿!D551)","v":""}]
[{"$f":"応募者名簿!$B$8","v":0},{"$f":"CONCATENATE(応募者名簿!$B$11,応募者名簿!$D$11,応募者名簿!$E$11,応募者名簿!$I$11)","v":""},"条幅",{"$f":"CONCATENATE(応募者名簿!A552)","v":""},{"$f":"CONCATENATE(応募者名簿!B552)","v":""},{"$f":"CONCATENATE(応募者名簿!C552)","v":""},{"$f":"CONCATENATE(応募者名簿!D552)","v":""}]
[{"$f":"応募者名簿!$B$8","v":0},{"$f":"CONCATENATE(応募者名簿!$B$11,応募者名簿!$D$11,応募者名簿!$E$11,応募者名簿!$I$11)","v":""},"条幅",{"$f":"CONCATENATE(応募者名簿!A553)","v":""},{"$f":"CONCATENATE(応募者名簿!B553)","v":""},{"$f":"CONCATENATE(応募者名簿!C553)","v":""},{"$f":"CONCATENATE(応募者名簿!D553)","v":""}]
[{"$f":"応募者名簿!$B$8","v":0},{"$f":"CONCATENATE(応募者名簿!$B$11,応募者名簿!$D$11,応募者名簿!$E$11,応募者名簿!$I$11)","v":""},"条幅",{"$f":"CONCATENATE(応募者名簿!A554)","v":""},{"$f":"CONCATENATE(応募者名簿!B554)","v":""},{"$f":"CONCATENATE(応募者名簿!C554)","v":""},{"$f":"CONCATENATE(応募者名簿!D554)","v":""}]
[{"$f":"応募者名簿!$B$8","v":0},{"$f":"CONCATENATE(応募者名簿!$B$11,応募者名簿!$D$11,応募者名簿!$E$11,応募者名簿!$I$11)","v":""},"条幅",{"$f":"CONCATENATE(応募者名簿!A555)","v":""},{"$f":"CONCATENATE(応募者名簿!B555)","v":""},{"$f":"CONCATENATE(応募者名簿!C555)","v":""},{"$f":"CONCATENATE(応募者名簿!D555)","v":""}]
[{"$f":"応募者名簿!$B$8","v":0},{"$f":"CONCATENATE(応募者名簿!$B$11,応募者名簿!$D$11,応募者名簿!$E$11,応募者名簿!$I$11)","v":""},"条幅",{"$f":"CONCATENATE(応募者名簿!A556)","v":""},{"$f":"CONCATENATE(応募者名簿!B556)","v":""},{"$f":"CONCATENATE(応募者名簿!C556)","v":""},{"$f":"CONCATENATE(応募者名簿!D556)","v":""}]
[{"$f":"応募者名簿!$B$8","v":0},{"$f":"CONCATENATE(応募者名簿!$B$11,応募者名簿!$D$11,応募者名簿!$E$11,応募者名簿!$I$11)","v":""},"条幅",{"$f":"CONCATENATE(応募者名簿!A557)","v":""},{"$f":"CONCATENATE(応募者名簿!B557)","v":""},{"$f":"CONCATENATE(応募者名簿!C557)","v":""},{"$f":"CONCATENATE(応募者名簿!D557)","v":""}]
[{"$f":"応募者名簿!$B$8","v":0},{"$f":"CONCATENATE(応募者名簿!$B$11,応募者名簿!$D$11,応募者名簿!$E$11,応募者名簿!$I$11)","v":""},"条幅",{"$f":"CONCATENATE(応募者名簿!A558)","v":""},{"$f":"CONCATENATE(応募者名簿!B558)","v":""},{"$f":"CONCATENATE(応募者名簿!C558)","v":""},{"$f":"CONCATENATE(応募者名簿!D558)","v":""}]
[{"$f":"応募者名簿!$B$8","v":0},{"$f":"CONCATENATE(応募者名簿!$B$11,応募者名簿!$D$11,応募者名簿!$E$11,応募者名簿!$I$11)","v":""},"条幅",{"$f":"CONCATENATE(応募者名簿!A559)","v":""},{"$f":"CONCATENATE(応募者名簿!B559)","v":""},{"$f":"CONCATENATE(応募者名簿!C559)","v":""},{"$f":"CONCATENATE(応募者名簿!D559)","v":""}]
[{"$f":"応募者名簿!$B$8","v":0},{"$f":"CONCATENATE(応募者名簿!$B$11,応募者名簿!$D$11,応募者名簿!$E$11,応募者名簿!$I$11)","v":""},"条幅",{"$f":"CONCATENATE(応募者名簿!A560)","v":""},{"$f":"CONCATENATE(応募者名簿!B560)","v":""},{"$f":"CONCATENATE(応募者名簿!C560)","v":""},{"$f":"CONCATENATE(応募者名簿!D560)","v":""}]
[{"$f":"応募者名簿!$B$8","v":0},{"$f":"CONCATENATE(応募者名簿!$B$11,応募者名簿!$D$11,応募者名簿!$E$11,応募者名簿!$I$11)","v":""},"条幅",{"$f":"CONCATENATE(応募者名簿!A561)","v":""},{"$f":"CONCATENATE(応募者名簿!B561)","v":""},{"$f":"CONCATENATE(応募者名簿!C561)","v":""},{"$f":"CONCATENATE(応募者名簿!D561)","v":""}]
[{"$f":"応募者名簿!$B$8","v":0},{"$f":"CONCATENATE(応募者名簿!$B$11,応募者名簿!$D$11,応募者名簿!$E$11,応募者名簿!$I$11)","v":""},"条幅",{"$f":"CONCATENATE(応募者名簿!A562)","v":""},{"$f":"CONCATENATE(応募者名簿!B562)","v":""},{"$f":"CONCATENATE(応募者名簿!C562)","v":""},{"$f":"CONCATENATE(応募者名簿!D562)","v":""}]
[{"$f":"応募者名簿!$B$8","v":0},{"$f":"CONCATENATE(応募者名簿!$B$11,応募者名簿!$D$11,応募者名簿!$E$11,応募者名簿!$I$11)","v":""},"条幅",{"$f":"CONCATENATE(応募者名簿!A563)","v":""},{"$f":"CONCATENATE(応募者名簿!B563)","v":""},{"$f":"CONCATENATE(応募者名簿!C563)","v":""},{"$f":"CONCATENATE(応募者名簿!D563)","v":""}]
[{"$f":"応募者名簿!$B$8","v":0},{"$f":"CONCATENATE(応募者名簿!$B$11,応募者名簿!$D$11,応募者名簿!$E$11,応募者名簿!$I$11)","v":""},"条幅",{"$f":"CONCATENATE(応募者名簿!A564)","v":""},{"$f":"CONCATENATE(応募者名簿!B564)","v":""},{"$f":"CONCATENATE(応募者名簿!C564)","v":""},{"$f":"CONCATENATE(応募者名簿!D564)","v":""}]
[{"$f":"応募者名簿!$B$8","v":0},{"$f":"CONCATENATE(応募者名簿!$B$11,応募者名簿!$D$11,応募者名簿!$E$11,応募者名簿!$I$11)","v":""},"条幅",{"$f":"CONCATENATE(応募者名簿!A565)","v":""},{"$f":"CONCATENATE(応募者名簿!B565)","v":""},{"$f":"CONCATENATE(応募者名簿!C565)","v":""},{"$f":"CONCATENATE(応募者名簿!D565)","v":""}]
[{"$f":"応募者名簿!$B$8","v":0},{"$f":"CONCATENATE(応募者名簿!$B$11,応募者名簿!$D$11,応募者名簿!$E$11,応募者名簿!$I$11)","v":""},"条幅",{"$f":"CONCATENATE(応募者名簿!A566)","v":""},{"$f":"CONCATENATE(応募者名簿!B566)","v":""},{"$f":"CONCATENATE(応募者名簿!C566)","v":""},{"$f":"CONCATENATE(応募者名簿!D566)","v":""}]
[{"$f":"応募者名簿!$B$8","v":0},{"$f":"CONCATENATE(応募者名簿!$B$11,応募者名簿!$D$11,応募者名簿!$E$11,応募者名簿!$I$11)","v":""},"条幅",{"$f":"CONCATENATE(応募者名簿!A567)","v":""},{"$f":"CONCATENATE(応募者名簿!B567)","v":""},{"$f":"CONCATENATE(応募者名簿!C567)","v":""},{"$f":"CONCATENATE(応募者名簿!D567)","v":""}]
[{"$f":"応募者名簿!$B$8","v":0},{"$f":"CONCATENATE(応募者名簿!$B$11,応募者名簿!$D$11,応募者名簿!$E$11,応募者名簿!$I$11)","v":""},"条幅",{"$f":"CONCATENATE(応募者名簿!A568)","v":""},{"$f":"CONCATENATE(応募者名簿!B568)","v":""},{"$f":"CONCATENATE(応募者名簿!C568)","v":""},{"$f":"CONCATENATE(応募者名簿!D568)","v":""}]
[{"$f":"応募者名簿!$B$8","v":0},{"$f":"CONCATENATE(応募者名簿!$B$11,応募者名簿!$D$11,応募者名簿!$E$11,応募者名簿!$I$11)","v":""},"条幅",{"$f":"CONCATENATE(応募者名簿!A569)","v":""},{"$f":"CONCATENATE(応募者名簿!B569)","v":""},{"$f":"CONCATENATE(応募者名簿!C569)","v":""},{"$f":"CONCATENATE(応募者名簿!D569)","v":""}]
[{"$f":"応募者名簿!$B$8","v":0},{"$f":"CONCATENATE(応募者名簿!$B$11,応募者名簿!$D$11,応募者名簿!$E$11,応募者名簿!$I$11)","v":""},"条幅",{"$f":"CONCATENATE(応募者名簿!A570)","v":""},{"$f":"CONCATENATE(応募者名簿!B570)","v":""},{"$f":"CONCATENATE(応募者名簿!C570)","v":""},{"$f":"CONCATENATE(応募者名簿!D570)","v":""}]
[{"$f":"応募者名簿!$B$8","v":0},{"$f":"CONCATENATE(応募者名簿!$B$11,応募者名簿!$D$11,応募者名簿!$E$11,応募者名簿!$I$11)","v":""},"条幅",{"$f":"CONCATENATE(応募者名簿!A571)","v":""},{"$f":"CONCATENATE(応募者名簿!B571)","v":""},{"$f":"CONCATENATE(応募者名簿!C571)","v":""},{"$f":"CONCATENATE(応募者名簿!D571)","v":""}]
[{"$f":"応募者名簿!$B$8","v":0},{"$f":"CONCATENATE(応募者名簿!$B$11,応募者名簿!$D$11,応募者名簿!$E$11,応募者名簿!$I$11)","v":""},"条幅",{"$f":"CONCATENATE(応募者名簿!A572)","v":""},{"$f":"CONCATENATE(応募者名簿!B572)","v":""},{"$f":"CONCATENATE(応募者名簿!C572)","v":""},{"$f":"CONCATENATE(応募者名簿!D572)","v":""}]
[{"$f":"応募者名簿!$B$8","v":0},{"$f":"CONCATENATE(応募者名簿!$B$11,応募者名簿!$D$11,応募者名簿!$E$11,応募者名簿!$I$11)","v":""},"条幅",{"$f":"CONCATENATE(応募者名簿!A573)","v":""},{"$f":"CONCATENATE(応募者名簿!B573)","v":""},{"$f":"CONCATENATE(応募者名簿!C573)","v":""},{"$f":"CONCATENATE(応募者名簿!D573)","v":""}]
[{"$f":"応募者名簿!$B$8","v":0},{"$f":"CONCATENATE(応募者名簿!$B$11,応募者名簿!$D$11,応募者名簿!$E$11,応募者名簿!$I$11)","v":""},"条幅",{"$f":"CONCATENATE(応募者名簿!A574)","v":""},{"$f":"CONCATENATE(応募者名簿!B574)","v":""},{"$f":"CONCATENATE(応募者名簿!C574)","v":""},{"$f":"CONCATENATE(応募者名簿!D574)","v":""}]
[{"$f":"応募者名簿!$B$8","v":0},{"$f":"CONCATENATE(応募者名簿!$B$11,応募者名簿!$D$11,応募者名簿!$E$11,応募者名簿!$I$11)","v":""},"条幅",{"$f":"CONCATENATE(応募者名簿!A575)","v":""},{"$f":"CONCATENATE(応募者名簿!B575)","v":""},{"$f":"CONCATENATE(応募者名簿!C575)","v":""},{"$f":"CONCATENATE(応募者名簿!D575)","v":""}]
[{"$f":"応募者名簿!$B$8","v":0},{"$f":"CONCATENATE(応募者名簿!$B$11,応募者名簿!$D$11,応募者名簿!$E$11,応募者名簿!$I$11)","v":""},"条幅",{"$f":"CONCATENATE(応募者名簿!A576)","v":""},{"$f":"CONCATENATE(応募者名簿!B576)","v":""},{"$f":"CONCATENATE(応募者名簿!C576)","v":""},{"$f":"CONCATENATE(応募者名簿!D576)","v":""}]
[{"$f":"応募者名簿!$B$8","v":0},{"$f":"CONCATENATE(応募者名簿!$B$11,応募者名簿!$D$11,応募者名簿!$E$11,応募者名簿!$I$11)","v":""},"条幅",{"$f":"CONCATENATE(応募者名簿!A577)","v":""},{"$f":"CONCATENATE(応募者名簿!B577)","v":""},{"$f":"CONCATENATE(応募者名簿!C577)","v":""},{"$f":"CONCATENATE(応募者名簿!D577)","v":""}]
[{"$f":"応募者名簿!$B$8","v":0},{"$f":"CONCATENATE(応募者名簿!$B$11,応募者名簿!$D$11,応募者名簿!$E$11,応募者名簿!$I$11)","v":""},"条幅",{"$f":"CONCATENATE(応募者名簿!A578)","v":""},{"$f":"CONCATENATE(応募者名簿!B578)","v":""},{"$f":"CONCATENATE(応募者名簿!C578)","v":""},{"$f":"CONCATENATE(応募者名簿!D578)","v":""}]
[{"$f":"応募者名簿!$B$8","v":0},{"$f":"CONCATENATE(応募者名簿!$B$11,応募者名簿!$D$11,応募者名簿!$E$11,応募者名簿!$I$11)","v":""},"条幅",{"$f":"CONCATENATE(応募者名簿!A579)","v":""},{"$f":"CONCATENATE(応募者名簿!B579)","v":""},{"$f":"CONCATENATE(応募者名簿!C579)","v":""},{"$f":"CONCATENATE(応募者名簿!D579)","v":""}]
[{"$f":"応募者名簿!$B$8","v":0},{"$f":"CONCATENATE(応募者名簿!$B$11,応募者名簿!$D$11,応募者名簿!$E$11,応募者名簿!$I$11)","v":""},"条幅",{"$f":"CONCATENATE(応募者名簿!A580)","v":""},{"$f":"CONCATENATE(応募者名簿!B580)","v":""},{"$f":"CONCATENATE(応募者名簿!C580)","v":""},{"$f":"CONCATENATE(応募者名簿!D580)","v":""}]
[{"$f":"応募者名簿!$B$8","v":0},{"$f":"CONCATENATE(応募者名簿!$B$11,応募者名簿!$D$11,応募者名簿!$E$11,応募者名簿!$I$11)","v":""},"条幅",{"$f":"CONCATENATE(応募者名簿!A581)","v":""},{"$f":"CONCATENATE(応募者名簿!B581)","v":""},{"$f":"CONCATENATE(応募者名簿!C581)","v":""},{"$f":"CONCATENATE(応募者名簿!D581)","v":""}]
[{"$f":"応募者名簿!$B$8","v":0},{"$f":"CONCATENATE(応募者名簿!$B$11,応募者名簿!$D$11,応募者名簿!$E$11,応募者名簿!$I$11)","v":""},"条幅",{"$f":"CONCATENATE(応募者名簿!A582)","v":""},{"$f":"CONCATENATE(応募者名簿!B582)","v":""},{"$f":"CONCATENATE(応募者名簿!C582)","v":""},{"$f":"CONCATENATE(応募者名簿!D582)","v":""}]
[{"$f":"応募者名簿!$B$8","v":0},{"$f":"CONCATENATE(応募者名簿!$B$11,応募者名簿!$D$11,応募者名簿!$E$11,応募者名簿!$I$11)","v":""},"条幅",{"$f":"CONCATENATE(応募者名簿!A583)","v":""},{"$f":"CONCATENATE(応募者名簿!B583)","v":""},{"$f":"CONCATENATE(応募者名簿!C583)","v":""},{"$f":"CONCATENATE(応募者名簿!D583)","v":""}]
[{"$f":"応募者名簿!$B$8","v":0},{"$f":"CONCATENATE(応募者名簿!$B$11,応募者名簿!$D$11,応募者名簿!$E$11,応募者名簿!$I$11)","v":""},"条幅",{"$f":"CONCATENATE(応募者名簿!A584)","v":""},{"$f":"CONCATENATE(応募者名簿!B584)","v":""},{"$f":"CONCATENATE(応募者名簿!C584)","v":""},{"$f":"CONCATENATE(応募者名簿!D584)","v":""}]
[{"$f":"応募者名簿!$B$8","v":0},{"$f":"CONCATENATE(応募者名簿!$B$11,応募者名簿!$D$11,応募者名簿!$E$11,応募者名簿!$I$11)","v":""},"条幅",{"$f":"CONCATENATE(応募者名簿!A585)","v":""},{"$f":"CONCATENATE(応募者名簿!B585)","v":""},{"$f":"CONCATENATE(応募者名簿!C585)","v":""},{"$f":"CONCATENATE(応募者名簿!D585)","v":""}]
[{"$f":"応募者名簿!$B$8","v":0},{"$f":"CONCATENATE(応募者名簿!$B$11,応募者名簿!$D$11,応募者名簿!$E$11,応募者名簿!$I$11)","v":""},"条幅",{"$f":"CONCATENATE(応募者名簿!A586)","v":""},{"$f":"CONCATENATE(応募者名簿!B586)","v":""},{"$f":"CONCATENATE(応募者名簿!C586)","v":""},{"$f":"CONCATENATE(応募者名簿!D586)","v":""}]
[{"$f":"応募者名簿!$B$8","v":0},{"$f":"CONCATENATE(応募者名簿!$B$11,応募者名簿!$D$11,応募者名簿!$E$11,応募者名簿!$I$11)","v":""},"条幅",{"$f":"CONCATENATE(応募者名簿!A587)","v":""},{"$f":"CONCATENATE(応募者名簿!B587)","v":""},{"$f":"CONCATENATE(応募者名簿!C587)","v":""},{"$f":"CONCATENATE(応募者名簿!D587)","v":""}]
[{"$f":"応募者名簿!$B$8","v":0},{"$f":"CONCATENATE(応募者名簿!$B$11,応募者名簿!$D$11,応募者名簿!$E$11,応募者名簿!$I$11)","v":""},"条幅",{"$f":"CONCATENATE(応募者名簿!A588)","v":""},{"$f":"CONCATENATE(応募者名簿!B588)","v":""},{"$f":"CONCATENATE(応募者名簿!C588)","v":""},{"$f":"CONCATENATE(応募者名簿!D588)","v":""}]
[{"$f":"応募者名簿!$B$8","v":0},{"$f":"CONCATENATE(応募者名簿!$B$11,応募者名簿!$D$11,応募者名簿!$E$11,応募者名簿!$I$11)","v":""},"条幅",{"$f":"CONCATENATE(応募者名簿!A589)","v":""},{"$f":"CONCATENATE(応募者名簿!B589)","v":""},{"$f":"CONCATENATE(応募者名簿!C589)","v":""},{"$f":"CONCATENATE(応募者名簿!D589)","v":""}]
[{"$f":"応募者名簿!$B$8","v":0},{"$f":"CONCATENATE(応募者名簿!$B$11,応募者名簿!$D$11,応募者名簿!$E$11,応募者名簿!$I$11)","v":""},"条幅",{"$f":"CONCATENATE(応募者名簿!A590)","v":""},{"$f":"CONCATENATE(応募者名簿!B590)","v":""},{"$f":"CONCATENATE(応募者名簿!C590)","v":""},{"$f":"CONCATENATE(応募者名簿!D590)","v":""}]
[{"$f":"応募者名簿!$B$8","v":0},{"$f":"CONCATENATE(応募者名簿!$B$11,応募者名簿!$D$11,応募者名簿!$E$11,応募者名簿!$I$11)","v":""},"条幅",{"$f":"CONCATENATE(応募者名簿!A591)","v":""},{"$f":"CONCATENATE(応募者名簿!B591)","v":""},{"$f":"CONCATENATE(応募者名簿!C591)","v":""},{"$f":"CONCATENATE(応募者名簿!D591)","v":""}]
[{"$f":"応募者名簿!$B$8","v":0},{"$f":"CONCATENATE(応募者名簿!$B$11,応募者名簿!$D$11,応募者名簿!$E$11,応募者名簿!$I$11)","v":""},"条幅",{"$f":"CONCATENATE(応募者名簿!A592)","v":""},{"$f":"CONCATENATE(応募者名簿!B592)","v":""},{"$f":"CONCATENATE(応募者名簿!C592)","v":""},{"$f":"CONCATENATE(応募者名簿!D592)","v":""}]
[{"$f":"応募者名簿!$B$8","v":0},{"$f":"CONCATENATE(応募者名簿!$B$11,応募者名簿!$D$11,応募者名簿!$E$11,応募者名簿!$I$11)","v":""},"条幅",{"$f":"CONCATENATE(応募者名簿!A593)","v":""},{"$f":"CONCATENATE(応募者名簿!B593)","v":""},{"$f":"CONCATENATE(応募者名簿!C593)","v":""},{"$f":"CONCATENATE(応募者名簿!D593)","v":""}]
[{"$f":"応募者名簿!$B$8","v":0},{"$f":"CONCATENATE(応募者名簿!$B$11,応募者名簿!$D$11,応募者名簿!$E$11,応募者名簿!$I$11)","v":""},"条幅",{"$f":"CONCATENATE(応募者名簿!A594)","v":""},{"$f":"CONCATENATE(応募者名簿!B594)","v":""},{"$f":"CONCATENATE(応募者名簿!C594)","v":""},{"$f":"CONCATENATE(応募者名簿!D594)","v":""}]
[{"$f":"応募者名簿!$B$8","v":0},{"$f":"CONCATENATE(応募者名簿!$B$11,応募者名簿!$D$11,応募者名簿!$E$11,応募者名簿!$I$11)","v":""},"条幅",{"$f":"CONCATENATE(応募者名簿!A595)","v":""},{"$f":"CONCATENATE(応募者名簿!B595)","v":""},{"$f":"CONCATENATE(応募者名簿!C595)","v":""},{"$f":"CONCATENATE(応募者名簿!D595)","v":""}]
[{"$f":"応募者名簿!$B$8","v":0},{"$f":"CONCATENATE(応募者名簿!$B$11,応募者名簿!$D$11,応募者名簿!$E$11,応募者名簿!$I$11)","v":""},"条幅",{"$f":"CONCATENATE(応募者名簿!A596)","v":""},{"$f":"CONCATENATE(応募者名簿!B596)","v":""},{"$f":"CONCATENATE(応募者名簿!C596)","v":""},{"$f":"CONCATENATE(応募者名簿!D596)","v":""}]
[{"$f":"応募者名簿!$B$8","v":0},{"$f":"CONCATENATE(応募者名簿!$B$11,応募者名簿!$D$11,応募者名簿!$E$11,応募者名簿!$I$11)","v":""},"条幅",{"$f":"CONCATENATE(応募者名簿!A597)","v":""},{"$f":"CONCATENATE(応募者名簿!B597)","v":""},{"$f":"CONCATENATE(応募者名簿!C597)","v":""},{"$f":"CONCATENATE(応募者名簿!D597)","v":""}]
[{"$f":"応募者名簿!$B$8","v":0},{"$f":"CONCATENATE(応募者名簿!$B$11,応募者名簿!$D$11,応募者名簿!$E$11,応募者名簿!$I$11)","v":""},"条幅",{"$f":"CONCATENATE(応募者名簿!A598)","v":""},{"$f":"CONCATENATE(応募者名簿!B598)","v":""},{"$f":"CONCATENATE(応募者名簿!C598)","v":""},{"$f":"CONCATENATE(応募者名簿!D598)","v":""}]
[{"$f":"応募者名簿!$B$8","v":0},{"$f":"CONCATENATE(応募者名簿!$B$11,応募者名簿!$D$11,応募者名簿!$E$11,応募者名簿!$I$11)","v":""},"条幅",{"$f":"CONCATENATE(応募者名簿!A599)","v":""},{"$f":"CONCATENATE(応募者名簿!B599)","v":""},{"$f":"CONCATENATE(応募者名簿!C599)","v":""},{"$f":"CONCATENATE(応募者名簿!D599)","v":""}]
[{"$f":"応募者名簿!$B$8","v":0},{"$f":"CONCATENATE(応募者名簿!$B$11,応募者名簿!$D$11,応募者名簿!$E$11,応募者名簿!$I$11)","v":""},"条幅",{"$f":"CONCATENATE(応募者名簿!A600)","v":""},{"$f":"CONCATENATE(応募者名簿!B600)","v":""},{"$f":"CONCATENATE(応募者名簿!C600)","v":""},{"$f":"CONCATENATE(応募者名簿!D600)","v":""}]
[{"$f":"応募者名簿!$B$8","v":0},{"$f":"CONCATENATE(応募者名簿!$B$11,応募者名簿!$D$11,応募者名簿!$E$11,応募者名簿!$I$11)","v":""},"条幅",{"$f":"CONCATENATE(応募者名簿!A601)","v":""},{"$f":"CONCATENATE(応募者名簿!B601)","v":""},{"$f":"CONCATENATE(応募者名簿!C601)","v":""},{"$f":"CONCATENATE(応募者名簿!D601)","v":""}]
[{"$f":"応募者名簿!$B$8","v":0},{"$f":"CONCATENATE(応募者名簿!$B$11,応募者名簿!$D$11,応募者名簿!$E$11,応募者名簿!$I$11)","v":""},"条幅",{"$f":"CONCATENATE(応募者名簿!A602)","v":""},{"$f":"CONCATENATE(応募者名簿!B602)","v":""},{"$f":"CONCATENATE(応募者名簿!C602)","v":""},{"$f":"CONCATENATE(応募者名簿!D602)","v":""}]
[{"$f":"応募者名簿!$B$8","v":0},{"$f":"CONCATENATE(応募者名簿!$B$11,応募者名簿!$D$11,応募者名簿!$E$11,応募者名簿!$I$11)","v":""},"条幅",{"$f":"CONCATENATE(応募者名簿!A603)","v":""},{"$f":"CONCATENATE(応募者名簿!B603)","v":""},{"$f":"CONCATENATE(応募者名簿!C603)","v":""},{"$f":"CONCATENATE(応募者名簿!D603)","v":""}]
[{"$f":"応募者名簿!$B$8","v":0},{"$f":"CONCATENATE(応募者名簿!$B$11,応募者名簿!$D$11,応募者名簿!$E$11,応募者名簿!$I$11)","v":""},"条幅",{"$f":"CONCATENATE(応募者名簿!A604)","v":""},{"$f":"CONCATENATE(応募者名簿!B604)","v":""},{"$f":"CONCATENATE(応募者名簿!C604)","v":""},{"$f":"CONCATENATE(応募者名簿!D604)","v":""}]
[{"$f":"応募者名簿!$B$8","v":0},{"$f":"CONCATENATE(応募者名簿!$B$11,応募者名簿!$D$11,応募者名簿!$E$11,応募者名簿!$I$11)","v":""},"条幅",{"$f":"CONCATENATE(応募者名簿!A605)","v":""},{"$f":"CONCATENATE(応募者名簿!B605)","v":""},{"$f":"CONCATENATE(応募者名簿!C605)","v":""},{"$f":"CONCATENATE(応募者名簿!D605)","v":""}]
[{"$f":"応募者名簿!$B$8","v":0},{"$f":"CONCATENATE(応募者名簿!$B$11,応募者名簿!$D$11,応募者名簿!$E$11,応募者名簿!$I$11)","v":""},"条幅",{"$f":"CONCATENATE(応募者名簿!A606)","v":""},{"$f":"CONCATENATE(応募者名簿!B606)","v":""},{"$f":"CONCATENATE(応募者名簿!C606)","v":""},{"$f":"CONCATENATE(応募者名簿!D606)","v":""}]
[{"$f":"応募者名簿!$B$8","v":0},{"$f":"CONCATENATE(応募者名簿!$B$11,応募者名簿!$D$11,応募者名簿!$E$11,応募者名簿!$I$11)","v":""},"条幅",{"$f":"CONCATENATE(応募者名簿!A607)","v":""},{"$f":"CONCATENATE(応募者名簿!B607)","v":""},{"$f":"CONCATENATE(応募者名簿!C607)","v":""},{"$f":"CONCATENATE(応募者名簿!D607)","v":""}]
[{"$f":"応募者名簿!$B$8","v":0},{"$f":"CONCATENATE(応募者名簿!$B$11,応募者名簿!$D$11,応募者名簿!$E$11,応募者名簿!$I$11)","v":""},"条幅",{"$f":"CONCATENATE(応募者名簿!A608)","v":""},{"$f":"CONCATENATE(応募者名簿!B608)","v":""},{"$f":"CONCATENATE(応募者名簿!C608)","v":""},{"$f":"CONCATENATE(応募者名簿!D608)","v":""}]
[{"$f":"応募者名簿!$B$8","v":0},{"$f":"CONCATENATE(応募者名簿!$B$11,応募者名簿!$D$11,応募者名簿!$E$11,応募者名簿!$I$11)","v":""},"条幅",{"$f":"CONCATENATE(応募者名簿!A609)","v":""},{"$f":"CONCATENATE(応募者名簿!B609)","v":""},{"$f":"CONCATENATE(応募者名簿!C609)","v":""},{"$f":"CONCATENATE(応募者名簿!D609)","v":""}]
[{"$f":"応募者名簿!$B$8","v":0},{"$f":"CONCATENATE(応募者名簿!$B$11,応募者名簿!$D$11,応募者名簿!$E$11,応募者名簿!$I$11)","v":""},"条幅",{"$f":"CONCATENATE(応募者名簿!A610)","v":""},{"$f":"CONCATENATE(応募者名簿!B610)","v":""},{"$f":"CONCATENATE(応募者名簿!C610)","v":""},{"$f":"CONCATENATE(応募者名簿!D610)","v":""}]
[{"$f":"応募者名簿!$B$8","v":0},{"$f":"CONCATENATE(応募者名簿!$B$11,応募者名簿!$D$11,応募者名簿!$E$11,応募者名簿!$I$11)","v":""},"条幅",{"$f":"CONCATENATE(応募者名簿!A611)","v":""},{"$f":"CONCATENATE(応募者名簿!B611)","v":""},{"$f":"CONCATENATE(応募者名簿!C611)","v":""},{"$f":"CONCATENATE(応募者名簿!D611)","v":""}]
[{"$f":"応募者名簿!$B$8","v":0},{"$f":"CONCATENATE(応募者名簿!$B$11,応募者名簿!$D$11,応募者名簿!$E$11,応募者名簿!$I$11)","v":""},"条幅",{"$f":"CONCATENATE(応募者名簿!A612)","v":""},{"$f":"CONCATENATE(応募者名簿!B612)","v":""},{"$f":"CONCATENATE(応募者名簿!C612)","v":""},{"$f":"CONCATENATE(応募者名簿!D612)","v":""}]
[{"$f":"応募者名簿!$B$8","v":0},{"$f":"CONCATENATE(応募者名簿!$B$11,応募者名簿!$D$11,応募者名簿!$E$11,応募者名簿!$I$11)","v":""},"条幅",{"$f":"CONCATENATE(応募者名簿!A613)","v":""},{"$f":"CONCATENATE(応募者名簿!B613)","v":""},{"$f":"CONCATENATE(応募者名簿!C613)","v":""},{"$f":"CONCATENATE(応募者名簿!D613)","v":""}]
[{"$f":"応募者名簿!$B$8","v":0},{"$f":"CONCATENATE(応募者名簿!$B$11,応募者名簿!$D$11,応募者名簿!$E$11,応募者名簿!$I$11)","v":""},"条幅",{"$f":"CONCATENATE(応募者名簿!A614)","v":""},{"$f":"CONCATENATE(応募者名簿!B614)","v":""},{"$f":"CONCATENATE(応募者名簿!C614)","v":""},{"$f":"CONCATENATE(応募者名簿!D614)","v":""}]
[{"$f":"応募者名簿!$B$8","v":0},{"$f":"CONCATENATE(応募者名簿!$B$11,応募者名簿!$D$11,応募者名簿!$E$11,応募者名簿!$I$11)","v":""},"条幅",{"$f":"CONCATENATE(応募者名簿!A615)","v":""},{"$f":"CONCATENATE(応募者名簿!B615)","v":""},{"$f":"CONCATENATE(応募者名簿!C615)","v":""},{"$f":"CONCATENATE(応募者名簿!D615)","v":""}]
[{"$f":"応募者名簿!$B$8","v":0},{"$f":"CONCATENATE(応募者名簿!$B$11,応募者名簿!$D$11,応募者名簿!$E$11,応募者名簿!$I$11)","v":""},"条幅",{"$f":"CONCATENATE(応募者名簿!A616)","v":""},{"$f":"CONCATENATE(応募者名簿!B616)","v":""},{"$f":"CONCATENATE(応募者名簿!C616)","v":""},{"$f":"CONCATENATE(応募者名簿!D616)","v":""}]
[{"$f":"応募者名簿!$B$8","v":0},{"$f":"CONCATENATE(応募者名簿!$B$11,応募者名簿!$D$11,応募者名簿!$E$11,応募者名簿!$I$11)","v":""},"条幅",{"$f":"CONCATENATE(応募者名簿!A617)","v":""},{"$f":"CONCATENATE(応募者名簿!B617)","v":""},{"$f":"CONCATENATE(応募者名簿!C617)","v":""},{"$f":"CONCATENATE(応募者名簿!D617)","v":""}]
[{"$f":"応募者名簿!$B$8","v":0},{"$f":"CONCATENATE(応募者名簿!$B$11,応募者名簿!$D$11,応募者名簿!$E$11,応募者名簿!$I$11)","v":""},"条幅",{"$f":"CONCATENATE(応募者名簿!A618)","v":""},{"$f":"CONCATENATE(応募者名簿!B618)","v":""},{"$f":"CONCATENATE(応募者名簿!C618)","v":""},{"$f":"CONCATENATE(応募者名簿!D618)","v":""}]
[{"$f":"応募者名簿!$B$8","v":0},{"$f":"CONCATENATE(応募者名簿!$B$11,応募者名簿!$D$11,応募者名簿!$E$11,応募者名簿!$I$11)","v":""},"条幅",{"$f":"CONCATENATE(応募者名簿!A619)","v":""},{"$f":"CONCATENATE(応募者名簿!B619)","v":""},{"$f":"CONCATENATE(応募者名簿!C619)","v":""},{"$f":"CONCATENATE(応募者名簿!D619)","v":""}]
[{"$f":"応募者名簿!$B$8","v":0},{"$f":"CONCATENATE(応募者名簿!$B$11,応募者名簿!$D$11,応募者名簿!$E$11,応募者名簿!$I$11)","v":""},"条幅",{"$f":"CONCATENATE(応募者名簿!A620)","v":""},{"$f":"CONCATENATE(応募者名簿!B620)","v":""},{"$f":"CONCATENATE(応募者名簿!C620)","v":""},{"$f":"CONCATENATE(応募者名簿!D620)","v":""}]
[{"$f":"応募者名簿!$B$8","v":0},{"$f":"CONCATENATE(応募者名簿!$B$11,応募者名簿!$D$11,応募者名簿!$E$11,応募者名簿!$I$11)","v":""},"条幅",{"$f":"CONCATENATE(応募者名簿!A621)","v":""},{"$f":"CONCATENATE(応募者名簿!B621)","v":""},{"$f":"CONCATENATE(応募者名簿!C621)","v":""},{"$f":"CONCATENATE(応募者名簿!D621)","v":""}]
[{"$f":"応募者名簿!$B$8","v":0},{"$f":"CONCATENATE(応募者名簿!$B$11,応募者名簿!$D$11,応募者名簿!$E$11,応募者名簿!$I$11)","v":""},"条幅",{"$f":"CONCATENATE(応募者名簿!A622)","v":""},{"$f":"CONCATENATE(応募者名簿!B622)","v":""},{"$f":"CONCATENATE(応募者名簿!C622)","v":""},{"$f":"CONCATENATE(応募者名簿!D622)","v":""}]
[{"$f":"応募者名簿!$B$8","v":0},{"$f":"CONCATENATE(応募者名簿!$B$11,応募者名簿!$D$11,応募者名簿!$E$11,応募者名簿!$I$11)","v":""},"条幅",{"$f":"CONCATENATE(応募者名簿!A623)","v":""},{"$f":"CONCATENATE(応募者名簿!B623)","v":""},{"$f":"CONCATENATE(応募者名簿!C623)","v":""},{"$f":"CONCATENATE(応募者名簿!D623)","v":""}]
[{"$f":"応募者名簿!$B$8","v":0},{"$f":"CONCATENATE(応募者名簿!$B$11,応募者名簿!$D$11,応募者名簿!$E$11,応募者名簿!$I$11)","v":""},"条幅",{"$f":"CONCATENATE(応募者名簿!A624)","v":""},{"$f":"CONCATENATE(応募者名簿!B624)","v":""},{"$f":"CONCATENATE(応募者名簿!C624)","v":""},{"$f":"CONCATENATE(応募者名簿!D624)","v":""}]
[{"$f":"応募者名簿!$B$8","v":0},{"$f":"CONCATENATE(応募者名簿!$B$11,応募者名簿!$D$11,応募者名簿!$E$11,応募者名簿!$I$11)","v":""},"条幅",{"$f":"CONCATENATE(応募者名簿!A625)","v":""},{"$f":"CONCATENATE(応募者名簿!B625)","v":""},{"$f":"CONCATENATE(応募者名簿!C625)","v":""},{"$f":"CONCATENATE(応募者名簿!D625)","v":""}]
[{"$f":"応募者名簿!$B$8","v":0},{"$f":"CONCATENATE(応募者名簿!$B$11,応募者名簿!$D$11,応募者名簿!$E$11,応募者名簿!$I$11)","v":""},"条幅",{"$f":"CONCATENATE(応募者名簿!A626)","v":""},{"$f":"CONCATENATE(応募者名簿!B626)","v":""},{"$f":"CONCATENATE(応募者名簿!C626)","v":""},{"$f":"CONCATENATE(応募者名簿!D626)","v":""}]
[{"$f":"応募者名簿!$B$8","v":0},{"$f":"CONCATENATE(応募者名簿!$B$11,応募者名簿!$D$11,応募者名簿!$E$11,応募者名簿!$I$11)","v":""},"条幅",{"$f":"CONCATENATE(応募者名簿!A627)","v":""},{"$f":"CONCATENATE(応募者名簿!B627)","v":""},{"$f":"CONCATENATE(応募者名簿!C627)","v":""},{"$f":"CONCATENATE(応募者名簿!D627)","v":""}]
[{"$f":"応募者名簿!$B$8","v":0},{"$f":"CONCATENATE(応募者名簿!$B$11,応募者名簿!$D$11,応募者名簿!$E$11,応募者名簿!$I$11)","v":""},"条幅",{"$f":"CONCATENATE(応募者名簿!A628)","v":""},{"$f":"CONCATENATE(応募者名簿!B628)","v":""},{"$f":"CONCATENATE(応募者名簿!C628)","v":""},{"$f":"CONCATENATE(応募者名簿!D628)","v":""}]
[{"$f":"応募者名簿!$B$8","v":0},{"$f":"CONCATENATE(応募者名簿!$B$11,応募者名簿!$D$11,応募者名簿!$E$11,応募者名簿!$I$11)","v":""},"条幅",{"$f":"CONCATENATE(応募者名簿!A629)","v":""},{"$f":"CONCATENATE(応募者名簿!B629)","v":""},{"$f":"CONCATENATE(応募者名簿!C629)","v":""},{"$f":"CONCATENATE(応募者名簿!D629)","v":""}]
[{"$f":"応募者名簿!$B$8","v":0},{"$f":"CONCATENATE(応募者名簿!$B$11,応募者名簿!$D$11,応募者名簿!$E$11,応募者名簿!$I$11)","v":""},"条幅",{"$f":"CONCATENATE(応募者名簿!A630)","v":""},{"$f":"CONCATENATE(応募者名簿!B630)","v":""},{"$f":"CONCATENATE(応募者名簿!C630)","v":""},{"$f":"CONCATENATE(応募者名簿!D630)","v":""}]
[{"$f":"応募者名簿!$B$8","v":0},{"$f":"CONCATENATE(応募者名簿!$B$11,応募者名簿!$D$11,応募者名簿!$E$11,応募者名簿!$I$11)","v":""},"条幅",{"$f":"CONCATENATE(応募者名簿!A631)","v":""},{"$f":"CONCATENATE(応募者名簿!B631)","v":""},{"$f":"CONCATENATE(応募者名簿!C631)","v":""},{"$f":"CONCATENATE(応募者名簿!D631)","v":""}]
[{"$f":"応募者名簿!$B$8","v":0},{"$f":"CONCATENATE(応募者名簿!$B$11,応募者名簿!$D$11,応募者名簿!$E$11,応募者名簿!$I$11)","v":""},"条幅",{"$f":"CONCATENATE(応募者名簿!A632)","v":""},{"$f":"CONCATENATE(応募者名簿!B632)","v":""},{"$f":"CONCATENATE(応募者名簿!C632)","v":""},{"$f":"CONCATENATE(応募者名簿!D632)","v":""}]
[{"$f":"応募者名簿!$B$8","v":0},{"$f":"CONCATENATE(応募者名簿!$B$11,応募者名簿!$D$11,応募者名簿!$E$11,応募者名簿!$I$11)","v":""},"条幅",{"$f":"CONCATENATE(応募者名簿!A633)","v":""},{"$f":"CONCATENATE(応募者名簿!B633)","v":""},{"$f":"CONCATENATE(応募者名簿!C633)","v":""},{"$f":"CONCATENATE(応募者名簿!D633)","v":""}]
[{"$f":"応募者名簿!$B$8","v":0},{"$f":"CONCATENATE(応募者名簿!$B$11,応募者名簿!$D$11,応募者名簿!$E$11,応募者名簿!$I$11)","v":""},"条幅",{"$f":"CONCATENATE(応募者名簿!A634)","v":""},{"$f":"CONCATENATE(応募者名簿!B634)","v":""},{"$f":"CONCATENATE(応募者名簿!C634)","v":""},{"$f":"CONCATENATE(応募者名簿!D634)","v":""}]
[{"$f":"応募者名簿!$B$8","v":0},{"$f":"CONCATENATE(応募者名簿!$B$11,応募者名簿!$D$11,応募者名簿!$E$11,応募者名簿!$I$11)","v":""},"条幅",{"$f":"CONCATENATE(応募者名簿!A635)","v":""},{"$f":"CONCATENATE(応募者名簿!B635)","v":""},{"$f":"CONCATENATE(応募者名簿!C635)","v":""},{"$f":"CONCATENATE(応募者名簿!D635)","v":""}]
[{"$f":"応募者名簿!$B$8","v":0},{"$f":"CONCATENATE(応募者名簿!$B$11,応募者名簿!$D$11,応募者名簿!$E$11,応募者名簿!$I$11)","v":""},"条幅",{"$f":"CONCATENATE(応募者名簿!A636)","v":""},{"$f":"CONCATENATE(応募者名簿!B636)","v":""},{"$f":"CONCATENATE(応募者名簿!C636)","v":""},{"$f":"CONCATENATE(応募者名簿!D636)","v":""}]
[{"$f":"応募者名簿!$B$8","v":0},{"$f":"CONCATENATE(応募者名簿!$B$11,応募者名簿!$D$11,応募者名簿!$E$11,応募者名簿!$I$11)","v":""},"条幅",{"$f":"CONCATENATE(応募者名簿!A637)","v":""},{"$f":"CONCATENATE(応募者名簿!B637)","v":""},{"$f":"CONCATENATE(応募者名簿!C637)","v":""},{"$f":"CONCATENATE(応募者名簿!D637)","v":""}]
[{"$f":"応募者名簿!$B$8","v":0},{"$f":"CONCATENATE(応募者名簿!$B$11,応募者名簿!$D$11,応募者名簿!$E$11,応募者名簿!$I$11)","v":""},"条幅",{"$f":"CONCATENATE(応募者名簿!A638)","v":""},{"$f":"CONCATENATE(応募者名簿!B638)","v":""},{"$f":"CONCATENATE(応募者名簿!C638)","v":""},{"$f":"CONCATENATE(応募者名簿!D638)","v":""}]
[{"$f":"応募者名簿!$B$8","v":0},{"$f":"CONCATENATE(応募者名簿!$B$11,応募者名簿!$D$11,応募者名簿!$E$11,応募者名簿!$I$11)","v":""},"条幅",{"$f":"CONCATENATE(応募者名簿!A639)","v":""},{"$f":"CONCATENATE(応募者名簿!B639)","v":""},{"$f":"CONCATENATE(応募者名簿!C639)","v":""},{"$f":"CONCATENATE(応募者名簿!D639)","v":""}]
[{"$f":"応募者名簿!$B$8","v":0},{"$f":"CONCATENATE(応募者名簿!$B$11,応募者名簿!$D$11,応募者名簿!$E$11,応募者名簿!$I$11)","v":""},"条幅",{"$f":"CONCATENATE(応募者名簿!A640)","v":""},{"$f":"CONCATENATE(応募者名簿!B640)","v":""},{"$f":"CONCATENATE(応募者名簿!C640)","v":""},{"$f":"CONCATENATE(応募者名簿!D640)","v":""}]
[{"$f":"応募者名簿!$B$8","v":0},{"$f":"CONCATENATE(応募者名簿!$B$11,応募者名簿!$D$11,応募者名簿!$E$11,応募者名簿!$I$11)","v":""},"条幅",{"$f":"CONCATENATE(応募者名簿!A641)","v":""},{"$f":"CONCATENATE(応募者名簿!B641)","v":""},{"$f":"CONCATENATE(応募者名簿!C641)","v":""},{"$f":"CONCATENATE(応募者名簿!D641)","v":""}]
[{"$f":"応募者名簿!$B$8","v":0},{"$f":"CONCATENATE(応募者名簿!$B$11,応募者名簿!$D$11,応募者名簿!$E$11,応募者名簿!$I$11)","v":""},"条幅",{"$f":"CONCATENATE(応募者名簿!A642)","v":""},{"$f":"CONCATENATE(応募者名簿!B642)","v":""},{"$f":"CONCATENATE(応募者名簿!C642)","v":""},{"$f":"CONCATENATE(応募者名簿!D642)","v":""}]
[{"$f":"応募者名簿!$B$8","v":0},{"$f":"CONCATENATE(応募者名簿!$B$11,応募者名簿!$D$11,応募者名簿!$E$11,応募者名簿!$I$11)","v":""},"条幅",{"$f":"CONCATENATE(応募者名簿!A643)","v":""},{"$f":"CONCATENATE(応募者名簿!B643)","v":""},{"$f":"CONCATENATE(応募者名簿!C643)","v":""},{"$f":"CONCATENATE(応募者名簿!D643)","v":""}]
[{"$f":"応募者名簿!$B$8","v":0},{"$f":"CONCATENATE(応募者名簿!$B$11,応募者名簿!$D$11,応募者名簿!$E$11,応募者名簿!$I$11)","v":""},"条幅",{"$f":"CONCATENATE(応募者名簿!A644)","v":""},{"$f":"CONCATENATE(応募者名簿!B644)","v":""},{"$f":"CONCATENATE(応募者名簿!C644)","v":""},{"$f":"CONCATENATE(応募者名簿!D644)","v":""}]
[{"$f":"応募者名簿!$B$8","v":0},{"$f":"CONCATENATE(応募者名簿!$B$11,応募者名簿!$D$11,応募者名簿!$E$11,応募者名簿!$I$11)","v":""},"条幅",{"$f":"CONCATENATE(応募者名簿!A645)","v":""},{"$f":"CONCATENATE(応募者名簿!B645)","v":""},{"$f":"CONCATENATE(応募者名簿!C645)","v":""},{"$f":"CONCATENATE(応募者名簿!D645)","v":""}]
[{"$f":"応募者名簿!$B$8","v":0},{"$f":"CONCATENATE(応募者名簿!$B$11,応募者名簿!$D$11,応募者名簿!$E$11,応募者名簿!$I$11)","v":""},"条幅",{"$f":"CONCATENATE(応募者名簿!A646)","v":""},{"$f":"CONCATENATE(応募者名簿!B646)","v":""},{"$f":"CONCATENATE(応募者名簿!C646)","v":""},{"$f":"CONCATENATE(応募者名簿!D646)","v":""}]
[{"$f":"応募者名簿!$B$8","v":0},{"$f":"CONCATENATE(応募者名簿!$B$11,応募者名簿!$D$11,応募者名簿!$E$11,応募者名簿!$I$11)","v":""},"条幅",{"$f":"CONCATENATE(応募者名簿!A647)","v":""},{"$f":"CONCATENATE(応募者名簿!B647)","v":""},{"$f":"CONCATENATE(応募者名簿!C647)","v":""},{"$f":"CONCATENATE(応募者名簿!D647)","v":""}]
[{"$f":"応募者名簿!$B$8","v":0},{"$f":"CONCATENATE(応募者名簿!$B$11,応募者名簿!$D$11,応募者名簿!$E$11,応募者名簿!$I$11)","v":""},"条幅",{"$f":"CONCATENATE(応募者名簿!A648)","v":""},{"$f":"CONCATENATE(応募者名簿!B648)","v":""},{"$f":"CONCATENATE(応募者名簿!C648)","v":""},{"$f":"CONCATENATE(応募者名簿!D648)","v":""}]
[{"$f":"応募者名簿!$B$8","v":0},{"$f":"CONCATENATE(応募者名簿!$B$11,応募者名簿!$D$11,応募者名簿!$E$11,応募者名簿!$I$11)","v":""},"条幅",{"$f":"CONCATENATE(応募者名簿!A649)","v":""},{"$f":"CONCATENATE(応募者名簿!B649)","v":""},{"$f":"CONCATENATE(応募者名簿!C649)","v":""},{"$f":"CONCATENATE(応募者名簿!D649)","v":""}]
[{"$f":"応募者名簿!$B$8","v":0},{"$f":"CONCATENATE(応募者名簿!$B$11,応募者名簿!$D$11,応募者名簿!$E$11,応募者名簿!$I$11)","v":""},"条幅",{"$f":"CONCATENATE(応募者名簿!A650)","v":""},{"$f":"CONCATENATE(応募者名簿!B650)","v":""},{"$f":"CONCATENATE(応募者名簿!C650)","v":""},{"$f":"CONCATENATE(応募者名簿!D650)","v":""}]
[{"$f":"応募者名簿!$B$8","v":0},{"$f":"CONCATENATE(応募者名簿!$B$11,応募者名簿!$D$11,応募者名簿!$E$11,応募者名簿!$I$11)","v":""},"条幅",{"$f":"CONCATENATE(応募者名簿!A651)","v":""},{"$f":"CONCATENATE(応募者名簿!B651)","v":""},{"$f":"CONCATENATE(応募者名簿!C651)","v":""},{"$f":"CONCATENATE(応募者名簿!D651)","v":""}]
[{"$f":"応募者名簿!$B$8","v":0},{"$f":"CONCATENATE(応募者名簿!$B$11,応募者名簿!$D$11,応募者名簿!$E$11,応募者名簿!$I$11)","v":""},"条幅",{"$f":"CONCATENATE(応募者名簿!A652)","v":""},{"$f":"CONCATENATE(応募者名簿!B652)","v":""},{"$f":"CONCATENATE(応募者名簿!C652)","v":""},{"$f":"CONCATENATE(応募者名簿!D652)","v":""}]
[{"$f":"応募者名簿!$B$8","v":0},{"$f":"CONCATENATE(応募者名簿!$B$11,応募者名簿!$D$11,応募者名簿!$E$11,応募者名簿!$I$11)","v":""},"条幅",{"$f":"CONCATENATE(応募者名簿!A653)","v":""},{"$f":"CONCATENATE(応募者名簿!B653)","v":""},{"$f":"CONCATENATE(応募者名簿!C653)","v":""},{"$f":"CONCATENATE(応募者名簿!D653)","v":""}]
[{"$f":"応募者名簿!$B$8","v":0},{"$f":"CONCATENATE(応募者名簿!$B$11,応募者名簿!$D$11,応募者名簿!$E$11,応募者名簿!$I$11)","v":""},"条幅",{"$f":"CONCATENATE(応募者名簿!A654)","v":""},{"$f":"CONCATENATE(応募者名簿!B654)","v":""},{"$f":"CONCATENATE(応募者名簿!C654)","v":""},{"$f":"CONCATENATE(応募者名簿!D654)","v":""}]
[{"$f":"応募者名簿!$B$8","v":0},{"$f":"CONCATENATE(応募者名簿!$B$11,応募者名簿!$D$11,応募者名簿!$E$11,応募者名簿!$I$11)","v":""},"条幅",{"$f":"CONCATENATE(応募者名簿!A655)","v":""},{"$f":"CONCATENATE(応募者名簿!B655)","v":""},{"$f":"CONCATENATE(応募者名簿!C655)","v":""},{"$f":"CONCATENATE(応募者名簿!D655)","v":""}]
[{"$f":"応募者名簿!$B$8","v":0},{"$f":"CONCATENATE(応募者名簿!$B$11,応募者名簿!$D$11,応募者名簿!$E$11,応募者名簿!$I$11)","v":""},"条幅",{"$f":"CONCATENATE(応募者名簿!A656)","v":""},{"$f":"CONCATENATE(応募者名簿!B656)","v":""},{"$f":"CONCATENATE(応募者名簿!C656)","v":""},{"$f":"CONCATENATE(応募者名簿!D656)","v":""}]
[{"$f":"応募者名簿!$B$8","v":0},{"$f":"CONCATENATE(応募者名簿!$B$11,応募者名簿!$D$11,応募者名簿!$E$11,応募者名簿!$I$11)","v":""},"条幅",{"$f":"CONCATENATE(応募者名簿!A657)","v":""},{"$f":"CONCATENATE(応募者名簿!B657)","v":""},{"$f":"CONCATENATE(応募者名簿!C657)","v":""},{"$f":"CONCATENATE(応募者名簿!D657)","v":""}]
[{"$f":"応募者名簿!$B$8","v":0},{"$f":"CONCATENATE(応募者名簿!$B$11,応募者名簿!$D$11,応募者名簿!$E$11,応募者名簿!$I$11)","v":""},"条幅",{"$f":"CONCATENATE(応募者名簿!A658)","v":""},{"$f":"CONCATENATE(応募者名簿!B658)","v":""},{"$f":"CONCATENATE(応募者名簿!C658)","v":""},{"$f":"CONCATENATE(応募者名簿!D658)","v":""}]
[{"$f":"応募者名簿!$B$8","v":0},{"$f":"CONCATENATE(応募者名簿!$B$11,応募者名簿!$D$11,応募者名簿!$E$11,応募者名簿!$I$11)","v":""},"条幅",{"$f":"CONCATENATE(応募者名簿!A659)","v":""},{"$f":"CONCATENATE(応募者名簿!B659)","v":""},{"$f":"CONCATENATE(応募者名簿!C659)","v":""},{"$f":"CONCATENATE(応募者名簿!D659)","v":""}]
[{"$f":"応募者名簿!$B$8","v":0},{"$f":"CONCATENATE(応募者名簿!$B$11,応募者名簿!$D$11,応募者名簿!$E$11,応募者名簿!$I$11)","v":""},"条幅",{"$f":"CONCATENATE(応募者名簿!A660)","v":""},{"$f":"CONCATENATE(応募者名簿!B660)","v":""},{"$f":"CONCATENATE(応募者名簿!C660)","v":""},{"$f":"CONCATENATE(応募者名簿!D660)","v":""}]
[{"$f":"応募者名簿!$B$8","v":0},{"$f":"CONCATENATE(応募者名簿!$B$11,応募者名簿!$D$11,応募者名簿!$E$11,応募者名簿!$I$11)","v":""},"条幅",{"$f":"CONCATENATE(応募者名簿!A661)","v":""},{"$f":"CONCATENATE(応募者名簿!B661)","v":""},{"$f":"CONCATENATE(応募者名簿!C661)","v":""},{"$f":"CONCATENATE(応募者名簿!D661)","v":""}]
[{"$f":"応募者名簿!$B$8","v":0},{"$f":"CONCATENATE(応募者名簿!$B$11,応募者名簿!$D$11,応募者名簿!$E$11,応募者名簿!$I$11)","v":""},"条幅",{"$f":"CONCATENATE(応募者名簿!A662)","v":""},{"$f":"CONCATENATE(応募者名簿!B662)","v":""},{"$f":"CONCATENATE(応募者名簿!C662)","v":""},{"$f":"CONCATENATE(応募者名簿!D662)","v":""}]
[{"$f":"応募者名簿!$B$8","v":0},{"$f":"CONCATENATE(応募者名簿!$B$11,応募者名簿!$D$11,応募者名簿!$E$11,応募者名簿!$I$11)","v":""},"条幅",{"$f":"CONCATENATE(応募者名簿!A663)","v":""},{"$f":"CONCATENATE(応募者名簿!B663)","v":""},{"$f":"CONCATENATE(応募者名簿!C663)","v":""},{"$f":"CONCATENATE(応募者名簿!D663)","v":""}]
[{"$f":"応募者名簿!$B$8","v":0},{"$f":"CONCATENATE(応募者名簿!$B$11,応募者名簿!$D$11,応募者名簿!$E$11,応募者名簿!$I$11)","v":""},"条幅",{"$f":"CONCATENATE(応募者名簿!A664)","v":""},{"$f":"CONCATENATE(応募者名簿!B664)","v":""},{"$f":"CONCATENATE(応募者名簿!C664)","v":""},{"$f":"CONCATENATE(応募者名簿!D664)","v":""}]
[{"$f":"応募者名簿!$B$8","v":0},{"$f":"CONCATENATE(応募者名簿!$B$11,応募者名簿!$D$11,応募者名簿!$E$11,応募者名簿!$I$11)","v":""},"条幅",{"$f":"CONCATENATE(応募者名簿!A665)","v":""},{"$f":"CONCATENATE(応募者名簿!B665)","v":""},{"$f":"CONCATENATE(応募者名簿!C665)","v":""},{"$f":"CONCATENATE(応募者名簿!D665)","v":""}]
[{"$f":"応募者名簿!$B$8","v":0},{"$f":"CONCATENATE(応募者名簿!$B$11,応募者名簿!$D$11,応募者名簿!$E$11,応募者名簿!$I$11)","v":""},"条幅",{"$f":"CONCATENATE(応募者名簿!A666)","v":""},{"$f":"CONCATENATE(応募者名簿!B666)","v":""},{"$f":"CONCATENATE(応募者名簿!C666)","v":""},{"$f":"CONCATENATE(応募者名簿!D666)","v":""}]
[{"$f":"応募者名簿!$B$8","v":0},{"$f":"CONCATENATE(応募者名簿!$B$11,応募者名簿!$D$11,応募者名簿!$E$11,応募者名簿!$I$11)","v":""},"条幅",{"$f":"CONCATENATE(応募者名簿!A667)","v":""},{"$f":"CONCATENATE(応募者名簿!B667)","v":""},{"$f":"CONCATENATE(応募者名簿!C667)","v":""},{"$f":"CONCATENATE(応募者名簿!D667)","v":""}]
[{"$f":"応募者名簿!$B$8","v":0},{"$f":"CONCATENATE(応募者名簿!$B$11,応募者名簿!$D$11,応募者名簿!$E$11,応募者名簿!$I$11)","v":""},"条幅",{"$f":"CONCATENATE(応募者名簿!A668)","v":""},{"$f":"CONCATENATE(応募者名簿!B668)","v":""},{"$f":"CONCATENATE(応募者名簿!C668)","v":""},{"$f":"CONCATENATE(応募者名簿!D668)","v":""}]
[{"$f":"応募者名簿!$B$8","v":0},{"$f":"CONCATENATE(応募者名簿!$B$11,応募者名簿!$D$11,応募者名簿!$E$11,応募者名簿!$I$11)","v":""},"条幅",{"$f":"CONCATENATE(応募者名簿!A669)","v":""},{"$f":"CONCATENATE(応募者名簿!B669)","v":""},{"$f":"CONCATENATE(応募者名簿!C669)","v":""},{"$f":"CONCATENATE(応募者名簿!D669)","v":""}]
[{"$f":"応募者名簿!$B$8","v":0},{"$f":"CONCATENATE(応募者名簿!$B$11,応募者名簿!$D$11,応募者名簿!$E$11,応募者名簿!$I$11)","v":""},"条幅",{"$f":"CONCATENATE(応募者名簿!A670)","v":""},{"$f":"CONCATENATE(応募者名簿!B670)","v":""},{"$f":"CONCATENATE(応募者名簿!C670)","v":""},{"$f":"CONCATENATE(応募者名簿!D670)","v":""}]
[{"$f":"応募者名簿!$B$8","v":0},{"$f":"CONCATENATE(応募者名簿!$B$11,応募者名簿!$D$11,応募者名簿!$E$11,応募者名簿!$I$11)","v":""},"条幅",{"$f":"CONCATENATE(応募者名簿!A671)","v":""},{"$f":"CONCATENATE(応募者名簿!B671)","v":""},{"$f":"CONCATENATE(応募者名簿!C671)","v":""},{"$f":"CONCATENATE(応募者名簿!D671)","v":""}]
[{"$f":"応募者名簿!$B$8","v":0},{"$f":"CONCATENATE(応募者名簿!$B$11,応募者名簿!$D$11,応募者名簿!$E$11,応募者名簿!$I$11)","v":""},"条幅",{"$f":"CONCATENATE(応募者名簿!A672)","v":""},{"$f":"CONCATENATE(応募者名簿!B672)","v":""},{"$f":"CONCATENATE(応募者名簿!C672)","v":""},{"$f":"CONCATENATE(応募者名簿!D672)","v":""}]
[{"$f":"応募者名簿!$B$8","v":0},{"$f":"CONCATENATE(応募者名簿!$B$11,応募者名簿!$D$11,応募者名簿!$E$11,応募者名簿!$I$11)","v":""},"条幅",{"$f":"CONCATENATE(応募者名簿!A673)","v":""},{"$f":"CONCATENATE(応募者名簿!B673)","v":""},{"$f":"CONCATENATE(応募者名簿!C673)","v":""},{"$f":"CONCATENATE(応募者名簿!D673)","v":""}]
[{"$f":"応募者名簿!$B$8","v":0},{"$f":"CONCATENATE(応募者名簿!$B$11,応募者名簿!$D$11,応募者名簿!$E$11,応募者名簿!$I$11)","v":""},"条幅",{"$f":"CONCATENATE(応募者名簿!A674)","v":""},{"$f":"CONCATENATE(応募者名簿!B674)","v":""},{"$f":"CONCATENATE(応募者名簿!C674)","v":""},{"$f":"CONCATENATE(応募者名簿!D674)","v":""}]
[{"$f":"応募者名簿!$B$8","v":0},{"$f":"CONCATENATE(応募者名簿!$B$11,応募者名簿!$D$11,応募者名簿!$E$11,応募者名簿!$I$11)","v":""},"条幅",{"$f":"CONCATENATE(応募者名簿!A675)","v":""},{"$f":"CONCATENATE(応募者名簿!B675)","v":""},{"$f":"CONCATENATE(応募者名簿!C675)","v":""},{"$f":"CONCATENATE(応募者名簿!D675)","v":""}]
[{"$f":"応募者名簿!$B$8","v":0},{"$f":"CONCATENATE(応募者名簿!$B$11,応募者名簿!$D$11,応募者名簿!$E$11,応募者名簿!$I$11)","v":""},"条幅",{"$f":"CONCATENATE(応募者名簿!A676)","v":""},{"$f":"CONCATENATE(応募者名簿!B676)","v":""},{"$f":"CONCATENATE(応募者名簿!C676)","v":""},{"$f":"CONCATENATE(応募者名簿!D676)","v":""}]
[{"$f":"応募者名簿!$B$8","v":0},{"$f":"CONCATENATE(応募者名簿!$B$11,応募者名簿!$D$11,応募者名簿!$E$11,応募者名簿!$I$11)","v":""},"条幅",{"$f":"CONCATENATE(応募者名簿!A677)","v":""},{"$f":"CONCATENATE(応募者名簿!B677)","v":""},{"$f":"CONCATENATE(応募者名簿!C677)","v":""},{"$f":"CONCATENATE(応募者名簿!D677)","v":""}]
[{"$f":"応募者名簿!$B$8","v":0},{"$f":"CONCATENATE(応募者名簿!$B$11,応募者名簿!$D$11,応募者名簿!$E$11,応募者名簿!$I$11)","v":""},"条幅",{"$f":"CONCATENATE(応募者名簿!A678)","v":""},{"$f":"CONCATENATE(応募者名簿!B678)","v":""},{"$f":"CONCATENATE(応募者名簿!C678)","v":""},{"$f":"CONCATENATE(応募者名簿!D678)","v":""}]
[{"$f":"応募者名簿!$B$8","v":0},{"$f":"CONCATENATE(応募者名簿!$B$11,応募者名簿!$D$11,応募者名簿!$E$11,応募者名簿!$I$11)","v":""},"条幅",{"$f":"CONCATENATE(応募者名簿!A679)","v":""},{"$f":"CONCATENATE(応募者名簿!B679)","v":""},{"$f":"CONCATENATE(応募者名簿!C679)","v":""},{"$f":"CONCATENATE(応募者名簿!D679)","v":""}]
[{"$f":"応募者名簿!$B$8","v":0},{"$f":"CONCATENATE(応募者名簿!$B$11,応募者名簿!$D$11,応募者名簿!$E$11,応募者名簿!$I$11)","v":""},"条幅",{"$f":"CONCATENATE(応募者名簿!A680)","v":""},{"$f":"CONCATENATE(応募者名簿!B680)","v":""},{"$f":"CONCATENATE(応募者名簿!C680)","v":""},{"$f":"CONCATENATE(応募者名簿!D680)","v":""}]
[{"$f":"応募者名簿!$B$8","v":0},{"$f":"CONCATENATE(応募者名簿!$B$11,応募者名簿!$D$11,応募者名簿!$E$11,応募者名簿!$I$11)","v":""},"条幅",{"$f":"CONCATENATE(応募者名簿!A681)","v":""},{"$f":"CONCATENATE(応募者名簿!B681)","v":""},{"$f":"CONCATENATE(応募者名簿!C681)","v":""},{"$f":"CONCATENATE(応募者名簿!D681)","v":""}]
[{"$f":"応募者名簿!$B$8","v":0},{"$f":"CONCATENATE(応募者名簿!$B$11,応募者名簿!$D$11,応募者名簿!$E$11,応募者名簿!$I$11)","v":""},"条幅",{"$f":"CONCATENATE(応募者名簿!A682)","v":""},{"$f":"CONCATENATE(応募者名簿!B682)","v":""},{"$f":"CONCATENATE(応募者名簿!C682)","v":""},{"$f":"CONCATENATE(応募者名簿!D682)","v":""}]
[{"$f":"応募者名簿!$B$8","v":0},{"$f":"CONCATENATE(応募者名簿!$B$11,応募者名簿!$D$11,応募者名簿!$E$11,応募者名簿!$I$11)","v":""},"条幅",{"$f":"CONCATENATE(応募者名簿!A683)","v":""},{"$f":"CONCATENATE(応募者名簿!B683)","v":""},{"$f":"CONCATENATE(応募者名簿!C683)","v":""},{"$f":"CONCATENATE(応募者名簿!D683)","v":""}]
[{"$f":"応募者名簿!$B$8","v":0},{"$f":"CONCATENATE(応募者名簿!$B$11,応募者名簿!$D$11,応募者名簿!$E$11,応募者名簿!$I$11)","v":""},"条幅",{"$f":"CONCATENATE(応募者名簿!A684)","v":""},{"$f":"CONCATENATE(応募者名簿!B684)","v":""},{"$f":"CONCATENATE(応募者名簿!C684)","v":""},{"$f":"CONCATENATE(応募者名簿!D684)","v":""}]
[{"$f":"応募者名簿!$B$8","v":0},{"$f":"CONCATENATE(応募者名簿!$B$11,応募者名簿!$D$11,応募者名簿!$E$11,応募者名簿!$I$11)","v":""},"条幅",{"$f":"CONCATENATE(応募者名簿!A685)","v":""},{"$f":"CONCATENATE(応募者名簿!B685)","v":""},{"$f":"CONCATENATE(応募者名簿!C685)","v":""},{"$f":"CONCATENATE(応募者名簿!D685)","v":""}]
[{"$f":"応募者名簿!$B$8","v":0},{"$f":"CONCATENATE(応募者名簿!$B$11,応募者名簿!$D$11,応募者名簿!$E$11,応募者名簿!$I$11)","v":""},"条幅",{"$f":"CONCATENATE(応募者名簿!A686)","v":""},{"$f":"CONCATENATE(応募者名簿!B686)","v":""},{"$f":"CONCATENATE(応募者名簿!C686)","v":""},{"$f":"CONCATENATE(応募者名簿!D686)","v":""}]
[{"$f":"応募者名簿!$B$8","v":0},{"$f":"CONCATENATE(応募者名簿!$B$11,応募者名簿!$D$11,応募者名簿!$E$11,応募者名簿!$I$11)","v":""},"条幅",{"$f":"CONCATENATE(応募者名簿!A687)","v":""},{"$f":"CONCATENATE(応募者名簿!B687)","v":""},{"$f":"CONCATENATE(応募者名簿!C687)","v":""},{"$f":"CONCATENATE(応募者名簿!D687)","v":""}]
[{"$f":"応募者名簿!$B$8","v":0},{"$f":"CONCATENATE(応募者名簿!$B$11,応募者名簿!$D$11,応募者名簿!$E$11,応募者名簿!$I$11)","v":""},"条幅",{"$f":"CONCATENATE(応募者名簿!A688)","v":""},{"$f":"CONCATENATE(応募者名簿!B688)","v":""},{"$f":"CONCATENATE(応募者名簿!C688)","v":""},{"$f":"CONCATENATE(応募者名簿!D688)","v":""}]
[{"$f":"応募者名簿!$B$8","v":0},{"$f":"CONCATENATE(応募者名簿!$B$11,応募者名簿!$D$11,応募者名簿!$E$11,応募者名簿!$I$11)","v":""},"条幅",{"$f":"CONCATENATE(応募者名簿!A689)","v":""},{"$f":"CONCATENATE(応募者名簿!B689)","v":""},{"$f":"CONCATENATE(応募者名簿!C689)","v":""},{"$f":"CONCATENATE(応募者名簿!D689)","v":""}]
[{"$f":"応募者名簿!$B$8","v":0},{"$f":"CONCATENATE(応募者名簿!$B$11,応募者名簿!$D$11,応募者名簿!$E$11,応募者名簿!$I$11)","v":""},"条幅",{"$f":"CONCATENATE(応募者名簿!A690)","v":""},{"$f":"CONCATENATE(応募者名簿!B690)","v":""},{"$f":"CONCATENATE(応募者名簿!C690)","v":""},{"$f":"CONCATENATE(応募者名簿!D690)","v":""}]
[{"$f":"応募者名簿!$B$8","v":0},{"$f":"CONCATENATE(応募者名簿!$B$11,応募者名簿!$D$11,応募者名簿!$E$11,応募者名簿!$I$11)","v":""},"条幅",{"$f":"CONCATENATE(応募者名簿!A691)","v":""},{"$f":"CONCATENATE(応募者名簿!B691)","v":""},{"$f":"CONCATENATE(応募者名簿!C691)","v":""},{"$f":"CONCATENATE(応募者名簿!D691)","v":""}]
[{"$f":"応募者名簿!$B$8","v":0},{"$f":"CONCATENATE(応募者名簿!$B$11,応募者名簿!$D$11,応募者名簿!$E$11,応募者名簿!$I$11)","v":""},"条幅",{"$f":"CONCATENATE(応募者名簿!A692)","v":""},{"$f":"CONCATENATE(応募者名簿!B692)","v":""},{"$f":"CONCATENATE(応募者名簿!C692)","v":""},{"$f":"CONCATENATE(応募者名簿!D692)","v":""}]
[{"$f":"応募者名簿!$B$8","v":0},{"$f":"CONCATENATE(応募者名簿!$B$11,応募者名簿!$D$11,応募者名簿!$E$11,応募者名簿!$I$11)","v":""},"条幅",{"$f":"CONCATENATE(応募者名簿!A693)","v":""},{"$f":"CONCATENATE(応募者名簿!B693)","v":""},{"$f":"CONCATENATE(応募者名簿!C693)","v":""},{"$f":"CONCATENATE(応募者名簿!D693)","v":""}]
[{"$f":"応募者名簿!$B$8","v":0},{"$f":"CONCATENATE(応募者名簿!$B$11,応募者名簿!$D$11,応募者名簿!$E$11,応募者名簿!$I$11)","v":""},"条幅",{"$f":"CONCATENATE(応募者名簿!A694)","v":""},{"$f":"CONCATENATE(応募者名簿!B694)","v":""},{"$f":"CONCATENATE(応募者名簿!C694)","v":""},{"$f":"CONCATENATE(応募者名簿!D694)","v":""}]
[{"$f":"応募者名簿!$B$8","v":0},{"$f":"CONCATENATE(応募者名簿!$B$11,応募者名簿!$D$11,応募者名簿!$E$11,応募者名簿!$I$11)","v":""},"条幅",{"$f":"CONCATENATE(応募者名簿!A695)","v":""},{"$f":"CONCATENATE(応募者名簿!B695)","v":""},{"$f":"CONCATENATE(応募者名簿!C695)","v":""},{"$f":"CONCATENATE(応募者名簿!D695)","v":""}]
[{"$f":"応募者名簿!$B$8","v":0},{"$f":"CONCATENATE(応募者名簿!$B$11,応募者名簿!$D$11,応募者名簿!$E$11,応募者名簿!$I$11)","v":""},"条幅",{"$f":"CONCATENATE(応募者名簿!A696)","v":""},{"$f":"CONCATENATE(応募者名簿!B696)","v":""},{"$f":"CONCATENATE(応募者名簿!C696)","v":""},{"$f":"CONCATENATE(応募者名簿!D696)","v":""}]
[{"$f":"応募者名簿!$B$8","v":0},{"$f":"CONCATENATE(応募者名簿!$B$11,応募者名簿!$D$11,応募者名簿!$E$11,応募者名簿!$I$11)","v":""},"条幅",{"$f":"CONCATENATE(応募者名簿!A697)","v":""},{"$f":"CONCATENATE(応募者名簿!B697)","v":""},{"$f":"CONCATENATE(応募者名簿!C697)","v":""},{"$f":"CONCATENATE(応募者名簿!D697)","v":""}]
[{"$f":"応募者名簿!$B$8","v":0},{"$f":"CONCATENATE(応募者名簿!$B$11,応募者名簿!$D$11,応募者名簿!$E$11,応募者名簿!$I$11)","v":""},"条幅",{"$f":"CONCATENATE(応募者名簿!A698)","v":""},{"$f":"CONCATENATE(応募者名簿!B698)","v":""},{"$f":"CONCATENATE(応募者名簿!C698)","v":""},{"$f":"CONCATENATE(応募者名簿!D698)","v":""}]
[{"$f":"応募者名簿!$B$8","v":0},{"$f":"CONCATENATE(応募者名簿!$B$11,応募者名簿!$D$11,応募者名簿!$E$11,応募者名簿!$I$11)","v":""},"条幅",{"$f":"CONCATENATE(応募者名簿!A699)","v":""},{"$f":"CONCATENATE(応募者名簿!B699)","v":""},{"$f":"CONCATENATE(応募者名簿!C699)","v":""},{"$f":"CONCATENATE(応募者名簿!D699)","v":""}]
[{"$f":"応募者名簿!$B$8","v":0},{"$f":"CONCATENATE(応募者名簿!$B$11,応募者名簿!$D$11,応募者名簿!$E$11,応募者名簿!$I$11)","v":""},"条幅",{"$f":"CONCATENATE(応募者名簿!A700)","v":""},{"$f":"CONCATENATE(応募者名簿!B700)","v":""},{"$f":"CONCATENATE(応募者名簿!C700)","v":""},{"$f":"CONCATENATE(応募者名簿!D700)","v":""}]
[{"$f":"応募者名簿!$B$8","v":0},{"$f":"CONCATENATE(応募者名簿!$B$11,応募者名簿!$D$11,応募者名簿!$E$11,応募者名簿!$I$11)","v":""},"条幅",{"$f":"CONCATENATE(応募者名簿!A701)","v":""},{"$f":"CONCATENATE(応募者名簿!B701)","v":""},{"$f":"CONCATENATE(応募者名簿!C701)","v":""},{"$f":"CONCATENATE(応募者名簿!D701)","v":""}]
[{"$f":"応募者名簿!$B$8","v":0},{"$f":"CONCATENATE(応募者名簿!$B$11,応募者名簿!$D$11,応募者名簿!$E$11,応募者名簿!$I$11)","v":""},"条幅",{"$f":"CONCATENATE(応募者名簿!A702)","v":""},{"$f":"CONCATENATE(応募者名簿!B702)","v":""},{"$f":"CONCATENATE(応募者名簿!C702)","v":""},{"$f":"CONCATENATE(応募者名簿!D702)","v":""}]
[{"$f":"応募者名簿!$B$8","v":0},{"$f":"CONCATENATE(応募者名簿!$B$11,応募者名簿!$D$11,応募者名簿!$E$11,応募者名簿!$I$11)","v":""},"条幅",{"$f":"CONCATENATE(応募者名簿!A703)","v":""},{"$f":"CONCATENATE(応募者名簿!B703)","v":""},{"$f":"CONCATENATE(応募者名簿!C703)","v":""},{"$f":"CONCATENATE(応募者名簿!D703)","v":""}]
[{"$f":"応募者名簿!$B$8","v":0},{"$f":"CONCATENATE(応募者名簿!$B$11,応募者名簿!$D$11,応募者名簿!$E$11,応募者名簿!$I$11)","v":""},"条幅",{"$f":"CONCATENATE(応募者名簿!A704)","v":""},{"$f":"CONCATENATE(応募者名簿!B704)","v":""},{"$f":"CONCATENATE(応募者名簿!C704)","v":""},{"$f":"CONCATENATE(応募者名簿!D704)","v":""}]
[{"$f":"応募者名簿!$B$8","v":0},{"$f":"CONCATENATE(応募者名簿!$B$11,応募者名簿!$D$11,応募者名簿!$E$11,応募者名簿!$I$11)","v":""},"条幅",{"$f":"CONCATENATE(応募者名簿!A705)","v":""},{"$f":"CONCATENATE(応募者名簿!B705)","v":""},{"$f":"CONCATENATE(応募者名簿!C705)","v":""},{"$f":"CONCATENATE(応募者名簿!D705)","v":""}]
[{"$f":"応募者名簿!$B$8","v":0},{"$f":"CONCATENATE(応募者名簿!$B$11,応募者名簿!$D$11,応募者名簿!$E$11,応募者名簿!$I$11)","v":""},"条幅",{"$f":"CONCATENATE(応募者名簿!A706)","v":""},{"$f":"CONCATENATE(応募者名簿!B706)","v":""},{"$f":"CONCATENATE(応募者名簿!C706)","v":""},{"$f":"CONCATENATE(応募者名簿!D706)","v":""}]
[{"$f":"応募者名簿!$B$8","v":0},{"$f":"CONCATENATE(応募者名簿!$B$11,応募者名簿!$D$11,応募者名簿!$E$11,応募者名簿!$I$11)","v":""},"条幅",{"$f":"CONCATENATE(応募者名簿!A707)","v":""},{"$f":"CONCATENATE(応募者名簿!B707)","v":""},{"$f":"CONCATENATE(応募者名簿!C707)","v":""},{"$f":"CONCATENATE(応募者名簿!D707)","v":""}]
[{"$f":"応募者名簿!$B$8","v":0},{"$f":"CONCATENATE(応募者名簿!$B$11,応募者名簿!$D$11,応募者名簿!$E$11,応募者名簿!$I$11)","v":""},"条幅",{"$f":"CONCATENATE(応募者名簿!A708)","v":""},{"$f":"CONCATENATE(応募者名簿!B708)","v":""},{"$f":"CONCATENATE(応募者名簿!C708)","v":""},{"$f":"CONCATENATE(応募者名簿!D708)","v":""}]
[{"$f":"応募者名簿!$B$8","v":0},{"$f":"CONCATENATE(応募者名簿!$B$11,応募者名簿!$D$11,応募者名簿!$E$11,応募者名簿!$I$11)","v":""},"条幅",{"$f":"CONCATENATE(応募者名簿!A709)","v":""},{"$f":"CONCATENATE(応募者名簿!B709)","v":""},{"$f":"CONCATENATE(応募者名簿!C709)","v":""},{"$f":"CONCATENATE(応募者名簿!D709)","v":""}]
[{"$f":"応募者名簿!$B$8","v":0},{"$f":"CONCATENATE(応募者名簿!$B$11,応募者名簿!$D$11,応募者名簿!$E$11,応募者名簿!$I$11)","v":""},"条幅",{"$f":"CONCATENATE(応募者名簿!A710)","v":""},{"$f":"CONCATENATE(応募者名簿!B710)","v":""},{"$f":"CONCATENATE(応募者名簿!C710)","v":""},{"$f":"CONCATENATE(応募者名簿!D710)","v":""}]
[{"$f":"応募者名簿!$B$8","v":0},{"$f":"CONCATENATE(応募者名簿!$B$11,応募者名簿!$D$11,応募者名簿!$E$11,応募者名簿!$I$11)","v":""},"条幅",{"$f":"CONCATENATE(応募者名簿!A711)","v":""},{"$f":"CONCATENATE(応募者名簿!B711)","v":""},{"$f":"CONCATENATE(応募者名簿!C711)","v":""},{"$f":"CONCATENATE(応募者名簿!D711)","v":""}]
[{"$f":"応募者名簿!$B$8","v":0},{"$f":"CONCATENATE(応募者名簿!$B$11,応募者名簿!$D$11,応募者名簿!$E$11,応募者名簿!$I$11)","v":""},"条幅",{"$f":"CONCATENATE(応募者名簿!A712)","v":""},{"$f":"CONCATENATE(応募者名簿!B712)","v":""},{"$f":"CONCATENATE(応募者名簿!C712)","v":""},{"$f":"CONCATENATE(応募者名簿!D712)","v":""}]
[{"$f":"応募者名簿!$B$8","v":0},{"$f":"CONCATENATE(応募者名簿!$B$11,応募者名簿!$D$11,応募者名簿!$E$11,応募者名簿!$I$11)","v":""},"条幅",{"$f":"CONCATENATE(応募者名簿!A713)","v":""},{"$f":"CONCATENATE(応募者名簿!B713)","v":""},{"$f":"CONCATENATE(応募者名簿!C713)","v":""},{"$f":"CONCATENATE(応募者名簿!D713)","v":""}]
[{"$f":"応募者名簿!$B$8","v":0},{"$f":"CONCATENATE(応募者名簿!$B$11,応募者名簿!$D$11,応募者名簿!$E$11,応募者名簿!$I$11)","v":""},"条幅",{"$f":"CONCATENATE(応募者名簿!A714)","v":""},{"$f":"CONCATENATE(応募者名簿!B714)","v":""},{"$f":"CONCATENATE(応募者名簿!C714)","v":""},{"$f":"CONCATENATE(応募者名簿!D714)","v":""}]
[{"$f":"応募者名簿!$B$8","v":0},{"$f":"CONCATENATE(応募者名簿!$B$11,応募者名簿!$D$11,応募者名簿!$E$11,応募者名簿!$I$11)","v":""},"条幅",{"$f":"CONCATENATE(応募者名簿!A715)","v":""},{"$f":"CONCATENATE(応募者名簿!B715)","v":""},{"$f":"CONCATENATE(応募者名簿!C715)","v":""},{"$f":"CONCATENATE(応募者名簿!D715)","v":""}]
[{"$f":"応募者名簿!$B$8","v":0},{"$f":"CONCATENATE(応募者名簿!$B$11,応募者名簿!$D$11,応募者名簿!$E$11,応募者名簿!$I$11)","v":""},"条幅",{"$f":"CONCATENATE(応募者名簿!A716)","v":""},{"$f":"CONCATENATE(応募者名簿!B716)","v":""},{"$f":"CONCATENATE(応募者名簿!C716)","v":""},{"$f":"CONCATENATE(応募者名簿!D716)","v":""}]
[{"$f":"応募者名簿!$B$8","v":0},{"$f":"CONCATENATE(応募者名簿!$B$11,応募者名簿!$D$11,応募者名簿!$E$11,応募者名簿!$I$11)","v":""},"条幅",{"$f":"CONCATENATE(応募者名簿!A717)","v":""},{"$f":"CONCATENATE(応募者名簿!B717)","v":""},{"$f":"CONCATENATE(応募者名簿!C717)","v":""},{"$f":"CONCATENATE(応募者名簿!D717)","v":""}]
[{"$f":"応募者名簿!$B$8","v":0},{"$f":"CONCATENATE(応募者名簿!$B$11,応募者名簿!$D$11,応募者名簿!$E$11,応募者名簿!$I$11)","v":""},"条幅",{"$f":"CONCATENATE(応募者名簿!A718)","v":""},{"$f":"CONCATENATE(応募者名簿!B718)","v":""},{"$f":"CONCATENATE(応募者名簿!C718)","v":""},{"$f":"CONCATENATE(応募者名簿!D718)","v":""}]
[{"$f":"応募者名簿!$B$8","v":0},{"$f":"CONCATENATE(応募者名簿!$B$11,応募者名簿!$D$11,応募者名簿!$E$11,応募者名簿!$I$11)","v":""},"条幅",{"$f":"CONCATENATE(応募者名簿!A719)","v":""},{"$f":"CONCATENATE(応募者名簿!B719)","v":""},{"$f":"CONCATENATE(応募者名簿!C719)","v":""},{"$f":"CONCATENATE(応募者名簿!D719)","v":""}]
[{"$f":"応募者名簿!$B$8","v":0},{"$f":"CONCATENATE(応募者名簿!$B$11,応募者名簿!$D$11,応募者名簿!$E$11,応募者名簿!$I$11)","v":""},"条幅",{"$f":"CONCATENATE(応募者名簿!A720)","v":""},{"$f":"CONCATENATE(応募者名簿!B720)","v":""},{"$f":"CONCATENATE(応募者名簿!C720)","v":""},{"$f":"CONCATENATE(応募者名簿!D720)","v":""}]
[{"$f":"応募者名簿!$B$8","v":0},{"$f":"CONCATENATE(応募者名簿!$B$11,応募者名簿!$D$11,応募者名簿!$E$11,応募者名簿!$I$11)","v":""},"条幅",{"$f":"CONCATENATE(応募者名簿!A721)","v":""},{"$f":"CONCATENATE(応募者名簿!B721)","v":""},{"$f":"CONCATENATE(応募者名簿!C721)","v":""},{"$f":"CONCATENATE(応募者名簿!D721)","v":""}]
[{"$f":"応募者名簿!$B$8","v":0},{"$f":"CONCATENATE(応募者名簿!$B$11,応募者名簿!$D$11,応募者名簿!$E$11,応募者名簿!$I$11)","v":""},"条幅",{"$f":"CONCATENATE(応募者名簿!A722)","v":""},{"$f":"CONCATENATE(応募者名簿!B722)","v":""},{"$f":"CONCATENATE(応募者名簿!C722)","v":""},{"$f":"CONCATENATE(応募者名簿!D722)","v":""}]
[{"$f":"応募者名簿!$B$8","v":0},{"$f":"CONCATENATE(応募者名簿!$B$11,応募者名簿!$D$11,応募者名簿!$E$11,応募者名簿!$I$11)","v":""},"条幅",{"$f":"CONCATENATE(応募者名簿!A723)","v":""},{"$f":"CONCATENATE(応募者名簿!B723)","v":""},{"$f":"CONCATENATE(応募者名簿!C723)","v":""},{"$f":"CONCATENATE(応募者名簿!D723)","v":""}]
[{"$f":"応募者名簿!$B$8","v":0},{"$f":"CONCATENATE(応募者名簿!$B$11,応募者名簿!$D$11,応募者名簿!$E$11,応募者名簿!$I$11)","v":""},"条幅",{"$f":"CONCATENATE(応募者名簿!A724)","v":""},{"$f":"CONCATENATE(応募者名簿!B724)","v":""},{"$f":"CONCATENATE(応募者名簿!C724)","v":""},{"$f":"CONCATENATE(応募者名簿!D724)","v":""}]
[{"$f":"応募者名簿!$B$8","v":0},{"$f":"CONCATENATE(応募者名簿!$B$11,応募者名簿!$D$11,応募者名簿!$E$11,応募者名簿!$I$11)","v":""},"条幅",{"$f":"CONCATENATE(応募者名簿!A725)","v":""},{"$f":"CONCATENATE(応募者名簿!B725)","v":""},{"$f":"CONCATENATE(応募者名簿!C725)","v":""},{"$f":"CONCATENATE(応募者名簿!D725)","v":""}]
[{"$f":"応募者名簿!$B$8","v":0},{"$f":"CONCATENATE(応募者名簿!$B$11,応募者名簿!$D$11,応募者名簿!$E$11,応募者名簿!$I$11)","v":""},"条幅",{"$f":"CONCATENATE(応募者名簿!A726)","v":""},{"$f":"CONCATENATE(応募者名簿!B726)","v":""},{"$f":"CONCATENATE(応募者名簿!C726)","v":""},{"$f":"CONCATENATE(応募者名簿!D726)","v":""}]
[{"$f":"応募者名簿!$B$8","v":0},{"$f":"CONCATENATE(応募者名簿!$B$11,応募者名簿!$D$11,応募者名簿!$E$11,応募者名簿!$I$11)","v":""},"条幅",{"$f":"CONCATENATE(応募者名簿!A727)","v":""},{"$f":"CONCATENATE(応募者名簿!B727)","v":""},{"$f":"CONCATENATE(応募者名簿!C727)","v":""},{"$f":"CONCATENATE(応募者名簿!D727)","v":""}]
[{"$f":"応募者名簿!$B$8","v":0},{"$f":"CONCATENATE(応募者名簿!$B$11,応募者名簿!$D$11,応募者名簿!$E$11,応募者名簿!$I$11)","v":""},"条幅",{"$f":"CONCATENATE(応募者名簿!A728)","v":""},{"$f":"CONCATENATE(応募者名簿!B728)","v":""},{"$f":"CONCATENATE(応募者名簿!C728)","v":""},{"$f":"CONCATENATE(応募者名簿!D728)","v":""}]
[{"$f":"応募者名簿!$B$8","v":0},{"$f":"CONCATENATE(応募者名簿!$B$11,応募者名簿!$D$11,応募者名簿!$E$11,応募者名簿!$I$11)","v":""},"条幅",{"$f":"CONCATENATE(応募者名簿!A729)","v":""},{"$f":"CONCATENATE(応募者名簿!B729)","v":""},{"$f":"CONCATENATE(応募者名簿!C729)","v":""},{"$f":"CONCATENATE(応募者名簿!D729)","v":""}]
[{"$f":"応募者名簿!$B$8","v":0},{"$f":"CONCATENATE(応募者名簿!$B$11,応募者名簿!$D$11,応募者名簿!$E$11,応募者名簿!$I$11)","v":""},"条幅",{"$f":"CONCATENATE(応募者名簿!A730)","v":""},{"$f":"CONCATENATE(応募者名簿!B730)","v":""},{"$f":"CONCATENATE(応募者名簿!C730)","v":""},{"$f":"CONCATENATE(応募者名簿!D730)","v":""}]
[{"$f":"応募者名簿!$B$8","v":0},{"$f":"CONCATENATE(応募者名簿!$B$11,応募者名簿!$D$11,応募者名簿!$E$11,応募者名簿!$I$11)","v":""},"条幅",{"$f":"CONCATENATE(応募者名簿!A731)","v":""},{"$f":"CONCATENATE(応募者名簿!B731)","v":""},{"$f":"CONCATENATE(応募者名簿!C731)","v":""},{"$f":"CONCATENATE(応募者名簿!D731)","v":""}]
[{"$f":"応募者名簿!$B$8","v":0},{"$f":"CONCATENATE(応募者名簿!$B$11,応募者名簿!$D$11,応募者名簿!$E$11,応募者名簿!$I$11)","v":""},"条幅",{"$f":"CONCATENATE(応募者名簿!A732)","v":""},{"$f":"CONCATENATE(応募者名簿!B732)","v":""},{"$f":"CONCATENATE(応募者名簿!C732)","v":""},{"$f":"CONCATENATE(応募者名簿!D732)","v":""}]
[{"$f":"応募者名簿!$B$8","v":0},{"$f":"CONCATENATE(応募者名簿!$B$11,応募者名簿!$D$11,応募者名簿!$E$11,応募者名簿!$I$11)","v":""},"条幅",{"$f":"CONCATENATE(応募者名簿!A733)","v":""},{"$f":"CONCATENATE(応募者名簿!B733)","v":""},{"$f":"CONCATENATE(応募者名簿!C733)","v":""},{"$f":"CONCATENATE(応募者名簿!D733)","v":""}]
[{"$f":"応募者名簿!$B$8","v":0},{"$f":"CONCATENATE(応募者名簿!$B$11,応募者名簿!$D$11,応募者名簿!$E$11,応募者名簿!$I$11)","v":""},"条幅",{"$f":"CONCATENATE(応募者名簿!A734)","v":""},{"$f":"CONCATENATE(応募者名簿!B734)","v":""},{"$f":"CONCATENATE(応募者名簿!C734)","v":""},{"$f":"CONCATENATE(応募者名簿!D734)","v":""}]
[{"$f":"応募者名簿!$B$8","v":0},{"$f":"CONCATENATE(応募者名簿!$B$11,応募者名簿!$D$11,応募者名簿!$E$11,応募者名簿!$I$11)","v":""},"条幅",{"$f":"CONCATENATE(応募者名簿!A735)","v":""},{"$f":"CONCATENATE(応募者名簿!B735)","v":""},{"$f":"CONCATENATE(応募者名簿!C735)","v":""},{"$f":"CONCATENATE(応募者名簿!D735)","v":""}]
[{"$f":"応募者名簿!$B$8","v":0},{"$f":"CONCATENATE(応募者名簿!$B$11,応募者名簿!$D$11,応募者名簿!$E$11,応募者名簿!$I$11)","v":""},"条幅",{"$f":"CONCATENATE(応募者名簿!A736)","v":""},{"$f":"CONCATENATE(応募者名簿!B736)","v":""},{"$f":"CONCATENATE(応募者名簿!C736)","v":""},{"$f":"CONCATENATE(応募者名簿!D736)","v":""}]
[{"$f":"応募者名簿!$B$8","v":0},{"$f":"CONCATENATE(応募者名簿!$B$11,応募者名簿!$D$11,応募者名簿!$E$11,応募者名簿!$I$11)","v":""},"条幅",{"$f":"CONCATENATE(応募者名簿!A737)","v":""},{"$f":"CONCATENATE(応募者名簿!B737)","v":""},{"$f":"CONCATENATE(応募者名簿!C737)","v":""},{"$f":"CONCATENATE(応募者名簿!D737)","v":""}]
[{"$f":"応募者名簿!$B$8","v":0},{"$f":"CONCATENATE(応募者名簿!$B$11,応募者名簿!$D$11,応募者名簿!$E$11,応募者名簿!$I$11)","v":""},"条幅",{"$f":"CONCATENATE(応募者名簿!A738)","v":""},{"$f":"CONCATENATE(応募者名簿!B738)","v":""},{"$f":"CONCATENATE(応募者名簿!C738)","v":""},{"$f":"CONCATENATE(応募者名簿!D738)","v":""}]
[{"$f":"応募者名簿!$B$8","v":0},{"$f":"CONCATENATE(応募者名簿!$B$11,応募者名簿!$D$11,応募者名簿!$E$11,応募者名簿!$I$11)","v":""},"条幅",{"$f":"CONCATENATE(応募者名簿!A739)","v":""},{"$f":"CONCATENATE(応募者名簿!B739)","v":""},{"$f":"CONCATENATE(応募者名簿!C739)","v":""},{"$f":"CONCATENATE(応募者名簿!D739)","v":""}]
[{"$f":"応募者名簿!$B$8","v":0},{"$f":"CONCATENATE(応募者名簿!$B$11,応募者名簿!$D$11,応募者名簿!$E$11,応募者名簿!$I$11)","v":""},"条幅",{"$f":"CONCATENATE(応募者名簿!A740)","v":""},{"$f":"CONCATENATE(応募者名簿!B740)","v":""},{"$f":"CONCATENATE(応募者名簿!C740)","v":""},{"$f":"CONCATENATE(応募者名簿!D740)","v":""}]
[{"$f":"応募者名簿!$B$8","v":0},{"$f":"CONCATENATE(応募者名簿!$B$11,応募者名簿!$D$11,応募者名簿!$E$11,応募者名簿!$I$11)","v":""},"条幅",{"$f":"CONCATENATE(応募者名簿!A741)","v":""},{"$f":"CONCATENATE(応募者名簿!B741)","v":""},{"$f":"CONCATENATE(応募者名簿!C741)","v":""},{"$f":"CONCATENATE(応募者名簿!D741)","v":""}]
[{"$f":"応募者名簿!$B$8","v":0},{"$f":"CONCATENATE(応募者名簿!$B$11,応募者名簿!$D$11,応募者名簿!$E$11,応募者名簿!$I$11)","v":""},"条幅",{"$f":"CONCATENATE(応募者名簿!A742)","v":""},{"$f":"CONCATENATE(応募者名簿!B742)","v":""},{"$f":"CONCATENATE(応募者名簿!C742)","v":""},{"$f":"CONCATENATE(応募者名簿!D742)","v":""}]
[{"$f":"応募者名簿!$B$8","v":0},{"$f":"CONCATENATE(応募者名簿!$B$11,応募者名簿!$D$11,応募者名簿!$E$11,応募者名簿!$I$11)","v":""},"条幅",{"$f":"CONCATENATE(応募者名簿!A743)","v":""},{"$f":"CONCATENATE(応募者名簿!B743)","v":""},{"$f":"CONCATENATE(応募者名簿!C743)","v":""},{"$f":"CONCATENATE(応募者名簿!D743)","v":""}]
[{"$f":"応募者名簿!$B$8","v":0},{"$f":"CONCATENATE(応募者名簿!$B$11,応募者名簿!$D$11,応募者名簿!$E$11,応募者名簿!$I$11)","v":""},"条幅",{"$f":"CONCATENATE(応募者名簿!A744)","v":""},{"$f":"CONCATENATE(応募者名簿!B744)","v":""},{"$f":"CONCATENATE(応募者名簿!C744)","v":""},{"$f":"CONCATENATE(応募者名簿!D744)","v":""}]
[{"$f":"応募者名簿!$B$8","v":0},{"$f":"CONCATENATE(応募者名簿!$B$11,応募者名簿!$D$11,応募者名簿!$E$11,応募者名簿!$I$11)","v":""},"条幅",{"$f":"CONCATENATE(応募者名簿!A745)","v":""},{"$f":"CONCATENATE(応募者名簿!B745)","v":""},{"$f":"CONCATENATE(応募者名簿!C745)","v":""},{"$f":"CONCATENATE(応募者名簿!D745)","v":""}]
[{"$f":"応募者名簿!$B$8","v":0},{"$f":"CONCATENATE(応募者名簿!$B$11,応募者名簿!$D$11,応募者名簿!$E$11,応募者名簿!$I$11)","v":""},"条幅",{"$f":"CONCATENATE(応募者名簿!A746)","v":""},{"$f":"CONCATENATE(応募者名簿!B746)","v":""},{"$f":"CONCATENATE(応募者名簿!C746)","v":""},{"$f":"CONCATENATE(応募者名簿!D746)","v":""}]
[{"$f":"応募者名簿!$B$8","v":0},{"$f":"CONCATENATE(応募者名簿!$B$11,応募者名簿!$D$11,応募者名簿!$E$11,応募者名簿!$I$11)","v":""},"条幅",{"$f":"CONCATENATE(応募者名簿!A747)","v":""},{"$f":"CONCATENATE(応募者名簿!B747)","v":""},{"$f":"CONCATENATE(応募者名簿!C747)","v":""},{"$f":"CONCATENATE(応募者名簿!D747)","v":""}]
[{"$f":"応募者名簿!$B$8","v":0},{"$f":"CONCATENATE(応募者名簿!$B$11,応募者名簿!$D$11,応募者名簿!$E$11,応募者名簿!$I$11)","v":""},"条幅",{"$f":"CONCATENATE(応募者名簿!A748)","v":""},{"$f":"CONCATENATE(応募者名簿!B748)","v":""},{"$f":"CONCATENATE(応募者名簿!C748)","v":""},{"$f":"CONCATENATE(応募者名簿!D748)","v":""}]
[{"$f":"応募者名簿!$B$8","v":0},{"$f":"CONCATENATE(応募者名簿!$B$11,応募者名簿!$D$11,応募者名簿!$E$11,応募者名簿!$I$11)","v":""},"条幅",{"$f":"CONCATENATE(応募者名簿!A749)","v":""},{"$f":"CONCATENATE(応募者名簿!B749)","v":""},{"$f":"CONCATENATE(応募者名簿!C749)","v":""},{"$f":"CONCATENATE(応募者名簿!D749)","v":""}]
[{"$f":"応募者名簿!$B$8","v":0},{"$f":"CONCATENATE(応募者名簿!$B$11,応募者名簿!$D$11,応募者名簿!$E$11,応募者名簿!$I$11)","v":""},"条幅",{"$f":"CONCATENATE(応募者名簿!A750)","v":""},{"$f":"CONCATENATE(応募者名簿!B750)","v":""},{"$f":"CONCATENATE(応募者名簿!C750)","v":""},{"$f":"CONCATENATE(応募者名簿!D750)","v":""}]
[{"$f":"応募者名簿!$B$8","v":0},{"$f":"CONCATENATE(応募者名簿!$B$11,応募者名簿!$D$11,応募者名簿!$E$11,応募者名簿!$I$11)","v":""},"条幅",{"$f":"CONCATENATE(応募者名簿!A751)","v":""},{"$f":"CONCATENATE(応募者名簿!B751)","v":""},{"$f":"CONCATENATE(応募者名簿!C751)","v":""},{"$f":"CONCATENATE(応募者名簿!D751)","v":""}]
[{"$f":"応募者名簿!$B$8","v":0},{"$f":"CONCATENATE(応募者名簿!$B$11,応募者名簿!$D$11,応募者名簿!$E$11,応募者名簿!$I$11)","v":""},"条幅",{"$f":"CONCATENATE(応募者名簿!A752)","v":""},{"$f":"CONCATENATE(応募者名簿!B752)","v":""},{"$f":"CONCATENATE(応募者名簿!C752)","v":""},{"$f":"CONCATENATE(応募者名簿!D752)","v":""}]
[{"$f":"応募者名簿!$B$8","v":0},{"$f":"CONCATENATE(応募者名簿!$B$11,応募者名簿!$D$11,応募者名簿!$E$11,応募者名簿!$I$11)","v":""},"条幅",{"$f":"CONCATENATE(応募者名簿!A753)","v":""},{"$f":"CONCATENATE(応募者名簿!B753)","v":""},{"$f":"CONCATENATE(応募者名簿!C753)","v":""},{"$f":"CONCATENATE(応募者名簿!D753)","v":""}]
[{"$f":"応募者名簿!$B$8","v":0},{"$f":"CONCATENATE(応募者名簿!$B$11,応募者名簿!$D$11,応募者名簿!$E$11,応募者名簿!$I$11)","v":""},"条幅",{"$f":"CONCATENATE(応募者名簿!A754)","v":""},{"$f":"CONCATENATE(応募者名簿!B754)","v":""},{"$f":"CONCATENATE(応募者名簿!C754)","v":""},{"$f":"CONCATENATE(応募者名簿!D754)","v":""}]
[{"$f":"応募者名簿!$B$8","v":0},{"$f":"CONCATENATE(応募者名簿!$B$11,応募者名簿!$D$11,応募者名簿!$E$11,応募者名簿!$I$11)","v":""},"条幅",{"$f":"CONCATENATE(応募者名簿!A755)","v":""},{"$f":"CONCATENATE(応募者名簿!B755)","v":""},{"$f":"CONCATENATE(応募者名簿!C755)","v":""},{"$f":"CONCATENATE(応募者名簿!D755)","v":""}]
[{"$f":"応募者名簿!$B$8","v":0},{"$f":"CONCATENATE(応募者名簿!$B$11,応募者名簿!$D$11,応募者名簿!$E$11,応募者名簿!$I$11)","v":""},"条幅",{"$f":"CONCATENATE(応募者名簿!A756)","v":""},{"$f":"CONCATENATE(応募者名簿!B756)","v":""},{"$f":"CONCATENATE(応募者名簿!C756)","v":""},{"$f":"CONCATENATE(応募者名簿!D756)","v":""}]
[{"$f":"応募者名簿!$B$8","v":0},{"$f":"CONCATENATE(応募者名簿!$B$11,応募者名簿!$D$11,応募者名簿!$E$11,応募者名簿!$I$11)","v":""},"条幅",{"$f":"CONCATENATE(応募者名簿!A757)","v":""},{"$f":"CONCATENATE(応募者名簿!B757)","v":""},{"$f":"CONCATENATE(応募者名簿!C757)","v":""},{"$f":"CONCATENATE(応募者名簿!D757)","v":""}]
[{"$f":"応募者名簿!$B$8","v":0},{"$f":"CONCATENATE(応募者名簿!$B$11,応募者名簿!$D$11,応募者名簿!$E$11,応募者名簿!$I$11)","v":""},"条幅",{"$f":"CONCATENATE(応募者名簿!A758)","v":""},{"$f":"CONCATENATE(応募者名簿!B758)","v":""},{"$f":"CONCATENATE(応募者名簿!C758)","v":""},{"$f":"CONCATENATE(応募者名簿!D758)","v":""}]
[{"$f":"応募者名簿!$B$8","v":0},{"$f":"CONCATENATE(応募者名簿!$B$11,応募者名簿!$D$11,応募者名簿!$E$11,応募者名簿!$I$11)","v":""},"条幅",{"$f":"CONCATENATE(応募者名簿!A759)","v":""},{"$f":"CONCATENATE(応募者名簿!B759)","v":""},{"$f":"CONCATENATE(応募者名簿!C759)","v":""},{"$f":"CONCATENATE(応募者名簿!D759)","v":""}]
[{"$f":"応募者名簿!$B$8","v":0},{"$f":"CONCATENATE(応募者名簿!$B$11,応募者名簿!$D$11,応募者名簿!$E$11,応募者名簿!$I$11)","v":""},"条幅",{"$f":"CONCATENATE(応募者名簿!A760)","v":""},{"$f":"CONCATENATE(応募者名簿!B760)","v":""},{"$f":"CONCATENATE(応募者名簿!C760)","v":""},{"$f":"CONCATENATE(応募者名簿!D760)","v":""}]
[{"$f":"応募者名簿!$B$8","v":0},{"$f":"CONCATENATE(応募者名簿!$B$11,応募者名簿!$D$11,応募者名簿!$E$11,応募者名簿!$I$11)","v":""},"条幅",{"$f":"CONCATENATE(応募者名簿!A761)","v":""},{"$f":"CONCATENATE(応募者名簿!B761)","v":""},{"$f":"CONCATENATE(応募者名簿!C761)","v":""},{"$f":"CONCATENATE(応募者名簿!D761)","v":""}]
[{"$f":"応募者名簿!$B$8","v":0},{"$f":"CONCATENATE(応募者名簿!$B$11,応募者名簿!$D$11,応募者名簿!$E$11,応募者名簿!$I$11)","v":""},"条幅",{"$f":"CONCATENATE(応募者名簿!A762)","v":""},{"$f":"CONCATENATE(応募者名簿!B762)","v":""},{"$f":"CONCATENATE(応募者名簿!C762)","v":""},{"$f":"CONCATENATE(応募者名簿!D762)","v":""}]
[{"$f":"応募者名簿!$B$8","v":0},{"$f":"CONCATENATE(応募者名簿!$B$11,応募者名簿!$D$11,応募者名簿!$E$11,応募者名簿!$I$11)","v":""},"条幅",{"$f":"CONCATENATE(応募者名簿!A763)","v":""},{"$f":"CONCATENATE(応募者名簿!B763)","v":""},{"$f":"CONCATENATE(応募者名簿!C763)","v":""},{"$f":"CONCATENATE(応募者名簿!D763)","v":""}]
[{"$f":"応募者名簿!$B$8","v":0},{"$f":"CONCATENATE(応募者名簿!$B$11,応募者名簿!$D$11,応募者名簿!$E$11,応募者名簿!$I$11)","v":""},"条幅",{"$f":"CONCATENATE(応募者名簿!A764)","v":""},{"$f":"CONCATENATE(応募者名簿!B764)","v":""},{"$f":"CONCATENATE(応募者名簿!C764)","v":""},{"$f":"CONCATENATE(応募者名簿!D764)","v":""}]
[{"$f":"応募者名簿!$B$8","v":0},{"$f":"CONCATENATE(応募者名簿!$B$11,応募者名簿!$D$11,応募者名簿!$E$11,応募者名簿!$I$11)","v":""},"条幅",{"$f":"CONCATENATE(応募者名簿!A765)","v":""},{"$f":"CONCATENATE(応募者名簿!B765)","v":""},{"$f":"CONCATENATE(応募者名簿!C765)","v":""},{"$f":"CONCATENATE(応募者名簿!D765)","v":""}]
[{"$f":"応募者名簿!$B$8","v":0},{"$f":"CONCATENATE(応募者名簿!$B$11,応募者名簿!$D$11,応募者名簿!$E$11,応募者名簿!$I$11)","v":""},"条幅",{"$f":"CONCATENATE(応募者名簿!A766)","v":""},{"$f":"CONCATENATE(応募者名簿!B766)","v":""},{"$f":"CONCATENATE(応募者名簿!C766)","v":""},{"$f":"CONCATENATE(応募者名簿!D766)","v":""}]
[{"$f":"応募者名簿!$B$8","v":0},{"$f":"CONCATENATE(応募者名簿!$B$11,応募者名簿!$D$11,応募者名簿!$E$11,応募者名簿!$I$11)","v":""},"条幅",{"$f":"CONCATENATE(応募者名簿!A767)","v":""},{"$f":"CONCATENATE(応募者名簿!B767)","v":""},{"$f":"CONCATENATE(応募者名簿!C767)","v":""},{"$f":"CONCATENATE(応募者名簿!D767)","v":""}]
[{"$f":"応募者名簿!$B$8","v":0},{"$f":"CONCATENATE(応募者名簿!$B$11,応募者名簿!$D$11,応募者名簿!$E$11,応募者名簿!$I$11)","v":""},"条幅",{"$f":"CONCATENATE(応募者名簿!A768)","v":""},{"$f":"CONCATENATE(応募者名簿!B768)","v":""},{"$f":"CONCATENATE(応募者名簿!C768)","v":""},{"$f":"CONCATENATE(応募者名簿!D768)","v":""}]
[{"$f":"応募者名簿!$B$8","v":0},{"$f":"CONCATENATE(応募者名簿!$B$11,応募者名簿!$D$11,応募者名簿!$E$11,応募者名簿!$I$11)","v":""},"条幅",{"$f":"CONCATENATE(応募者名簿!A769)","v":""},{"$f":"CONCATENATE(応募者名簿!B769)","v":""},{"$f":"CONCATENATE(応募者名簿!C769)","v":""},{"$f":"CONCATENATE(応募者名簿!D769)","v":""}]
[{"$f":"応募者名簿!$B$8","v":0},{"$f":"CONCATENATE(応募者名簿!$B$11,応募者名簿!$D$11,応募者名簿!$E$11,応募者名簿!$I$11)","v":""},"条幅",{"$f":"CONCATENATE(応募者名簿!A770)","v":""},{"$f":"CONCATENATE(応募者名簿!B770)","v":""},{"$f":"CONCATENATE(応募者名簿!C770)","v":""},{"$f":"CONCATENATE(応募者名簿!D770)","v":""}]
[{"$f":"応募者名簿!$B$8","v":0},{"$f":"CONCATENATE(応募者名簿!$B$11,応募者名簿!$D$11,応募者名簿!$E$11,応募者名簿!$I$11)","v":""},"条幅",{"$f":"CONCATENATE(応募者名簿!A771)","v":""},{"$f":"CONCATENATE(応募者名簿!B771)","v":""},{"$f":"CONCATENATE(応募者名簿!C771)","v":""},{"$f":"CONCATENATE(応募者名簿!D771)","v":""}]
[{"$f":"応募者名簿!$B$8","v":0},{"$f":"CONCATENATE(応募者名簿!$B$11,応募者名簿!$D$11,応募者名簿!$E$11,応募者名簿!$I$11)","v":""},"条幅",{"$f":"CONCATENATE(応募者名簿!A772)","v":""},{"$f":"CONCATENATE(応募者名簿!B772)","v":""},{"$f":"CONCATENATE(応募者名簿!C772)","v":""},{"$f":"CONCATENATE(応募者名簿!D772)","v":""}]
[{"$f":"応募者名簿!$B$8","v":0},{"$f":"CONCATENATE(応募者名簿!$B$11,応募者名簿!$D$11,応募者名簿!$E$11,応募者名簿!$I$11)","v":""},"条幅",{"$f":"CONCATENATE(応募者名簿!A773)","v":""},{"$f":"CONCATENATE(応募者名簿!B773)","v":""},{"$f":"CONCATENATE(応募者名簿!C773)","v":""},{"$f":"CONCATENATE(応募者名簿!D773)","v":""}]
[{"$f":"応募者名簿!$B$8","v":0},{"$f":"CONCATENATE(応募者名簿!$B$11,応募者名簿!$D$11,応募者名簿!$E$11,応募者名簿!$I$11)","v":""},"条幅",{"$f":"CONCATENATE(応募者名簿!A774)","v":""},{"$f":"CONCATENATE(応募者名簿!B774)","v":""},{"$f":"CONCATENATE(応募者名簿!C774)","v":""},{"$f":"CONCATENATE(応募者名簿!D774)","v":""}]
[{"$f":"応募者名簿!$B$8","v":0},{"$f":"CONCATENATE(応募者名簿!$B$11,応募者名簿!$D$11,応募者名簿!$E$11,応募者名簿!$I$11)","v":""},"条幅",{"$f":"CONCATENATE(応募者名簿!A775)","v":""},{"$f":"CONCATENATE(応募者名簿!B775)","v":""},{"$f":"CONCATENATE(応募者名簿!C775)","v":""},{"$f":"CONCATENATE(応募者名簿!D775)","v":""}]
[{"$f":"応募者名簿!$B$8","v":0},{"$f":"CONCATENATE(応募者名簿!$B$11,応募者名簿!$D$11,応募者名簿!$E$11,応募者名簿!$I$11)","v":""},"条幅",{"$f":"CONCATENATE(応募者名簿!A776)","v":""},{"$f":"CONCATENATE(応募者名簿!B776)","v":""},{"$f":"CONCATENATE(応募者名簿!C776)","v":""},{"$f":"CONCATENATE(応募者名簿!D776)","v":""}]
[{"$f":"応募者名簿!$B$8","v":0},{"$f":"CONCATENATE(応募者名簿!$B$11,応募者名簿!$D$11,応募者名簿!$E$11,応募者名簿!$I$11)","v":""},"条幅",{"$f":"CONCATENATE(応募者名簿!A777)","v":""},{"$f":"CONCATENATE(応募者名簿!B777)","v":""},{"$f":"CONCATENATE(応募者名簿!C777)","v":""},{"$f":"CONCATENATE(応募者名簿!D777)","v":""}]
[{"$f":"応募者名簿!$B$8","v":0},{"$f":"CONCATENATE(応募者名簿!$B$11,応募者名簿!$D$11,応募者名簿!$E$11,応募者名簿!$I$11)","v":""},"条幅",{"$f":"CONCATENATE(応募者名簿!A778)","v":""},{"$f":"CONCATENATE(応募者名簿!B778)","v":""},{"$f":"CONCATENATE(応募者名簿!C778)","v":""},{"$f":"CONCATENATE(応募者名簿!D778)","v":""}]
[{"$f":"応募者名簿!$B$8","v":0},{"$f":"CONCATENATE(応募者名簿!$B$11,応募者名簿!$D$11,応募者名簿!$E$11,応募者名簿!$I$11)","v":""},"条幅",{"$f":"CONCATENATE(応募者名簿!A779)","v":""},{"$f":"CONCATENATE(応募者名簿!B779)","v":""},{"$f":"CONCATENATE(応募者名簿!C779)","v":""},{"$f":"CONCATENATE(応募者名簿!D779)","v":""}]
[{"$f":"応募者名簿!$B$8","v":0},{"$f":"CONCATENATE(応募者名簿!$B$11,応募者名簿!$D$11,応募者名簿!$E$11,応募者名簿!$I$11)","v":""},"条幅",{"$f":"CONCATENATE(応募者名簿!A780)","v":""},{"$f":"CONCATENATE(応募者名簿!B780)","v":""},{"$f":"CONCATENATE(応募者名簿!C780)","v":""},{"$f":"CONCATENATE(応募者名簿!D780)","v":""}]
[{"$f":"応募者名簿!$B$8","v":0},{"$f":"CONCATENATE(応募者名簿!$B$11,応募者名簿!$D$11,応募者名簿!$E$11,応募者名簿!$I$11)","v":""},"条幅",{"$f":"CONCATENATE(応募者名簿!A781)","v":""},{"$f":"CONCATENATE(応募者名簿!B781)","v":""},{"$f":"CONCATENATE(応募者名簿!C781)","v":""},{"$f":"CONCATENATE(応募者名簿!D781)","v":""}]
[{"$f":"応募者名簿!$B$8","v":0},{"$f":"CONCATENATE(応募者名簿!$B$11,応募者名簿!$D$11,応募者名簿!$E$11,応募者名簿!$I$11)","v":""},"条幅",{"$f":"CONCATENATE(応募者名簿!A782)","v":""},{"$f":"CONCATENATE(応募者名簿!B782)","v":""},{"$f":"CONCATENATE(応募者名簿!C782)","v":""},{"$f":"CONCATENATE(応募者名簿!D782)","v":""}]
[{"$f":"応募者名簿!$B$8","v":0},{"$f":"CONCATENATE(応募者名簿!$B$11,応募者名簿!$D$11,応募者名簿!$E$11,応募者名簿!$I$11)","v":""},"条幅",{"$f":"CONCATENATE(応募者名簿!A783)","v":""},{"$f":"CONCATENATE(応募者名簿!B783)","v":""},{"$f":"CONCATENATE(応募者名簿!C783)","v":""},{"$f":"CONCATENATE(応募者名簿!D783)","v":""}]
[{"$f":"応募者名簿!$B$8","v":0},{"$f":"CONCATENATE(応募者名簿!$B$11,応募者名簿!$D$11,応募者名簿!$E$11,応募者名簿!$I$11)","v":""},"条幅",{"$f":"CONCATENATE(応募者名簿!A784)","v":""},{"$f":"CONCATENATE(応募者名簿!B784)","v":""},{"$f":"CONCATENATE(応募者名簿!C784)","v":""},{"$f":"CONCATENATE(応募者名簿!D784)","v":""}]
[{"$f":"応募者名簿!$B$8","v":0},{"$f":"CONCATENATE(応募者名簿!$B$11,応募者名簿!$D$11,応募者名簿!$E$11,応募者名簿!$I$11)","v":""},"条幅",{"$f":"CONCATENATE(応募者名簿!A785)","v":""},{"$f":"CONCATENATE(応募者名簿!B785)","v":""},{"$f":"CONCATENATE(応募者名簿!C785)","v":""},{"$f":"CONCATENATE(応募者名簿!D785)","v":""}]
[{"$f":"応募者名簿!$B$8","v":0},{"$f":"CONCATENATE(応募者名簿!$B$11,応募者名簿!$D$11,応募者名簿!$E$11,応募者名簿!$I$11)","v":""},"条幅",{"$f":"CONCATENATE(応募者名簿!A786)","v":""},{"$f":"CONCATENATE(応募者名簿!B786)","v":""},{"$f":"CONCATENATE(応募者名簿!C786)","v":""},{"$f":"CONCATENATE(応募者名簿!D786)","v":""}]
[{"$f":"応募者名簿!$B$8","v":0},{"$f":"CONCATENATE(応募者名簿!$B$11,応募者名簿!$D$11,応募者名簿!$E$11,応募者名簿!$I$11)","v":""},"条幅",{"$f":"CONCATENATE(応募者名簿!A787)","v":""},{"$f":"CONCATENATE(応募者名簿!B787)","v":""},{"$f":"CONCATENATE(応募者名簿!C787)","v":""},{"$f":"CONCATENATE(応募者名簿!D787)","v":""}]
[{"$f":"応募者名簿!$B$8","v":0},{"$f":"CONCATENATE(応募者名簿!$B$11,応募者名簿!$D$11,応募者名簿!$E$11,応募者名簿!$I$11)","v":""},"条幅",{"$f":"CONCATENATE(応募者名簿!A788)","v":""},{"$f":"CONCATENATE(応募者名簿!B788)","v":""},{"$f":"CONCATENATE(応募者名簿!C788)","v":""},{"$f":"CONCATENATE(応募者名簿!D788)","v":""}]
[{"$f":"応募者名簿!$B$8","v":0},{"$f":"CONCATENATE(応募者名簿!$B$11,応募者名簿!$D$11,応募者名簿!$E$11,応募者名簿!$I$11)","v":""},"条幅",{"$f":"CONCATENATE(応募者名簿!A789)","v":""},{"$f":"CONCATENATE(応募者名簿!B789)","v":""},{"$f":"CONCATENATE(応募者名簿!C789)","v":""},{"$f":"CONCATENATE(応募者名簿!D789)","v":""}]
[{"$f":"応募者名簿!$B$8","v":0},{"$f":"CONCATENATE(応募者名簿!$B$11,応募者名簿!$D$11,応募者名簿!$E$11,応募者名簿!$I$11)","v":""},"条幅",{"$f":"CONCATENATE(応募者名簿!A790)","v":""},{"$f":"CONCATENATE(応募者名簿!B790)","v":""},{"$f":"CONCATENATE(応募者名簿!C790)","v":""},{"$f":"CONCATENATE(応募者名簿!D790)","v":""}]
[{"$f":"応募者名簿!$B$8","v":0},{"$f":"CONCATENATE(応募者名簿!$B$11,応募者名簿!$D$11,応募者名簿!$E$11,応募者名簿!$I$11)","v":""},"条幅",{"$f":"CONCATENATE(応募者名簿!A791)","v":""},{"$f":"CONCATENATE(応募者名簿!B791)","v":""},{"$f":"CONCATENATE(応募者名簿!C791)","v":""},{"$f":"CONCATENATE(応募者名簿!D791)","v":""}]
[{"$f":"応募者名簿!$B$8","v":0},{"$f":"CONCATENATE(応募者名簿!$B$11,応募者名簿!$D$11,応募者名簿!$E$11,応募者名簿!$I$11)","v":""},"条幅",{"$f":"CONCATENATE(応募者名簿!A792)","v":""},{"$f":"CONCATENATE(応募者名簿!B792)","v":""},{"$f":"CONCATENATE(応募者名簿!C792)","v":""},{"$f":"CONCATENATE(応募者名簿!D792)","v":""}]
[{"$f":"応募者名簿!$B$8","v":0},{"$f":"CONCATENATE(応募者名簿!$B$11,応募者名簿!$D$11,応募者名簿!$E$11,応募者名簿!$I$11)","v":""},"条幅",{"$f":"CONCATENATE(応募者名簿!A793)","v":""},{"$f":"CONCATENATE(応募者名簿!B793)","v":""},{"$f":"CONCATENATE(応募者名簿!C793)","v":""},{"$f":"CONCATENATE(応募者名簿!D793)","v":""}]
[{"$f":"応募者名簿!$B$8","v":0},{"$f":"CONCATENATE(応募者名簿!$B$11,応募者名簿!$D$11,応募者名簿!$E$11,応募者名簿!$I$11)","v":""},"条幅",{"$f":"CONCATENATE(応募者名簿!A794)","v":""},{"$f":"CONCATENATE(応募者名簿!B794)","v":""},{"$f":"CONCATENATE(応募者名簿!C794)","v":""},{"$f":"CONCATENATE(応募者名簿!D794)","v":""}]
[{"$f":"応募者名簿!$B$8","v":0},{"$f":"CONCATENATE(応募者名簿!$B$11,応募者名簿!$D$11,応募者名簿!$E$11,応募者名簿!$I$11)","v":""},"条幅",{"$f":"CONCATENATE(応募者名簿!A795)","v":""},{"$f":"CONCATENATE(応募者名簿!B795)","v":""},{"$f":"CONCATENATE(応募者名簿!C795)","v":""},{"$f":"CONCATENATE(応募者名簿!D795)","v":""}]
[{"$f":"応募者名簿!$B$8","v":0},{"$f":"CONCATENATE(応募者名簿!$B$11,応募者名簿!$D$11,応募者名簿!$E$11,応募者名簿!$I$11)","v":""},"条幅",{"$f":"CONCATENATE(応募者名簿!A796)","v":""},{"$f":"CONCATENATE(応募者名簿!B796)","v":""},{"$f":"CONCATENATE(応募者名簿!C796)","v":""},{"$f":"CONCATENATE(応募者名簿!D796)","v":""}]
[{"$f":"応募者名簿!$B$8","v":0},{"$f":"CONCATENATE(応募者名簿!$B$11,応募者名簿!$D$11,応募者名簿!$E$11,応募者名簿!$I$11)","v":""},"条幅",{"$f":"CONCATENATE(応募者名簿!A797)","v":""},{"$f":"CONCATENATE(応募者名簿!B797)","v":""},{"$f":"CONCATENATE(応募者名簿!C797)","v":""},{"$f":"CONCATENATE(応募者名簿!D797)","v":""}]
[{"$f":"応募者名簿!$B$8","v":0},{"$f":"CONCATENATE(応募者名簿!$B$11,応募者名簿!$D$11,応募者名簿!$E$11,応募者名簿!$I$11)","v":""},"条幅",{"$f":"CONCATENATE(応募者名簿!A798)","v":""},{"$f":"CONCATENATE(応募者名簿!B798)","v":""},{"$f":"CONCATENATE(応募者名簿!C798)","v":""},{"$f":"CONCATENATE(応募者名簿!D798)","v":""}]
[{"$f":"応募者名簿!$B$8","v":0},{"$f":"CONCATENATE(応募者名簿!$B$11,応募者名簿!$D$11,応募者名簿!$E$11,応募者名簿!$I$11)","v":""},"条幅",{"$f":"CONCATENATE(応募者名簿!A799)","v":""},{"$f":"CONCATENATE(応募者名簿!B799)","v":""},{"$f":"CONCATENATE(応募者名簿!C799)","v":""},{"$f":"CONCATENATE(応募者名簿!D799)","v":""}]
[{"$f":"応募者名簿!$B$8","v":0},{"$f":"CONCATENATE(応募者名簿!$B$11,応募者名簿!$D$11,応募者名簿!$E$11,応募者名簿!$I$11)","v":""},"条幅",{"$f":"CONCATENATE(応募者名簿!A800)","v":""},{"$f":"CONCATENATE(応募者名簿!B800)","v":""},{"$f":"CONCATENATE(応募者名簿!C800)","v":""},{"$f":"CONCATENATE(応募者名簿!D800)","v":""}]
[{"$f":"応募者名簿!$B$8","v":0},{"$f":"CONCATENATE(応募者名簿!$B$11,応募者名簿!$D$11,応募者名簿!$E$11,応募者名簿!$I$11)","v":""},"条幅",{"$f":"CONCATENATE(応募者名簿!A801)","v":""},{"$f":"CONCATENATE(応募者名簿!B801)","v":""},{"$f":"CONCATENATE(応募者名簿!C801)","v":""},{"$f":"CONCATENATE(応募者名簿!D801)","v":""}]
[{"$f":"応募者名簿!$B$8","v":0},{"$f":"CONCATENATE(応募者名簿!$B$11,応募者名簿!$D$11,応募者名簿!$E$11,応募者名簿!$I$11)","v":""},"条幅",{"$f":"CONCATENATE(応募者名簿!A802)","v":""},{"$f":"CONCATENATE(応募者名簿!B802)","v":""},{"$f":"CONCATENATE(応募者名簿!C802)","v":""},{"$f":"CONCATENATE(応募者名簿!D802)","v":""}]
[{"$f":"応募者名簿!$B$8","v":0},{"$f":"CONCATENATE(応募者名簿!$B$11,応募者名簿!$D$11,応募者名簿!$E$11,応募者名簿!$I$11)","v":""},"条幅",{"$f":"CONCATENATE(応募者名簿!A803)","v":""},{"$f":"CONCATENATE(応募者名簿!B803)","v":""},{"$f":"CONCATENATE(応募者名簿!C803)","v":""},{"$f":"CONCATENATE(応募者名簿!D803)","v":""}]
[{"$f":"応募者名簿!$B$8","v":0},{"$f":"CONCATENATE(応募者名簿!$B$11,応募者名簿!$D$11,応募者名簿!$E$11,応募者名簿!$I$11)","v":""},"条幅",{"$f":"CONCATENATE(応募者名簿!A804)","v":""},{"$f":"CONCATENATE(応募者名簿!B804)","v":""},{"$f":"CONCATENATE(応募者名簿!C804)","v":""},{"$f":"CONCATENATE(応募者名簿!D804)","v":""}]
[{"$f":"応募者名簿!$B$8","v":0},{"$f":"CONCATENATE(応募者名簿!$B$11,応募者名簿!$D$11,応募者名簿!$E$11,応募者名簿!$I$11)","v":""},"条幅",{"$f":"CONCATENATE(応募者名簿!A805)","v":""},{"$f":"CONCATENATE(応募者名簿!B805)","v":""},{"$f":"CONCATENATE(応募者名簿!C805)","v":""},{"$f":"CONCATENATE(応募者名簿!D805)","v":""}]
[{"$f":"応募者名簿!$B$8","v":0},{"$f":"CONCATENATE(応募者名簿!$B$11,応募者名簿!$D$11,応募者名簿!$E$11,応募者名簿!$I$11)","v":""},"条幅",{"$f":"CONCATENATE(応募者名簿!A806)","v":""},{"$f":"CONCATENATE(応募者名簿!B806)","v":""},{"$f":"CONCATENATE(応募者名簿!C806)","v":""},{"$f":"CONCATENATE(応募者名簿!D806)","v":""}]
[{"$f":"応募者名簿!$B$8","v":0},{"$f":"CONCATENATE(応募者名簿!$B$11,応募者名簿!$D$11,応募者名簿!$E$11,応募者名簿!$I$11)","v":""},"条幅",{"$f":"CONCATENATE(応募者名簿!A807)","v":""},{"$f":"CONCATENATE(応募者名簿!B807)","v":""},{"$f":"CONCATENATE(応募者名簿!C807)","v":""},{"$f":"CONCATENATE(応募者名簿!D807)","v":""}]
[{"$f":"応募者名簿!$B$8","v":0},{"$f":"CONCATENATE(応募者名簿!$B$11,応募者名簿!$D$11,応募者名簿!$E$11,応募者名簿!$I$11)","v":""},"条幅",{"$f":"CONCATENATE(応募者名簿!A808)","v":""},{"$f":"CONCATENATE(応募者名簿!B808)","v":""},{"$f":"CONCATENATE(応募者名簿!C808)","v":""},{"$f":"CONCATENATE(応募者名簿!D808)","v":""}]
[{"$f":"応募者名簿!$B$8","v":0},{"$f":"CONCATENATE(応募者名簿!$B$11,応募者名簿!$D$11,応募者名簿!$E$11,応募者名簿!$I$11)","v":""},"条幅",{"$f":"CONCATENATE(応募者名簿!A809)","v":""},{"$f":"CONCATENATE(応募者名簿!B809)","v":""},{"$f":"CONCATENATE(応募者名簿!C809)","v":""},{"$f":"CONCATENATE(応募者名簿!D809)","v":""}]
[{"$f":"応募者名簿!$B$8","v":0},{"$f":"CONCATENATE(応募者名簿!$B$11,応募者名簿!$D$11,応募者名簿!$E$11,応募者名簿!$I$11)","v":""},"条幅",{"$f":"CONCATENATE(応募者名簿!A810)","v":""},{"$f":"CONCATENATE(応募者名簿!B810)","v":""},{"$f":"CONCATENATE(応募者名簿!C810)","v":""},{"$f":"CONCATENATE(応募者名簿!D810)","v":""}]
[{"$f":"応募者名簿!$B$8","v":0},{"$f":"CONCATENATE(応募者名簿!$B$11,応募者名簿!$D$11,応募者名簿!$E$11,応募者名簿!$I$11)","v":""},"条幅",{"$f":"CONCATENATE(応募者名簿!A811)","v":""},{"$f":"CONCATENATE(応募者名簿!B811)","v":""},{"$f":"CONCATENATE(応募者名簿!C811)","v":""},{"$f":"CONCATENATE(応募者名簿!D811)","v":""}]
[{"$f":"応募者名簿!$B$8","v":0},{"$f":"CONCATENATE(応募者名簿!$B$11,応募者名簿!$D$11,応募者名簿!$E$11,応募者名簿!$I$11)","v":""},"条幅",{"$f":"CONCATENATE(応募者名簿!A812)","v":""},{"$f":"CONCATENATE(応募者名簿!B812)","v":""},{"$f":"CONCATENATE(応募者名簿!C812)","v":""},{"$f":"CONCATENATE(応募者名簿!D812)","v":""}]
[{"$f":"応募者名簿!$B$8","v":0},{"$f":"CONCATENATE(応募者名簿!$B$11,応募者名簿!$D$11,応募者名簿!$E$11,応募者名簿!$I$11)","v":""},"条幅",{"$f":"CONCATENATE(応募者名簿!A813)","v":""},{"$f":"CONCATENATE(応募者名簿!B813)","v":""},{"$f":"CONCATENATE(応募者名簿!C813)","v":""},{"$f":"CONCATENATE(応募者名簿!D813)","v":""}]
[{"$f":"応募者名簿!$B$8","v":0},{"$f":"CONCATENATE(応募者名簿!$B$11,応募者名簿!$D$11,応募者名簿!$E$11,応募者名簿!$I$11)","v":""},"条幅",{"$f":"CONCATENATE(応募者名簿!A814)","v":""},{"$f":"CONCATENATE(応募者名簿!B814)","v":""},{"$f":"CONCATENATE(応募者名簿!C814)","v":""},{"$f":"CONCATENATE(応募者名簿!D814)","v":""}]
[{"$f":"応募者名簿!$B$8","v":0},{"$f":"CONCATENATE(応募者名簿!$B$11,応募者名簿!$D$11,応募者名簿!$E$11,応募者名簿!$I$11)","v":""},"条幅",{"$f":"CONCATENATE(応募者名簿!A815)","v":""},{"$f":"CONCATENATE(応募者名簿!B815)","v":""},{"$f":"CONCATENATE(応募者名簿!C815)","v":""},{"$f":"CONCATENATE(応募者名簿!D815)","v":""}]
[{"$f":"応募者名簿!$B$8","v":0},{"$f":"CONCATENATE(応募者名簿!$B$11,応募者名簿!$D$11,応募者名簿!$E$11,応募者名簿!$I$11)","v":""},"条幅",{"$f":"CONCATENATE(応募者名簿!A816)","v":""},{"$f":"CONCATENATE(応募者名簿!B816)","v":""},{"$f":"CONCATENATE(応募者名簿!C816)","v":""},{"$f":"CONCATENATE(応募者名簿!D816)","v":""}]
[{"$f":"応募者名簿!$B$8","v":0},{"$f":"CONCATENATE(応募者名簿!$B$11,応募者名簿!$D$11,応募者名簿!$E$11,応募者名簿!$I$11)","v":""},"条幅",{"$f":"CONCATENATE(応募者名簿!A817)","v":""},{"$f":"CONCATENATE(応募者名簿!B817)","v":""},{"$f":"CONCATENATE(応募者名簿!C817)","v":""},{"$f":"CONCATENATE(応募者名簿!D817)","v":""}]
[{"$f":"応募者名簿!$B$8","v":0},{"$f":"CONCATENATE(応募者名簿!$B$11,応募者名簿!$D$11,応募者名簿!$E$11,応募者名簿!$I$11)","v":""},"条幅",{"$f":"CONCATENATE(応募者名簿!A818)","v":""},{"$f":"CONCATENATE(応募者名簿!B818)","v":""},{"$f":"CONCATENATE(応募者名簿!C818)","v":""},{"$f":"CONCATENATE(応募者名簿!D818)","v":""}]
[{"$f":"応募者名簿!$B$8","v":0},{"$f":"CONCATENATE(応募者名簿!$B$11,応募者名簿!$D$11,応募者名簿!$E$11,応募者名簿!$I$11)","v":""},"条幅",{"$f":"CONCATENATE(応募者名簿!A819)","v":""},{"$f":"CONCATENATE(応募者名簿!B819)","v":""},{"$f":"CONCATENATE(応募者名簿!C819)","v":""},{"$f":"CONCATENATE(応募者名簿!D819)","v":""}]
[{"$f":"応募者名簿!$B$8","v":0},{"$f":"CONCATENATE(応募者名簿!$B$11,応募者名簿!$D$11,応募者名簿!$E$11,応募者名簿!$I$11)","v":""},"条幅",{"$f":"CONCATENATE(応募者名簿!A820)","v":""},{"$f":"CONCATENATE(応募者名簿!B820)","v":""},{"$f":"CONCATENATE(応募者名簿!C820)","v":""},{"$f":"CONCATENATE(応募者名簿!D820)","v":""}]
[{"$f":"応募者名簿!$B$8","v":0},{"$f":"CONCATENATE(応募者名簿!$B$11,応募者名簿!$D$11,応募者名簿!$E$11,応募者名簿!$I$11)","v":""},"条幅",{"$f":"CONCATENATE(応募者名簿!A821)","v":""},{"$f":"CONCATENATE(応募者名簿!B821)","v":""},{"$f":"CONCATENATE(応募者名簿!C821)","v":""},{"$f":"CONCATENATE(応募者名簿!D821)","v":""}]
[{"$f":"応募者名簿!$B$8","v":0},{"$f":"CONCATENATE(応募者名簿!$B$11,応募者名簿!$D$11,応募者名簿!$E$11,応募者名簿!$I$11)","v":""},"条幅",{"$f":"CONCATENATE(応募者名簿!A822)","v":""},{"$f":"CONCATENATE(応募者名簿!B822)","v":""},{"$f":"CONCATENATE(応募者名簿!C822)","v":""},{"$f":"CONCATENATE(応募者名簿!D822)","v":""}]
[{"$f":"応募者名簿!$B$8","v":0},{"$f":"CONCATENATE(応募者名簿!$B$11,応募者名簿!$D$11,応募者名簿!$E$11,応募者名簿!$I$11)","v":""},"条幅",{"$f":"CONCATENATE(応募者名簿!A823)","v":""},{"$f":"CONCATENATE(応募者名簿!B823)","v":""},{"$f":"CONCATENATE(応募者名簿!C823)","v":""},{"$f":"CONCATENATE(応募者名簿!D823)","v":""}]
[{"$f":"応募者名簿!$B$8","v":0},{"$f":"CONCATENATE(応募者名簿!$B$11,応募者名簿!$D$11,応募者名簿!$E$11,応募者名簿!$I$11)","v":""},"条幅",{"$f":"CONCATENATE(応募者名簿!A824)","v":""},{"$f":"CONCATENATE(応募者名簿!B824)","v":""},{"$f":"CONCATENATE(応募者名簿!C824)","v":""},{"$f":"CONCATENATE(応募者名簿!D824)","v":""}]
[{"$f":"応募者名簿!$B$8","v":0},{"$f":"CONCATENATE(応募者名簿!$B$11,応募者名簿!$D$11,応募者名簿!$E$11,応募者名簿!$I$11)","v":""},"条幅",{"$f":"CONCATENATE(応募者名簿!A825)","v":""},{"$f":"CONCATENATE(応募者名簿!B825)","v":""},{"$f":"CONCATENATE(応募者名簿!C825)","v":""},{"$f":"CONCATENATE(応募者名簿!D825)","v":""}]
[{"$f":"応募者名簿!$B$8","v":0},{"$f":"CONCATENATE(応募者名簿!$B$11,応募者名簿!$D$11,応募者名簿!$E$11,応募者名簿!$I$11)","v":""},"条幅",{"$f":"CONCATENATE(応募者名簿!A826)","v":""},{"$f":"CONCATENATE(応募者名簿!B826)","v":""},{"$f":"CONCATENATE(応募者名簿!C826)","v":""},{"$f":"CONCATENATE(応募者名簿!D826)","v":""}]
[{"$f":"応募者名簿!$B$8","v":0},{"$f":"CONCATENATE(応募者名簿!$B$11,応募者名簿!$D$11,応募者名簿!$E$11,応募者名簿!$I$11)","v":""},"条幅",{"$f":"CONCATENATE(応募者名簿!A827)","v":""},{"$f":"CONCATENATE(応募者名簿!B827)","v":""},{"$f":"CONCATENATE(応募者名簿!C827)","v":""},{"$f":"CONCATENATE(応募者名簿!D827)","v":""}]
[{"$f":"応募者名簿!$B$8","v":0},{"$f":"CONCATENATE(応募者名簿!$B$11,応募者名簿!$D$11,応募者名簿!$E$11,応募者名簿!$I$11)","v":""},"条幅",{"$f":"CONCATENATE(応募者名簿!A828)","v":""},{"$f":"CONCATENATE(応募者名簿!B828)","v":""},{"$f":"CONCATENATE(応募者名簿!C828)","v":""},{"$f":"CONCATENATE(応募者名簿!D828)","v":""}]
[{"$f":"応募者名簿!$B$8","v":0},{"$f":"CONCATENATE(応募者名簿!$B$11,応募者名簿!$D$11,応募者名簿!$E$11,応募者名簿!$I$11)","v":""},"条幅",{"$f":"CONCATENATE(応募者名簿!A829)","v":""},{"$f":"CONCATENATE(応募者名簿!B829)","v":""},{"$f":"CONCATENATE(応募者名簿!C829)","v":""},{"$f":"CONCATENATE(応募者名簿!D829)","v":""}]
[{"$f":"応募者名簿!$B$8","v":0},{"$f":"CONCATENATE(応募者名簿!$B$11,応募者名簿!$D$11,応募者名簿!$E$11,応募者名簿!$I$11)","v":""},"条幅",{"$f":"CONCATENATE(応募者名簿!A830)","v":""},{"$f":"CONCATENATE(応募者名簿!B830)","v":""},{"$f":"CONCATENATE(応募者名簿!C830)","v":""},{"$f":"CONCATENATE(応募者名簿!D830)","v":""}]
[{"$f":"応募者名簿!$B$8","v":0},{"$f":"CONCATENATE(応募者名簿!$B$11,応募者名簿!$D$11,応募者名簿!$E$11,応募者名簿!$I$11)","v":""},"条幅",{"$f":"CONCATENATE(応募者名簿!A831)","v":""},{"$f":"CONCATENATE(応募者名簿!B831)","v":""},{"$f":"CONCATENATE(応募者名簿!C831)","v":""},{"$f":"CONCATENATE(応募者名簿!D831)","v":""}]
[{"$f":"応募者名簿!$B$8","v":0},{"$f":"CONCATENATE(応募者名簿!$B$11,応募者名簿!$D$11,応募者名簿!$E$11,応募者名簿!$I$11)","v":""},"条幅",{"$f":"CONCATENATE(応募者名簿!A832)","v":""},{"$f":"CONCATENATE(応募者名簿!B832)","v":""},{"$f":"CONCATENATE(応募者名簿!C832)","v":""},{"$f":"CONCATENATE(応募者名簿!D832)","v":""}]
[{"$f":"応募者名簿!$B$8","v":0},{"$f":"CONCATENATE(応募者名簿!$B$11,応募者名簿!$D$11,応募者名簿!$E$11,応募者名簿!$I$11)","v":""},"条幅",{"$f":"CONCATENATE(応募者名簿!A833)","v":""},{"$f":"CONCATENATE(応募者名簿!B833)","v":""},{"$f":"CONCATENATE(応募者名簿!C833)","v":""},{"$f":"CONCATENATE(応募者名簿!D833)","v":""}]
[{"$f":"応募者名簿!$B$8","v":0},{"$f":"CONCATENATE(応募者名簿!$B$11,応募者名簿!$D$11,応募者名簿!$E$11,応募者名簿!$I$11)","v":""},"条幅",{"$f":"CONCATENATE(応募者名簿!A834)","v":""},{"$f":"CONCATENATE(応募者名簿!B834)","v":""},{"$f":"CONCATENATE(応募者名簿!C834)","v":""},{"$f":"CONCATENATE(応募者名簿!D834)","v":""}]
[{"$f":"応募者名簿!$B$8","v":0},{"$f":"CONCATENATE(応募者名簿!$B$11,応募者名簿!$D$11,応募者名簿!$E$11,応募者名簿!$I$11)","v":""},"条幅",{"$f":"CONCATENATE(応募者名簿!A835)","v":""},{"$f":"CONCATENATE(応募者名簿!B835)","v":""},{"$f":"CONCATENATE(応募者名簿!C835)","v":""},{"$f":"CONCATENATE(応募者名簿!D835)","v":""}]
[{"$f":"応募者名簿!$B$8","v":0},{"$f":"CONCATENATE(応募者名簿!$B$11,応募者名簿!$D$11,応募者名簿!$E$11,応募者名簿!$I$11)","v":""},"条幅",{"$f":"CONCATENATE(応募者名簿!A836)","v":""},{"$f":"CONCATENATE(応募者名簿!B836)","v":""},{"$f":"CONCATENATE(応募者名簿!C836)","v":""},{"$f":"CONCATENATE(応募者名簿!D836)","v":""}]
[{"$f":"応募者名簿!$B$8","v":0},{"$f":"CONCATENATE(応募者名簿!$B$11,応募者名簿!$D$11,応募者名簿!$E$11,応募者名簿!$I$11)","v":""},"条幅",{"$f":"CONCATENATE(応募者名簿!A837)","v":""},{"$f":"CONCATENATE(応募者名簿!B837)","v":""},{"$f":"CONCATENATE(応募者名簿!C837)","v":""},{"$f":"CONCATENATE(応募者名簿!D837)","v":""}]
[{"$f":"応募者名簿!$B$8","v":0},{"$f":"CONCATENATE(応募者名簿!$B$11,応募者名簿!$D$11,応募者名簿!$E$11,応募者名簿!$I$11)","v":""},"条幅",{"$f":"CONCATENATE(応募者名簿!A838)","v":""},{"$f":"CONCATENATE(応募者名簿!B838)","v":""},{"$f":"CONCATENATE(応募者名簿!C838)","v":""},{"$f":"CONCATENATE(応募者名簿!D838)","v":""}]
[{"$f":"応募者名簿!$B$8","v":0},{"$f":"CONCATENATE(応募者名簿!$B$11,応募者名簿!$D$11,応募者名簿!$E$11,応募者名簿!$I$11)","v":""},"条幅",{"$f":"CONCATENATE(応募者名簿!A839)","v":""},{"$f":"CONCATENATE(応募者名簿!B839)","v":""},{"$f":"CONCATENATE(応募者名簿!C839)","v":""},{"$f":"CONCATENATE(応募者名簿!D839)","v":""}]
[{"$f":"応募者名簿!$B$8","v":0},{"$f":"CONCATENATE(応募者名簿!$B$11,応募者名簿!$D$11,応募者名簿!$E$11,応募者名簿!$I$11)","v":""},"条幅",{"$f":"CONCATENATE(応募者名簿!A840)","v":""},{"$f":"CONCATENATE(応募者名簿!B840)","v":""},{"$f":"CONCATENATE(応募者名簿!C840)","v":""},{"$f":"CONCATENATE(応募者名簿!D840)","v":""}]
[{"$f":"応募者名簿!$B$8","v":0},{"$f":"CONCATENATE(応募者名簿!$B$11,応募者名簿!$D$11,応募者名簿!$E$11,応募者名簿!$I$11)","v":""},"条幅",{"$f":"CONCATENATE(応募者名簿!A841)","v":""},{"$f":"CONCATENATE(応募者名簿!B841)","v":""},{"$f":"CONCATENATE(応募者名簿!C841)","v":""},{"$f":"CONCATENATE(応募者名簿!D841)","v":""}]
[{"$f":"応募者名簿!$B$8","v":0},{"$f":"CONCATENATE(応募者名簿!$B$11,応募者名簿!$D$11,応募者名簿!$E$11,応募者名簿!$I$11)","v":""},"条幅",{"$f":"CONCATENATE(応募者名簿!A842)","v":""},{"$f":"CONCATENATE(応募者名簿!B842)","v":""},{"$f":"CONCATENATE(応募者名簿!C842)","v":""},{"$f":"CONCATENATE(応募者名簿!D842)","v":""}]
[{"$f":"応募者名簿!$B$8","v":0},{"$f":"CONCATENATE(応募者名簿!$B$11,応募者名簿!$D$11,応募者名簿!$E$11,応募者名簿!$I$11)","v":""},"条幅",{"$f":"CONCATENATE(応募者名簿!A843)","v":""},{"$f":"CONCATENATE(応募者名簿!B843)","v":""},{"$f":"CONCATENATE(応募者名簿!C843)","v":""},{"$f":"CONCATENATE(応募者名簿!D843)","v":""}]
[{"$f":"応募者名簿!$B$8","v":0},{"$f":"CONCATENATE(応募者名簿!$B$11,応募者名簿!$D$11,応募者名簿!$E$11,応募者名簿!$I$11)","v":""},"条幅",{"$f":"CONCATENATE(応募者名簿!A844)","v":""},{"$f":"CONCATENATE(応募者名簿!B844)","v":""},{"$f":"CONCATENATE(応募者名簿!C844)","v":""},{"$f":"CONCATENATE(応募者名簿!D844)","v":""}]
[{"$f":"応募者名簿!$B$8","v":0},{"$f":"CONCATENATE(応募者名簿!$B$11,応募者名簿!$D$11,応募者名簿!$E$11,応募者名簿!$I$11)","v":""},"条幅",{"$f":"CONCATENATE(応募者名簿!A845)","v":""},{"$f":"CONCATENATE(応募者名簿!B845)","v":""},{"$f":"CONCATENATE(応募者名簿!C845)","v":""},{"$f":"CONCATENATE(応募者名簿!D845)","v":""}]
[{"$f":"応募者名簿!$B$8","v":0},{"$f":"CONCATENATE(応募者名簿!$B$11,応募者名簿!$D$11,応募者名簿!$E$11,応募者名簿!$I$11)","v":""},"条幅",{"$f":"CONCATENATE(応募者名簿!A846)","v":""},{"$f":"CONCATENATE(応募者名簿!B846)","v":""},{"$f":"CONCATENATE(応募者名簿!C846)","v":""},{"$f":"CONCATENATE(応募者名簿!D846)","v":""}]
[{"$f":"応募者名簿!$B$8","v":0},{"$f":"CONCATENATE(応募者名簿!$B$11,応募者名簿!$D$11,応募者名簿!$E$11,応募者名簿!$I$11)","v":""},"条幅",{"$f":"CONCATENATE(応募者名簿!A847)","v":""},{"$f":"CONCATENATE(応募者名簿!B847)","v":""},{"$f":"CONCATENATE(応募者名簿!C847)","v":""},{"$f":"CONCATENATE(応募者名簿!D847)","v":""}]
[{"$f":"応募者名簿!$B$8","v":0},{"$f":"CONCATENATE(応募者名簿!$B$11,応募者名簿!$D$11,応募者名簿!$E$11,応募者名簿!$I$11)","v":""},"条幅",{"$f":"CONCATENATE(応募者名簿!A848)","v":""},{"$f":"CONCATENATE(応募者名簿!B848)","v":""},{"$f":"CONCATENATE(応募者名簿!C848)","v":""},{"$f":"CONCATENATE(応募者名簿!D848)","v":""}]
[{"$f":"応募者名簿!$B$8","v":0},{"$f":"CONCATENATE(応募者名簿!$B$11,応募者名簿!$D$11,応募者名簿!$E$11,応募者名簿!$I$11)","v":""},"条幅",{"$f":"CONCATENATE(応募者名簿!A849)","v":""},{"$f":"CONCATENATE(応募者名簿!B849)","v":""},{"$f":"CONCATENATE(応募者名簿!C849)","v":""},{"$f":"CONCATENATE(応募者名簿!D849)","v":""}]
[{"$f":"応募者名簿!$B$8","v":0},{"$f":"CONCATENATE(応募者名簿!$B$11,応募者名簿!$D$11,応募者名簿!$E$11,応募者名簿!$I$11)","v":""},"条幅",{"$f":"CONCATENATE(応募者名簿!A850)","v":""},{"$f":"CONCATENATE(応募者名簿!B850)","v":""},{"$f":"CONCATENATE(応募者名簿!C850)","v":""},{"$f":"CONCATENATE(応募者名簿!D850)","v":""}]
[{"$f":"応募者名簿!$B$8","v":0},{"$f":"CONCATENATE(応募者名簿!$B$11,応募者名簿!$D$11,応募者名簿!$E$11,応募者名簿!$I$11)","v":""},"条幅",{"$f":"CONCATENATE(応募者名簿!A851)","v":""},{"$f":"CONCATENATE(応募者名簿!B851)","v":""},{"$f":"CONCATENATE(応募者名簿!C851)","v":""},{"$f":"CONCATENATE(応募者名簿!D851)","v":""}]
[{"$f":"応募者名簿!$B$8","v":0},{"$f":"CONCATENATE(応募者名簿!$B$11,応募者名簿!$D$11,応募者名簿!$E$11,応募者名簿!$I$11)","v":""},"条幅",{"$f":"CONCATENATE(応募者名簿!A852)","v":""},{"$f":"CONCATENATE(応募者名簿!B852)","v":""},{"$f":"CONCATENATE(応募者名簿!C852)","v":""},{"$f":"CONCATENATE(応募者名簿!D852)","v":""}]
[{"$f":"応募者名簿!$B$8","v":0},{"$f":"CONCATENATE(応募者名簿!$B$11,応募者名簿!$D$11,応募者名簿!$E$11,応募者名簿!$I$11)","v":""},"条幅",{"$f":"CONCATENATE(応募者名簿!A853)","v":""},{"$f":"CONCATENATE(応募者名簿!B853)","v":""},{"$f":"CONCATENATE(応募者名簿!C853)","v":""},{"$f":"CONCATENATE(応募者名簿!D853)","v":""}]
[{"$f":"応募者名簿!$B$8","v":0},{"$f":"CONCATENATE(応募者名簿!$B$11,応募者名簿!$D$11,応募者名簿!$E$11,応募者名簿!$I$11)","v":""},"条幅",{"$f":"CONCATENATE(応募者名簿!A854)","v":""},{"$f":"CONCATENATE(応募者名簿!B854)","v":""},{"$f":"CONCATENATE(応募者名簿!C854)","v":""},{"$f":"CONCATENATE(応募者名簿!D854)","v":""}]
[{"$f":"応募者名簿!$B$8","v":0},{"$f":"CONCATENATE(応募者名簿!$B$11,応募者名簿!$D$11,応募者名簿!$E$11,応募者名簿!$I$11)","v":""},"条幅",{"$f":"CONCATENATE(応募者名簿!A855)","v":""},{"$f":"CONCATENATE(応募者名簿!B855)","v":""},{"$f":"CONCATENATE(応募者名簿!C855)","v":""},{"$f":"CONCATENATE(応募者名簿!D855)","v":""}]
[{"$f":"応募者名簿!$B$8","v":0},{"$f":"CONCATENATE(応募者名簿!$B$11,応募者名簿!$D$11,応募者名簿!$E$11,応募者名簿!$I$11)","v":""},"条幅",{"$f":"CONCATENATE(応募者名簿!A856)","v":""},{"$f":"CONCATENATE(応募者名簿!B856)","v":""},{"$f":"CONCATENATE(応募者名簿!C856)","v":""},{"$f":"CONCATENATE(応募者名簿!D856)","v":""}]
[{"$f":"応募者名簿!$B$8","v":0},{"$f":"CONCATENATE(応募者名簿!$B$11,応募者名簿!$D$11,応募者名簿!$E$11,応募者名簿!$I$11)","v":""},"条幅",{"$f":"CONCATENATE(応募者名簿!A857)","v":""},{"$f":"CONCATENATE(応募者名簿!B857)","v":""},{"$f":"CONCATENATE(応募者名簿!C857)","v":""},{"$f":"CONCATENATE(応募者名簿!D857)","v":""}]
[{"$f":"応募者名簿!$B$8","v":0},{"$f":"CONCATENATE(応募者名簿!$B$11,応募者名簿!$D$11,応募者名簿!$E$11,応募者名簿!$I$11)","v":""},"条幅",{"$f":"CONCATENATE(応募者名簿!A858)","v":""},{"$f":"CONCATENATE(応募者名簿!B858)","v":""},{"$f":"CONCATENATE(応募者名簿!C858)","v":""},{"$f":"CONCATENATE(応募者名簿!D858)","v":""}]
[{"$f":"応募者名簿!$B$8","v":0},{"$f":"CONCATENATE(応募者名簿!$B$11,応募者名簿!$D$11,応募者名簿!$E$11,応募者名簿!$I$11)","v":""},"条幅",{"$f":"CONCATENATE(応募者名簿!A859)","v":""},{"$f":"CONCATENATE(応募者名簿!B859)","v":""},{"$f":"CONCATENATE(応募者名簿!C859)","v":""},{"$f":"CONCATENATE(応募者名簿!D859)","v":""}]
[{"$f":"応募者名簿!$B$8","v":0},{"$f":"CONCATENATE(応募者名簿!$B$11,応募者名簿!$D$11,応募者名簿!$E$11,応募者名簿!$I$11)","v":""},"条幅",{"$f":"CONCATENATE(応募者名簿!A860)","v":""},{"$f":"CONCATENATE(応募者名簿!B860)","v":""},{"$f":"CONCATENATE(応募者名簿!C860)","v":""},{"$f":"CONCATENATE(応募者名簿!D860)","v":""}]
[{"$f":"応募者名簿!$B$8","v":0},{"$f":"CONCATENATE(応募者名簿!$B$11,応募者名簿!$D$11,応募者名簿!$E$11,応募者名簿!$I$11)","v":""},"条幅",{"$f":"CONCATENATE(応募者名簿!A861)","v":""},{"$f":"CONCATENATE(応募者名簿!B861)","v":""},{"$f":"CONCATENATE(応募者名簿!C861)","v":""},{"$f":"CONCATENATE(応募者名簿!D861)","v":""}]
[{"$f":"応募者名簿!$B$8","v":0},{"$f":"CONCATENATE(応募者名簿!$B$11,応募者名簿!$D$11,応募者名簿!$E$11,応募者名簿!$I$11)","v":""},"条幅",{"$f":"CONCATENATE(応募者名簿!A862)","v":""},{"$f":"CONCATENATE(応募者名簿!B862)","v":""},{"$f":"CONCATENATE(応募者名簿!C862)","v":""},{"$f":"CONCATENATE(応募者名簿!D862)","v":""}]
[{"$f":"応募者名簿!$B$8","v":0},{"$f":"CONCATENATE(応募者名簿!$B$11,応募者名簿!$D$11,応募者名簿!$E$11,応募者名簿!$I$11)","v":""},"条幅",{"$f":"CONCATENATE(応募者名簿!A863)","v":""},{"$f":"CONCATENATE(応募者名簿!B863)","v":""},{"$f":"CONCATENATE(応募者名簿!C863)","v":""},{"$f":"CONCATENATE(応募者名簿!D863)","v":""}]
[{"$f":"応募者名簿!$B$8","v":0},{"$f":"CONCATENATE(応募者名簿!$B$11,応募者名簿!$D$11,応募者名簿!$E$11,応募者名簿!$I$11)","v":""},"条幅",{"$f":"CONCATENATE(応募者名簿!A864)","v":""},{"$f":"CONCATENATE(応募者名簿!B864)","v":""},{"$f":"CONCATENATE(応募者名簿!C864)","v":""},{"$f":"CONCATENATE(応募者名簿!D864)","v":""}]
[{"$f":"応募者名簿!$B$8","v":0},{"$f":"CONCATENATE(応募者名簿!$B$11,応募者名簿!$D$11,応募者名簿!$E$11,応募者名簿!$I$11)","v":""},"条幅",{"$f":"CONCATENATE(応募者名簿!A865)","v":""},{"$f":"CONCATENATE(応募者名簿!B865)","v":""},{"$f":"CONCATENATE(応募者名簿!C865)","v":""},{"$f":"CONCATENATE(応募者名簿!D865)","v":""}]
[{"$f":"応募者名簿!$B$8","v":0},{"$f":"CONCATENATE(応募者名簿!$B$11,応募者名簿!$D$11,応募者名簿!$E$11,応募者名簿!$I$11)","v":""},"条幅",{"$f":"CONCATENATE(応募者名簿!A866)","v":""},{"$f":"CONCATENATE(応募者名簿!B866)","v":""},{"$f":"CONCATENATE(応募者名簿!C866)","v":""},{"$f":"CONCATENATE(応募者名簿!D866)","v":""}]
[{"$f":"応募者名簿!$B$8","v":0},{"$f":"CONCATENATE(応募者名簿!$B$11,応募者名簿!$D$11,応募者名簿!$E$11,応募者名簿!$I$11)","v":""},"条幅",{"$f":"CONCATENATE(応募者名簿!A867)","v":""},{"$f":"CONCATENATE(応募者名簿!B867)","v":""},{"$f":"CONCATENATE(応募者名簿!C867)","v":""},{"$f":"CONCATENATE(応募者名簿!D867)","v":""}]
[{"$f":"応募者名簿!$B$8","v":0},{"$f":"CONCATENATE(応募者名簿!$B$11,応募者名簿!$D$11,応募者名簿!$E$11,応募者名簿!$I$11)","v":""},"条幅",{"$f":"CONCATENATE(応募者名簿!A868)","v":""},{"$f":"CONCATENATE(応募者名簿!B868)","v":""},{"$f":"CONCATENATE(応募者名簿!C868)","v":""},{"$f":"CONCATENATE(応募者名簿!D868)","v":""}]
[{"$f":"応募者名簿!$B$8","v":0},{"$f":"CONCATENATE(応募者名簿!$B$11,応募者名簿!$D$11,応募者名簿!$E$11,応募者名簿!$I$11)","v":""},"条幅",{"$f":"CONCATENATE(応募者名簿!A869)","v":""},{"$f":"CONCATENATE(応募者名簿!B869)","v":""},{"$f":"CONCATENATE(応募者名簿!C869)","v":""},{"$f":"CONCATENATE(応募者名簿!D869)","v":""}]
[{"$f":"応募者名簿!$B$8","v":0},{"$f":"CONCATENATE(応募者名簿!$B$11,応募者名簿!$D$11,応募者名簿!$E$11,応募者名簿!$I$11)","v":""},"条幅",{"$f":"CONCATENATE(応募者名簿!A870)","v":""},{"$f":"CONCATENATE(応募者名簿!B870)","v":""},{"$f":"CONCATENATE(応募者名簿!C870)","v":""},{"$f":"CONCATENATE(応募者名簿!D870)","v":""}]
[{"$f":"応募者名簿!$B$8","v":0},{"$f":"CONCATENATE(応募者名簿!$B$11,応募者名簿!$D$11,応募者名簿!$E$11,応募者名簿!$I$11)","v":""},"条幅",{"$f":"CONCATENATE(応募者名簿!A871)","v":""},{"$f":"CONCATENATE(応募者名簿!B871)","v":""},{"$f":"CONCATENATE(応募者名簿!C871)","v":""},{"$f":"CONCATENATE(応募者名簿!D871)","v":""}]
[{"$f":"応募者名簿!$B$8","v":0},{"$f":"CONCATENATE(応募者名簿!$B$11,応募者名簿!$D$11,応募者名簿!$E$11,応募者名簿!$I$11)","v":""},"条幅",{"$f":"CONCATENATE(応募者名簿!A872)","v":""},{"$f":"CONCATENATE(応募者名簿!B872)","v":""},{"$f":"CONCATENATE(応募者名簿!C872)","v":""},{"$f":"CONCATENATE(応募者名簿!D872)","v":""}]
[{"$f":"応募者名簿!$B$8","v":0},{"$f":"CONCATENATE(応募者名簿!$B$11,応募者名簿!$D$11,応募者名簿!$E$11,応募者名簿!$I$11)","v":""},"条幅",{"$f":"CONCATENATE(応募者名簿!A873)","v":""},{"$f":"CONCATENATE(応募者名簿!B873)","v":""},{"$f":"CONCATENATE(応募者名簿!C873)","v":""},{"$f":"CONCATENATE(応募者名簿!D873)","v":""}]
[{"$f":"応募者名簿!$B$8","v":0},{"$f":"CONCATENATE(応募者名簿!$B$11,応募者名簿!$D$11,応募者名簿!$E$11,応募者名簿!$I$11)","v":""},"条幅",{"$f":"CONCATENATE(応募者名簿!A874)","v":""},{"$f":"CONCATENATE(応募者名簿!B874)","v":""},{"$f":"CONCATENATE(応募者名簿!C874)","v":""},{"$f":"CONCATENATE(応募者名簿!D874)","v":""}]
[{"$f":"応募者名簿!$B$8","v":0},{"$f":"CONCATENATE(応募者名簿!$B$11,応募者名簿!$D$11,応募者名簿!$E$11,応募者名簿!$I$11)","v":""},"条幅",{"$f":"CONCATENATE(応募者名簿!A875)","v":""},{"$f":"CONCATENATE(応募者名簿!B875)","v":""},{"$f":"CONCATENATE(応募者名簿!C875)","v":""},{"$f":"CONCATENATE(応募者名簿!D875)","v":""}]
[{"$f":"応募者名簿!$B$8","v":0},{"$f":"CONCATENATE(応募者名簿!$B$11,応募者名簿!$D$11,応募者名簿!$E$11,応募者名簿!$I$11)","v":""},"条幅",{"$f":"CONCATENATE(応募者名簿!A876)","v":""},{"$f":"CONCATENATE(応募者名簿!B876)","v":""},{"$f":"CONCATENATE(応募者名簿!C876)","v":""},{"$f":"CONCATENATE(応募者名簿!D876)","v":""}]
[{"$f":"応募者名簿!$B$8","v":0},{"$f":"CONCATENATE(応募者名簿!$B$11,応募者名簿!$D$11,応募者名簿!$E$11,応募者名簿!$I$11)","v":""},"条幅",{"$f":"CONCATENATE(応募者名簿!A877)","v":""},{"$f":"CONCATENATE(応募者名簿!B877)","v":""},{"$f":"CONCATENATE(応募者名簿!C877)","v":""},{"$f":"CONCATENATE(応募者名簿!D877)","v":""}]
[{"$f":"応募者名簿!$B$8","v":0},{"$f":"CONCATENATE(応募者名簿!$B$11,応募者名簿!$D$11,応募者名簿!$E$11,応募者名簿!$I$11)","v":""},"条幅",{"$f":"CONCATENATE(応募者名簿!A878)","v":""},{"$f":"CONCATENATE(応募者名簿!B878)","v":""},{"$f":"CONCATENATE(応募者名簿!C878)","v":""},{"$f":"CONCATENATE(応募者名簿!D878)","v":""}]
[{"$f":"応募者名簿!$B$8","v":0},{"$f":"CONCATENATE(応募者名簿!$B$11,応募者名簿!$D$11,応募者名簿!$E$11,応募者名簿!$I$11)","v":""},"条幅",{"$f":"CONCATENATE(応募者名簿!A879)","v":""},{"$f":"CONCATENATE(応募者名簿!B879)","v":""},{"$f":"CONCATENATE(応募者名簿!C879)","v":""},{"$f":"CONCATENATE(応募者名簿!D879)","v":""}]
[{"$f":"応募者名簿!$B$8","v":0},{"$f":"CONCATENATE(応募者名簿!$B$11,応募者名簿!$D$11,応募者名簿!$E$11,応募者名簿!$I$11)","v":""},"条幅",{"$f":"CONCATENATE(応募者名簿!A880)","v":""},{"$f":"CONCATENATE(応募者名簿!B880)","v":""},{"$f":"CONCATENATE(応募者名簿!C880)","v":""},{"$f":"CONCATENATE(応募者名簿!D880)","v":""}]
[{"$f":"応募者名簿!$B$8","v":0},{"$f":"CONCATENATE(応募者名簿!$B$11,応募者名簿!$D$11,応募者名簿!$E$11,応募者名簿!$I$11)","v":""},"条幅",{"$f":"CONCATENATE(応募者名簿!A881)","v":""},{"$f":"CONCATENATE(応募者名簿!B881)","v":""},{"$f":"CONCATENATE(応募者名簿!C881)","v":""},{"$f":"CONCATENATE(応募者名簿!D881)","v":""}]
[{"$f":"応募者名簿!$B$8","v":0},{"$f":"CONCATENATE(応募者名簿!$B$11,応募者名簿!$D$11,応募者名簿!$E$11,応募者名簿!$I$11)","v":""},"条幅",{"$f":"CONCATENATE(応募者名簿!A882)","v":""},{"$f":"CONCATENATE(応募者名簿!B882)","v":""},{"$f":"CONCATENATE(応募者名簿!C882)","v":""},{"$f":"CONCATENATE(応募者名簿!D882)","v":""}]
[{"$f":"応募者名簿!$B$8","v":0},{"$f":"CONCATENATE(応募者名簿!$B$11,応募者名簿!$D$11,応募者名簿!$E$11,応募者名簿!$I$11)","v":""},"条幅",{"$f":"CONCATENATE(応募者名簿!A883)","v":""},{"$f":"CONCATENATE(応募者名簿!B883)","v":""},{"$f":"CONCATENATE(応募者名簿!C883)","v":""},{"$f":"CONCATENATE(応募者名簿!D883)","v":""}]
[{"$f":"応募者名簿!$B$8","v":0},{"$f":"CONCATENATE(応募者名簿!$B$11,応募者名簿!$D$11,応募者名簿!$E$11,応募者名簿!$I$11)","v":""},"条幅",{"$f":"CONCATENATE(応募者名簿!A884)","v":""},{"$f":"CONCATENATE(応募者名簿!B884)","v":""},{"$f":"CONCATENATE(応募者名簿!C884)","v":""},{"$f":"CONCATENATE(応募者名簿!D884)","v":""}]
[{"$f":"応募者名簿!$B$8","v":0},{"$f":"CONCATENATE(応募者名簿!$B$11,応募者名簿!$D$11,応募者名簿!$E$11,応募者名簿!$I$11)","v":""},"条幅",{"$f":"CONCATENATE(応募者名簿!A885)","v":""},{"$f":"CONCATENATE(応募者名簿!B885)","v":""},{"$f":"CONCATENATE(応募者名簿!C885)","v":""},{"$f":"CONCATENATE(応募者名簿!D885)","v":""}]
[{"$f":"応募者名簿!$B$8","v":0},{"$f":"CONCATENATE(応募者名簿!$B$11,応募者名簿!$D$11,応募者名簿!$E$11,応募者名簿!$I$11)","v":""},"条幅",{"$f":"CONCATENATE(応募者名簿!A886)","v":""},{"$f":"CONCATENATE(応募者名簿!B886)","v":""},{"$f":"CONCATENATE(応募者名簿!C886)","v":""},{"$f":"CONCATENATE(応募者名簿!D886)","v":""}]
[{"$f":"応募者名簿!$B$8","v":0},{"$f":"CONCATENATE(応募者名簿!$B$11,応募者名簿!$D$11,応募者名簿!$E$11,応募者名簿!$I$11)","v":""},"条幅",{"$f":"CONCATENATE(応募者名簿!A887)","v":""},{"$f":"CONCATENATE(応募者名簿!B887)","v":""},{"$f":"CONCATENATE(応募者名簿!C887)","v":""},{"$f":"CONCATENATE(応募者名簿!D887)","v":""}]
[{"$f":"応募者名簿!$B$8","v":0},{"$f":"CONCATENATE(応募者名簿!$B$11,応募者名簿!$D$11,応募者名簿!$E$11,応募者名簿!$I$11)","v":""},"条幅",{"$f":"CONCATENATE(応募者名簿!A888)","v":""},{"$f":"CONCATENATE(応募者名簿!B888)","v":""},{"$f":"CONCATENATE(応募者名簿!C888)","v":""},{"$f":"CONCATENATE(応募者名簿!D888)","v":""}]
[{"$f":"応募者名簿!$B$8","v":0},{"$f":"CONCATENATE(応募者名簿!$B$11,応募者名簿!$D$11,応募者名簿!$E$11,応募者名簿!$I$11)","v":""},"条幅",{"$f":"CONCATENATE(応募者名簿!A889)","v":""},{"$f":"CONCATENATE(応募者名簿!B889)","v":""},{"$f":"CONCATENATE(応募者名簿!C889)","v":""},{"$f":"CONCATENATE(応募者名簿!D889)","v":""}]
[{"$f":"応募者名簿!$B$8","v":0},{"$f":"CONCATENATE(応募者名簿!$B$11,応募者名簿!$D$11,応募者名簿!$E$11,応募者名簿!$I$11)","v":""},"条幅",{"$f":"CONCATENATE(応募者名簿!A890)","v":""},{"$f":"CONCATENATE(応募者名簿!B890)","v":""},{"$f":"CONCATENATE(応募者名簿!C890)","v":""},{"$f":"CONCATENATE(応募者名簿!D890)","v":""}]
[{"$f":"応募者名簿!$B$8","v":0},{"$f":"CONCATENATE(応募者名簿!$B$11,応募者名簿!$D$11,応募者名簿!$E$11,応募者名簿!$I$11)","v":""},"条幅",{"$f":"CONCATENATE(応募者名簿!A891)","v":""},{"$f":"CONCATENATE(応募者名簿!B891)","v":""},{"$f":"CONCATENATE(応募者名簿!C891)","v":""},{"$f":"CONCATENATE(応募者名簿!D891)","v":""}]
[{"$f":"応募者名簿!$B$8","v":0},{"$f":"CONCATENATE(応募者名簿!$B$11,応募者名簿!$D$11,応募者名簿!$E$11,応募者名簿!$I$11)","v":""},"条幅",{"$f":"CONCATENATE(応募者名簿!A892)","v":""},{"$f":"CONCATENATE(応募者名簿!B892)","v":""},{"$f":"CONCATENATE(応募者名簿!C892)","v":""},{"$f":"CONCATENATE(応募者名簿!D892)","v":""}]
[{"$f":"応募者名簿!$B$8","v":0},{"$f":"CONCATENATE(応募者名簿!$B$11,応募者名簿!$D$11,応募者名簿!$E$11,応募者名簿!$I$11)","v":""},"条幅",{"$f":"CONCATENATE(応募者名簿!A893)","v":""},{"$f":"CONCATENATE(応募者名簿!B893)","v":""},{"$f":"CONCATENATE(応募者名簿!C893)","v":""},{"$f":"CONCATENATE(応募者名簿!D893)","v":""}]
[{"$f":"応募者名簿!$B$8","v":0},{"$f":"CONCATENATE(応募者名簿!$B$11,応募者名簿!$D$11,応募者名簿!$E$11,応募者名簿!$I$11)","v":""},"条幅",{"$f":"CONCATENATE(応募者名簿!A894)","v":""},{"$f":"CONCATENATE(応募者名簿!B894)","v":""},{"$f":"CONCATENATE(応募者名簿!C894)","v":""},{"$f":"CONCATENATE(応募者名簿!D894)","v":""}]
[{"$f":"応募者名簿!$B$8","v":0},{"$f":"CONCATENATE(応募者名簿!$B$11,応募者名簿!$D$11,応募者名簿!$E$11,応募者名簿!$I$11)","v":""},"条幅",{"$f":"CONCATENATE(応募者名簿!A895)","v":""},{"$f":"CONCATENATE(応募者名簿!B895)","v":""},{"$f":"CONCATENATE(応募者名簿!C895)","v":""},{"$f":"CONCATENATE(応募者名簿!D895)","v":""}]
[{"$f":"応募者名簿!$B$8","v":0},{"$f":"CONCATENATE(応募者名簿!$B$11,応募者名簿!$D$11,応募者名簿!$E$11,応募者名簿!$I$11)","v":""},"条幅",{"$f":"CONCATENATE(応募者名簿!A896)","v":""},{"$f":"CONCATENATE(応募者名簿!B896)","v":""},{"$f":"CONCATENATE(応募者名簿!C896)","v":""},{"$f":"CONCATENATE(応募者名簿!D896)","v":""}]
[{"$f":"応募者名簿!$B$8","v":0},{"$f":"CONCATENATE(応募者名簿!$B$11,応募者名簿!$D$11,応募者名簿!$E$11,応募者名簿!$I$11)","v":""},"条幅",{"$f":"CONCATENATE(応募者名簿!A897)","v":""},{"$f":"CONCATENATE(応募者名簿!B897)","v":""},{"$f":"CONCATENATE(応募者名簿!C897)","v":""},{"$f":"CONCATENATE(応募者名簿!D897)","v":""}]
[{"$f":"応募者名簿!$B$8","v":0},{"$f":"CONCATENATE(応募者名簿!$B$11,応募者名簿!$D$11,応募者名簿!$E$11,応募者名簿!$I$11)","v":""},"条幅",{"$f":"CONCATENATE(応募者名簿!A898)","v":""},{"$f":"CONCATENATE(応募者名簿!B898)","v":""},{"$f":"CONCATENATE(応募者名簿!C898)","v":""},{"$f":"CONCATENATE(応募者名簿!D898)","v":""}]
[{"$f":"応募者名簿!$B$8","v":0},{"$f":"CONCATENATE(応募者名簿!$B$11,応募者名簿!$D$11,応募者名簿!$E$11,応募者名簿!$I$11)","v":""},"条幅",{"$f":"CONCATENATE(応募者名簿!A899)","v":""},{"$f":"CONCATENATE(応募者名簿!B899)","v":""},{"$f":"CONCATENATE(応募者名簿!C899)","v":""},{"$f":"CONCATENATE(応募者名簿!D899)","v":""}]
[{"$f":"応募者名簿!$B$8","v":0},{"$f":"CONCATENATE(応募者名簿!$B$11,応募者名簿!$D$11,応募者名簿!$E$11,応募者名簿!$I$11)","v":""},"条幅",{"$f":"CONCATENATE(応募者名簿!A900)","v":""},{"$f":"CONCATENATE(応募者名簿!B900)","v":""},{"$f":"CONCATENATE(応募者名簿!C900)","v":""},{"$f":"CONCATENATE(応募者名簿!D900)","v":""}]
[{"$f":"応募者名簿!$B$8","v":0},{"$f":"CONCATENATE(応募者名簿!$B$11,応募者名簿!$D$11,応募者名簿!$E$11,応募者名簿!$I$11)","v":""},"条幅",{"$f":"CONCATENATE(応募者名簿!A901)","v":""},{"$f":"CONCATENATE(応募者名簿!B901)","v":""},{"$f":"CONCATENATE(応募者名簿!C901)","v":""},{"$f":"CONCATENATE(応募者名簿!D901)","v":""}]
[{"$f":"応募者名簿!$B$8","v":0},{"$f":"CONCATENATE(応募者名簿!$B$11,応募者名簿!$D$11,応募者名簿!$E$11,応募者名簿!$I$11)","v":""},"条幅",{"$f":"CONCATENATE(応募者名簿!A902)","v":""},{"$f":"CONCATENATE(応募者名簿!B902)","v":""},{"$f":"CONCATENATE(応募者名簿!C902)","v":""},{"$f":"CONCATENATE(応募者名簿!D902)","v":""}]
[{"$f":"応募者名簿!$B$8","v":0},{"$f":"CONCATENATE(応募者名簿!$B$11,応募者名簿!$D$11,応募者名簿!$E$11,応募者名簿!$I$11)","v":""},"条幅",{"$f":"CONCATENATE(応募者名簿!A903)","v":""},{"$f":"CONCATENATE(応募者名簿!B903)","v":""},{"$f":"CONCATENATE(応募者名簿!C903)","v":""},{"$f":"CONCATENATE(応募者名簿!D903)","v":""}]
[{"$f":"応募者名簿!$B$8","v":0},{"$f":"CONCATENATE(応募者名簿!$B$11,応募者名簿!$D$11,応募者名簿!$E$11,応募者名簿!$I$11)","v":""},"条幅",{"$f":"CONCATENATE(応募者名簿!A904)","v":""},{"$f":"CONCATENATE(応募者名簿!B904)","v":""},{"$f":"CONCATENATE(応募者名簿!C904)","v":""},{"$f":"CONCATENATE(応募者名簿!D904)","v":""}]
[{"$f":"応募者名簿!$B$8","v":0},{"$f":"CONCATENATE(応募者名簿!$B$11,応募者名簿!$D$11,応募者名簿!$E$11,応募者名簿!$I$11)","v":""},"条幅",{"$f":"CONCATENATE(応募者名簿!A905)","v":""},{"$f":"CONCATENATE(応募者名簿!B905)","v":""},{"$f":"CONCATENATE(応募者名簿!C905)","v":""},{"$f":"CONCATENATE(応募者名簿!D905)","v":""}]
[{"$f":"応募者名簿!$B$8","v":0},{"$f":"CONCATENATE(応募者名簿!$B$11,応募者名簿!$D$11,応募者名簿!$E$11,応募者名簿!$I$11)","v":""},"条幅",{"$f":"CONCATENATE(応募者名簿!A906)","v":""},{"$f":"CONCATENATE(応募者名簿!B906)","v":""},{"$f":"CONCATENATE(応募者名簿!C906)","v":""},{"$f":"CONCATENATE(応募者名簿!D906)","v":""}]
[{"$f":"応募者名簿!$B$8","v":0},{"$f":"CONCATENATE(応募者名簿!$B$11,応募者名簿!$D$11,応募者名簿!$E$11,応募者名簿!$I$11)","v":""},"条幅",{"$f":"CONCATENATE(応募者名簿!A907)","v":""},{"$f":"CONCATENATE(応募者名簿!B907)","v":""},{"$f":"CONCATENATE(応募者名簿!C907)","v":""},{"$f":"CONCATENATE(応募者名簿!D907)","v":""}]
[{"$f":"応募者名簿!$B$8","v":0},{"$f":"CONCATENATE(応募者名簿!$B$11,応募者名簿!$D$11,応募者名簿!$E$11,応募者名簿!$I$11)","v":""},"条幅",{"$f":"CONCATENATE(応募者名簿!A908)","v":""},{"$f":"CONCATENATE(応募者名簿!B908)","v":""},{"$f":"CONCATENATE(応募者名簿!C908)","v":""},{"$f":"CONCATENATE(応募者名簿!D908)","v":""}]
[{"$f":"応募者名簿!$B$8","v":0},{"$f":"CONCATENATE(応募者名簿!$B$11,応募者名簿!$D$11,応募者名簿!$E$11,応募者名簿!$I$11)","v":""},"条幅",{"$f":"CONCATENATE(応募者名簿!A909)","v":""},{"$f":"CONCATENATE(応募者名簿!B909)","v":""},{"$f":"CONCATENATE(応募者名簿!C909)","v":""},{"$f":"CONCATENATE(応募者名簿!D909)","v":""}]
[{"$f":"応募者名簿!$B$8","v":0},{"$f":"CONCATENATE(応募者名簿!$B$11,応募者名簿!$D$11,応募者名簿!$E$11,応募者名簿!$I$11)","v":""},"条幅",{"$f":"CONCATENATE(応募者名簿!A910)","v":""},{"$f":"CONCATENATE(応募者名簿!B910)","v":""},{"$f":"CONCATENATE(応募者名簿!C910)","v":""},{"$f":"CONCATENATE(応募者名簿!D910)","v":""}]
[{"$f":"応募者名簿!$B$8","v":0},{"$f":"CONCATENATE(応募者名簿!$B$11,応募者名簿!$D$11,応募者名簿!$E$11,応募者名簿!$I$11)","v":""},"条幅",{"$f":"CONCATENATE(応募者名簿!A911)","v":""},{"$f":"CONCATENATE(応募者名簿!B911)","v":""},{"$f":"CONCATENATE(応募者名簿!C911)","v":""},{"$f":"CONCATENATE(応募者名簿!D911)","v":""}]
[{"$f":"応募者名簿!$B$8","v":0},{"$f":"CONCATENATE(応募者名簿!$B$11,応募者名簿!$D$11,応募者名簿!$E$11,応募者名簿!$I$11)","v":""},"条幅",{"$f":"CONCATENATE(応募者名簿!A912)","v":""},{"$f":"CONCATENATE(応募者名簿!B912)","v":""},{"$f":"CONCATENATE(応募者名簿!C912)","v":""},{"$f":"CONCATENATE(応募者名簿!D912)","v":""}]
[{"$f":"応募者名簿!$B$8","v":0},{"$f":"CONCATENATE(応募者名簿!$B$11,応募者名簿!$D$11,応募者名簿!$E$11,応募者名簿!$I$11)","v":""},"条幅",{"$f":"CONCATENATE(応募者名簿!A913)","v":""},{"$f":"CONCATENATE(応募者名簿!B913)","v":""},{"$f":"CONCATENATE(応募者名簿!C913)","v":""},{"$f":"CONCATENATE(応募者名簿!D913)","v":""}]
[{"$f":"応募者名簿!$B$8","v":0},{"$f":"CONCATENATE(応募者名簿!$B$11,応募者名簿!$D$11,応募者名簿!$E$11,応募者名簿!$I$11)","v":""},"条幅",{"$f":"CONCATENATE(応募者名簿!A914)","v":""},{"$f":"CONCATENATE(応募者名簿!B914)","v":""},{"$f":"CONCATENATE(応募者名簿!C914)","v":""},{"$f":"CONCATENATE(応募者名簿!D914)","v":""}]
[{"$f":"応募者名簿!$B$8","v":0},{"$f":"CONCATENATE(応募者名簿!$B$11,応募者名簿!$D$11,応募者名簿!$E$11,応募者名簿!$I$11)","v":""},"条幅",{"$f":"CONCATENATE(応募者名簿!A915)","v":""},{"$f":"CONCATENATE(応募者名簿!B915)","v":""},{"$f":"CONCATENATE(応募者名簿!C915)","v":""},{"$f":"CONCATENATE(応募者名簿!D915)","v":""}]
[{"$f":"応募者名簿!$B$8","v":0},{"$f":"CONCATENATE(応募者名簿!$B$11,応募者名簿!$D$11,応募者名簿!$E$11,応募者名簿!$I$11)","v":""},"条幅",{"$f":"CONCATENATE(応募者名簿!A916)","v":""},{"$f":"CONCATENATE(応募者名簿!B916)","v":""},{"$f":"CONCATENATE(応募者名簿!C916)","v":""},{"$f":"CONCATENATE(応募者名簿!D916)","v":""}]
[{"$f":"応募者名簿!$B$8","v":0},{"$f":"CONCATENATE(応募者名簿!$B$11,応募者名簿!$D$11,応募者名簿!$E$11,応募者名簿!$I$11)","v":""},"条幅",{"$f":"CONCATENATE(応募者名簿!A917)","v":""},{"$f":"CONCATENATE(応募者名簿!B917)","v":""},{"$f":"CONCATENATE(応募者名簿!C917)","v":""},{"$f":"CONCATENATE(応募者名簿!D917)","v":""}]
[{"$f":"応募者名簿!$B$8","v":0},{"$f":"CONCATENATE(応募者名簿!$B$11,応募者名簿!$D$11,応募者名簿!$E$11,応募者名簿!$I$11)","v":""},"条幅",{"$f":"CONCATENATE(応募者名簿!A918)","v":""},{"$f":"CONCATENATE(応募者名簿!B918)","v":""},{"$f":"CONCATENATE(応募者名簿!C918)","v":""},{"$f":"CONCATENATE(応募者名簿!D918)","v":""}]
[{"$f":"応募者名簿!$B$8","v":0},{"$f":"CONCATENATE(応募者名簿!$B$11,応募者名簿!$D$11,応募者名簿!$E$11,応募者名簿!$I$11)","v":""},"条幅",{"$f":"CONCATENATE(応募者名簿!A919)","v":""},{"$f":"CONCATENATE(応募者名簿!B919)","v":""},{"$f":"CONCATENATE(応募者名簿!C919)","v":""},{"$f":"CONCATENATE(応募者名簿!D919)","v":""}]
[{"$f":"応募者名簿!$B$8","v":0},{"$f":"CONCATENATE(応募者名簿!$B$11,応募者名簿!$D$11,応募者名簿!$E$11,応募者名簿!$I$11)","v":""},"条幅",{"$f":"CONCATENATE(応募者名簿!A920)","v":""},{"$f":"CONCATENATE(応募者名簿!B920)","v":""},{"$f":"CONCATENATE(応募者名簿!C920)","v":""},{"$f":"CONCATENATE(応募者名簿!D920)","v":""}]
[{"$f":"応募者名簿!$B$8","v":0},{"$f":"CONCATENATE(応募者名簿!$B$11,応募者名簿!$D$11,応募者名簿!$E$11,応募者名簿!$I$11)","v":""},"条幅",{"$f":"CONCATENATE(応募者名簿!A921)","v":""},{"$f":"CONCATENATE(応募者名簿!B921)","v":""},{"$f":"CONCATENATE(応募者名簿!C921)","v":""},{"$f":"CONCATENATE(応募者名簿!D921)","v":""}]
[{"$f":"応募者名簿!$B$8","v":0},{"$f":"CONCATENATE(応募者名簿!$B$11,応募者名簿!$D$11,応募者名簿!$E$11,応募者名簿!$I$11)","v":""},"条幅",{"$f":"CONCATENATE(応募者名簿!A922)","v":""},{"$f":"CONCATENATE(応募者名簿!B922)","v":""},{"$f":"CONCATENATE(応募者名簿!C922)","v":""},{"$f":"CONCATENATE(応募者名簿!D922)","v":""}]
[{"$f":"応募者名簿!$B$8","v":0},{"$f":"CONCATENATE(応募者名簿!$B$11,応募者名簿!$D$11,応募者名簿!$E$11,応募者名簿!$I$11)","v":""},"条幅",{"$f":"CONCATENATE(応募者名簿!A923)","v":""},{"$f":"CONCATENATE(応募者名簿!B923)","v":""},{"$f":"CONCATENATE(応募者名簿!C923)","v":""},{"$f":"CONCATENATE(応募者名簿!D923)","v":""}]
[{"$f":"応募者名簿!$B$8","v":0},{"$f":"CONCATENATE(応募者名簿!$B$11,応募者名簿!$D$11,応募者名簿!$E$11,応募者名簿!$I$11)","v":""},"条幅",{"$f":"CONCATENATE(応募者名簿!A924)","v":""},{"$f":"CONCATENATE(応募者名簿!B924)","v":""},{"$f":"CONCATENATE(応募者名簿!C924)","v":""},{"$f":"CONCATENATE(応募者名簿!D924)","v":""}]
[{"$f":"応募者名簿!$B$8","v":0},{"$f":"CONCATENATE(応募者名簿!$B$11,応募者名簿!$D$11,応募者名簿!$E$11,応募者名簿!$I$11)","v":""},"条幅",{"$f":"CONCATENATE(応募者名簿!A925)","v":""},{"$f":"CONCATENATE(応募者名簿!B925)","v":""},{"$f":"CONCATENATE(応募者名簿!C925)","v":""},{"$f":"CONCATENATE(応募者名簿!D925)","v":""}]
[{"$f":"応募者名簿!$B$8","v":0},{"$f":"CONCATENATE(応募者名簿!$B$11,応募者名簿!$D$11,応募者名簿!$E$11,応募者名簿!$I$11)","v":""},"条幅",{"$f":"CONCATENATE(応募者名簿!A926)","v":""},{"$f":"CONCATENATE(応募者名簿!B926)","v":""},{"$f":"CONCATENATE(応募者名簿!C926)","v":""},{"$f":"CONCATENATE(応募者名簿!D926)","v":""}]
[{"$f":"応募者名簿!$B$8","v":0},{"$f":"CONCATENATE(応募者名簿!$B$11,応募者名簿!$D$11,応募者名簿!$E$11,応募者名簿!$I$11)","v":""},"条幅",{"$f":"CONCATENATE(応募者名簿!A927)","v":""},{"$f":"CONCATENATE(応募者名簿!B927)","v":""},{"$f":"CONCATENATE(応募者名簿!C927)","v":""},{"$f":"CONCATENATE(応募者名簿!D927)","v":""}]
[{"$f":"応募者名簿!$B$8","v":0},{"$f":"CONCATENATE(応募者名簿!$B$11,応募者名簿!$D$11,応募者名簿!$E$11,応募者名簿!$I$11)","v":""},"条幅",{"$f":"CONCATENATE(応募者名簿!A928)","v":""},{"$f":"CONCATENATE(応募者名簿!B928)","v":""},{"$f":"CONCATENATE(応募者名簿!C928)","v":""},{"$f":"CONCATENATE(応募者名簿!D928)","v":""}]
[{"$f":"応募者名簿!$B$8","v":0},{"$f":"CONCATENATE(応募者名簿!$B$11,応募者名簿!$D$11,応募者名簿!$E$11,応募者名簿!$I$11)","v":""},"条幅",{"$f":"CONCATENATE(応募者名簿!A929)","v":""},{"$f":"CONCATENATE(応募者名簿!B929)","v":""},{"$f":"CONCATENATE(応募者名簿!C929)","v":""},{"$f":"CONCATENATE(応募者名簿!D929)","v":""}]
[{"$f":"応募者名簿!$B$8","v":0},{"$f":"CONCATENATE(応募者名簿!$B$11,応募者名簿!$D$11,応募者名簿!$E$11,応募者名簿!$I$11)","v":""},"条幅",{"$f":"CONCATENATE(応募者名簿!A930)","v":""},{"$f":"CONCATENATE(応募者名簿!B930)","v":""},{"$f":"CONCATENATE(応募者名簿!C930)","v":""},{"$f":"CONCATENATE(応募者名簿!D930)","v":""}]
[{"$f":"応募者名簿!$B$8","v":0},{"$f":"CONCATENATE(応募者名簿!$B$11,応募者名簿!$D$11,応募者名簿!$E$11,応募者名簿!$I$11)","v":""},"条幅",{"$f":"CONCATENATE(応募者名簿!A931)","v":""},{"$f":"CONCATENATE(応募者名簿!B931)","v":""},{"$f":"CONCATENATE(応募者名簿!C931)","v":""},{"$f":"CONCATENATE(応募者名簿!D931)","v":""}]
[{"$f":"応募者名簿!$B$8","v":0},{"$f":"CONCATENATE(応募者名簿!$B$11,応募者名簿!$D$11,応募者名簿!$E$11,応募者名簿!$I$11)","v":""},"条幅",{"$f":"CONCATENATE(応募者名簿!A932)","v":""},{"$f":"CONCATENATE(応募者名簿!B932)","v":""},{"$f":"CONCATENATE(応募者名簿!C932)","v":""},{"$f":"CONCATENATE(応募者名簿!D932)","v":""}]
[{"$f":"応募者名簿!$B$8","v":0},{"$f":"CONCATENATE(応募者名簿!$B$11,応募者名簿!$D$11,応募者名簿!$E$11,応募者名簿!$I$11)","v":""},"条幅",{"$f":"CONCATENATE(応募者名簿!A933)","v":""},{"$f":"CONCATENATE(応募者名簿!B933)","v":""},{"$f":"CONCATENATE(応募者名簿!C933)","v":""},{"$f":"CONCATENATE(応募者名簿!D933)","v":""}]
[{"$f":"応募者名簿!$B$8","v":0},{"$f":"CONCATENATE(応募者名簿!$B$11,応募者名簿!$D$11,応募者名簿!$E$11,応募者名簿!$I$11)","v":""},"条幅",{"$f":"CONCATENATE(応募者名簿!A934)","v":""},{"$f":"CONCATENATE(応募者名簿!B934)","v":""},{"$f":"CONCATENATE(応募者名簿!C934)","v":""},{"$f":"CONCATENATE(応募者名簿!D934)","v":""}]
[{"$f":"応募者名簿!$B$8","v":0},{"$f":"CONCATENATE(応募者名簿!$B$11,応募者名簿!$D$11,応募者名簿!$E$11,応募者名簿!$I$11)","v":""},"条幅",{"$f":"CONCATENATE(応募者名簿!A935)","v":""},{"$f":"CONCATENATE(応募者名簿!B935)","v":""},{"$f":"CONCATENATE(応募者名簿!C935)","v":""},{"$f":"CONCATENATE(応募者名簿!D935)","v":""}]
[{"$f":"応募者名簿!$B$8","v":0},{"$f":"CONCATENATE(応募者名簿!$B$11,応募者名簿!$D$11,応募者名簿!$E$11,応募者名簿!$I$11)","v":""},"条幅",{"$f":"CONCATENATE(応募者名簿!A936)","v":""},{"$f":"CONCATENATE(応募者名簿!B936)","v":""},{"$f":"CONCATENATE(応募者名簿!C936)","v":""},{"$f":"CONCATENATE(応募者名簿!D936)","v":""}]
[{"$f":"応募者名簿!$B$8","v":0},{"$f":"CONCATENATE(応募者名簿!$B$11,応募者名簿!$D$11,応募者名簿!$E$11,応募者名簿!$I$11)","v":""},"条幅",{"$f":"CONCATENATE(応募者名簿!A937)","v":""},{"$f":"CONCATENATE(応募者名簿!B937)","v":""},{"$f":"CONCATENATE(応募者名簿!C937)","v":""},{"$f":"CONCATENATE(応募者名簿!D937)","v":""}]
[{"$f":"応募者名簿!$B$8","v":0},{"$f":"CONCATENATE(応募者名簿!$B$11,応募者名簿!$D$11,応募者名簿!$E$11,応募者名簿!$I$11)","v":""},"条幅",{"$f":"CONCATENATE(応募者名簿!A938)","v":""},{"$f":"CONCATENATE(応募者名簿!B938)","v":""},{"$f":"CONCATENATE(応募者名簿!C938)","v":""},{"$f":"CONCATENATE(応募者名簿!D938)","v":""}]
[{"$f":"応募者名簿!$B$8","v":0},{"$f":"CONCATENATE(応募者名簿!$B$11,応募者名簿!$D$11,応募者名簿!$E$11,応募者名簿!$I$11)","v":""},"条幅",{"$f":"CONCATENATE(応募者名簿!A939)","v":""},{"$f":"CONCATENATE(応募者名簿!B939)","v":""},{"$f":"CONCATENATE(応募者名簿!C939)","v":""},{"$f":"CONCATENATE(応募者名簿!D939)","v":""}]
[{"$f":"応募者名簿!$B$8","v":0},{"$f":"CONCATENATE(応募者名簿!$B$11,応募者名簿!$D$11,応募者名簿!$E$11,応募者名簿!$I$11)","v":""},"条幅",{"$f":"CONCATENATE(応募者名簿!A940)","v":""},{"$f":"CONCATENATE(応募者名簿!B940)","v":""},{"$f":"CONCATENATE(応募者名簿!C940)","v":""},{"$f":"CONCATENATE(応募者名簿!D940)","v":""}]
[{"$f":"応募者名簿!$B$8","v":0},{"$f":"CONCATENATE(応募者名簿!$B$11,応募者名簿!$D$11,応募者名簿!$E$11,応募者名簿!$I$11)","v":""},"条幅",{"$f":"CONCATENATE(応募者名簿!A941)","v":""},{"$f":"CONCATENATE(応募者名簿!B941)","v":""},{"$f":"CONCATENATE(応募者名簿!C941)","v":""},{"$f":"CONCATENATE(応募者名簿!D941)","v":""}]
[{"$f":"応募者名簿!$B$8","v":0},{"$f":"CONCATENATE(応募者名簿!$B$11,応募者名簿!$D$11,応募者名簿!$E$11,応募者名簿!$I$11)","v":""},"条幅",{"$f":"CONCATENATE(応募者名簿!A942)","v":""},{"$f":"CONCATENATE(応募者名簿!B942)","v":""},{"$f":"CONCATENATE(応募者名簿!C942)","v":""},{"$f":"CONCATENATE(応募者名簿!D942)","v":""}]
[{"$f":"応募者名簿!$B$8","v":0},{"$f":"CONCATENATE(応募者名簿!$B$11,応募者名簿!$D$11,応募者名簿!$E$11,応募者名簿!$I$11)","v":""},"条幅",{"$f":"CONCATENATE(応募者名簿!A943)","v":""},{"$f":"CONCATENATE(応募者名簿!B943)","v":""},{"$f":"CONCATENATE(応募者名簿!C943)","v":""},{"$f":"CONCATENATE(応募者名簿!D943)","v":""}]
[{"$f":"応募者名簿!$B$8","v":0},{"$f":"CONCATENATE(応募者名簿!$B$11,応募者名簿!$D$11,応募者名簿!$E$11,応募者名簿!$I$11)","v":""},"条幅",{"$f":"CONCATENATE(応募者名簿!A944)","v":""},{"$f":"CONCATENATE(応募者名簿!B944)","v":""},{"$f":"CONCATENATE(応募者名簿!C944)","v":""},{"$f":"CONCATENATE(応募者名簿!D944)","v":""}]
[{"$f":"応募者名簿!$B$8","v":0},{"$f":"CONCATENATE(応募者名簿!$B$11,応募者名簿!$D$11,応募者名簿!$E$11,応募者名簿!$I$11)","v":""},"条幅",{"$f":"CONCATENATE(応募者名簿!A945)","v":""},{"$f":"CONCATENATE(応募者名簿!B945)","v":""},{"$f":"CONCATENATE(応募者名簿!C945)","v":""},{"$f":"CONCATENATE(応募者名簿!D945)","v":""}]
[{"$f":"応募者名簿!$B$8","v":0},{"$f":"CONCATENATE(応募者名簿!$B$11,応募者名簿!$D$11,応募者名簿!$E$11,応募者名簿!$I$11)","v":""},"条幅",{"$f":"CONCATENATE(応募者名簿!A946)","v":""},{"$f":"CONCATENATE(応募者名簿!B946)","v":""},{"$f":"CONCATENATE(応募者名簿!C946)","v":""},{"$f":"CONCATENATE(応募者名簿!D946)","v":""}]
[{"$f":"応募者名簿!$B$8","v":0},{"$f":"CONCATENATE(応募者名簿!$B$11,応募者名簿!$D$11,応募者名簿!$E$11,応募者名簿!$I$11)","v":""},"条幅",{"$f":"CONCATENATE(応募者名簿!A947)","v":""},{"$f":"CONCATENATE(応募者名簿!B947)","v":""},{"$f":"CONCATENATE(応募者名簿!C947)","v":""},{"$f":"CONCATENATE(応募者名簿!D947)","v":""}]
[{"$f":"応募者名簿!$B$8","v":0},{"$f":"CONCATENATE(応募者名簿!$B$11,応募者名簿!$D$11,応募者名簿!$E$11,応募者名簿!$I$11)","v":""},"条幅",{"$f":"CONCATENATE(応募者名簿!A948)","v":""},{"$f":"CONCATENATE(応募者名簿!B948)","v":""},{"$f":"CONCATENATE(応募者名簿!C948)","v":""},{"$f":"CONCATENATE(応募者名簿!D948)","v":""}]
[{"$f":"応募者名簿!$B$8","v":0},{"$f":"CONCATENATE(応募者名簿!$B$11,応募者名簿!$D$11,応募者名簿!$E$11,応募者名簿!$I$11)","v":""},"条幅",{"$f":"CONCATENATE(応募者名簿!A949)","v":""},{"$f":"CONCATENATE(応募者名簿!B949)","v":""},{"$f":"CONCATENATE(応募者名簿!C949)","v":""},{"$f":"CONCATENATE(応募者名簿!D949)","v":""}]
[{"$f":"応募者名簿!$B$8","v":0},{"$f":"CONCATENATE(応募者名簿!$B$11,応募者名簿!$D$11,応募者名簿!$E$11,応募者名簿!$I$11)","v":""},"条幅",{"$f":"CONCATENATE(応募者名簿!A950)","v":""},{"$f":"CONCATENATE(応募者名簿!B950)","v":""},{"$f":"CONCATENATE(応募者名簿!C950)","v":""},{"$f":"CONCATENATE(応募者名簿!D950)","v":""}]
[{"$f":"応募者名簿!$B$8","v":0},{"$f":"CONCATENATE(応募者名簿!$B$11,応募者名簿!$D$11,応募者名簿!$E$11,応募者名簿!$I$11)","v":""},"条幅",{"$f":"CONCATENATE(応募者名簿!A951)","v":""},{"$f":"CONCATENATE(応募者名簿!B951)","v":""},{"$f":"CONCATENATE(応募者名簿!C951)","v":""},{"$f":"CONCATENATE(応募者名簿!D951)","v":""}]
[{"$f":"応募者名簿!$B$8","v":0},{"$f":"CONCATENATE(応募者名簿!$B$11,応募者名簿!$D$11,応募者名簿!$E$11,応募者名簿!$I$11)","v":""},"条幅",{"$f":"CONCATENATE(応募者名簿!A952)","v":""},{"$f":"CONCATENATE(応募者名簿!B952)","v":""},{"$f":"CONCATENATE(応募者名簿!C952)","v":""},{"$f":"CONCATENATE(応募者名簿!D952)","v":""}]
[{"$f":"応募者名簿!$B$8","v":0},{"$f":"CONCATENATE(応募者名簿!$B$11,応募者名簿!$D$11,応募者名簿!$E$11,応募者名簿!$I$11)","v":""},"条幅",{"$f":"CONCATENATE(応募者名簿!A953)","v":""},{"$f":"CONCATENATE(応募者名簿!B953)","v":""},{"$f":"CONCATENATE(応募者名簿!C953)","v":""},{"$f":"CONCATENATE(応募者名簿!D953)","v":""}]
[{"$f":"応募者名簿!$B$8","v":0},{"$f":"CONCATENATE(応募者名簿!$B$11,応募者名簿!$D$11,応募者名簿!$E$11,応募者名簿!$I$11)","v":""},"条幅",{"$f":"CONCATENATE(応募者名簿!A954)","v":""},{"$f":"CONCATENATE(応募者名簿!B954)","v":""},{"$f":"CONCATENATE(応募者名簿!C954)","v":""},{"$f":"CONCATENATE(応募者名簿!D954)","v":""}]
[{"$f":"応募者名簿!$B$8","v":0},{"$f":"CONCATENATE(応募者名簿!$B$11,応募者名簿!$D$11,応募者名簿!$E$11,応募者名簿!$I$11)","v":""},"条幅",{"$f":"CONCATENATE(応募者名簿!A955)","v":""},{"$f":"CONCATENATE(応募者名簿!B955)","v":""},{"$f":"CONCATENATE(応募者名簿!C955)","v":""},{"$f":"CONCATENATE(応募者名簿!D955)","v":""}]
[{"$f":"応募者名簿!$B$8","v":0},{"$f":"CONCATENATE(応募者名簿!$B$11,応募者名簿!$D$11,応募者名簿!$E$11,応募者名簿!$I$11)","v":""},"条幅",{"$f":"CONCATENATE(応募者名簿!A956)","v":""},{"$f":"CONCATENATE(応募者名簿!B956)","v":""},{"$f":"CONCATENATE(応募者名簿!C956)","v":""},{"$f":"CONCATENATE(応募者名簿!D956)","v":""}]
[{"$f":"応募者名簿!$B$8","v":0},{"$f":"CONCATENATE(応募者名簿!$B$11,応募者名簿!$D$11,応募者名簿!$E$11,応募者名簿!$I$11)","v":""},"条幅",{"$f":"CONCATENATE(応募者名簿!A957)","v":""},{"$f":"CONCATENATE(応募者名簿!B957)","v":""},{"$f":"CONCATENATE(応募者名簿!C957)","v":""},{"$f":"CONCATENATE(応募者名簿!D957)","v":""}]
[{"$f":"応募者名簿!$B$8","v":0},{"$f":"CONCATENATE(応募者名簿!$B$11,応募者名簿!$D$11,応募者名簿!$E$11,応募者名簿!$I$11)","v":""},"条幅",{"$f":"CONCATENATE(応募者名簿!A958)","v":""},{"$f":"CONCATENATE(応募者名簿!B958)","v":""},{"$f":"CONCATENATE(応募者名簿!C958)","v":""},{"$f":"CONCATENATE(応募者名簿!D958)","v":""}]
[{"$f":"応募者名簿!$B$8","v":0},{"$f":"CONCATENATE(応募者名簿!$B$11,応募者名簿!$D$11,応募者名簿!$E$11,応募者名簿!$I$11)","v":""},"条幅",{"$f":"CONCATENATE(応募者名簿!A959)","v":""},{"$f":"CONCATENATE(応募者名簿!B959)","v":""},{"$f":"CONCATENATE(応募者名簿!C959)","v":""},{"$f":"CONCATENATE(応募者名簿!D959)","v":""}]
[{"$f":"応募者名簿!$B$8","v":0},{"$f":"CONCATENATE(応募者名簿!$B$11,応募者名簿!$D$11,応募者名簿!$E$11,応募者名簿!$I$11)","v":""},"条幅",{"$f":"CONCATENATE(応募者名簿!A960)","v":""},{"$f":"CONCATENATE(応募者名簿!B960)","v":""},{"$f":"CONCATENATE(応募者名簿!C960)","v":""},{"$f":"CONCATENATE(応募者名簿!D960)","v":""}]
[{"$f":"応募者名簿!$B$8","v":0},{"$f":"CONCATENATE(応募者名簿!$B$11,応募者名簿!$D$11,応募者名簿!$E$11,応募者名簿!$I$11)","v":""},"条幅",{"$f":"CONCATENATE(応募者名簿!A961)","v":""},{"$f":"CONCATENATE(応募者名簿!B961)","v":""},{"$f":"CONCATENATE(応募者名簿!C961)","v":""},{"$f":"CONCATENATE(応募者名簿!D961)","v":""}]
[{"$f":"応募者名簿!$B$8","v":0},{"$f":"CONCATENATE(応募者名簿!$B$11,応募者名簿!$D$11,応募者名簿!$E$11,応募者名簿!$I$11)","v":""},"条幅",{"$f":"CONCATENATE(応募者名簿!A962)","v":""},{"$f":"CONCATENATE(応募者名簿!B962)","v":""},{"$f":"CONCATENATE(応募者名簿!C962)","v":""},{"$f":"CONCATENATE(応募者名簿!D962)","v":""}]
[{"$f":"応募者名簿!$B$8","v":0},{"$f":"CONCATENATE(応募者名簿!$B$11,応募者名簿!$D$11,応募者名簿!$E$11,応募者名簿!$I$11)","v":""},"条幅",{"$f":"CONCATENATE(応募者名簿!A963)","v":""},{"$f":"CONCATENATE(応募者名簿!B963)","v":""},{"$f":"CONCATENATE(応募者名簿!C963)","v":""},{"$f":"CONCATENATE(応募者名簿!D963)","v":""}]
[{"$f":"応募者名簿!$B$8","v":0},{"$f":"CONCATENATE(応募者名簿!$B$11,応募者名簿!$D$11,応募者名簿!$E$11,応募者名簿!$I$11)","v":""},"条幅",{"$f":"CONCATENATE(応募者名簿!A964)","v":""},{"$f":"CONCATENATE(応募者名簿!B964)","v":""},{"$f":"CONCATENATE(応募者名簿!C964)","v":""},{"$f":"CONCATENATE(応募者名簿!D964)","v":""}]
[{"$f":"応募者名簿!$B$8","v":0},{"$f":"CONCATENATE(応募者名簿!$B$11,応募者名簿!$D$11,応募者名簿!$E$11,応募者名簿!$I$11)","v":""},"条幅",{"$f":"CONCATENATE(応募者名簿!A965)","v":""},{"$f":"CONCATENATE(応募者名簿!B965)","v":""},{"$f":"CONCATENATE(応募者名簿!C965)","v":""},{"$f":"CONCATENATE(応募者名簿!D965)","v":""}]
[{"$f":"応募者名簿!$B$8","v":0},{"$f":"CONCATENATE(応募者名簿!$B$11,応募者名簿!$D$11,応募者名簿!$E$11,応募者名簿!$I$11)","v":""},"条幅",{"$f":"CONCATENATE(応募者名簿!A966)","v":""},{"$f":"CONCATENATE(応募者名簿!B966)","v":""},{"$f":"CONCATENATE(応募者名簿!C966)","v":""},{"$f":"CONCATENATE(応募者名簿!D966)","v":""}]
[{"$f":"応募者名簿!$B$8","v":0},{"$f":"CONCATENATE(応募者名簿!$B$11,応募者名簿!$D$11,応募者名簿!$E$11,応募者名簿!$I$11)","v":""},"条幅",{"$f":"CONCATENATE(応募者名簿!A967)","v":""},{"$f":"CONCATENATE(応募者名簿!B967)","v":""},{"$f":"CONCATENATE(応募者名簿!C967)","v":""},{"$f":"CONCATENATE(応募者名簿!D967)","v":""}]
[{"$f":"応募者名簿!$B$8","v":0},{"$f":"CONCATENATE(応募者名簿!$B$11,応募者名簿!$D$11,応募者名簿!$E$11,応募者名簿!$I$11)","v":""},"条幅",{"$f":"CONCATENATE(応募者名簿!A968)","v":""},{"$f":"CONCATENATE(応募者名簿!B968)","v":""},{"$f":"CONCATENATE(応募者名簿!C968)","v":""},{"$f":"CONCATENATE(応募者名簿!D968)","v":""}]
[{"$f":"応募者名簿!$B$8","v":0},{"$f":"CONCATENATE(応募者名簿!$B$11,応募者名簿!$D$11,応募者名簿!$E$11,応募者名簿!$I$11)","v":""},"条幅",{"$f":"CONCATENATE(応募者名簿!A969)","v":""},{"$f":"CONCATENATE(応募者名簿!B969)","v":""},{"$f":"CONCATENATE(応募者名簿!C969)","v":""},{"$f":"CONCATENATE(応募者名簿!D969)","v":""}]
[{"$f":"応募者名簿!$B$8","v":0},{"$f":"CONCATENATE(応募者名簿!$B$11,応募者名簿!$D$11,応募者名簿!$E$11,応募者名簿!$I$11)","v":""},"条幅",{"$f":"CONCATENATE(応募者名簿!A970)","v":""},{"$f":"CONCATENATE(応募者名簿!B970)","v":""},{"$f":"CONCATENATE(応募者名簿!C970)","v":""},{"$f":"CONCATENATE(応募者名簿!D970)","v":""}]
[{"$f":"応募者名簿!$B$8","v":0},{"$f":"CONCATENATE(応募者名簿!$B$11,応募者名簿!$D$11,応募者名簿!$E$11,応募者名簿!$I$11)","v":""},"条幅",{"$f":"CONCATENATE(応募者名簿!A971)","v":""},{"$f":"CONCATENATE(応募者名簿!B971)","v":""},{"$f":"CONCATENATE(応募者名簿!C971)","v":""},{"$f":"CONCATENATE(応募者名簿!D971)","v":""}]
[{"$f":"応募者名簿!$B$8","v":0},{"$f":"CONCATENATE(応募者名簿!$B$11,応募者名簿!$D$11,応募者名簿!$E$11,応募者名簿!$I$11)","v":""},"条幅",{"$f":"CONCATENATE(応募者名簿!A972)","v":""},{"$f":"CONCATENATE(応募者名簿!B972)","v":""},{"$f":"CONCATENATE(応募者名簿!C972)","v":""},{"$f":"CONCATENATE(応募者名簿!D972)","v":""}]
[{"$f":"応募者名簿!$B$8","v":0},{"$f":"CONCATENATE(応募者名簿!$B$11,応募者名簿!$D$11,応募者名簿!$E$11,応募者名簿!$I$11)","v":""},"条幅",{"$f":"CONCATENATE(応募者名簿!A973)","v":""},{"$f":"CONCATENATE(応募者名簿!B973)","v":""},{"$f":"CONCATENATE(応募者名簿!C973)","v":""},{"$f":"CONCATENATE(応募者名簿!D973)","v":""}]
[{"$f":"応募者名簿!$B$8","v":0},{"$f":"CONCATENATE(応募者名簿!$B$11,応募者名簿!$D$11,応募者名簿!$E$11,応募者名簿!$I$11)","v":""},"条幅",{"$f":"CONCATENATE(応募者名簿!A974)","v":""},{"$f":"CONCATENATE(応募者名簿!B974)","v":""},{"$f":"CONCATENATE(応募者名簿!C974)","v":""},{"$f":"CONCATENATE(応募者名簿!D974)","v":""}]
[{"$f":"応募者名簿!$B$8","v":0},{"$f":"CONCATENATE(応募者名簿!$B$11,応募者名簿!$D$11,応募者名簿!$E$11,応募者名簿!$I$11)","v":""},"条幅",{"$f":"CONCATENATE(応募者名簿!A975)","v":""},{"$f":"CONCATENATE(応募者名簿!B975)","v":""},{"$f":"CONCATENATE(応募者名簿!C975)","v":""},{"$f":"CONCATENATE(応募者名簿!D975)","v":""}]
[{"$f":"応募者名簿!$B$8","v":0},{"$f":"CONCATENATE(応募者名簿!$B$11,応募者名簿!$D$11,応募者名簿!$E$11,応募者名簿!$I$11)","v":""},"条幅",{"$f":"CONCATENATE(応募者名簿!A976)","v":""},{"$f":"CONCATENATE(応募者名簿!B976)","v":""},{"$f":"CONCATENATE(応募者名簿!C976)","v":""},{"$f":"CONCATENATE(応募者名簿!D976)","v":""}]
[{"$f":"応募者名簿!$B$8","v":0},{"$f":"CONCATENATE(応募者名簿!$B$11,応募者名簿!$D$11,応募者名簿!$E$11,応募者名簿!$I$11)","v":""},"条幅",{"$f":"CONCATENATE(応募者名簿!A977)","v":""},{"$f":"CONCATENATE(応募者名簿!B977)","v":""},{"$f":"CONCATENATE(応募者名簿!C977)","v":""},{"$f":"CONCATENATE(応募者名簿!D977)","v":""}]
[{"$f":"応募者名簿!$B$8","v":0},{"$f":"CONCATENATE(応募者名簿!$B$11,応募者名簿!$D$11,応募者名簿!$E$11,応募者名簿!$I$11)","v":""},"条幅",{"$f":"CONCATENATE(応募者名簿!A978)","v":""},{"$f":"CONCATENATE(応募者名簿!B978)","v":""},{"$f":"CONCATENATE(応募者名簿!C978)","v":""},{"$f":"CONCATENATE(応募者名簿!D978)","v":""}]
[{"$f":"応募者名簿!$B$8","v":0},{"$f":"CONCATENATE(応募者名簿!$B$11,応募者名簿!$D$11,応募者名簿!$E$11,応募者名簿!$I$11)","v":""},"条幅",{"$f":"CONCATENATE(応募者名簿!A979)","v":""},{"$f":"CONCATENATE(応募者名簿!B979)","v":""},{"$f":"CONCATENATE(応募者名簿!C979)","v":""},{"$f":"CONCATENATE(応募者名簿!D979)","v":""}]
[{"$f":"応募者名簿!$B$8","v":0},{"$f":"CONCATENATE(応募者名簿!$B$11,応募者名簿!$D$11,応募者名簿!$E$11,応募者名簿!$I$11)","v":""},"条幅",{"$f":"CONCATENATE(応募者名簿!A980)","v":""},{"$f":"CONCATENATE(応募者名簿!B980)","v":""},{"$f":"CONCATENATE(応募者名簿!C980)","v":""},{"$f":"CONCATENATE(応募者名簿!D980)","v":""}]
[{"$f":"応募者名簿!$B$8","v":0},{"$f":"CONCATENATE(応募者名簿!$B$11,応募者名簿!$D$11,応募者名簿!$E$11,応募者名簿!$I$11)","v":""},"条幅",{"$f":"CONCATENATE(応募者名簿!A981)","v":""},{"$f":"CONCATENATE(応募者名簿!B981)","v":""},{"$f":"CONCATENATE(応募者名簿!C981)","v":""},{"$f":"CONCATENATE(応募者名簿!D981)","v":""}]
[{"$f":"応募者名簿!$B$8","v":0},{"$f":"CONCATENATE(応募者名簿!$B$11,応募者名簿!$D$11,応募者名簿!$E$11,応募者名簿!$I$11)","v":""},"条幅",{"$f":"CONCATENATE(応募者名簿!A982)","v":""},{"$f":"CONCATENATE(応募者名簿!B982)","v":""},{"$f":"CONCATENATE(応募者名簿!C982)","v":""},{"$f":"CONCATENATE(応募者名簿!D982)","v":""}]
[{"$f":"応募者名簿!$B$8","v":0},{"$f":"CONCATENATE(応募者名簿!$B$11,応募者名簿!$D$11,応募者名簿!$E$11,応募者名簿!$I$11)","v":""},"条幅",{"$f":"CONCATENATE(応募者名簿!A983)","v":""},{"$f":"CONCATENATE(応募者名簿!B983)","v":""},{"$f":"CONCATENATE(応募者名簿!C983)","v":""},{"$f":"CONCATENATE(応募者名簿!D983)","v":""}]
[{"$f":"応募者名簿!$B$8","v":0},{"$f":"CONCATENATE(応募者名簿!$B$11,応募者名簿!$D$11,応募者名簿!$E$11,応募者名簿!$I$11)","v":""},"条幅",{"$f":"CONCATENATE(応募者名簿!A984)","v":""},{"$f":"CONCATENATE(応募者名簿!B984)","v":""},{"$f":"CONCATENATE(応募者名簿!C984)","v":""},{"$f":"CONCATENATE(応募者名簿!D984)","v":""}]
[{"$f":"応募者名簿!$B$8","v":0},{"$f":"CONCATENATE(応募者名簿!$B$11,応募者名簿!$D$11,応募者名簿!$E$11,応募者名簿!$I$11)","v":""},"条幅",{"$f":"CONCATENATE(応募者名簿!A985)","v":""},{"$f":"CONCATENATE(応募者名簿!B985)","v":""},{"$f":"CONCATENATE(応募者名簿!C985)","v":""},{"$f":"CONCATENATE(応募者名簿!D985)","v":""}]
[{"$f":"応募者名簿!$B$8","v":0},{"$f":"CONCATENATE(応募者名簿!$B$11,応募者名簿!$D$11,応募者名簿!$E$11,応募者名簿!$I$11)","v":""},"条幅",{"$f":"CONCATENATE(応募者名簿!A986)","v":""},{"$f":"CONCATENATE(応募者名簿!B986)","v":""},{"$f":"CONCATENATE(応募者名簿!C986)","v":""},{"$f":"CONCATENATE(応募者名簿!D986)","v":""}]
[{"$f":"応募者名簿!$B$8","v":0},{"$f":"CONCATENATE(応募者名簿!$B$11,応募者名簿!$D$11,応募者名簿!$E$11,応募者名簿!$I$11)","v":""},"条幅",{"$f":"CONCATENATE(応募者名簿!A987)","v":""},{"$f":"CONCATENATE(応募者名簿!B987)","v":""},{"$f":"CONCATENATE(応募者名簿!C987)","v":""},{"$f":"CONCATENATE(応募者名簿!D987)","v":""}]
[{"$f":"応募者名簿!$B$8","v":0},{"$f":"CONCATENATE(応募者名簿!$B$11,応募者名簿!$D$11,応募者名簿!$E$11,応募者名簿!$I$11)","v":""},"条幅",{"$f":"CONCATENATE(応募者名簿!A988)","v":""},{"$f":"CONCATENATE(応募者名簿!B988)","v":""},{"$f":"CONCATENATE(応募者名簿!C988)","v":""},{"$f":"CONCATENATE(応募者名簿!D988)","v":""}]
[{"$f":"応募者名簿!$B$8","v":0},{"$f":"CONCATENATE(応募者名簿!$B$11,応募者名簿!$D$11,応募者名簿!$E$11,応募者名簿!$I$11)","v":""},"条幅",{"$f":"CONCATENATE(応募者名簿!A989)","v":""},{"$f":"CONCATENATE(応募者名簿!B989)","v":""},{"$f":"CONCATENATE(応募者名簿!C989)","v":""},{"$f":"CONCATENATE(応募者名簿!D989)","v":""}]
[{"$f":"応募者名簿!$B$8","v":0},{"$f":"CONCATENATE(応募者名簿!$B$11,応募者名簿!$D$11,応募者名簿!$E$11,応募者名簿!$I$11)","v":""},"条幅",{"$f":"CONCATENATE(応募者名簿!A990)","v":""},{"$f":"CONCATENATE(応募者名簿!B990)","v":""},{"$f":"CONCATENATE(応募者名簿!C990)","v":""},{"$f":"CONCATENATE(応募者名簿!D990)","v":""}]
[{"$f":"応募者名簿!$B$8","v":0},{"$f":"CONCATENATE(応募者名簿!$B$11,応募者名簿!$D$11,応募者名簿!$E$11,応募者名簿!$I$11)","v":""},"条幅",{"$f":"CONCATENATE(応募者名簿!A991)","v":""},{"$f":"CONCATENATE(応募者名簿!B991)","v":""},{"$f":"CONCATENATE(応募者名簿!C991)","v":""},{"$f":"CONCATENATE(応募者名簿!D991)","v":""}]
[{"$f":"応募者名簿!$B$8","v":0},{"$f":"CONCATENATE(応募者名簿!$B$11,応募者名簿!$D$11,応募者名簿!$E$11,応募者名簿!$I$11)","v":""},"条幅",{"$f":"CONCATENATE(応募者名簿!A992)","v":""},{"$f":"CONCATENATE(応募者名簿!B992)","v":""},{"$f":"CONCATENATE(応募者名簿!C992)","v":""},{"$f":"CONCATENATE(応募者名簿!D992)","v":""}]
[{"$f":"応募者名簿!$B$8","v":0},{"$f":"CONCATENATE(応募者名簿!$B$11,応募者名簿!$D$11,応募者名簿!$E$11,応募者名簿!$I$11)","v":""},"条幅",{"$f":"CONCATENATE(応募者名簿!A993)","v":""},{"$f":"CONCATENATE(応募者名簿!B993)","v":""},{"$f":"CONCATENATE(応募者名簿!C993)","v":""},{"$f":"CONCATENATE(応募者名簿!D993)","v":""}]
[{"$f":"応募者名簿!$B$8","v":0},{"$f":"CONCATENATE(応募者名簿!$B$11,応募者名簿!$D$11,応募者名簿!$E$11,応募者名簿!$I$11)","v":""},"条幅",{"$f":"CONCATENATE(応募者名簿!A994)","v":""},{"$f":"CONCATENATE(応募者名簿!B994)","v":""},{"$f":"CONCATENATE(応募者名簿!C994)","v":""},{"$f":"CONCATENATE(応募者名簿!D994)","v":""}]
[{"$f":"応募者名簿!$B$8","v":0},{"$f":"CONCATENATE(応募者名簿!$B$11,応募者名簿!$D$11,応募者名簿!$E$11,応募者名簿!$I$11)","v":""},"条幅",{"$f":"CONCATENATE(応募者名簿!A995)","v":""},{"$f":"CONCATENATE(応募者名簿!B995)","v":""},{"$f":"CONCATENATE(応募者名簿!C995)","v":""},{"$f":"CONCATENATE(応募者名簿!D995)","v":""}]
[{"$f":"応募者名簿!$B$8","v":0},{"$f":"CONCATENATE(応募者名簿!$B$11,応募者名簿!$D$11,応募者名簿!$E$11,応募者名簿!$I$11)","v":""},"条幅",{"$f":"CONCATENATE(応募者名簿!A996)","v":""},{"$f":"CONCATENATE(応募者名簿!B996)","v":""},{"$f":"CONCATENATE(応募者名簿!C996)","v":""},{"$f":"CONCATENATE(応募者名簿!D996)","v":""}]
[{"$f":"応募者名簿!$B$8","v":0},{"$f":"CONCATENATE(応募者名簿!$B$11,応募者名簿!$D$11,応募者名簿!$E$11,応募者名簿!$I$11)","v":""},"条幅",{"$f":"CONCATENATE(応募者名簿!A997)","v":""},{"$f":"CONCATENATE(応募者名簿!B997)","v":""},{"$f":"CONCATENATE(応募者名簿!C997)","v":""},{"$f":"CONCATENATE(応募者名簿!D997)","v":""}]
[{"$f":"応募者名簿!$B$8","v":0},{"$f":"CONCATENATE(応募者名簿!$B$11,応募者名簿!$D$11,応募者名簿!$E$11,応募者名簿!$I$11)","v":""},"条幅",{"$f":"CONCATENATE(応募者名簿!A998)","v":""},{"$f":"CONCATENATE(応募者名簿!B998)","v":""},{"$f":"CONCATENATE(応募者名簿!C998)","v":""},{"$f":"CONCATENATE(応募者名簿!D998)","v":""}]
[{"$f":"応募者名簿!$B$8","v":0},{"$f":"CONCATENATE(応募者名簿!$B$11,応募者名簿!$D$11,応募者名簿!$E$11,応募者名簿!$I$11)","v":""},"条幅",{"$f":"CONCATENATE(応募者名簿!A999)","v":""},{"$f":"CONCATENATE(応募者名簿!B999)","v":""},{"$f":"CONCATENATE(応募者名簿!C999)","v":""},{"$f":"CONCATENATE(応募者名簿!D999)","v":""}]
[{"$f":"応募者名簿!$B$8","v":0},{"$f":"CONCATENATE(応募者名簿!$B$11,応募者名簿!$D$11,応募者名簿!$E$11,応募者名簿!$I$11)","v":""},"条幅",{"$f":"CONCATENATE(応募者名簿!A1000)","v":""},{"$f":"CONCATENATE(応募者名簿!B1000)","v":""},{"$f":"CONCATENATE(応募者名簿!C1000)","v":""},{"$f":"CONCATENATE(応募者名簿!D1000)","v":""}]
[{"$f":"応募者名簿!$B$8","v":0},{"$f":"CONCATENATE(応募者名簿!$B$11,応募者名簿!$D$11,応募者名簿!$E$11,応募者名簿!$I$11)","v":""},"条幅",{"$f":"CONCATENATE(応募者名簿!A1001)","v":""},{"$f":"CONCATENATE(応募者名簿!B1001)","v":""},{"$f":"CONCATENATE(応募者名簿!C1001)","v":""},{"$f":"CONCATENATE(応募者名簿!D1001)","v":""}]
[{"$f":"応募者名簿!$B$8","v":0},{"$f":"CONCATENATE(応募者名簿!$B$11,応募者名簿!$D$11,応募者名簿!$E$11,応募者名簿!$I$11)","v":""},"条幅",{"$f":"CONCATENATE(応募者名簿!A1002)","v":""},{"$f":"CONCATENATE(応募者名簿!B1002)","v":""},{"$f":"CONCATENATE(応募者名簿!C1002)","v":""},{"$f":"CONCATENATE(応募者名簿!D1002)","v":""}]
[{"$f":"応募者名簿!$B$8","v":0},{"$f":"CONCATENATE(応募者名簿!$B$11,応募者名簿!$D$11,応募者名簿!$E$11,応募者名簿!$I$11)","v":""},"条幅",{"$f":"CONCATENATE(応募者名簿!A1003)","v":""},{"$f":"CONCATENATE(応募者名簿!B1003)","v":""},{"$f":"CONCATENATE(応募者名簿!C1003)","v":""},{"$f":"CONCATENATE(応募者名簿!D1003)","v":""}]
[{"$f":"応募者名簿!$B$8","v":0},{"$f":"CONCATENATE(応募者名簿!$B$11,応募者名簿!$D$11,応募者名簿!$E$11,応募者名簿!$I$11)","v":""},"条幅",{"$f":"CONCATENATE(応募者名簿!A1004)","v":""},{"$f":"CONCATENATE(応募者名簿!B1004)","v":""},{"$f":"CONCATENATE(応募者名簿!C1004)","v":""},{"$f":"CONCATENATE(応募者名簿!D1004)","v":""}]
[{"$f":"応募者名簿!$B$8","v":0},{"$f":"CONCATENATE(応募者名簿!$B$11,応募者名簿!$D$11,応募者名簿!$E$11,応募者名簿!$I$11)","v":""},"条幅",{"$f":"CONCATENATE(応募者名簿!A1005)","v":""},{"$f":"CONCATENATE(応募者名簿!B1005)","v":""},{"$f":"CONCATENATE(応募者名簿!C1005)","v":""},{"$f":"CONCATENATE(応募者名簿!D1005)","v":""}]
[{"$f":"応募者名簿!$B$8","v":0},{"$f":"CONCATENATE(応募者名簿!$B$11,応募者名簿!$D$11,応募者名簿!$E$11,応募者名簿!$I$11)","v":""},"条幅",{"$f":"CONCATENATE(応募者名簿!A1006)","v":""},{"$f":"CONCATENATE(応募者名簿!B1006)","v":""},{"$f":"CONCATENATE(応募者名簿!C1006)","v":""},{"$f":"CONCATENATE(応募者名簿!D1006)","v":""}]
[{"$f":"応募者名簿!$B$8","v":0},{"$f":"CONCATENATE(応募者名簿!$B$11,応募者名簿!$D$11,応募者名簿!$E$11,応募者名簿!$I$11)","v":""},"条幅",{"$f":"CONCATENATE(応募者名簿!A1007)","v":""},{"$f":"CONCATENATE(応募者名簿!B1007)","v":""},{"$f":"CONCATENATE(応募者名簿!C1007)","v":""},{"$f":"CONCATENATE(応募者名簿!D1007)","v":""}]
[{"$f":"応募者名簿!$B$8","v":0},{"$f":"CONCATENATE(応募者名簿!$B$11,応募者名簿!$D$11,応募者名簿!$E$11,応募者名簿!$I$11)","v":""},"条幅",{"$f":"CONCATENATE(応募者名簿!A1008)","v":""},{"$f":"CONCATENATE(応募者名簿!B1008)","v":""},{"$f":"CONCATENATE(応募者名簿!C1008)","v":""},{"$f":"CONCATENATE(応募者名簿!D1008)","v":""}]
[{"$f":"応募者名簿!$B$8","v":0},{"$f":"CONCATENATE(応募者名簿!$B$11,応募者名簿!$D$11,応募者名簿!$E$11,応募者名簿!$I$11)","v":""},"条幅",{"$f":"CONCATENATE(応募者名簿!A1009)","v":""},{"$f":"CONCATENATE(応募者名簿!B1009)","v":""},{"$f":"CONCATENATE(応募者名簿!C1009)","v":""},{"$f":"CONCATENATE(応募者名簿!D1009)","v":""}]
[{"$f":"応募者名簿!$B$8","v":0},{"$f":"CONCATENATE(応募者名簿!$B$11,応募者名簿!$D$11,応募者名簿!$E$11,応募者名簿!$I$11)","v":""},"条幅",{"$f":"CONCATENATE(応募者名簿!A1010)","v":""},{"$f":"CONCATENATE(応募者名簿!B1010)","v":""},{"$f":"CONCATENATE(応募者名簿!C1010)","v":""},{"$f":"CONCATENATE(応募者名簿!D1010)","v":""}]
[{"$f":"応募者名簿!$B$8","v":0},{"$f":"CONCATENATE(応募者名簿!$B$11,応募者名簿!$D$11,応募者名簿!$E$11,応募者名簿!$I$11)","v":""},"条幅",{"$f":"CONCATENATE(応募者名簿!A1011)","v":""},{"$f":"CONCATENATE(応募者名簿!B1011)","v":""},{"$f":"CONCATENATE(応募者名簿!C1011)","v":""},{"$f":"CONCATENATE(応募者名簿!D1011)","v":""}]
[{"$f":"応募者名簿!$B$8","v":0},{"$f":"CONCATENATE(応募者名簿!$B$11,応募者名簿!$D$11,応募者名簿!$E$11,応募者名簿!$I$11)","v":""},"条幅",{"$f":"CONCATENATE(応募者名簿!A1012)","v":""},{"$f":"CONCATENATE(応募者名簿!B1012)","v":""},{"$f":"CONCATENATE(応募者名簿!C1012)","v":""},{"$f":"CONCATENATE(応募者名簿!D1012)","v":""}]
[{"$f":"応募者名簿!$B$8","v":0},{"$f":"CONCATENATE(応募者名簿!$B$11,応募者名簿!$D$11,応募者名簿!$E$11,応募者名簿!$I$11)","v":""},"条幅",{"$f":"CONCATENATE(応募者名簿!A1013)","v":""},{"$f":"CONCATENATE(応募者名簿!B1013)","v":""},{"$f":"CONCATENATE(応募者名簿!C1013)","v":""},{"$f":"CONCATENATE(応募者名簿!D1013)","v":""}]
[{"$f":"応募者名簿!$B$8","v":0},{"$f":"CONCATENATE(応募者名簿!$B$11,応募者名簿!$D$11,応募者名簿!$E$11,応募者名簿!$I$11)","v":""},"条幅",{"$f":"CONCATENATE(応募者名簿!A1014)","v":""},{"$f":"CONCATENATE(応募者名簿!B1014)","v":""},{"$f":"CONCATENATE(応募者名簿!C1014)","v":""},{"$f":"CONCATENATE(応募者名簿!D1014)","v":""}]
[{"$f":"応募者名簿!$B$8","v":0},{"$f":"CONCATENATE(応募者名簿!$B$11,応募者名簿!$D$11,応募者名簿!$E$11,応募者名簿!$I$11)","v":""},"条幅",{"$f":"CONCATENATE(応募者名簿!A1015)","v":""},{"$f":"CONCATENATE(応募者名簿!B1015)","v":""},{"$f":"CONCATENATE(応募者名簿!C1015)","v":""},{"$f":"CONCATENATE(応募者名簿!D1015)","v":""}]
[{"$f":"応募者名簿!$B$8","v":0},{"$f":"CONCATENATE(応募者名簿!$B$11,応募者名簿!$D$11,応募者名簿!$E$11,応募者名簿!$I$11)","v":""},"条幅",{"$f":"CONCATENATE(応募者名簿!A1016)","v":""},{"$f":"CONCATENATE(応募者名簿!B1016)","v":""},{"$f":"CONCATENATE(応募者名簿!C1016)","v":""},{"$f":"CONCATENATE(応募者名簿!D1016)","v":""}]
[{"$f":"応募者名簿!$B$8","v":0},{"$f":"CONCATENATE(応募者名簿!$B$11,応募者名簿!$D$11,応募者名簿!$E$11,応募者名簿!$I$11)","v":""},"条幅",{"$f":"CONCATENATE(応募者名簿!A1017)","v":""},{"$f":"CONCATENATE(応募者名簿!B1017)","v":""},{"$f":"CONCATENATE(応募者名簿!C1017)","v":""},{"$f":"CONCATENATE(応募者名簿!D1017)","v":""}]
[{"$f":"応募者名簿!$B$8","v":0},{"$f":"CONCATENATE(応募者名簿!$B$11,応募者名簿!$D$11,応募者名簿!$E$11,応募者名簿!$I$11)","v":""},"条幅",{"$f":"CONCATENATE(応募者名簿!#REF!)","v":{"$error":"#REF!"}},{"$f":"CONCATENATE(応募者名簿!#REF!)","v":{"$error":"#REF!"}},{"$f":"CONCATENATE(応募者名簿!#REF!)","v":{"$error":"#REF!"}},{"$f":"CONCATENATE(応募者名簿!#REF!)","v":{"$error":"#REF!"}}]
[{"$f":"応募者名簿!$B$8","v":0},{"$f":"CONCATENATE(応募者名簿!$B$11,応募者名簿!$D$11,応募者名簿!$E$11,応募者名簿!$I$11)","v":""},"半紙",{"$f":"CONCATENATE(応募者名簿!F18)","v":""},{"$f":"CONCATENATE(応募者名簿!G18)","v":""},{"$f":"CONCATENATE(応募者名簿!H18)","v":""},{"$f":"CONCATENATE(応募者名簿!I18)","v":""}]
[{"$f":"応募者名簿!$B$8","v":0},{"$f":"CONCATENATE(応募者名簿!$B$11,応募者名簿!$D$11,応募者名簿!$E$11,応募者名簿!$I$11)","v":""},"半紙",{"$f":"CONCATENATE(応募者名簿!F19)","v":""},{"$f":"CONCATENATE(応募者名簿!G19)","v":""},{"$f":"CONCATENATE(応募者名簿!H19)","v":""},{"$f":"CONCATENATE(応募者名簿!I19)","v":""}]
[{"$f":"応募者名簿!$B$8","v":0},{"$f":"CONCATENATE(応募者名簿!$B$11,応募者名簿!$D$11,応募者名簿!$E$11,応募者名簿!$I$11)","v":""},"半紙",{"$f":"CONCATENATE(応募者名簿!F20)","v":""},{"$f":"CONCATENATE(応募者名簿!G20)","v":""},{"$f":"CONCATENATE(応募者名簿!H20)","v":""},{"$f":"CONCATENATE(応募者名簿!I20)","v":""}]
[{"$f":"応募者名簿!$B$8","v":0},{"$f":"CONCATENATE(応募者名簿!$B$11,応募者名簿!$D$11,応募者名簿!$E$11,応募者名簿!$I$11)","v":""},"半紙",{"$f":"CONCATENATE(応募者名簿!F21)","v":""},{"$f":"CONCATENATE(応募者名簿!G21)","v":""},{"$f":"CONCATENATE(応募者名簿!H21)","v":""},{"$f":"CONCATENATE(応募者名簿!I21)","v":""}]
[{"$f":"応募者名簿!$B$8","v":0},{"$f":"CONCATENATE(応募者名簿!$B$11,応募者名簿!$D$11,応募者名簿!$E$11,応募者名簿!$I$11)","v":""},"半紙",{"$f":"CONCATENATE(応募者名簿!F22)","v":""},{"$f":"CONCATENATE(応募者名簿!G22)","v":""},{"$f":"CONCATENATE(応募者名簿!H22)","v":""},{"$f":"CONCATENATE(応募者名簿!I22)","v":""}]
[{"$f":"応募者名簿!$B$8","v":0},{"$f":"CONCATENATE(応募者名簿!$B$11,応募者名簿!$D$11,応募者名簿!$E$11,応募者名簿!$I$11)","v":""},"半紙",{"$f":"CONCATENATE(応募者名簿!F23)","v":""},{"$f":"CONCATENATE(応募者名簿!G23)","v":""},{"$f":"CONCATENATE(応募者名簿!H23)","v":""},{"$f":"CONCATENATE(応募者名簿!I23)","v":""}]
[{"$f":"応募者名簿!$B$8","v":0},{"$f":"CONCATENATE(応募者名簿!$B$11,応募者名簿!$D$11,応募者名簿!$E$11,応募者名簿!$I$11)","v":""},"半紙",{"$f":"CONCATENATE(応募者名簿!F24)","v":""},{"$f":"CONCATENATE(応募者名簿!G24)","v":""},{"$f":"CONCATENATE(応募者名簿!H24)","v":""},{"$f":"CONCATENATE(応募者名簿!I24)","v":""}]
[{"$f":"応募者名簿!$B$8","v":0},{"$f":"CONCATENATE(応募者名簿!$B$11,応募者名簿!$D$11,応募者名簿!$E$11,応募者名簿!$I$11)","v":""},"半紙",{"$f":"CONCATENATE(応募者名簿!F25)","v":""},{"$f":"CONCATENATE(応募者名簿!G25)","v":""},{"$f":"CONCATENATE(応募者名簿!H25)","v":""},{"$f":"CONCATENATE(応募者名簿!I25)","v":""}]
[{"$f":"応募者名簿!$B$8","v":0},{"$f":"CONCATENATE(応募者名簿!$B$11,応募者名簿!$D$11,応募者名簿!$E$11,応募者名簿!$I$11)","v":""},"半紙",{"$f":"CONCATENATE(応募者名簿!F26)","v":""},{"$f":"CONCATENATE(応募者名簿!G26)","v":""},{"$f":"CONCATENATE(応募者名簿!H26)","v":""},{"$f":"CONCATENATE(応募者名簿!I26)","v":""}]
[{"$f":"応募者名簿!$B$8","v":0},{"$f":"CONCATENATE(応募者名簿!$B$11,応募者名簿!$D$11,応募者名簿!$E$11,応募者名簿!$I$11)","v":""},"半紙",{"$f":"CONCATENATE(応募者名簿!F27)","v":""},{"$f":"CONCATENATE(応募者名簿!G27)","v":""},{"$f":"CONCATENATE(応募者名簿!H27)","v":""},{"$f":"CONCATENATE(応募者名簿!I27)","v":""}]
[{"$f":"応募者名簿!$B$8","v":0},{"$f":"CONCATENATE(応募者名簿!$B$11,応募者名簿!$D$11,応募者名簿!$E$11,応募者名簿!$I$11)","v":""},"半紙",{"$f":"CONCATENATE(応募者名簿!F28)","v":""},{"$f":"CONCATENATE(応募者名簿!G28)","v":""},{"$f":"CONCATENATE(応募者名簿!H28)","v":""},{"$f":"CONCATENATE(応募者名簿!I28)","v":""}]
[{"$f":"応募者名簿!$B$8","v":0},{"$f":"CONCATENATE(応募者名簿!$B$11,応募者名簿!$D$11,応募者名簿!$E$11,応募者名簿!$I$11)","v":""},"半紙",{"$f":"CONCATENATE(応募者名簿!F29)","v":""},{"$f":"CONCATENATE(応募者名簿!G29)","v":""},{"$f":"CONCATENATE(応募者名簿!H29)","v":""},{"$f":"CONCATENATE(応募者名簿!I29)","v":""}]
[{"$f":"応募者名簿!$B$8","v":0},{"$f":"CONCATENATE(応募者名簿!$B$11,応募者名簿!$D$11,応募者名簿!$E$11,応募者名簿!$I$11)","v":""},"半紙",{"$f":"CONCATENATE(応募者名簿!F30)","v":""},{"$f":"CONCATENATE(応募者名簿!G30)","v":""},{"$f":"CONCATENATE(応募者名簿!H30)","v":""},{"$f":"CONCATENATE(応募者名簿!I30)","v":""}]
[{"$f":"応募者名簿!$B$8","v":0},{"$f":"CONCATENATE(応募者名簿!$B$11,応募者名簿!$D$11,応募者名簿!$E$11,応募者名簿!$I$11)","v":""},"半紙",{"$f":"CONCATENATE(応募者名簿!F31)","v":""},{"$f":"CONCATENATE(応募者名簿!G31)","v":""},{"$f":"CONCATENATE(応募者名簿!H31)","v":""},{"$f":"CONCATENATE(応募者名簿!I31)","v":""}]
[{"$f":"応募者名簿!$B$8","v":0},{"$f":"CONCATENATE(応募者名簿!$B$11,応募者名簿!$D$11,応募者名簿!$E$11,応募者名簿!$I$11)","v":""},"半紙",{"$f":"CONCATENATE(応募者名簿!F32)","v":""},{"$f":"CONCATENATE(応募者名簿!G32)","v":""},{"$f":"CONCATENATE(応募者名簿!H32)","v":""},{"$f":"CONCATENATE(応募者名簿!I32)","v":""}]
[{"$f":"応募者名簿!$B$8","v":0},{"$f":"CONCATENATE(応募者名簿!$B$11,応募者名簿!$D$11,応募者名簿!$E$11,応募者名簿!$I$11)","v":""},"半紙",{"$f":"CONCATENATE(応募者名簿!F33)","v":""},{"$f":"CONCATENATE(応募者名簿!G33)","v":""},{"$f":"CONCATENATE(応募者名簿!H33)","v":""},{"$f":"CONCATENATE(応募者名簿!I33)","v":""}]
[{"$f":"応募者名簿!$B$8","v":0},{"$f":"CONCATENATE(応募者名簿!$B$11,応募者名簿!$D$11,応募者名簿!$E$11,応募者名簿!$I$11)","v":""},"半紙",{"$f":"CONCATENATE(応募者名簿!F34)","v":""},{"$f":"CONCATENATE(応募者名簿!G34)","v":""},{"$f":"CONCATENATE(応募者名簿!H34)","v":""},{"$f":"CONCATENATE(応募者名簿!I34)","v":""}]
[{"$f":"応募者名簿!$B$8","v":0},{"$f":"CONCATENATE(応募者名簿!$B$11,応募者名簿!$D$11,応募者名簿!$E$11,応募者名簿!$I$11)","v":""},"半紙",{"$f":"CONCATENATE(応募者名簿!F35)","v":""},{"$f":"CONCATENATE(応募者名簿!G35)","v":""},{"$f":"CONCATENATE(応募者名簿!H35)","v":""},{"$f":"CONCATENATE(応募者名簿!I35)","v":""}]
[{"$f":"応募者名簿!$B$8","v":0},{"$f":"CONCATENATE(応募者名簿!$B$11,応募者名簿!$D$11,応募者名簿!$E$11,応募者名簿!$I$11)","v":""},"半紙",{"$f":"CONCATENATE(応募者名簿!F36)","v":""},{"$f":"CONCATENATE(応募者名簿!G36)","v":""},{"$f":"CONCATENATE(応募者名簿!H36)","v":""},{"$f":"CONCATENATE(応募者名簿!I36)","v":""}]
[{"$f":"応募者名簿!$B$8","v":0},{"$f":"CONCATENATE(応募者名簿!$B$11,応募者名簿!$D$11,応募者名簿!$E$11,応募者名簿!$I$11)","v":""},"半紙",{"$f":"CONCATENATE(応募者名簿!F37)","v":""},{"$f":"CONCATENATE(応募者名簿!G37)","v":""},{"$f":"CONCATENATE(応募者名簿!H37)","v":""},{"$f":"CONCATENATE(応募者名簿!I37)","v":""}]
[{"$f":"応募者名簿!$B$8","v":0},{"$f":"CONCATENATE(応募者名簿!$B$11,応募者名簿!$D$11,応募者名簿!$E$11,応募者名簿!$I$11)","v":""},"半紙",{"$f":"CONCATENATE(応募者名簿!F38)","v":""},{"$f":"CONCATENATE(応募者名簿!G38)","v":""},{"$f":"CONCATENATE(応募者名簿!H38)","v":""},{"$f":"CONCATENATE(応募者名簿!I38)","v":""}]
[{"$f":"応募者名簿!$B$8","v":0},{"$f":"CONCATENATE(応募者名簿!$B$11,応募者名簿!$D$11,応募者名簿!$E$11,応募者名簿!$I$11)","v":""},"半紙",{"$f":"CONCATENATE(応募者名簿!F39)","v":""},{"$f":"CONCATENATE(応募者名簿!G39)","v":""},{"$f":"CONCATENATE(応募者名簿!H39)","v":""},{"$f":"CONCATENATE(応募者名簿!I39)","v":""}]
[{"$f":"応募者名簿!$B$8","v":0},{"$f":"CONCATENATE(応募者名簿!$B$11,応募者名簿!$D$11,応募者名簿!$E$11,応募者名簿!$I$11)","v":""},"半紙",{"$f":"CONCATENATE(応募者名簿!F40)","v":""},{"$f":"CONCATENATE(応募者名簿!G40)","v":""},{"$f":"CONCATENATE(応募者名簿!H40)","v":""},{"$f":"CONCATENATE(応募者名簿!I40)","v":""}]
[{"$f":"応募者名簿!$B$8","v":0},{"$f":"CONCATENATE(応募者名簿!$B$11,応募者名簿!$D$11,応募者名簿!$E$11,応募者名簿!$I$11)","v":""},"半紙",{"$f":"CONCATENATE(応募者名簿!F41)","v":""},{"$f":"CONCATENATE(応募者名簿!G41)","v":""},{"$f":"CONCATENATE(応募者名簿!H41)","v":""},{"$f":"CONCATENATE(応募者名簿!I41)","v":""}]
[{"$f":"応募者名簿!$B$8","v":0},{"$f":"CONCATENATE(応募者名簿!$B$11,応募者名簿!$D$11,応募者名簿!$E$11,応募者名簿!$I$11)","v":""},"半紙",{"$f":"CONCATENATE(応募者名簿!F42)","v":""},{"$f":"CONCATENATE(応募者名簿!G42)","v":""},{"$f":"CONCATENATE(応募者名簿!H42)","v":""},{"$f":"CONCATENATE(応募者名簿!I42)","v":""}]
[{"$f":"応募者名簿!$B$8","v":0},{"$f":"CONCATENATE(応募者名簿!$B$11,応募者名簿!$D$11,応募者名簿!$E$11,応募者名簿!$I$11)","v":""},"半紙",{"$f":"CONCATENATE(応募者名簿!F43)","v":""},{"$f":"CONCATENATE(応募者名簿!G43)","v":""},{"$f":"CONCATENATE(応募者名簿!H43)","v":""},{"$f":"CONCATENATE(応募者名簿!I43)","v":""}]
[{"$f":"応募者名簿!$B$8","v":0},{"$f":"CONCATENATE(応募者名簿!$B$11,応募者名簿!$D$11,応募者名簿!$E$11,応募者名簿!$I$11)","v":""},"半紙",{"$f":"CONCATENATE(応募者名簿!F44)","v":""},{"$f":"CONCATENATE(応募者名簿!G44)","v":""},{"$f":"CONCATENATE(応募者名簿!H44)","v":""},{"$f":"CONCATENATE(応募者名簿!I44)","v":""}]
[{"$f":"応募者名簿!$B$8","v":0},{"$f":"CONCATENATE(応募者名簿!$B$11,応募者名簿!$D$11,応募者名簿!$E$11,応募者名簿!$I$11)","v":""},"半紙",{"$f":"CONCATENATE(応募者名簿!F45)","v":""},{"$f":"CONCATENATE(応募者名簿!G45)","v":""},{"$f":"CONCATENATE(応募者名簿!H45)","v":""},{"$f":"CONCATENATE(応募者名簿!I45)","v":""}]
[{"$f":"応募者名簿!$B$8","v":0},{"$f":"CONCATENATE(応募者名簿!$B$11,応募者名簿!$D$11,応募者名簿!$E$11,応募者名簿!$I$11)","v":""},"半紙",{"$f":"CONCATENATE(応募者名簿!F46)","v":""},{"$f":"CONCATENATE(応募者名簿!G46)","v":""},{"$f":"CONCATENATE(応募者名簿!H46)","v":""},{"$f":"CONCATENATE(応募者名簿!I46)","v":""}]
[{"$f":"応募者名簿!$B$8","v":0},{"$f":"CONCATENATE(応募者名簿!$B$11,応募者名簿!$D$11,応募者名簿!$E$11,応募者名簿!$I$11)","v":""},"半紙",{"$f":"CONCATENATE(応募者名簿!F47)","v":""},{"$f":"CONCATENATE(応募者名簿!G47)","v":""},{"$f":"CONCATENATE(応募者名簿!H47)","v":""},{"$f":"CONCATENATE(応募者名簿!I47)","v":""}]
[{"$f":"応募者名簿!$B$8","v":0},{"$f":"CONCATENATE(応募者名簿!$B$11,応募者名簿!$D$11,応募者名簿!$E$11,応募者名簿!$I$11)","v":""},"半紙",{"$f":"CONCATENATE(応募者名簿!F48)","v":""},{"$f":"CONCATENATE(応募者名簿!G48)","v":""},{"$f":"CONCATENATE(応募者名簿!H48)","v":""},{"$f":"CONCATENATE(応募者名簿!I48)","v":""}]
[{"$f":"応募者名簿!$B$8","v":0},{"$f":"CONCATENATE(応募者名簿!$B$11,応募者名簿!$D$11,応募者名簿!$E$11,応募者名簿!$I$11)","v":""},"半紙",{"$f":"CONCATENATE(応募者名簿!F49)","v":""},{"$f":"CONCATENATE(応募者名簿!G49)","v":""},{"$f":"CONCATENATE(応募者名簿!H49)","v":""},{"$f":"CONCATENATE(応募者名簿!I49)","v":""}]
[{"$f":"応募者名簿!$B$8","v":0},{"$f":"CONCATENATE(応募者名簿!$B$11,応募者名簿!$D$11,応募者名簿!$E$11,応募者名簿!$I$11)","v":""},"半紙",{"$f":"CONCATENATE(応募者名簿!F50)","v":""},{"$f":"CONCATENATE(応募者名簿!G50)","v":""},{"$f":"CONCATENATE(応募者名簿!H50)","v":""},{"$f":"CONCATENATE(応募者名簿!I50)","v":""}]
[{"$f":"応募者名簿!$B$8","v":0},{"$f":"CONCATENATE(応募者名簿!$B$11,応募者名簿!$D$11,応募者名簿!$E$11,応募者名簿!$I$11)","v":""},"半紙",{"$f":"CONCATENATE(応募者名簿!F51)","v":""},{"$f":"CONCATENATE(応募者名簿!G51)","v":""},{"$f":"CONCATENATE(応募者名簿!H51)","v":""},{"$f":"CONCATENATE(応募者名簿!I51)","v":""}]
[{"$f":"応募者名簿!$B$8","v":0},{"$f":"CONCATENATE(応募者名簿!$B$11,応募者名簿!$D$11,応募者名簿!$E$11,応募者名簿!$I$11)","v":""},"半紙",{"$f":"CONCATENATE(応募者名簿!F52)","v":""},{"$f":"CONCATENATE(応募者名簿!G52)","v":""},{"$f":"CONCATENATE(応募者名簿!H52)","v":""},{"$f":"CONCATENATE(応募者名簿!I52)","v":""}]
[{"$f":"応募者名簿!$B$8","v":0},{"$f":"CONCATENATE(応募者名簿!$B$11,応募者名簿!$D$11,応募者名簿!$E$11,応募者名簿!$I$11)","v":""},"半紙",{"$f":"CONCATENATE(応募者名簿!F53)","v":""},{"$f":"CONCATENATE(応募者名簿!G53)","v":""},{"$f":"CONCATENATE(応募者名簿!H53)","v":""},{"$f":"CONCATENATE(応募者名簿!I53)","v":""}]
[{"$f":"応募者名簿!$B$8","v":0},{"$f":"CONCATENATE(応募者名簿!$B$11,応募者名簿!$D$11,応募者名簿!$E$11,応募者名簿!$I$11)","v":""},"半紙",{"$f":"CONCATENATE(応募者名簿!F54)","v":""},{"$f":"CONCATENATE(応募者名簿!G54)","v":""},{"$f":"CONCATENATE(応募者名簿!H54)","v":""},{"$f":"CONCATENATE(応募者名簿!I54)","v":""}]
[{"$f":"応募者名簿!$B$8","v":0},{"$f":"CONCATENATE(応募者名簿!$B$11,応募者名簿!$D$11,応募者名簿!$E$11,応募者名簿!$I$11)","v":""},"半紙",{"$f":"CONCATENATE(応募者名簿!F55)","v":""},{"$f":"CONCATENATE(応募者名簿!G55)","v":""},{"$f":"CONCATENATE(応募者名簿!H55)","v":""},{"$f":"CONCATENATE(応募者名簿!I55)","v":""}]
[{"$f":"応募者名簿!$B$8","v":0},{"$f":"CONCATENATE(応募者名簿!$B$11,応募者名簿!$D$11,応募者名簿!$E$11,応募者名簿!$I$11)","v":""},"半紙",{"$f":"CONCATENATE(応募者名簿!F56)","v":""},{"$f":"CONCATENATE(応募者名簿!G56)","v":""},{"$f":"CONCATENATE(応募者名簿!H56)","v":""},{"$f":"CONCATENATE(応募者名簿!I56)","v":""}]
[{"$f":"応募者名簿!$B$8","v":0},{"$f":"CONCATENATE(応募者名簿!$B$11,応募者名簿!$D$11,応募者名簿!$E$11,応募者名簿!$I$11)","v":""},"半紙",{"$f":"CONCATENATE(応募者名簿!F57)","v":""},{"$f":"CONCATENATE(応募者名簿!G57)","v":""},{"$f":"CONCATENATE(応募者名簿!H57)","v":""},{"$f":"CONCATENATE(応募者名簿!I57)","v":""}]
[{"$f":"応募者名簿!$B$8","v":0},{"$f":"CONCATENATE(応募者名簿!$B$11,応募者名簿!$D$11,応募者名簿!$E$11,応募者名簿!$I$11)","v":""},"半紙",{"$f":"CONCATENATE(応募者名簿!F58)","v":""},{"$f":"CONCATENATE(応募者名簿!G58)","v":""},{"$f":"CONCATENATE(応募者名簿!H58)","v":""},{"$f":"CONCATENATE(応募者名簿!I58)","v":""}]
[{"$f":"応募者名簿!$B$8","v":0},{"$f":"CONCATENATE(応募者名簿!$B$11,応募者名簿!$D$11,応募者名簿!$E$11,応募者名簿!$I$11)","v":""},"半紙",{"$f":"CONCATENATE(応募者名簿!F59)","v":""},{"$f":"CONCATENATE(応募者名簿!G59)","v":""},{"$f":"CONCATENATE(応募者名簿!H59)","v":""},{"$f":"CONCATENATE(応募者名簿!I59)","v":""}]
[{"$f":"応募者名簿!$B$8","v":0},{"$f":"CONCATENATE(応募者名簿!$B$11,応募者名簿!$D$11,応募者名簿!$E$11,応募者名簿!$I$11)","v":""},"半紙",{"$f":"CONCATENATE(応募者名簿!F60)","v":""},{"$f":"CONCATENATE(応募者名簿!G60)","v":""},{"$f":"CONCATENATE(応募者名簿!H60)","v":""},{"$f":"CONCATENATE(応募者名簿!I60)","v":""}]
[{"$f":"応募者名簿!$B$8","v":0},{"$f":"CONCATENATE(応募者名簿!$B$11,応募者名簿!$D$11,応募者名簿!$E$11,応募者名簿!$I$11)","v":""},"半紙",{"$f":"CONCATENATE(応募者名簿!F61)","v":""},{"$f":"CONCATENATE(応募者名簿!G61)","v":""},{"$f":"CONCATENATE(応募者名簿!H61)","v":""},{"$f":"CONCATENATE(応募者名簿!I61)","v":""}]
[{"$f":"応募者名簿!$B$8","v":0},{"$f":"CONCATENATE(応募者名簿!$B$11,応募者名簿!$D$11,応募者名簿!$E$11,応募者名簿!$I$11)","v":""},"半紙",{"$f":"CONCATENATE(応募者名簿!F62)","v":""},{"$f":"CONCATENATE(応募者名簿!G62)","v":""},{"$f":"CONCATENATE(応募者名簿!H62)","v":""},{"$f":"CONCATENATE(応募者名簿!I62)","v":""}]
[{"$f":"応募者名簿!$B$8","v":0},{"$f":"CONCATENATE(応募者名簿!$B$11,応募者名簿!$D$11,応募者名簿!$E$11,応募者名簿!$I$11)","v":""},"半紙",{"$f":"CONCATENATE(応募者名簿!F63)","v":""},{"$f":"CONCATENATE(応募者名簿!G63)","v":""},{"$f":"CONCATENATE(応募者名簿!H63)","v":""},{"$f":"CONCATENATE(応募者名簿!I63)","v":""}]
[{"$f":"応募者名簿!$B$8","v":0},{"$f":"CONCATENATE(応募者名簿!$B$11,応募者名簿!$D$11,応募者名簿!$E$11,応募者名簿!$I$11)","v":""},"半紙",{"$f":"CONCATENATE(応募者名簿!F64)","v":""},{"$f":"CONCATENATE(応募者名簿!G64)","v":""},{"$f":"CONCATENATE(応募者名簿!H64)","v":""},{"$f":"CONCATENATE(応募者名簿!I64)","v":""}]
[{"$f":"応募者名簿!$B$8","v":0},{"$f":"CONCATENATE(応募者名簿!$B$11,応募者名簿!$D$11,応募者名簿!$E$11,応募者名簿!$I$11)","v":""},"半紙",{"$f":"CONCATENATE(応募者名簿!F65)","v":""},{"$f":"CONCATENATE(応募者名簿!G65)","v":""},{"$f":"CONCATENATE(応募者名簿!H65)","v":""},{"$f":"CONCATENATE(応募者名簿!I65)","v":""}]
[{"$f":"応募者名簿!$B$8","v":0},{"$f":"CONCATENATE(応募者名簿!$B$11,応募者名簿!$D$11,応募者名簿!$E$11,応募者名簿!$I$11)","v":""},"半紙",{"$f":"CONCATENATE(応募者名簿!F66)","v":""},{"$f":"CONCATENATE(応募者名簿!G66)","v":""},{"$f":"CONCATENATE(応募者名簿!H66)","v":""},{"$f":"CONCATENATE(応募者名簿!I66)","v":""}]
[{"$f":"応募者名簿!$B$8","v":0},{"$f":"CONCATENATE(応募者名簿!$B$11,応募者名簿!$D$11,応募者名簿!$E$11,応募者名簿!$I$11)","v":""},"半紙",{"$f":"CONCATENATE(応募者名簿!F67)","v":""},{"$f":"CONCATENATE(応募者名簿!G67)","v":""},{"$f":"CONCATENATE(応募者名簿!H67)","v":""},{"$f":"CONCATENATE(応募者名簿!I67)","v":""}]
[{"$f":"応募者名簿!$B$8","v":0},{"$f":"CONCATENATE(応募者名簿!$B$11,応募者名簿!$D$11,応募者名簿!$E$11,応募者名簿!$I$11)","v":""},"半紙",{"$f":"CONCATENATE(応募者名簿!F68)","v":""},{"$f":"CONCATENATE(応募者名簿!G68)","v":""},{"$f":"CONCATENATE(応募者名簿!H68)","v":""},{"$f":"CONCATENATE(応募者名簿!I68)","v":""}]
[{"$f":"応募者名簿!$B$8","v":0},{"$f":"CONCATENATE(応募者名簿!$B$11,応募者名簿!$D$11,応募者名簿!$E$11,応募者名簿!$I$11)","v":""},"半紙",{"$f":"CONCATENATE(応募者名簿!F69)","v":""},{"$f":"CONCATENATE(応募者名簿!G69)","v":""},{"$f":"CONCATENATE(応募者名簿!H69)","v":""},{"$f":"CONCATENATE(応募者名簿!I69)","v":""}]
[{"$f":"応募者名簿!$B$8","v":0},{"$f":"CONCATENATE(応募者名簿!$B$11,応募者名簿!$D$11,応募者名簿!$E$11,応募者名簿!$I$11)","v":""},"半紙",{"$f":"CONCATENATE(応募者名簿!F70)","v":""},{"$f":"CONCATENATE(応募者名簿!G70)","v":""},{"$f":"CONCATENATE(応募者名簿!H70)","v":""},{"$f":"CONCATENATE(応募者名簿!I70)","v":""}]
[{"$f":"応募者名簿!$B$8","v":0},{"$f":"CONCATENATE(応募者名簿!$B$11,応募者名簿!$D$11,応募者名簿!$E$11,応募者名簿!$I$11)","v":""},"半紙",{"$f":"CONCATENATE(応募者名簿!F71)","v":""},{"$f":"CONCATENATE(応募者名簿!G71)","v":""},{"$f":"CONCATENATE(応募者名簿!H71)","v":""},{"$f":"CONCATENATE(応募者名簿!I71)","v":""}]
[{"$f":"応募者名簿!$B$8","v":0},{"$f":"CONCATENATE(応募者名簿!$B$11,応募者名簿!$D$11,応募者名簿!$E$11,応募者名簿!$I$11)","v":""},"半紙",{"$f":"CONCATENATE(応募者名簿!F72)","v":""},{"$f":"CONCATENATE(応募者名簿!G72)","v":""},{"$f":"CONCATENATE(応募者名簿!H72)","v":""},{"$f":"CONCATENATE(応募者名簿!I72)","v":""}]
[{"$f":"応募者名簿!$B$8","v":0},{"$f":"CONCATENATE(応募者名簿!$B$11,応募者名簿!$D$11,応募者名簿!$E$11,応募者名簿!$I$11)","v":""},"半紙",{"$f":"CONCATENATE(応募者名簿!F73)","v":""},{"$f":"CONCATENATE(応募者名簿!G73)","v":""},{"$f":"CONCATENATE(応募者名簿!H73)","v":""},{"$f":"CONCATENATE(応募者名簿!I73)","v":""}]
[{"$f":"応募者名簿!$B$8","v":0},{"$f":"CONCATENATE(応募者名簿!$B$11,応募者名簿!$D$11,応募者名簿!$E$11,応募者名簿!$I$11)","v":""},"半紙",{"$f":"CONCATENATE(応募者名簿!F74)","v":""},{"$f":"CONCATENATE(応募者名簿!G74)","v":""},{"$f":"CONCATENATE(応募者名簿!H74)","v":""},{"$f":"CONCATENATE(応募者名簿!I74)","v":""}]
[{"$f":"応募者名簿!$B$8","v":0},{"$f":"CONCATENATE(応募者名簿!$B$11,応募者名簿!$D$11,応募者名簿!$E$11,応募者名簿!$I$11)","v":""},"半紙",{"$f":"CONCATENATE(応募者名簿!F75)","v":""},{"$f":"CONCATENATE(応募者名簿!G75)","v":""},{"$f":"CONCATENATE(応募者名簿!H75)","v":""},{"$f":"CONCATENATE(応募者名簿!I75)","v":""}]
[{"$f":"応募者名簿!$B$8","v":0},{"$f":"CONCATENATE(応募者名簿!$B$11,応募者名簿!$D$11,応募者名簿!$E$11,応募者名簿!$I$11)","v":""},"半紙",{"$f":"CONCATENATE(応募者名簿!F76)","v":""},{"$f":"CONCATENATE(応募者名簿!G76)","v":""},{"$f":"CONCATENATE(応募者名簿!H76)","v":""},{"$f":"CONCATENATE(応募者名簿!I76)","v":""}]
[{"$f":"応募者名簿!$B$8","v":0},{"$f":"CONCATENATE(応募者名簿!$B$11,応募者名簿!$D$11,応募者名簿!$E$11,応募者名簿!$I$11)","v":""},"半紙",{"$f":"CONCATENATE(応募者名簿!F77)","v":""},{"$f":"CONCATENATE(応募者名簿!G77)","v":""},{"$f":"CONCATENATE(応募者名簿!H77)","v":""},{"$f":"CONCATENATE(応募者名簿!I77)","v":""}]
[{"$f":"応募者名簿!$B$8","v":0},{"$f":"CONCATENATE(応募者名簿!$B$11,応募者名簿!$D$11,応募者名簿!$E$11,応募者名簿!$I$11)","v":""},"半紙",{"$f":"CONCATENATE(応募者名簿!F78)","v":""},{"$f":"CONCATENATE(応募者名簿!G78)","v":""},{"$f":"CONCATENATE(応募者名簿!H78)","v":""},{"$f":"CONCATENATE(応募者名簿!I78)","v":""}]
[{"$f":"応募者名簿!$B$8","v":0},{"$f":"CONCATENATE(応募者名簿!$B$11,応募者名簿!$D$11,応募者名簿!$E$11,応募者名簿!$I$11)","v":""},"半紙",{"$f":"CONCATENATE(応募者名簿!F79)","v":""},{"$f":"CONCATENATE(応募者名簿!G79)","v":""},{"$f":"CONCATENATE(応募者名簿!H79)","v":""},{"$f":"CONCATENATE(応募者名簿!I79)","v":""}]
[{"$f":"応募者名簿!$B$8","v":0},{"$f":"CONCATENATE(応募者名簿!$B$11,応募者名簿!$D$11,応募者名簿!$E$11,応募者名簿!$I$11)","v":""},"半紙",{"$f":"CONCATENATE(応募者名簿!F80)","v":""},{"$f":"CONCATENATE(応募者名簿!G80)","v":""},{"$f":"CONCATENATE(応募者名簿!H80)","v":""},{"$f":"CONCATENATE(応募者名簿!I80)","v":""}]
[{"$f":"応募者名簿!$B$8","v":0},{"$f":"CONCATENATE(応募者名簿!$B$11,応募者名簿!$D$11,応募者名簿!$E$11,応募者名簿!$I$11)","v":""},"半紙",{"$f":"CONCATENATE(応募者名簿!F81)","v":""},{"$f":"CONCATENATE(応募者名簿!G81)","v":""},{"$f":"CONCATENATE(応募者名簿!H81)","v":""},{"$f":"CONCATENATE(応募者名簿!I81)","v":""}]
[{"$f":"応募者名簿!$B$8","v":0},{"$f":"CONCATENATE(応募者名簿!$B$11,応募者名簿!$D$11,応募者名簿!$E$11,応募者名簿!$I$11)","v":""},"半紙",{"$f":"CONCATENATE(応募者名簿!F82)","v":""},{"$f":"CONCATENATE(応募者名簿!G82)","v":""},{"$f":"CONCATENATE(応募者名簿!H82)","v":""},{"$f":"CONCATENATE(応募者名簿!I82)","v":""}]
[{"$f":"応募者名簿!$B$8","v":0},{"$f":"CONCATENATE(応募者名簿!$B$11,応募者名簿!$D$11,応募者名簿!$E$11,応募者名簿!$I$11)","v":""},"半紙",{"$f":"CONCATENATE(応募者名簿!F83)","v":""},{"$f":"CONCATENATE(応募者名簿!G83)","v":""},{"$f":"CONCATENATE(応募者名簿!H83)","v":""},{"$f":"CONCATENATE(応募者名簿!I83)","v":""}]
[{"$f":"応募者名簿!$B$8","v":0},{"$f":"CONCATENATE(応募者名簿!$B$11,応募者名簿!$D$11,応募者名簿!$E$11,応募者名簿!$I$11)","v":""},"半紙",{"$f":"CONCATENATE(応募者名簿!F84)","v":""},{"$f":"CONCATENATE(応募者名簿!G84)","v":""},{"$f":"CONCATENATE(応募者名簿!H84)","v":""},{"$f":"CONCATENATE(応募者名簿!I84)","v":""}]
[{"$f":"応募者名簿!$B$8","v":0},{"$f":"CONCATENATE(応募者名簿!$B$11,応募者名簿!$D$11,応募者名簿!$E$11,応募者名簿!$I$11)","v":""},"半紙",{"$f":"CONCATENATE(応募者名簿!F85)","v":""},{"$f":"CONCATENATE(応募者名簿!G85)","v":""},{"$f":"CONCATENATE(応募者名簿!H85)","v":""},{"$f":"CONCATENATE(応募者名簿!I85)","v":""}]
[{"$f":"応募者名簿!$B$8","v":0},{"$f":"CONCATENATE(応募者名簿!$B$11,応募者名簿!$D$11,応募者名簿!$E$11,応募者名簿!$I$11)","v":""},"半紙",{"$f":"CONCATENATE(応募者名簿!F86)","v":""},{"$f":"CONCATENATE(応募者名簿!G86)","v":""},{"$f":"CONCATENATE(応募者名簿!H86)","v":""},{"$f":"CONCATENATE(応募者名簿!I86)","v":""}]
[{"$f":"応募者名簿!$B$8","v":0},{"$f":"CONCATENATE(応募者名簿!$B$11,応募者名簿!$D$11,応募者名簿!$E$11,応募者名簿!$I$11)","v":""},"半紙",{"$f":"CONCATENATE(応募者名簿!F87)","v":""},{"$f":"CONCATENATE(応募者名簿!G87)","v":""},{"$f":"CONCATENATE(応募者名簿!H87)","v":""},{"$f":"CONCATENATE(応募者名簿!I87)","v":""}]
[{"$f":"応募者名簿!$B$8","v":0},{"$f":"CONCATENATE(応募者名簿!$B$11,応募者名簿!$D$11,応募者名簿!$E$11,応募者名簿!$I$11)","v":""},"半紙",{"$f":"CONCATENATE(応募者名簿!F88)","v":""},{"$f":"CONCATENATE(応募者名簿!G88)","v":""},{"$f":"CONCATENATE(応募者名簿!H88)","v":""},{"$f":"CONCATENATE(応募者名簿!I88)","v":""}]
[{"$f":"応募者名簿!$B$8","v":0},{"$f":"CONCATENATE(応募者名簿!$B$11,応募者名簿!$D$11,応募者名簿!$E$11,応募者名簿!$I$11)","v":""},"半紙",{"$f":"CONCATENATE(応募者名簿!F89)","v":""},{"$f":"CONCATENATE(応募者名簿!G89)","v":""},{"$f":"CONCATENATE(応募者名簿!H89)","v":""},{"$f":"CONCATENATE(応募者名簿!I89)","v":""}]
[{"$f":"応募者名簿!$B$8","v":0},{"$f":"CONCATENATE(応募者名簿!$B$11,応募者名簿!$D$11,応募者名簿!$E$11,応募者名簿!$I$11)","v":""},"半紙",{"$f":"CONCATENATE(応募者名簿!F90)","v":""},{"$f":"CONCATENATE(応募者名簿!G90)","v":""},{"$f":"CONCATENATE(応募者名簿!H90)","v":""},{"$f":"CONCATENATE(応募者名簿!I90)","v":""}]
[{"$f":"応募者名簿!$B$8","v":0},{"$f":"CONCATENATE(応募者名簿!$B$11,応募者名簿!$D$11,応募者名簿!$E$11,応募者名簿!$I$11)","v":""},"半紙",{"$f":"CONCATENATE(応募者名簿!F91)","v":""},{"$f":"CONCATENATE(応募者名簿!G91)","v":""},{"$f":"CONCATENATE(応募者名簿!H91)","v":""},{"$f":"CONCATENATE(応募者名簿!I91)","v":""}]
[{"$f":"応募者名簿!$B$8","v":0},{"$f":"CONCATENATE(応募者名簿!$B$11,応募者名簿!$D$11,応募者名簿!$E$11,応募者名簿!$I$11)","v":""},"半紙",{"$f":"CONCATENATE(応募者名簿!F92)","v":""},{"$f":"CONCATENATE(応募者名簿!G92)","v":""},{"$f":"CONCATENATE(応募者名簿!H92)","v":""},{"$f":"CONCATENATE(応募者名簿!I92)","v":""}]
[{"$f":"応募者名簿!$B$8","v":0},{"$f":"CONCATENATE(応募者名簿!$B$11,応募者名簿!$D$11,応募者名簿!$E$11,応募者名簿!$I$11)","v":""},"半紙",{"$f":"CONCATENATE(応募者名簿!F93)","v":""},{"$f":"CONCATENATE(応募者名簿!G93)","v":""},{"$f":"CONCATENATE(応募者名簿!H93)","v":""},{"$f":"CONCATENATE(応募者名簿!I93)","v":""}]
[{"$f":"応募者名簿!$B$8","v":0},{"$f":"CONCATENATE(応募者名簿!$B$11,応募者名簿!$D$11,応募者名簿!$E$11,応募者名簿!$I$11)","v":""},"半紙",{"$f":"CONCATENATE(応募者名簿!F94)","v":""},{"$f":"CONCATENATE(応募者名簿!G94)","v":""},{"$f":"CONCATENATE(応募者名簿!H94)","v":""},{"$f":"CONCATENATE(応募者名簿!I94)","v":""}]
[{"$f":"応募者名簿!$B$8","v":0},{"$f":"CONCATENATE(応募者名簿!$B$11,応募者名簿!$D$11,応募者名簿!$E$11,応募者名簿!$I$11)","v":""},"半紙",{"$f":"CONCATENATE(応募者名簿!F95)","v":""},{"$f":"CONCATENATE(応募者名簿!G95)","v":""},{"$f":"CONCATENATE(応募者名簿!H95)","v":""},{"$f":"CONCATENATE(応募者名簿!I95)","v":""}]
[{"$f":"応募者名簿!$B$8","v":0},{"$f":"CONCATENATE(応募者名簿!$B$11,応募者名簿!$D$11,応募者名簿!$E$11,応募者名簿!$I$11)","v":""},"半紙",{"$f":"CONCATENATE(応募者名簿!F96)","v":""},{"$f":"CONCATENATE(応募者名簿!G96)","v":""},{"$f":"CONCATENATE(応募者名簿!H96)","v":""},{"$f":"CONCATENATE(応募者名簿!I96)","v":""}]
[{"$f":"応募者名簿!$B$8","v":0},{"$f":"CONCATENATE(応募者名簿!$B$11,応募者名簿!$D$11,応募者名簿!$E$11,応募者名簿!$I$11)","v":""},"半紙",{"$f":"CONCATENATE(応募者名簿!F97)","v":""},{"$f":"CONCATENATE(応募者名簿!G97)","v":""},{"$f":"CONCATENATE(応募者名簿!H97)","v":""},{"$f":"CONCATENATE(応募者名簿!I97)","v":""}]
[{"$f":"応募者名簿!$B$8","v":0},{"$f":"CONCATENATE(応募者名簿!$B$11,応募者名簿!$D$11,応募者名簿!$E$11,応募者名簿!$I$11)","v":""},"半紙",{"$f":"CONCATENATE(応募者名簿!F98)","v":""},{"$f":"CONCATENATE(応募者名簿!G98)","v":""},{"$f":"CONCATENATE(応募者名簿!H98)","v":""},{"$f":"CONCATENATE(応募者名簿!I98)","v":""}]
[{"$f":"応募者名簿!$B$8","v":0},{"$f":"CONCATENATE(応募者名簿!$B$11,応募者名簿!$D$11,応募者名簿!$E$11,応募者名簿!$I$11)","v":""},"半紙",{"$f":"CONCATENATE(応募者名簿!F99)","v":""},{"$f":"CONCATENATE(応募者名簿!G99)","v":""},{"$f":"CONCATENATE(応募者名簿!H99)","v":""},{"$f":"CONCATENATE(応募者名簿!I99)","v":""}]
[{"$f":"応募者名簿!$B$8","v":0},{"$f":"CONCATENATE(応募者名簿!$B$11,応募者名簿!$D$11,応募者名簿!$E$11,応募者名簿!$I$11)","v":""},"半紙",{"$f":"CONCATENATE(応募者名簿!F100)","v":""},{"$f":"CONCATENATE(応募者名簿!G100)","v":""},{"$f":"CONCATENATE(応募者名簿!H100)","v":""},{"$f":"CONCATENATE(応募者名簿!I100)","v":""}]
[{"$f":"応募者名簿!$B$8","v":0},{"$f":"CONCATENATE(応募者名簿!$B$11,応募者名簿!$D$11,応募者名簿!$E$11,応募者名簿!$I$11)","v":""},"半紙",{"$f":"CONCATENATE(応募者名簿!F101)","v":""},{"$f":"CONCATENATE(応募者名簿!G101)","v":""},{"$f":"CONCATENATE(応募者名簿!H101)","v":""},{"$f":"CONCATENATE(応募者名簿!I101)","v":""}]
[{"$f":"応募者名簿!$B$8","v":0},{"$f":"CONCATENATE(応募者名簿!$B$11,応募者名簿!$D$11,応募者名簿!$E$11,応募者名簿!$I$11)","v":""},"半紙",{"$f":"CONCATENATE(応募者名簿!F102)","v":""},{"$f":"CONCATENATE(応募者名簿!G102)","v":""},{"$f":"CONCATENATE(応募者名簿!H102)","v":""},{"$f":"CONCATENATE(応募者名簿!I102)","v":""}]
[{"$f":"応募者名簿!$B$8","v":0},{"$f":"CONCATENATE(応募者名簿!$B$11,応募者名簿!$D$11,応募者名簿!$E$11,応募者名簿!$I$11)","v":""},"半紙",{"$f":"CONCATENATE(応募者名簿!F103)","v":""},{"$f":"CONCATENATE(応募者名簿!G103)","v":""},{"$f":"CONCATENATE(応募者名簿!H103)","v":""},{"$f":"CONCATENATE(応募者名簿!I103)","v":""}]
[{"$f":"応募者名簿!$B$8","v":0},{"$f":"CONCATENATE(応募者名簿!$B$11,応募者名簿!$D$11,応募者名簿!$E$11,応募者名簿!$I$11)","v":""},"半紙",{"$f":"CONCATENATE(応募者名簿!F104)","v":""},{"$f":"CONCATENATE(応募者名簿!G104)","v":""},{"$f":"CONCATENATE(応募者名簿!H104)","v":""},{"$f":"CONCATENATE(応募者名簿!I104)","v":""}]
[{"$f":"応募者名簿!$B$8","v":0},{"$f":"CONCATENATE(応募者名簿!$B$11,応募者名簿!$D$11,応募者名簿!$E$11,応募者名簿!$I$11)","v":""},"半紙",{"$f":"CONCATENATE(応募者名簿!F105)","v":""},{"$f":"CONCATENATE(応募者名簿!G105)","v":""},{"$f":"CONCATENATE(応募者名簿!H105)","v":""},{"$f":"CONCATENATE(応募者名簿!I105)","v":""}]
[{"$f":"応募者名簿!$B$8","v":0},{"$f":"CONCATENATE(応募者名簿!$B$11,応募者名簿!$D$11,応募者名簿!$E$11,応募者名簿!$I$11)","v":""},"半紙",{"$f":"CONCATENATE(応募者名簿!F106)","v":""},{"$f":"CONCATENATE(応募者名簿!G106)","v":""},{"$f":"CONCATENATE(応募者名簿!H106)","v":""},{"$f":"CONCATENATE(応募者名簿!I106)","v":""}]
[{"$f":"応募者名簿!$B$8","v":0},{"$f":"CONCATENATE(応募者名簿!$B$11,応募者名簿!$D$11,応募者名簿!$E$11,応募者名簿!$I$11)","v":""},"半紙",{"$f":"CONCATENATE(応募者名簿!F107)","v":""},{"$f":"CONCATENATE(応募者名簿!G107)","v":""},{"$f":"CONCATENATE(応募者名簿!H107)","v":""},{"$f":"CONCATENATE(応募者名簿!I107)","v":""}]
[{"$f":"応募者名簿!$B$8","v":0},{"$f":"CONCATENATE(応募者名簿!$B$11,応募者名簿!$D$11,応募者名簿!$E$11,応募者名簿!$I$11)","v":""},"半紙",{"$f":"CONCATENATE(応募者名簿!F108)","v":""},{"$f":"CONCATENATE(応募者名簿!G108)","v":""},{"$f":"CONCATENATE(応募者名簿!H108)","v":""},{"$f":"CONCATENATE(応募者名簿!I108)","v":""}]
[{"$f":"応募者名簿!$B$8","v":0},{"$f":"CONCATENATE(応募者名簿!$B$11,応募者名簿!$D$11,応募者名簿!$E$11,応募者名簿!$I$11)","v":""},"半紙",{"$f":"CONCATENATE(応募者名簿!F109)","v":""},{"$f":"CONCATENATE(応募者名簿!G109)","v":""},{"$f":"CONCATENATE(応募者名簿!H109)","v":""},{"$f":"CONCATENATE(応募者名簿!I109)","v":""}]
[{"$f":"応募者名簿!$B$8","v":0},{"$f":"CONCATENATE(応募者名簿!$B$11,応募者名簿!$D$11,応募者名簿!$E$11,応募者名簿!$I$11)","v":""},"半紙",{"$f":"CONCATENATE(応募者名簿!F110)","v":""},{"$f":"CONCATENATE(応募者名簿!G110)","v":""},{"$f":"CONCATENATE(応募者名簿!H110)","v":""},{"$f":"CONCATENATE(応募者名簿!I110)","v":""}]
[{"$f":"応募者名簿!$B$8","v":0},{"$f":"CONCATENATE(応募者名簿!$B$11,応募者名簿!$D$11,応募者名簿!$E$11,応募者名簿!$I$11)","v":""},"半紙",{"$f":"CONCATENATE(応募者名簿!F111)","v":""},{"$f":"CONCATENATE(応募者名簿!G111)","v":""},{"$f":"CONCATENATE(応募者名簿!H111)","v":""},{"$f":"CONCATENATE(応募者名簿!I111)","v":""}]
[{"$f":"応募者名簿!$B$8","v":0},{"$f":"CONCATENATE(応募者名簿!$B$11,応募者名簿!$D$11,応募者名簿!$E$11,応募者名簿!$I$11)","v":""},"半紙",{"$f":"CONCATENATE(応募者名簿!F112)","v":""},{"$f":"CONCATENATE(応募者名簿!G112)","v":""},{"$f":"CONCATENATE(応募者名簿!H112)","v":""},{"$f":"CONCATENATE(応募者名簿!I112)","v":""}]
[{"$f":"応募者名簿!$B$8","v":0},{"$f":"CONCATENATE(応募者名簿!$B$11,応募者名簿!$D$11,応募者名簿!$E$11,応募者名簿!$I$11)","v":""},"半紙",{"$f":"CONCATENATE(応募者名簿!F113)","v":""},{"$f":"CONCATENATE(応募者名簿!G113)","v":""},{"$f":"CONCATENATE(応募者名簿!H113)","v":""},{"$f":"CONCATENATE(応募者名簿!I113)","v":""}]
[{"$f":"応募者名簿!$B$8","v":0},{"$f":"CONCATENATE(応募者名簿!$B$11,応募者名簿!$D$11,応募者名簿!$E$11,応募者名簿!$I$11)","v":""},"半紙",{"$f":"CONCATENATE(応募者名簿!F114)","v":""},{"$f":"CONCATENATE(応募者名簿!G114)","v":""},{"$f":"CONCATENATE(応募者名簿!H114)","v":""},{"$f":"CONCATENATE(応募者名簿!I114)","v":""}]
[{"$f":"応募者名簿!$B$8","v":0},{"$f":"CONCATENATE(応募者名簿!$B$11,応募者名簿!$D$11,応募者名簿!$E$11,応募者名簿!$I$11)","v":""},"半紙",{"$f":"CONCATENATE(応募者名簿!F115)","v":""},{"$f":"CONCATENATE(応募者名簿!G115)","v":""},{"$f":"CONCATENATE(応募者名簿!H115)","v":""},{"$f":"CONCATENATE(応募者名簿!I115)","v":""}]
[{"$f":"応募者名簿!$B$8","v":0},{"$f":"CONCATENATE(応募者名簿!$B$11,応募者名簿!$D$11,応募者名簿!$E$11,応募者名簿!$I$11)","v":""},"半紙",{"$f":"CONCATENATE(応募者名簿!F116)","v":""},{"$f":"CONCATENATE(応募者名簿!G116)","v":""},{"$f":"CONCATENATE(応募者名簿!H116)","v":""},{"$f":"CONCATENATE(応募者名簿!I116)","v":""}]
[{"$f":"応募者名簿!$B$8","v":0},{"$f":"CONCATENATE(応募者名簿!$B$11,応募者名簿!$D$11,応募者名簿!$E$11,応募者名簿!$I$11)","v":""},"半紙",{"$f":"CONCATENATE(応募者名簿!F117)","v":""},{"$f":"CONCATENATE(応募者名簿!G117)","v":""},{"$f":"CONCATENATE(応募者名簿!H117)","v":""},{"$f":"CONCATENATE(応募者名簿!I117)","v":""}]
[{"$f":"応募者名簿!$B$8","v":0},{"$f":"CONCATENATE(応募者名簿!$B$11,応募者名簿!$D$11,応募者名簿!$E$11,応募者名簿!$I$11)","v":""},"半紙",{"$f":"CONCATENATE(応募者名簿!F118)","v":""},{"$f":"CONCATENATE(応募者名簿!G118)","v":""},{"$f":"CONCATENATE(応募者名簿!H118)","v":""},{"$f":"CONCATENATE(応募者名簿!I118)","v":""}]
[{"$f":"応募者名簿!$B$8","v":0},{"$f":"CONCATENATE(応募者名簿!$B$11,応募者名簿!$D$11,応募者名簿!$E$11,応募者名簿!$I$11)","v":""},"半紙",{"$f":"CONCATENATE(応募者名簿!F119)","v":""},{"$f":"CONCATENATE(応募者名簿!G119)","v":""},{"$f":"CONCATENATE(応募者名簿!H119)","v":""},{"$f":"CONCATENATE(応募者名簿!I119)","v":""}]
[{"$f":"応募者名簿!$B$8","v":0},{"$f":"CONCATENATE(応募者名簿!$B$11,応募者名簿!$D$11,応募者名簿!$E$11,応募者名簿!$I$11)","v":""},"半紙",{"$f":"CONCATENATE(応募者名簿!F120)","v":""},{"$f":"CONCATENATE(応募者名簿!G120)","v":""},{"$f":"CONCATENATE(応募者名簿!H120)","v":""},{"$f":"CONCATENATE(応募者名簿!I120)","v":""}]
[{"$f":"応募者名簿!$B$8","v":0},{"$f":"CONCATENATE(応募者名簿!$B$11,応募者名簿!$D$11,応募者名簿!$E$11,応募者名簿!$I$11)","v":""},"半紙",{"$f":"CONCATENATE(応募者名簿!F121)","v":""},{"$f":"CONCATENATE(応募者名簿!G121)","v":""},{"$f":"CONCATENATE(応募者名簿!H121)","v":""},{"$f":"CONCATENATE(応募者名簿!I121)","v":""}]
[{"$f":"応募者名簿!$B$8","v":0},{"$f":"CONCATENATE(応募者名簿!$B$11,応募者名簿!$D$11,応募者名簿!$E$11,応募者名簿!$I$11)","v":""},"半紙",{"$f":"CONCATENATE(応募者名簿!F122)","v":""},{"$f":"CONCATENATE(応募者名簿!G122)","v":""},{"$f":"CONCATENATE(応募者名簿!H122)","v":""},{"$f":"CONCATENATE(応募者名簿!I122)","v":""}]
[{"$f":"応募者名簿!$B$8","v":0},{"$f":"CONCATENATE(応募者名簿!$B$11,応募者名簿!$D$11,応募者名簿!$E$11,応募者名簿!$I$11)","v":""},"半紙",{"$f":"CONCATENATE(応募者名簿!F123)","v":""},{"$f":"CONCATENATE(応募者名簿!G123)","v":""},{"$f":"CONCATENATE(応募者名簿!H123)","v":""},{"$f":"CONCATENATE(応募者名簿!I123)","v":""}]
[{"$f":"応募者名簿!$B$8","v":0},{"$f":"CONCATENATE(応募者名簿!$B$11,応募者名簿!$D$11,応募者名簿!$E$11,応募者名簿!$I$11)","v":""},"半紙",{"$f":"CONCATENATE(応募者名簿!F124)","v":""},{"$f":"CONCATENATE(応募者名簿!G124)","v":""},{"$f":"CONCATENATE(応募者名簿!H124)","v":""},{"$f":"CONCATENATE(応募者名簿!I124)","v":""}]
[{"$f":"応募者名簿!$B$8","v":0},{"$f":"CONCATENATE(応募者名簿!$B$11,応募者名簿!$D$11,応募者名簿!$E$11,応募者名簿!$I$11)","v":""},"半紙",{"$f":"CONCATENATE(応募者名簿!F125)","v":""},{"$f":"CONCATENATE(応募者名簿!G125)","v":""},{"$f":"CONCATENATE(応募者名簿!H125)","v":""},{"$f":"CONCATENATE(応募者名簿!I125)","v":""}]
[{"$f":"応募者名簿!$B$8","v":0},{"$f":"CONCATENATE(応募者名簿!$B$11,応募者名簿!$D$11,応募者名簿!$E$11,応募者名簿!$I$11)","v":""},"半紙",{"$f":"CONCATENATE(応募者名簿!F126)","v":""},{"$f":"CONCATENATE(応募者名簿!G126)","v":""},{"$f":"CONCATENATE(応募者名簿!H126)","v":""},{"$f":"CONCATENATE(応募者名簿!I126)","v":""}]
[{"$f":"応募者名簿!$B$8","v":0},{"$f":"CONCATENATE(応募者名簿!$B$11,応募者名簿!$D$11,応募者名簿!$E$11,応募者名簿!$I$11)","v":""},"半紙",{"$f":"CONCATENATE(応募者名簿!F127)","v":""},{"$f":"CONCATENATE(応募者名簿!G127)","v":""},{"$f":"CONCATENATE(応募者名簿!H127)","v":""},{"$f":"CONCATENATE(応募者名簿!I127)","v":""}]
[{"$f":"応募者名簿!$B$8","v":0},{"$f":"CONCATENATE(応募者名簿!$B$11,応募者名簿!$D$11,応募者名簿!$E$11,応募者名簿!$I$11)","v":""},"半紙",{"$f":"CONCATENATE(応募者名簿!F128)","v":""},{"$f":"CONCATENATE(応募者名簿!G128)","v":""},{"$f":"CONCATENATE(応募者名簿!H128)","v":""},{"$f":"CONCATENATE(応募者名簿!I128)","v":""}]
[{"$f":"応募者名簿!$B$8","v":0},{"$f":"CONCATENATE(応募者名簿!$B$11,応募者名簿!$D$11,応募者名簿!$E$11,応募者名簿!$I$11)","v":""},"半紙",{"$f":"CONCATENATE(応募者名簿!F129)","v":""},{"$f":"CONCATENATE(応募者名簿!G129)","v":""},{"$f":"CONCATENATE(応募者名簿!H129)","v":""},{"$f":"CONCATENATE(応募者名簿!I129)","v":""}]
[{"$f":"応募者名簿!$B$8","v":0},{"$f":"CONCATENATE(応募者名簿!$B$11,応募者名簿!$D$11,応募者名簿!$E$11,応募者名簿!$I$11)","v":""},"半紙",{"$f":"CONCATENATE(応募者名簿!F130)","v":""},{"$f":"CONCATENATE(応募者名簿!G130)","v":""},{"$f":"CONCATENATE(応募者名簿!H130)","v":""},{"$f":"CONCATENATE(応募者名簿!I130)","v":""}]
[{"$f":"応募者名簿!$B$8","v":0},{"$f":"CONCATENATE(応募者名簿!$B$11,応募者名簿!$D$11,応募者名簿!$E$11,応募者名簿!$I$11)","v":""},"半紙",{"$f":"CONCATENATE(応募者名簿!F131)","v":""},{"$f":"CONCATENATE(応募者名簿!G131)","v":""},{"$f":"CONCATENATE(応募者名簿!H131)","v":""},{"$f":"CONCATENATE(応募者名簿!I131)","v":""}]
[{"$f":"応募者名簿!$B$8","v":0},{"$f":"CONCATENATE(応募者名簿!$B$11,応募者名簿!$D$11,応募者名簿!$E$11,応募者名簿!$I$11)","v":""},"半紙",{"$f":"CONCATENATE(応募者名簿!F132)","v":""},{"$f":"CONCATENATE(応募者名簿!G132)","v":""},{"$f":"CONCATENATE(応募者名簿!H132)","v":""},{"$f":"CONCATENATE(応募者名簿!I132)","v":""}]
[{"$f":"応募者名簿!$B$8","v":0},{"$f":"CONCATENATE(応募者名簿!$B$11,応募者名簿!$D$11,応募者名簿!$E$11,応募者名簿!$I$11)","v":""},"半紙",{"$f":"CONCATENATE(応募者名簿!F133)","v":""},{"$f":"CONCATENATE(応募者名簿!G133)","v":""},{"$f":"CONCATENATE(応募者名簿!H133)","v":""},{"$f":"CONCATENATE(応募者名簿!I133)","v":""}]
[{"$f":"応募者名簿!$B$8","v":0},{"$f":"CONCATENATE(応募者名簿!$B$11,応募者名簿!$D$11,応募者名簿!$E$11,応募者名簿!$I$11)","v":""},"半紙",{"$f":"CONCATENATE(応募者名簿!F134)","v":""},{"$f":"CONCATENATE(応募者名簿!G134)","v":""},{"$f":"CONCATENATE(応募者名簿!H134)","v":""},{"$f":"CONCATENATE(応募者名簿!I134)","v":""}]
[{"$f":"応募者名簿!$B$8","v":0},{"$f":"CONCATENATE(応募者名簿!$B$11,応募者名簿!$D$11,応募者名簿!$E$11,応募者名簿!$I$11)","v":""},"半紙",{"$f":"CONCATENATE(応募者名簿!F135)","v":""},{"$f":"CONCATENATE(応募者名簿!G135)","v":""},{"$f":"CONCATENATE(応募者名簿!H135)","v":""},{"$f":"CONCATENATE(応募者名簿!I135)","v":""}]
[{"$f":"応募者名簿!$B$8","v":0},{"$f":"CONCATENATE(応募者名簿!$B$11,応募者名簿!$D$11,応募者名簿!$E$11,応募者名簿!$I$11)","v":""},"半紙",{"$f":"CONCATENATE(応募者名簿!F136)","v":""},{"$f":"CONCATENATE(応募者名簿!G136)","v":""},{"$f":"CONCATENATE(応募者名簿!H136)","v":""},{"$f":"CONCATENATE(応募者名簿!I136)","v":""}]
[{"$f":"応募者名簿!$B$8","v":0},{"$f":"CONCATENATE(応募者名簿!$B$11,応募者名簿!$D$11,応募者名簿!$E$11,応募者名簿!$I$11)","v":""},"半紙",{"$f":"CONCATENATE(応募者名簿!F137)","v":""},{"$f":"CONCATENATE(応募者名簿!G137)","v":""},{"$f":"CONCATENATE(応募者名簿!H137)","v":""},{"$f":"CONCATENATE(応募者名簿!I137)","v":""}]
[{"$f":"応募者名簿!$B$8","v":0},{"$f":"CONCATENATE(応募者名簿!$B$11,応募者名簿!$D$11,応募者名簿!$E$11,応募者名簿!$I$11)","v":""},"半紙",{"$f":"CONCATENATE(応募者名簿!F138)","v":""},{"$f":"CONCATENATE(応募者名簿!G138)","v":""},{"$f":"CONCATENATE(応募者名簿!H138)","v":""},{"$f":"CONCATENATE(応募者名簿!I138)","v":""}]
[{"$f":"応募者名簿!$B$8","v":0},{"$f":"CONCATENATE(応募者名簿!$B$11,応募者名簿!$D$11,応募者名簿!$E$11,応募者名簿!$I$11)","v":""},"半紙",{"$f":"CONCATENATE(応募者名簿!F139)","v":""},{"$f":"CONCATENATE(応募者名簿!G139)","v":""},{"$f":"CONCATENATE(応募者名簿!H139)","v":""},{"$f":"CONCATENATE(応募者名簿!I139)","v":""}]
[{"$f":"応募者名簿!$B$8","v":0},{"$f":"CONCATENATE(応募者名簿!$B$11,応募者名簿!$D$11,応募者名簿!$E$11,応募者名簿!$I$11)","v":""},"半紙",{"$f":"CONCATENATE(応募者名簿!F140)","v":""},{"$f":"CONCATENATE(応募者名簿!G140)","v":""},{"$f":"CONCATENATE(応募者名簿!H140)","v":""},{"$f":"CONCATENATE(応募者名簿!I140)","v":""}]
[{"$f":"応募者名簿!$B$8","v":0},{"$f":"CONCATENATE(応募者名簿!$B$11,応募者名簿!$D$11,応募者名簿!$E$11,応募者名簿!$I$11)","v":""},"半紙",{"$f":"CONCATENATE(応募者名簿!F141)","v":""},{"$f":"CONCATENATE(応募者名簿!G141)","v":""},{"$f":"CONCATENATE(応募者名簿!H141)","v":""},{"$f":"CONCATENATE(応募者名簿!I141)","v":""}]
[{"$f":"応募者名簿!$B$8","v":0},{"$f":"CONCATENATE(応募者名簿!$B$11,応募者名簿!$D$11,応募者名簿!$E$11,応募者名簿!$I$11)","v":""},"半紙",{"$f":"CONCATENATE(応募者名簿!F142)","v":""},{"$f":"CONCATENATE(応募者名簿!G142)","v":""},{"$f":"CONCATENATE(応募者名簿!H142)","v":""},{"$f":"CONCATENATE(応募者名簿!I142)","v":""}]
[{"$f":"応募者名簿!$B$8","v":0},{"$f":"CONCATENATE(応募者名簿!$B$11,応募者名簿!$D$11,応募者名簿!$E$11,応募者名簿!$I$11)","v":""},"半紙",{"$f":"CONCATENATE(応募者名簿!F143)","v":""},{"$f":"CONCATENATE(応募者名簿!G143)","v":""},{"$f":"CONCATENATE(応募者名簿!H143)","v":""},{"$f":"CONCATENATE(応募者名簿!I143)","v":""}]
[{"$f":"応募者名簿!$B$8","v":0},{"$f":"CONCATENATE(応募者名簿!$B$11,応募者名簿!$D$11,応募者名簿!$E$11,応募者名簿!$I$11)","v":""},"半紙",{"$f":"CONCATENATE(応募者名簿!F144)","v":""},{"$f":"CONCATENATE(応募者名簿!G144)","v":""},{"$f":"CONCATENATE(応募者名簿!H144)","v":""},{"$f":"CONCATENATE(応募者名簿!I144)","v":""}]
[{"$f":"応募者名簿!$B$8","v":0},{"$f":"CONCATENATE(応募者名簿!$B$11,応募者名簿!$D$11,応募者名簿!$E$11,応募者名簿!$I$11)","v":""},"半紙",{"$f":"CONCATENATE(応募者名簿!F145)","v":""},{"$f":"CONCATENATE(応募者名簿!G145)","v":""},{"$f":"CONCATENATE(応募者名簿!H145)","v":""},{"$f":"CONCATENATE(応募者名簿!I145)","v":""}]
[{"$f":"応募者名簿!$B$8","v":0},{"$f":"CONCATENATE(応募者名簿!$B$11,応募者名簿!$D$11,応募者名簿!$E$11,応募者名簿!$I$11)","v":""},"半紙",{"$f":"CONCATENATE(応募者名簿!F146)","v":""},{"$f":"CONCATENATE(応募者名簿!G146)","v":""},{"$f":"CONCATENATE(応募者名簿!H146)","v":""},{"$f":"CONCATENATE(応募者名簿!I146)","v":""}]
[{"$f":"応募者名簿!$B$8","v":0},{"$f":"CONCATENATE(応募者名簿!$B$11,応募者名簿!$D$11,応募者名簿!$E$11,応募者名簿!$I$11)","v":""},"半紙",{"$f":"CONCATENATE(応募者名簿!F147)","v":""},{"$f":"CONCATENATE(応募者名簿!G147)","v":""},{"$f":"CONCATENATE(応募者名簿!H147)","v":""},{"$f":"CONCATENATE(応募者名簿!I147)","v":""}]
[{"$f":"応募者名簿!$B$8","v":0},{"$f":"CONCATENATE(応募者名簿!$B$11,応募者名簿!$D$11,応募者名簿!$E$11,応募者名簿!$I$11)","v":""},"半紙",{"$f":"CONCATENATE(応募者名簿!F148)","v":""},{"$f":"CONCATENATE(応募者名簿!G148)","v":""},{"$f":"CONCATENATE(応募者名簿!H148)","v":""},{"$f":"CONCATENATE(応募者名簿!I148)","v":""}]
[{"$f":"応募者名簿!$B$8","v":0},{"$f":"CONCATENATE(応募者名簿!$B$11,応募者名簿!$D$11,応募者名簿!$E$11,応募者名簿!$I$11)","v":""},"半紙",{"$f":"CONCATENATE(応募者名簿!F149)","v":""},{"$f":"CONCATENATE(応募者名簿!G149)","v":""},{"$f":"CONCATENATE(応募者名簿!H149)","v":""},{"$f":"CONCATENATE(応募者名簿!I149)","v":""}]
[{"$f":"応募者名簿!$B$8","v":0},{"$f":"CONCATENATE(応募者名簿!$B$11,応募者名簿!$D$11,応募者名簿!$E$11,応募者名簿!$I$11)","v":""},"半紙",{"$f":"CONCATENATE(応募者名簿!F150)","v":""},{"$f":"CONCATENATE(応募者名簿!G150)","v":""},{"$f":"CONCATENATE(応募者名簿!H150)","v":""},{"$f":"CONCATENATE(応募者名簿!I150)","v":""}]
[{"$f":"応募者名簿!$B$8","v":0},{"$f":"CONCATENATE(応募者名簿!$B$11,応募者名簿!$D$11,応募者名簿!$E$11,応募者名簿!$I$11)","v":""},"半紙",{"$f":"CONCATENATE(応募者名簿!F151)","v":""},{"$f":"CONCATENATE(応募者名簿!G151)","v":""},{"$f":"CONCATENATE(応募者名簿!H151)","v":""},{"$f":"CONCATENATE(応募者名簿!I151)","v":""}]
[{"$f":"応募者名簿!$B$8","v":0},{"$f":"CONCATENATE(応募者名簿!$B$11,応募者名簿!$D$11,応募者名簿!$E$11,応募者名簿!$I$11)","v":""},"半紙",{"$f":"CONCATENATE(応募者名簿!F152)","v":""},{"$f":"CONCATENATE(応募者名簿!G152)","v":""},{"$f":"CONCATENATE(応募者名簿!H152)","v":""},{"$f":"CONCATENATE(応募者名簿!I152)","v":""}]
[{"$f":"応募者名簿!$B$8","v":0},{"$f":"CONCATENATE(応募者名簿!$B$11,応募者名簿!$D$11,応募者名簿!$E$11,応募者名簿!$I$11)","v":""},"半紙",{"$f":"CONCATENATE(応募者名簿!F153)","v":""},{"$f":"CONCATENATE(応募者名簿!G153)","v":""},{"$f":"CONCATENATE(応募者名簿!H153)","v":""},{"$f":"CONCATENATE(応募者名簿!I153)","v":""}]
[{"$f":"応募者名簿!$B$8","v":0},{"$f":"CONCATENATE(応募者名簿!$B$11,応募者名簿!$D$11,応募者名簿!$E$11,応募者名簿!$I$11)","v":""},"半紙",{"$f":"CONCATENATE(応募者名簿!F154)","v":""},{"$f":"CONCATENATE(応募者名簿!G154)","v":""},{"$f":"CONCATENATE(応募者名簿!H154)","v":""},{"$f":"CONCATENATE(応募者名簿!I154)","v":""}]
[{"$f":"応募者名簿!$B$8","v":0},{"$f":"CONCATENATE(応募者名簿!$B$11,応募者名簿!$D$11,応募者名簿!$E$11,応募者名簿!$I$11)","v":""},"半紙",{"$f":"CONCATENATE(応募者名簿!F155)","v":""},{"$f":"CONCATENATE(応募者名簿!G155)","v":""},{"$f":"CONCATENATE(応募者名簿!H155)","v":""},{"$f":"CONCATENATE(応募者名簿!I155)","v":""}]
[{"$f":"応募者名簿!$B$8","v":0},{"$f":"CONCATENATE(応募者名簿!$B$11,応募者名簿!$D$11,応募者名簿!$E$11,応募者名簿!$I$11)","v":""},"半紙",{"$f":"CONCATENATE(応募者名簿!F156)","v":""},{"$f":"CONCATENATE(応募者名簿!G156)","v":""},{"$f":"CONCATENATE(応募者名簿!H156)","v":""},{"$f":"CONCATENATE(応募者名簿!I156)","v":""}]
[{"$f":"応募者名簿!$B$8","v":0},{"$f":"CONCATENATE(応募者名簿!$B$11,応募者名簿!$D$11,応募者名簿!$E$11,応募者名簿!$I$11)","v":""},"半紙",{"$f":"CONCATENATE(応募者名簿!F157)","v":""},{"$f":"CONCATENATE(応募者名簿!G157)","v":""},{"$f":"CONCATENATE(応募者名簿!H157)","v":""},{"$f":"CONCATENATE(応募者名簿!I157)","v":""}]
[{"$f":"応募者名簿!$B$8","v":0},{"$f":"CONCATENATE(応募者名簿!$B$11,応募者名簿!$D$11,応募者名簿!$E$11,応募者名簿!$I$11)","v":""},"半紙",{"$f":"CONCATENATE(応募者名簿!F158)","v":""},{"$f":"CONCATENATE(応募者名簿!G158)","v":""},{"$f":"CONCATENATE(応募者名簿!H158)","v":""},{"$f":"CONCATENATE(応募者名簿!I158)","v":""}]
[{"$f":"応募者名簿!$B$8","v":0},{"$f":"CONCATENATE(応募者名簿!$B$11,応募者名簿!$D$11,応募者名簿!$E$11,応募者名簿!$I$11)","v":""},"半紙",{"$f":"CONCATENATE(応募者名簿!F159)","v":""},{"$f":"CONCATENATE(応募者名簿!G159)","v":""},{"$f":"CONCATENATE(応募者名簿!H159)","v":""},{"$f":"CONCATENATE(応募者名簿!I159)","v":""}]
[{"$f":"応募者名簿!$B$8","v":0},{"$f":"CONCATENATE(応募者名簿!$B$11,応募者名簿!$D$11,応募者名簿!$E$11,応募者名簿!$I$11)","v":""},"半紙",{"$f":"CONCATENATE(応募者名簿!F160)","v":""},{"$f":"CONCATENATE(応募者名簿!G160)","v":""},{"$f":"CONCATENATE(応募者名簿!H160)","v":""},{"$f":"CONCATENATE(応募者名簿!I160)","v":""}]
[{"$f":"応募者名簿!$B$8","v":0},{"$f":"CONCATENATE(応募者名簿!$B$11,応募者名簿!$D$11,応募者名簿!$E$11,応募者名簿!$I$11)","v":""},"半紙",{"$f":"CONCATENATE(応募者名簿!F161)","v":""},{"$f":"CONCATENATE(応募者名簿!G161)","v":""},{"$f":"CONCATENATE(応募者名簿!H161)","v":""},{"$f":"CONCATENATE(応募者名簿!I161)","v":""}]
[{"$f":"応募者名簿!$B$8","v":0},{"$f":"CONCATENATE(応募者名簿!$B$11,応募者名簿!$D$11,応募者名簿!$E$11,応募者名簿!$I$11)","v":""},"半紙",{"$f":"CONCATENATE(応募者名簿!F162)","v":""},{"$f":"CONCATENATE(応募者名簿!G162)","v":""},{"$f":"CONCATENATE(応募者名簿!H162)","v":""},{"$f":"CONCATENATE(応募者名簿!I162)","v":""}]
[{"$f":"応募者名簿!$B$8","v":0},{"$f":"CONCATENATE(応募者名簿!$B$11,応募者名簿!$D$11,応募者名簿!$E$11,応募者名簿!$I$11)","v":""},"半紙",{"$f":"CONCATENATE(応募者名簿!F163)","v":""},{"$f":"CONCATENATE(応募者名簿!G163)","v":""},{"$f":"CONCATENATE(応募者名簿!H163)","v":""},{"$f":"CONCATENATE(応募者名簿!I163)","v":""}]
[{"$f":"応募者名簿!$B$8","v":0},{"$f":"CONCATENATE(応募者名簿!$B$11,応募者名簿!$D$11,応募者名簿!$E$11,応募者名簿!$I$11)","v":""},"半紙",{"$f":"CONCATENATE(応募者名簿!F164)","v":""},{"$f":"CONCATENATE(応募者名簿!G164)","v":""},{"$f":"CONCATENATE(応募者名簿!H164)","v":""},{"$f":"CONCATENATE(応募者名簿!I164)","v":""}]
[{"$f":"応募者名簿!$B$8","v":0},{"$f":"CONCATENATE(応募者名簿!$B$11,応募者名簿!$D$11,応募者名簿!$E$11,応募者名簿!$I$11)","v":""},"半紙",{"$f":"CONCATENATE(応募者名簿!F165)","v":""},{"$f":"CONCATENATE(応募者名簿!G165)","v":""},{"$f":"CONCATENATE(応募者名簿!H165)","v":""},{"$f":"CONCATENATE(応募者名簿!I165)","v":""}]
[{"$f":"応募者名簿!$B$8","v":0},{"$f":"CONCATENATE(応募者名簿!$B$11,応募者名簿!$D$11,応募者名簿!$E$11,応募者名簿!$I$11)","v":""},"半紙",{"$f":"CONCATENATE(応募者名簿!F166)","v":""},{"$f":"CONCATENATE(応募者名簿!G166)","v":""},{"$f":"CONCATENATE(応募者名簿!H166)","v":""},{"$f":"CONCATENATE(応募者名簿!I166)","v":""}]
[{"$f":"応募者名簿!$B$8","v":0},{"$f":"CONCATENATE(応募者名簿!$B$11,応募者名簿!$D$11,応募者名簿!$E$11,応募者名簿!$I$11)","v":""},"半紙",{"$f":"CONCATENATE(応募者名簿!F167)","v":""},{"$f":"CONCATENATE(応募者名簿!G167)","v":""},{"$f":"CONCATENATE(応募者名簿!H167)","v":""},{"$f":"CONCATENATE(応募者名簿!I167)","v":""}]
[{"$f":"応募者名簿!$B$8","v":0},{"$f":"CONCATENATE(応募者名簿!$B$11,応募者名簿!$D$11,応募者名簿!$E$11,応募者名簿!$I$11)","v":""},"半紙",{"$f":"CONCATENATE(応募者名簿!F168)","v":""},{"$f":"CONCATENATE(応募者名簿!G168)","v":""},{"$f":"CONCATENATE(応募者名簿!H168)","v":""},{"$f":"CONCATENATE(応募者名簿!I168)","v":""}]
[{"$f":"応募者名簿!$B$8","v":0},{"$f":"CONCATENATE(応募者名簿!$B$11,応募者名簿!$D$11,応募者名簿!$E$11,応募者名簿!$I$11)","v":""},"半紙",{"$f":"CONCATENATE(応募者名簿!F169)","v":""},{"$f":"CONCATENATE(応募者名簿!G169)","v":""},{"$f":"CONCATENATE(応募者名簿!H169)","v":""},{"$f":"CONCATENATE(応募者名簿!I169)","v":""}]
[{"$f":"応募者名簿!$B$8","v":0},{"$f":"CONCATENATE(応募者名簿!$B$11,応募者名簿!$D$11,応募者名簿!$E$11,応募者名簿!$I$11)","v":""},"半紙",{"$f":"CONCATENATE(応募者名簿!F170)","v":""},{"$f":"CONCATENATE(応募者名簿!G170)","v":""},{"$f":"CONCATENATE(応募者名簿!H170)","v":""},{"$f":"CONCATENATE(応募者名簿!I170)","v":""}]
[{"$f":"応募者名簿!$B$8","v":0},{"$f":"CONCATENATE(応募者名簿!$B$11,応募者名簿!$D$11,応募者名簿!$E$11,応募者名簿!$I$11)","v":""},"半紙",{"$f":"CONCATENATE(応募者名簿!F171)","v":""},{"$f":"CONCATENATE(応募者名簿!G171)","v":""},{"$f":"CONCATENATE(応募者名簿!H171)","v":""},{"$f":"CONCATENATE(応募者名簿!I171)","v":""}]
[{"$f":"応募者名簿!$B$8","v":0},{"$f":"CONCATENATE(応募者名簿!$B$11,応募者名簿!$D$11,応募者名簿!$E$11,応募者名簿!$I$11)","v":""},"半紙",{"$f":"CONCATENATE(応募者名簿!F172)","v":""},{"$f":"CONCATENATE(応募者名簿!G172)","v":""},{"$f":"CONCATENATE(応募者名簿!H172)","v":""},{"$f":"CONCATENATE(応募者名簿!I172)","v":""}]
[{"$f":"応募者名簿!$B$8","v":0},{"$f":"CONCATENATE(応募者名簿!$B$11,応募者名簿!$D$11,応募者名簿!$E$11,応募者名簿!$I$11)","v":""},"半紙",{"$f":"CONCATENATE(応募者名簿!F173)","v":""},{"$f":"CONCATENATE(応募者名簿!G173)","v":""},{"$f":"CONCATENATE(応募者名簿!H173)","v":""},{"$f":"CONCATENATE(応募者名簿!I173)","v":""}]
[{"$f":"応募者名簿!$B$8","v":0},{"$f":"CONCATENATE(応募者名簿!$B$11,応募者名簿!$D$11,応募者名簿!$E$11,応募者名簿!$I$11)","v":""},"半紙",{"$f":"CONCATENATE(応募者名簿!F174)","v":""},{"$f":"CONCATENATE(応募者名簿!G174)","v":""},{"$f":"CONCATENATE(応募者名簿!H174)","v":""},{"$f":"CONCATENATE(応募者名簿!I174)","v":""}]
[{"$f":"応募者名簿!$B$8","v":0},{"$f":"CONCATENATE(応募者名簿!$B$11,応募者名簿!$D$11,応募者名簿!$E$11,応募者名簿!$I$11)","v":""},"半紙",{"$f":"CONCATENATE(応募者名簿!F175)","v":""},{"$f":"CONCATENATE(応募者名簿!G175)","v":""},{"$f":"CONCATENATE(応募者名簿!H175)","v":""},{"$f":"CONCATENATE(応募者名簿!I175)","v":""}]
[{"$f":"応募者名簿!$B$8","v":0},{"$f":"CONCATENATE(応募者名簿!$B$11,応募者名簿!$D$11,応募者名簿!$E$11,応募者名簿!$I$11)","v":""},"半紙",{"$f":"CONCATENATE(応募者名簿!F176)","v":""},{"$f":"CONCATENATE(応募者名簿!G176)","v":""},{"$f":"CONCATENATE(応募者名簿!H176)","v":""},{"$f":"CONCATENATE(応募者名簿!I176)","v":""}]
[{"$f":"応募者名簿!$B$8","v":0},{"$f":"CONCATENATE(応募者名簿!$B$11,応募者名簿!$D$11,応募者名簿!$E$11,応募者名簿!$I$11)","v":""},"半紙",{"$f":"CONCATENATE(応募者名簿!F177)","v":""},{"$f":"CONCATENATE(応募者名簿!G177)","v":""},{"$f":"CONCATENATE(応募者名簿!H177)","v":""},{"$f":"CONCATENATE(応募者名簿!I177)","v":""}]
[{"$f":"応募者名簿!$B$8","v":0},{"$f":"CONCATENATE(応募者名簿!$B$11,応募者名簿!$D$11,応募者名簿!$E$11,応募者名簿!$I$11)","v":""},"半紙",{"$f":"CONCATENATE(応募者名簿!F178)","v":""},{"$f":"CONCATENATE(応募者名簿!G178)","v":""},{"$f":"CONCATENATE(応募者名簿!H178)","v":""},{"$f":"CONCATENATE(応募者名簿!I178)","v":""}]
[{"$f":"応募者名簿!$B$8","v":0},{"$f":"CONCATENATE(応募者名簿!$B$11,応募者名簿!$D$11,応募者名簿!$E$11,応募者名簿!$I$11)","v":""},"半紙",{"$f":"CONCATENATE(応募者名簿!F179)","v":""},{"$f":"CONCATENATE(応募者名簿!G179)","v":""},{"$f":"CONCATENATE(応募者名簿!H179)","v":""},{"$f":"CONCATENATE(応募者名簿!I179)","v":""}]
[{"$f":"応募者名簿!$B$8","v":0},{"$f":"CONCATENATE(応募者名簿!$B$11,応募者名簿!$D$11,応募者名簿!$E$11,応募者名簿!$I$11)","v":""},"半紙",{"$f":"CONCATENATE(応募者名簿!F180)","v":""},{"$f":"CONCATENATE(応募者名簿!G180)","v":""},{"$f":"CONCATENATE(応募者名簿!H180)","v":""},{"$f":"CONCATENATE(応募者名簿!I180)","v":""}]
[{"$f":"応募者名簿!$B$8","v":0},{"$f":"CONCATENATE(応募者名簿!$B$11,応募者名簿!$D$11,応募者名簿!$E$11,応募者名簿!$I$11)","v":""},"半紙",{"$f":"CONCATENATE(応募者名簿!F181)","v":""},{"$f":"CONCATENATE(応募者名簿!G181)","v":""},{"$f":"CONCATENATE(応募者名簿!H181)","v":""},{"$f":"CONCATENATE(応募者名簿!I181)","v":""}]
[{"$f":"応募者名簿!$B$8","v":0},{"$f":"CONCATENATE(応募者名簿!$B$11,応募者名簿!$D$11,応募者名簿!$E$11,応募者名簿!$I$11)","v":""},"半紙",{"$f":"CONCATENATE(応募者名簿!F182)","v":""},{"$f":"CONCATENATE(応募者名簿!G182)","v":""},{"$f":"CONCATENATE(応募者名簿!H182)","v":""},{"$f":"CONCATENATE(応募者名簿!I182)","v":""}]
[{"$f":"応募者名簿!$B$8","v":0},{"$f":"CONCATENATE(応募者名簿!$B$11,応募者名簿!$D$11,応募者名簿!$E$11,応募者名簿!$I$11)","v":""},"半紙",{"$f":"CONCATENATE(応募者名簿!F183)","v":""},{"$f":"CONCATENATE(応募者名簿!G183)","v":""},{"$f":"CONCATENATE(応募者名簿!H183)","v":""},{"$f":"CONCATENATE(応募者名簿!I183)","v":""}]
[{"$f":"応募者名簿!$B$8","v":0},{"$f":"CONCATENATE(応募者名簿!$B$11,応募者名簿!$D$11,応募者名簿!$E$11,応募者名簿!$I$11)","v":""},"半紙",{"$f":"CONCATENATE(応募者名簿!F184)","v":""},{"$f":"CONCATENATE(応募者名簿!G184)","v":""},{"$f":"CONCATENATE(応募者名簿!H184)","v":""},{"$f":"CONCATENATE(応募者名簿!I184)","v":""}]
[{"$f":"応募者名簿!$B$8","v":0},{"$f":"CONCATENATE(応募者名簿!$B$11,応募者名簿!$D$11,応募者名簿!$E$11,応募者名簿!$I$11)","v":""},"半紙",{"$f":"CONCATENATE(応募者名簿!F185)","v":""},{"$f":"CONCATENATE(応募者名簿!G185)","v":""},{"$f":"CONCATENATE(応募者名簿!H185)","v":""},{"$f":"CONCATENATE(応募者名簿!I185)","v":""}]
[{"$f":"応募者名簿!$B$8","v":0},{"$f":"CONCATENATE(応募者名簿!$B$11,応募者名簿!$D$11,応募者名簿!$E$11,応募者名簿!$I$11)","v":""},"半紙",{"$f":"CONCATENATE(応募者名簿!F186)","v":""},{"$f":"CONCATENATE(応募者名簿!G186)","v":""},{"$f":"CONCATENATE(応募者名簿!H186)","v":""},{"$f":"CONCATENATE(応募者名簿!I186)","v":""}]
[{"$f":"応募者名簿!$B$8","v":0},{"$f":"CONCATENATE(応募者名簿!$B$11,応募者名簿!$D$11,応募者名簿!$E$11,応募者名簿!$I$11)","v":""},"半紙",{"$f":"CONCATENATE(応募者名簿!F187)","v":""},{"$f":"CONCATENATE(応募者名簿!G187)","v":""},{"$f":"CONCATENATE(応募者名簿!H187)","v":""},{"$f":"CONCATENATE(応募者名簿!I187)","v":""}]
[{"$f":"応募者名簿!$B$8","v":0},{"$f":"CONCATENATE(応募者名簿!$B$11,応募者名簿!$D$11,応募者名簿!$E$11,応募者名簿!$I$11)","v":""},"半紙",{"$f":"CONCATENATE(応募者名簿!F188)","v":""},{"$f":"CONCATENATE(応募者名簿!G188)","v":""},{"$f":"CONCATENATE(応募者名簿!H188)","v":""},{"$f":"CONCATENATE(応募者名簿!I188)","v":""}]
[{"$f":"応募者名簿!$B$8","v":0},{"$f":"CONCATENATE(応募者名簿!$B$11,応募者名簿!$D$11,応募者名簿!$E$11,応募者名簿!$I$11)","v":""},"半紙",{"$f":"CONCATENATE(応募者名簿!F189)","v":""},{"$f":"CONCATENATE(応募者名簿!G189)","v":""},{"$f":"CONCATENATE(応募者名簿!H189)","v":""},{"$f":"CONCATENATE(応募者名簿!I189)","v":""}]
[{"$f":"応募者名簿!$B$8","v":0},{"$f":"CONCATENATE(応募者名簿!$B$11,応募者名簿!$D$11,応募者名簿!$E$11,応募者名簿!$I$11)","v":""},"半紙",{"$f":"CONCATENATE(応募者名簿!F190)","v":""},{"$f":"CONCATENATE(応募者名簿!G190)","v":""},{"$f":"CONCATENATE(応募者名簿!H190)","v":""},{"$f":"CONCATENATE(応募者名簿!I190)","v":""}]
[{"$f":"応募者名簿!$B$8","v":0},{"$f":"CONCATENATE(応募者名簿!$B$11,応募者名簿!$D$11,応募者名簿!$E$11,応募者名簿!$I$11)","v":""},"半紙",{"$f":"CONCATENATE(応募者名簿!F191)","v":""},{"$f":"CONCATENATE(応募者名簿!G191)","v":""},{"$f":"CONCATENATE(応募者名簿!H191)","v":""},{"$f":"CONCATENATE(応募者名簿!I191)","v":""}]
[{"$f":"応募者名簿!$B$8","v":0},{"$f":"CONCATENATE(応募者名簿!$B$11,応募者名簿!$D$11,応募者名簿!$E$11,応募者名簿!$I$11)","v":""},"半紙",{"$f":"CONCATENATE(応募者名簿!F192)","v":""},{"$f":"CONCATENATE(応募者名簿!G192)","v":""},{"$f":"CONCATENATE(応募者名簿!H192)","v":""},{"$f":"CONCATENATE(応募者名簿!I192)","v":""}]
[{"$f":"応募者名簿!$B$8","v":0},{"$f":"CONCATENATE(応募者名簿!$B$11,応募者名簿!$D$11,応募者名簿!$E$11,応募者名簿!$I$11)","v":""},"半紙",{"$f":"CONCATENATE(応募者名簿!F193)","v":""},{"$f":"CONCATENATE(応募者名簿!G193)","v":""},{"$f":"CONCATENATE(応募者名簿!H193)","v":""},{"$f":"CONCATENATE(応募者名簿!I193)","v":""}]
[{"$f":"応募者名簿!$B$8","v":0},{"$f":"CONCATENATE(応募者名簿!$B$11,応募者名簿!$D$11,応募者名簿!$E$11,応募者名簿!$I$11)","v":""},"半紙",{"$f":"CONCATENATE(応募者名簿!F194)","v":""},{"$f":"CONCATENATE(応募者名簿!G194)","v":""},{"$f":"CONCATENATE(応募者名簿!H194)","v":""},{"$f":"CONCATENATE(応募者名簿!I194)","v":""}]
[{"$f":"応募者名簿!$B$8","v":0},{"$f":"CONCATENATE(応募者名簿!$B$11,応募者名簿!$D$11,応募者名簿!$E$11,応募者名簿!$I$11)","v":""},"半紙",{"$f":"CONCATENATE(応募者名簿!F195)","v":""},{"$f":"CONCATENATE(応募者名簿!G195)","v":""},{"$f":"CONCATENATE(応募者名簿!H195)","v":""},{"$f":"CONCATENATE(応募者名簿!I195)","v":""}]
[{"$f":"応募者名簿!$B$8","v":0},{"$f":"CONCATENATE(応募者名簿!$B$11,応募者名簿!$D$11,応募者名簿!$E$11,応募者名簿!$I$11)","v":""},"半紙",{"$f":"CONCATENATE(応募者名簿!F196)","v":""},{"$f":"CONCATENATE(応募者名簿!G196)","v":""},{"$f":"CONCATENATE(応募者名簿!H196)","v":""},{"$f":"CONCATENATE(応募者名簿!I196)","v":""}]
[{"$f":"応募者名簿!$B$8","v":0},{"$f":"CONCATENATE(応募者名簿!$B$11,応募者名簿!$D$11,応募者名簿!$E$11,応募者名簿!$I$11)","v":""},"半紙",{"$f":"CONCATENATE(応募者名簿!F197)","v":""},{"$f":"CONCATENATE(応募者名簿!G197)","v":""},{"$f":"CONCATENATE(応募者名簿!H197)","v":""},{"$f":"CONCATENATE(応募者名簿!I197)","v":""}]
[{"$f":"応募者名簿!$B$8","v":0},{"$f":"CONCATENATE(応募者名簿!$B$11,応募者名簿!$D$11,応募者名簿!$E$11,応募者名簿!$I$11)","v":""},"半紙",{"$f":"CONCATENATE(応募者名簿!F198)","v":""},{"$f":"CONCATENATE(応募者名簿!G198)","v":""},{"$f":"CONCATENATE(応募者名簿!H198)","v":""},{"$f":"CONCATENATE(応募者名簿!I198)","v":""}]
[{"$f":"応募者名簿!$B$8","v":0},{"$f":"CONCATENATE(応募者名簿!$B$11,応募者名簿!$D$11,応募者名簿!$E$11,応募者名簿!$I$11)","v":""},"半紙",{"$f":"CONCATENATE(応募者名簿!F199)","v":""},{"$f":"CONCATENATE(応募者名簿!G199)","v":""},{"$f":"CONCATENATE(応募者名簿!H199)","v":""},{"$f":"CONCATENATE(応募者名簿!I199)","v":""}]
[{"$f":"応募者名簿!$B$8","v":0},{"$f":"CONCATENATE(応募者名簿!$B$11,応募者名簿!$D$11,応募者名簿!$E$11,応募者名簿!$I$11)","v":""},"半紙",{"$f":"CONCATENATE(応募者名簿!F200)","v":""},{"$f":"CONCATENATE(応募者名簿!G200)","v":""},{"$f":"CONCATENATE(応募者名簿!H200)","v":""},{"$f":"CONCATENATE(応募者名簿!I200)","v":""}]
[{"$f":"応募者名簿!$B$8","v":0},{"$f":"CONCATENATE(応募者名簿!$B$11,応募者名簿!$D$11,応募者名簿!$E$11,応募者名簿!$I$11)","v":""},"半紙",{"$f":"CONCATENATE(応募者名簿!F201)","v":""},{"$f":"CONCATENATE(応募者名簿!G201)","v":""},{"$f":"CONCATENATE(応募者名簿!H201)","v":""},{"$f":"CONCATENATE(応募者名簿!I201)","v":""}]
[{"$f":"応募者名簿!$B$8","v":0},{"$f":"CONCATENATE(応募者名簿!$B$11,応募者名簿!$D$11,応募者名簿!$E$11,応募者名簿!$I$11)","v":""},"半紙",{"$f":"CONCATENATE(応募者名簿!F202)","v":""},{"$f":"CONCATENATE(応募者名簿!G202)","v":""},{"$f":"CONCATENATE(応募者名簿!H202)","v":""},{"$f":"CONCATENATE(応募者名簿!I202)","v":""}]
[{"$f":"応募者名簿!$B$8","v":0},{"$f":"CONCATENATE(応募者名簿!$B$11,応募者名簿!$D$11,応募者名簿!$E$11,応募者名簿!$I$11)","v":""},"半紙",{"$f":"CONCATENATE(応募者名簿!F203)","v":""},{"$f":"CONCATENATE(応募者名簿!G203)","v":""},{"$f":"CONCATENATE(応募者名簿!H203)","v":""},{"$f":"CONCATENATE(応募者名簿!I203)","v":""}]
[{"$f":"応募者名簿!$B$8","v":0},{"$f":"CONCATENATE(応募者名簿!$B$11,応募者名簿!$D$11,応募者名簿!$E$11,応募者名簿!$I$11)","v":""},"半紙",{"$f":"CONCATENATE(応募者名簿!F204)","v":""},{"$f":"CONCATENATE(応募者名簿!G204)","v":""},{"$f":"CONCATENATE(応募者名簿!H204)","v":""},{"$f":"CONCATENATE(応募者名簿!I204)","v":""}]
[{"$f":"応募者名簿!$B$8","v":0},{"$f":"CONCATENATE(応募者名簿!$B$11,応募者名簿!$D$11,応募者名簿!$E$11,応募者名簿!$I$11)","v":""},"半紙",{"$f":"CONCATENATE(応募者名簿!F205)","v":""},{"$f":"CONCATENATE(応募者名簿!G205)","v":""},{"$f":"CONCATENATE(応募者名簿!H205)","v":""},{"$f":"CONCATENATE(応募者名簿!I205)","v":""}]
[{"$f":"応募者名簿!$B$8","v":0},{"$f":"CONCATENATE(応募者名簿!$B$11,応募者名簿!$D$11,応募者名簿!$E$11,応募者名簿!$I$11)","v":""},"半紙",{"$f":"CONCATENATE(応募者名簿!F206)","v":""},{"$f":"CONCATENATE(応募者名簿!G206)","v":""},{"$f":"CONCATENATE(応募者名簿!H206)","v":""},{"$f":"CONCATENATE(応募者名簿!I206)","v":""}]
[{"$f":"応募者名簿!$B$8","v":0},{"$f":"CONCATENATE(応募者名簿!$B$11,応募者名簿!$D$11,応募者名簿!$E$11,応募者名簿!$I$11)","v":""},"半紙",{"$f":"CONCATENATE(応募者名簿!F207)","v":""},{"$f":"CONCATENATE(応募者名簿!G207)","v":""},{"$f":"CONCATENATE(応募者名簿!H207)","v":""},{"$f":"CONCATENATE(応募者名簿!I207)","v":""}]
[{"$f":"応募者名簿!$B$8","v":0},{"$f":"CONCATENATE(応募者名簿!$B$11,応募者名簿!$D$11,応募者名簿!$E$11,応募者名簿!$I$11)","v":""},"半紙",{"$f":"CONCATENATE(応募者名簿!F208)","v":""},{"$f":"CONCATENATE(応募者名簿!G208)","v":""},{"$f":"CONCATENATE(応募者名簿!H208)","v":""},{"$f":"CONCATENATE(応募者名簿!I208)","v":""}]
[{"$f":"応募者名簿!$B$8","v":0},{"$f":"CONCATENATE(応募者名簿!$B$11,応募者名簿!$D$11,応募者名簿!$E$11,応募者名簿!$I$11)","v":""},"半紙",{"$f":"CONCATENATE(応募者名簿!F209)","v":""},{"$f":"CONCATENATE(応募者名簿!G209)","v":""},{"$f":"CONCATENATE(応募者名簿!H209)","v":""},{"$f":"CONCATENATE(応募者名簿!I209)","v":""}]
[{"$f":"応募者名簿!$B$8","v":0},{"$f":"CONCATENATE(応募者名簿!$B$11,応募者名簿!$D$11,応募者名簿!$E$11,応募者名簿!$I$11)","v":""},"半紙",{"$f":"CONCATENATE(応募者名簿!F210)","v":""},{"$f":"CONCATENATE(応募者名簿!G210)","v":""},{"$f":"CONCATENATE(応募者名簿!H210)","v":""},{"$f":"CONCATENATE(応募者名簿!I210)","v":""}]
[{"$f":"応募者名簿!$B$8","v":0},{"$f":"CONCATENATE(応募者名簿!$B$11,応募者名簿!$D$11,応募者名簿!$E$11,応募者名簿!$I$11)","v":""},"半紙",{"$f":"CONCATENATE(応募者名簿!F211)","v":""},{"$f":"CONCATENATE(応募者名簿!G211)","v":""},{"$f":"CONCATENATE(応募者名簿!H211)","v":""},{"$f":"CONCATENATE(応募者名簿!I211)","v":""}]
[{"$f":"応募者名簿!$B$8","v":0},{"$f":"CONCATENATE(応募者名簿!$B$11,応募者名簿!$D$11,応募者名簿!$E$11,応募者名簿!$I$11)","v":""},"半紙",{"$f":"CONCATENATE(応募者名簿!F212)","v":""},{"$f":"CONCATENATE(応募者名簿!G212)","v":""},{"$f":"CONCATENATE(応募者名簿!H212)","v":""},{"$f":"CONCATENATE(応募者名簿!I212)","v":""}]
[{"$f":"応募者名簿!$B$8","v":0},{"$f":"CONCATENATE(応募者名簿!$B$11,応募者名簿!$D$11,応募者名簿!$E$11,応募者名簿!$I$11)","v":""},"半紙",{"$f":"CONCATENATE(応募者名簿!F213)","v":""},{"$f":"CONCATENATE(応募者名簿!G213)","v":""},{"$f":"CONCATENATE(応募者名簿!H213)","v":""},{"$f":"CONCATENATE(応募者名簿!I213)","v":""}]
[{"$f":"応募者名簿!$B$8","v":0},{"$f":"CONCATENATE(応募者名簿!$B$11,応募者名簿!$D$11,応募者名簿!$E$11,応募者名簿!$I$11)","v":""},"半紙",{"$f":"CONCATENATE(応募者名簿!F214)","v":""},{"$f":"CONCATENATE(応募者名簿!G214)","v":""},{"$f":"CONCATENATE(応募者名簿!H214)","v":""},{"$f":"CONCATENATE(応募者名簿!I214)","v":""}]
[{"$f":"応募者名簿!$B$8","v":0},{"$f":"CONCATENATE(応募者名簿!$B$11,応募者名簿!$D$11,応募者名簿!$E$11,応募者名簿!$I$11)","v":""},"半紙",{"$f":"CONCATENATE(応募者名簿!F215)","v":""},{"$f":"CONCATENATE(応募者名簿!G215)","v":""},{"$f":"CONCATENATE(応募者名簿!H215)","v":""},{"$f":"CONCATENATE(応募者名簿!I215)","v":""}]
[{"$f":"応募者名簿!$B$8","v":0},{"$f":"CONCATENATE(応募者名簿!$B$11,応募者名簿!$D$11,応募者名簿!$E$11,応募者名簿!$I$11)","v":""},"半紙",{"$f":"CONCATENATE(応募者名簿!F216)","v":""},{"$f":"CONCATENATE(応募者名簿!G216)","v":""},{"$f":"CONCATENATE(応募者名簿!H216)","v":""},{"$f":"CONCATENATE(応募者名簿!I216)","v":""}]
[{"$f":"応募者名簿!$B$8","v":0},{"$f":"CONCATENATE(応募者名簿!$B$11,応募者名簿!$D$11,応募者名簿!$E$11,応募者名簿!$I$11)","v":""},"半紙",{"$f":"CONCATENATE(応募者名簿!F217)","v":""},{"$f":"CONCATENATE(応募者名簿!G217)","v":""},{"$f":"CONCATENATE(応募者名簿!H217)","v":""},{"$f":"CONCATENATE(応募者名簿!I217)","v":""}]
[{"$f":"応募者名簿!$B$8","v":0},{"$f":"CONCATENATE(応募者名簿!$B$11,応募者名簿!$D$11,応募者名簿!$E$11,応募者名簿!$I$11)","v":""},"半紙",{"$f":"CONCATENATE(応募者名簿!F218)","v":""},{"$f":"CONCATENATE(応募者名簿!G218)","v":""},{"$f":"CONCATENATE(応募者名簿!H218)","v":""},{"$f":"CONCATENATE(応募者名簿!I218)","v":""}]
[{"$f":"応募者名簿!$B$8","v":0},{"$f":"CONCATENATE(応募者名簿!$B$11,応募者名簿!$D$11,応募者名簿!$E$11,応募者名簿!$I$11)","v":""},"半紙",{"$f":"CONCATENATE(応募者名簿!F219)","v":""},{"$f":"CONCATENATE(応募者名簿!G219)","v":""},{"$f":"CONCATENATE(応募者名簿!H219)","v":""},{"$f":"CONCATENATE(応募者名簿!I219)","v":""}]
[{"$f":"応募者名簿!$B$8","v":0},{"$f":"CONCATENATE(応募者名簿!$B$11,応募者名簿!$D$11,応募者名簿!$E$11,応募者名簿!$I$11)","v":""},"半紙",{"$f":"CONCATENATE(応募者名簿!F220)","v":""},{"$f":"CONCATENATE(応募者名簿!G220)","v":""},{"$f":"CONCATENATE(応募者名簿!H220)","v":""},{"$f":"CONCATENATE(応募者名簿!I220)","v":""}]
[{"$f":"応募者名簿!$B$8","v":0},{"$f":"CONCATENATE(応募者名簿!$B$11,応募者名簿!$D$11,応募者名簿!$E$11,応募者名簿!$I$11)","v":""},"半紙",{"$f":"CONCATENATE(応募者名簿!F221)","v":""},{"$f":"CONCATENATE(応募者名簿!G221)","v":""},{"$f":"CONCATENATE(応募者名簿!H221)","v":""},{"$f":"CONCATENATE(応募者名簿!I221)","v":""}]
[{"$f":"応募者名簿!$B$8","v":0},{"$f":"CONCATENATE(応募者名簿!$B$11,応募者名簿!$D$11,応募者名簿!$E$11,応募者名簿!$I$11)","v":""},"半紙",{"$f":"CONCATENATE(応募者名簿!F222)","v":""},{"$f":"CONCATENATE(応募者名簿!G222)","v":""},{"$f":"CONCATENATE(応募者名簿!H222)","v":""},{"$f":"CONCATENATE(応募者名簿!I222)","v":""}]
[{"$f":"応募者名簿!$B$8","v":0},{"$f":"CONCATENATE(応募者名簿!$B$11,応募者名簿!$D$11,応募者名簿!$E$11,応募者名簿!$I$11)","v":""},"半紙",{"$f":"CONCATENATE(応募者名簿!F223)","v":""},{"$f":"CONCATENATE(応募者名簿!G223)","v":""},{"$f":"CONCATENATE(応募者名簿!H223)","v":""},{"$f":"CONCATENATE(応募者名簿!I223)","v":""}]
[{"$f":"応募者名簿!$B$8","v":0},{"$f":"CONCATENATE(応募者名簿!$B$11,応募者名簿!$D$11,応募者名簿!$E$11,応募者名簿!$I$11)","v":""},"半紙",{"$f":"CONCATENATE(応募者名簿!F224)","v":""},{"$f":"CONCATENATE(応募者名簿!G224)","v":""},{"$f":"CONCATENATE(応募者名簿!H224)","v":""},{"$f":"CONCATENATE(応募者名簿!I224)","v":""}]
[{"$f":"応募者名簿!$B$8","v":0},{"$f":"CONCATENATE(応募者名簿!$B$11,応募者名簿!$D$11,応募者名簿!$E$11,応募者名簿!$I$11)","v":""},"半紙",{"$f":"CONCATENATE(応募者名簿!F225)","v":""},{"$f":"CONCATENATE(応募者名簿!G225)","v":""},{"$f":"CONCATENATE(応募者名簿!H225)","v":""},{"$f":"CONCATENATE(応募者名簿!I225)","v":""}]
[{"$f":"応募者名簿!$B$8","v":0},{"$f":"CONCATENATE(応募者名簿!$B$11,応募者名簿!$D$11,応募者名簿!$E$11,応募者名簿!$I$11)","v":""},"半紙",{"$f":"CONCATENATE(応募者名簿!F226)","v":""},{"$f":"CONCATENATE(応募者名簿!G226)","v":""},{"$f":"CONCATENATE(応募者名簿!H226)","v":""},{"$f":"CONCATENATE(応募者名簿!I226)","v":""}]
[{"$f":"応募者名簿!$B$8","v":0},{"$f":"CONCATENATE(応募者名簿!$B$11,応募者名簿!$D$11,応募者名簿!$E$11,応募者名簿!$I$11)","v":""},"半紙",{"$f":"CONCATENATE(応募者名簿!F227)","v":""},{"$f":"CONCATENATE(応募者名簿!G227)","v":""},{"$f":"CONCATENATE(応募者名簿!H227)","v":""},{"$f":"CONCATENATE(応募者名簿!I227)","v":""}]
[{"$f":"応募者名簿!$B$8","v":0},{"$f":"CONCATENATE(応募者名簿!$B$11,応募者名簿!$D$11,応募者名簿!$E$11,応募者名簿!$I$11)","v":""},"半紙",{"$f":"CONCATENATE(応募者名簿!F228)","v":""},{"$f":"CONCATENATE(応募者名簿!G228)","v":""},{"$f":"CONCATENATE(応募者名簿!H228)","v":""},{"$f":"CONCATENATE(応募者名簿!I228)","v":""}]
[{"$f":"応募者名簿!$B$8","v":0},{"$f":"CONCATENATE(応募者名簿!$B$11,応募者名簿!$D$11,応募者名簿!$E$11,応募者名簿!$I$11)","v":""},"半紙",{"$f":"CONCATENATE(応募者名簿!F229)","v":""},{"$f":"CONCATENATE(応募者名簿!G229)","v":""},{"$f":"CONCATENATE(応募者名簿!H229)","v":""},{"$f":"CONCATENATE(応募者名簿!I229)","v":""}]
[{"$f":"応募者名簿!$B$8","v":0},{"$f":"CONCATENATE(応募者名簿!$B$11,応募者名簿!$D$11,応募者名簿!$E$11,応募者名簿!$I$11)","v":""},"半紙",{"$f":"CONCATENATE(応募者名簿!F230)","v":""},{"$f":"CONCATENATE(応募者名簿!G230)","v":""},{"$f":"CONCATENATE(応募者名簿!H230)","v":""},{"$f":"CONCATENATE(応募者名簿!I230)","v":""}]
[{"$f":"応募者名簿!$B$8","v":0},{"$f":"CONCATENATE(応募者名簿!$B$11,応募者名簿!$D$11,応募者名簿!$E$11,応募者名簿!$I$11)","v":""},"半紙",{"$f":"CONCATENATE(応募者名簿!F231)","v":""},{"$f":"CONCATENATE(応募者名簿!G231)","v":""},{"$f":"CONCATENATE(応募者名簿!H231)","v":""},{"$f":"CONCATENATE(応募者名簿!I231)","v":""}]
[{"$f":"応募者名簿!$B$8","v":0},{"$f":"CONCATENATE(応募者名簿!$B$11,応募者名簿!$D$11,応募者名簿!$E$11,応募者名簿!$I$11)","v":""},"半紙",{"$f":"CONCATENATE(応募者名簿!F232)","v":""},{"$f":"CONCATENATE(応募者名簿!G232)","v":""},{"$f":"CONCATENATE(応募者名簿!H232)","v":""},{"$f":"CONCATENATE(応募者名簿!I232)","v":""}]
[{"$f":"応募者名簿!$B$8","v":0},{"$f":"CONCATENATE(応募者名簿!$B$11,応募者名簿!$D$11,応募者名簿!$E$11,応募者名簿!$I$11)","v":""},"半紙",{"$f":"CONCATENATE(応募者名簿!F233)","v":""},{"$f":"CONCATENATE(応募者名簿!G233)","v":""},{"$f":"CONCATENATE(応募者名簿!H233)","v":""},{"$f":"CONCATENATE(応募者名簿!I233)","v":""}]
[{"$f":"応募者名簿!$B$8","v":0},{"$f":"CONCATENATE(応募者名簿!$B$11,応募者名簿!$D$11,応募者名簿!$E$11,応募者名簿!$I$11)","v":""},"半紙",{"$f":"CONCATENATE(応募者名簿!F234)","v":""},{"$f":"CONCATENATE(応募者名簿!G234)","v":""},{"$f":"CONCATENATE(応募者名簿!H234)","v":""},{"$f":"CONCATENATE(応募者名簿!I234)","v":""}]
[{"$f":"応募者名簿!$B$8","v":0},{"$f":"CONCATENATE(応募者名簿!$B$11,応募者名簿!$D$11,応募者名簿!$E$11,応募者名簿!$I$11)","v":""},"半紙",{"$f":"CONCATENATE(応募者名簿!F235)","v":""},{"$f":"CONCATENATE(応募者名簿!G235)","v":""},{"$f":"CONCATENATE(応募者名簿!H235)","v":""},{"$f":"CONCATENATE(応募者名簿!I235)","v":""}]
[{"$f":"応募者名簿!$B$8","v":0},{"$f":"CONCATENATE(応募者名簿!$B$11,応募者名簿!$D$11,応募者名簿!$E$11,応募者名簿!$I$11)","v":""},"半紙",{"$f":"CONCATENATE(応募者名簿!F236)","v":""},{"$f":"CONCATENATE(応募者名簿!G236)","v":""},{"$f":"CONCATENATE(応募者名簿!H236)","v":""},{"$f":"CONCATENATE(応募者名簿!I236)","v":""}]
[{"$f":"応募者名簿!$B$8","v":0},{"$f":"CONCATENATE(応募者名簿!$B$11,応募者名簿!$D$11,応募者名簿!$E$11,応募者名簿!$I$11)","v":""},"半紙",{"$f":"CONCATENATE(応募者名簿!F237)","v":""},{"$f":"CONCATENATE(応募者名簿!G237)","v":""},{"$f":"CONCATENATE(応募者名簿!H237)","v":""},{"$f":"CONCATENATE(応募者名簿!I237)","v":""}]
[{"$f":"応募者名簿!$B$8","v":0},{"$f":"CONCATENATE(応募者名簿!$B$11,応募者名簿!$D$11,応募者名簿!$E$11,応募者名簿!$I$11)","v":""},"半紙",{"$f":"CONCATENATE(応募者名簿!F238)","v":""},{"$f":"CONCATENATE(応募者名簿!G238)","v":""},{"$f":"CONCATENATE(応募者名簿!H238)","v":""},{"$f":"CONCATENATE(応募者名簿!I238)","v":""}]
[{"$f":"応募者名簿!$B$8","v":0},{"$f":"CONCATENATE(応募者名簿!$B$11,応募者名簿!$D$11,応募者名簿!$E$11,応募者名簿!$I$11)","v":""},"半紙",{"$f":"CONCATENATE(応募者名簿!F239)","v":""},{"$f":"CONCATENATE(応募者名簿!G239)","v":""},{"$f":"CONCATENATE(応募者名簿!H239)","v":""},{"$f":"CONCATENATE(応募者名簿!I239)","v":""}]
[{"$f":"応募者名簿!$B$8","v":0},{"$f":"CONCATENATE(応募者名簿!$B$11,応募者名簿!$D$11,応募者名簿!$E$11,応募者名簿!$I$11)","v":""},"半紙",{"$f":"CONCATENATE(応募者名簿!F240)","v":""},{"$f":"CONCATENATE(応募者名簿!G240)","v":""},{"$f":"CONCATENATE(応募者名簿!H240)","v":""},{"$f":"CONCATENATE(応募者名簿!I240)","v":""}]
[{"$f":"応募者名簿!$B$8","v":0},{"$f":"CONCATENATE(応募者名簿!$B$11,応募者名簿!$D$11,応募者名簿!$E$11,応募者名簿!$I$11)","v":""},"半紙",{"$f":"CONCATENATE(応募者名簿!F241)","v":""},{"$f":"CONCATENATE(応募者名簿!G241)","v":""},{"$f":"CONCATENATE(応募者名簿!H241)","v":""},{"$f":"CONCATENATE(応募者名簿!I241)","v":""}]
[{"$f":"応募者名簿!$B$8","v":0},{"$f":"CONCATENATE(応募者名簿!$B$11,応募者名簿!$D$11,応募者名簿!$E$11,応募者名簿!$I$11)","v":""},"半紙",{"$f":"CONCATENATE(応募者名簿!F242)","v":""},{"$f":"CONCATENATE(応募者名簿!G242)","v":""},{"$f":"CONCATENATE(応募者名簿!H242)","v":""},{"$f":"CONCATENATE(応募者名簿!I242)","v":""}]
[{"$f":"応募者名簿!$B$8","v":0},{"$f":"CONCATENATE(応募者名簿!$B$11,応募者名簿!$D$11,応募者名簿!$E$11,応募者名簿!$I$11)","v":""},"半紙",{"$f":"CONCATENATE(応募者名簿!F243)","v":""},{"$f":"CONCATENATE(応募者名簿!G243)","v":""},{"$f":"CONCATENATE(応募者名簿!H243)","v":""},{"$f":"CONCATENATE(応募者名簿!I243)","v":""}]
[{"$f":"応募者名簿!$B$8","v":0},{"$f":"CONCATENATE(応募者名簿!$B$11,応募者名簿!$D$11,応募者名簿!$E$11,応募者名簿!$I$11)","v":""},"半紙",{"$f":"CONCATENATE(応募者名簿!F244)","v":""},{"$f":"CONCATENATE(応募者名簿!G244)","v":""},{"$f":"CONCATENATE(応募者名簿!H244)","v":""},{"$f":"CONCATENATE(応募者名簿!I244)","v":""}]
[{"$f":"応募者名簿!$B$8","v":0},{"$f":"CONCATENATE(応募者名簿!$B$11,応募者名簿!$D$11,応募者名簿!$E$11,応募者名簿!$I$11)","v":""},"半紙",{"$f":"CONCATENATE(応募者名簿!F245)","v":""},{"$f":"CONCATENATE(応募者名簿!G245)","v":""},{"$f":"CONCATENATE(応募者名簿!H245)","v":""},{"$f":"CONCATENATE(応募者名簿!I245)","v":""}]
[{"$f":"応募者名簿!$B$8","v":0},{"$f":"CONCATENATE(応募者名簿!$B$11,応募者名簿!$D$11,応募者名簿!$E$11,応募者名簿!$I$11)","v":""},"半紙",{"$f":"CONCATENATE(応募者名簿!F246)","v":""},{"$f":"CONCATENATE(応募者名簿!G246)","v":""},{"$f":"CONCATENATE(応募者名簿!H246)","v":""},{"$f":"CONCATENATE(応募者名簿!I246)","v":""}]
[{"$f":"応募者名簿!$B$8","v":0},{"$f":"CONCATENATE(応募者名簿!$B$11,応募者名簿!$D$11,応募者名簿!$E$11,応募者名簿!$I$11)","v":""},"半紙",{"$f":"CONCATENATE(応募者名簿!F247)","v":""},{"$f":"CONCATENATE(応募者名簿!G247)","v":""},{"$f":"CONCATENATE(応募者名簿!H247)","v":""},{"$f":"CONCATENATE(応募者名簿!I247)","v":""}]
[{"$f":"応募者名簿!$B$8","v":0},{"$f":"CONCATENATE(応募者名簿!$B$11,応募者名簿!$D$11,応募者名簿!$E$11,応募者名簿!$I$11)","v":""},"半紙",{"$f":"CONCATENATE(応募者名簿!F248)","v":""},{"$f":"CONCATENATE(応募者名簿!G248)","v":""},{"$f":"CONCATENATE(応募者名簿!H248)","v":""},{"$f":"CONCATENATE(応募者名簿!I248)","v":""}]
[{"$f":"応募者名簿!$B$8","v":0},{"$f":"CONCATENATE(応募者名簿!$B$11,応募者名簿!$D$11,応募者名簿!$E$11,応募者名簿!$I$11)","v":""},"半紙",{"$f":"CONCATENATE(応募者名簿!F249)","v":""},{"$f":"CONCATENATE(応募者名簿!G249)","v":""},{"$f":"CONCATENATE(応募者名簿!H249)","v":""},{"$f":"CONCATENATE(応募者名簿!I249)","v":""}]
[{"$f":"応募者名簿!$B$8","v":0},{"$f":"CONCATENATE(応募者名簿!$B$11,応募者名簿!$D$11,応募者名簿!$E$11,応募者名簿!$I$11)","v":""},"半紙",{"$f":"CONCATENATE(応募者名簿!F250)","v":""},{"$f":"CONCATENATE(応募者名簿!G250)","v":""},{"$f":"CONCATENATE(応募者名簿!H250)","v":""},{"$f":"CONCATENATE(応募者名簿!I250)","v":""}]
[{"$f":"応募者名簿!$B$8","v":0},{"$f":"CONCATENATE(応募者名簿!$B$11,応募者名簿!$D$11,応募者名簿!$E$11,応募者名簿!$I$11)","v":""},"半紙",{"$f":"CONCATENATE(応募者名簿!F251)","v":""},{"$f":"CONCATENATE(応募者名簿!G251)","v":""},{"$f":"CONCATENATE(応募者名簿!H251)","v":""},{"$f":"CONCATENATE(応募者名簿!I251)","v":""}]
[{"$f":"応募者名簿!$B$8","v":0},{"$f":"CONCATENATE(応募者名簿!$B$11,応募者名簿!$D$11,応募者名簿!$E$11,応募者名簿!$I$11)","v":""},"半紙",{"$f":"CONCATENATE(応募者名簿!F252)","v":""},{"$f":"CONCATENATE(応募者名簿!G252)","v":""},{"$f":"CONCATENATE(応募者名簿!H252)","v":""},{"$f":"CONCATENATE(応募者名簿!I252)","v":""}]
[{"$f":"応募者名簿!$B$8","v":0},{"$f":"CONCATENATE(応募者名簿!$B$11,応募者名簿!$D$11,応募者名簿!$E$11,応募者名簿!$I$11)","v":""},"半紙",{"$f":"CONCATENATE(応募者名簿!F253)","v":""},{"$f":"CONCATENATE(応募者名簿!G253)","v":""},{"$f":"CONCATENATE(応募者名簿!H253)","v":""},{"$f":"CONCATENATE(応募者名簿!I253)","v":""}]
[{"$f":"応募者名簿!$B$8","v":0},{"$f":"CONCATENATE(応募者名簿!$B$11,応募者名簿!$D$11,応募者名簿!$E$11,応募者名簿!$I$11)","v":""},"半紙",{"$f":"CONCATENATE(応募者名簿!F254)","v":""},{"$f":"CONCATENATE(応募者名簿!G254)","v":""},{"$f":"CONCATENATE(応募者名簿!H254)","v":""},{"$f":"CONCATENATE(応募者名簿!I254)","v":""}]
[{"$f":"応募者名簿!$B$8","v":0},{"$f":"CONCATENATE(応募者名簿!$B$11,応募者名簿!$D$11,応募者名簿!$E$11,応募者名簿!$I$11)","v":""},"半紙",{"$f":"CONCATENATE(応募者名簿!F255)","v":""},{"$f":"CONCATENATE(応募者名簿!G255)","v":""},{"$f":"CONCATENATE(応募者名簿!H255)","v":""},{"$f":"CONCATENATE(応募者名簿!I255)","v":""}]
[{"$f":"応募者名簿!$B$8","v":0},{"$f":"CONCATENATE(応募者名簿!$B$11,応募者名簿!$D$11,応募者名簿!$E$11,応募者名簿!$I$11)","v":""},"半紙",{"$f":"CONCATENATE(応募者名簿!F256)","v":""},{"$f":"CONCATENATE(応募者名簿!G256)","v":""},{"$f":"CONCATENATE(応募者名簿!H256)","v":""},{"$f":"CONCATENATE(応募者名簿!I256)","v":""}]
[{"$f":"応募者名簿!$B$8","v":0},{"$f":"CONCATENATE(応募者名簿!$B$11,応募者名簿!$D$11,応募者名簿!$E$11,応募者名簿!$I$11)","v":""},"半紙",{"$f":"CONCATENATE(応募者名簿!F257)","v":""},{"$f":"CONCATENATE(応募者名簿!G257)","v":""},{"$f":"CONCATENATE(応募者名簿!H257)","v":""},{"$f":"CONCATENATE(応募者名簿!I257)","v":""}]
[{"$f":"応募者名簿!$B$8","v":0},{"$f":"CONCATENATE(応募者名簿!$B$11,応募者名簿!$D$11,応募者名簿!$E$11,応募者名簿!$I$11)","v":""},"半紙",{"$f":"CONCATENATE(応募者名簿!F258)","v":""},{"$f":"CONCATENATE(応募者名簿!G258)","v":""},{"$f":"CONCATENATE(応募者名簿!H258)","v":""},{"$f":"CONCATENATE(応募者名簿!I258)","v":""}]
[{"$f":"応募者名簿!$B$8","v":0},{"$f":"CONCATENATE(応募者名簿!$B$11,応募者名簿!$D$11,応募者名簿!$E$11,応募者名簿!$I$11)","v":""},"半紙",{"$f":"CONCATENATE(応募者名簿!F259)","v":""},{"$f":"CONCATENATE(応募者名簿!G259)","v":""},{"$f":"CONCATENATE(応募者名簿!H259)","v":""},{"$f":"CONCATENATE(応募者名簿!I259)","v":""}]
[{"$f":"応募者名簿!$B$8","v":0},{"$f":"CONCATENATE(応募者名簿!$B$11,応募者名簿!$D$11,応募者名簿!$E$11,応募者名簿!$I$11)","v":""},"半紙",{"$f":"CONCATENATE(応募者名簿!F260)","v":""},{"$f":"CONCATENATE(応募者名簿!G260)","v":""},{"$f":"CONCATENATE(応募者名簿!H260)","v":""},{"$f":"CONCATENATE(応募者名簿!I260)","v":""}]
[{"$f":"応募者名簿!$B$8","v":0},{"$f":"CONCATENATE(応募者名簿!$B$11,応募者名簿!$D$11,応募者名簿!$E$11,応募者名簿!$I$11)","v":""},"半紙",{"$f":"CONCATENATE(応募者名簿!F261)","v":""},{"$f":"CONCATENATE(応募者名簿!G261)","v":""},{"$f":"CONCATENATE(応募者名簿!H261)","v":""},{"$f":"CONCATENATE(応募者名簿!I261)","v":""}]
[{"$f":"応募者名簿!$B$8","v":0},{"$f":"CONCATENATE(応募者名簿!$B$11,応募者名簿!$D$11,応募者名簿!$E$11,応募者名簿!$I$11)","v":""},"半紙",{"$f":"CONCATENATE(応募者名簿!F262)","v":""},{"$f":"CONCATENATE(応募者名簿!G262)","v":""},{"$f":"CONCATENATE(応募者名簿!H262)","v":""},{"$f":"CONCATENATE(応募者名簿!I262)","v":""}]
[{"$f":"応募者名簿!$B$8","v":0},{"$f":"CONCATENATE(応募者名簿!$B$11,応募者名簿!$D$11,応募者名簿!$E$11,応募者名簿!$I$11)","v":""},"半紙",{"$f":"CONCATENATE(応募者名簿!F263)","v":""},{"$f":"CONCATENATE(応募者名簿!G263)","v":""},{"$f":"CONCATENATE(応募者名簿!H263)","v":""},{"$f":"CONCATENATE(応募者名簿!I263)","v":""}]
[{"$f":"応募者名簿!$B$8","v":0},{"$f":"CONCATENATE(応募者名簿!$B$11,応募者名簿!$D$11,応募者名簿!$E$11,応募者名簿!$I$11)","v":""},"半紙",{"$f":"CONCATENATE(応募者名簿!F264)","v":""},{"$f":"CONCATENATE(応募者名簿!G264)","v":""},{"$f":"CONCATENATE(応募者名簿!H264)","v":""},{"$f":"CONCATENATE(応募者名簿!I264)","v":""}]
[{"$f":"応募者名簿!$B$8","v":0},{"$f":"CONCATENATE(応募者名簿!$B$11,応募者名簿!$D$11,応募者名簿!$E$11,応募者名簿!$I$11)","v":""},"半紙",{"$f":"CONCATENATE(応募者名簿!F265)","v":""},{"$f":"CONCATENATE(応募者名簿!G265)","v":""},{"$f":"CONCATENATE(応募者名簿!H265)","v":""},{"$f":"CONCATENATE(応募者名簿!I265)","v":""}]
[{"$f":"応募者名簿!$B$8","v":0},{"$f":"CONCATENATE(応募者名簿!$B$11,応募者名簿!$D$11,応募者名簿!$E$11,応募者名簿!$I$11)","v":""},"半紙",{"$f":"CONCATENATE(応募者名簿!F266)","v":""},{"$f":"CONCATENATE(応募者名簿!G266)","v":""},{"$f":"CONCATENATE(応募者名簿!H266)","v":""},{"$f":"CONCATENATE(応募者名簿!I266)","v":""}]
[{"$f":"応募者名簿!$B$8","v":0},{"$f":"CONCATENATE(応募者名簿!$B$11,応募者名簿!$D$11,応募者名簿!$E$11,応募者名簿!$I$11)","v":""},"半紙",{"$f":"CONCATENATE(応募者名簿!F267)","v":""},{"$f":"CONCATENATE(応募者名簿!G267)","v":""},{"$f":"CONCATENATE(応募者名簿!H267)","v":""},{"$f":"CONCATENATE(応募者名簿!I267)","v":""}]
[{"$f":"応募者名簿!$B$8","v":0},{"$f":"CONCATENATE(応募者名簿!$B$11,応募者名簿!$D$11,応募者名簿!$E$11,応募者名簿!$I$11)","v":""},"半紙",{"$f":"CONCATENATE(応募者名簿!F268)","v":""},{"$f":"CONCATENATE(応募者名簿!G268)","v":""},{"$f":"CONCATENATE(応募者名簿!H268)","v":""},{"$f":"CONCATENATE(応募者名簿!I268)","v":""}]
[{"$f":"応募者名簿!$B$8","v":0},{"$f":"CONCATENATE(応募者名簿!$B$11,応募者名簿!$D$11,応募者名簿!$E$11,応募者名簿!$I$11)","v":""},"半紙",{"$f":"CONCATENATE(応募者名簿!F269)","v":""},{"$f":"CONCATENATE(応募者名簿!G269)","v":""},{"$f":"CONCATENATE(応募者名簿!H269)","v":""},{"$f":"CONCATENATE(応募者名簿!I269)","v":""}]
[{"$f":"応募者名簿!$B$8","v":0},{"$f":"CONCATENATE(応募者名簿!$B$11,応募者名簿!$D$11,応募者名簿!$E$11,応募者名簿!$I$11)","v":""},"半紙",{"$f":"CONCATENATE(応募者名簿!F270)","v":""},{"$f":"CONCATENATE(応募者名簿!G270)","v":""},{"$f":"CONCATENATE(応募者名簿!H270)","v":""},{"$f":"CONCATENATE(応募者名簿!I270)","v":""}]
[{"$f":"応募者名簿!$B$8","v":0},{"$f":"CONCATENATE(応募者名簿!$B$11,応募者名簿!$D$11,応募者名簿!$E$11,応募者名簿!$I$11)","v":""},"半紙",{"$f":"CONCATENATE(応募者名簿!F271)","v":""},{"$f":"CONCATENATE(応募者名簿!G271)","v":""},{"$f":"CONCATENATE(応募者名簿!H271)","v":""},{"$f":"CONCATENATE(応募者名簿!I271)","v":""}]
[{"$f":"応募者名簿!$B$8","v":0},{"$f":"CONCATENATE(応募者名簿!$B$11,応募者名簿!$D$11,応募者名簿!$E$11,応募者名簿!$I$11)","v":""},"半紙",{"$f":"CONCATENATE(応募者名簿!F272)","v":""},{"$f":"CONCATENATE(応募者名簿!G272)","v":""},{"$f":"CONCATENATE(応募者名簿!H272)","v":""},{"$f":"CONCATENATE(応募者名簿!I272)","v":""}]
[{"$f":"応募者名簿!$B$8","v":0},{"$f":"CONCATENATE(応募者名簿!$B$11,応募者名簿!$D$11,応募者名簿!$E$11,応募者名簿!$I$11)","v":""},"半紙",{"$f":"CONCATENATE(応募者名簿!F273)","v":""},{"$f":"CONCATENATE(応募者名簿!G273)","v":""},{"$f":"CONCATENATE(応募者名簿!H273)","v":""},{"$f":"CONCATENATE(応募者名簿!I273)","v":""}]
[{"$f":"応募者名簿!$B$8","v":0},{"$f":"CONCATENATE(応募者名簿!$B$11,応募者名簿!$D$11,応募者名簿!$E$11,応募者名簿!$I$11)","v":""},"半紙",{"$f":"CONCATENATE(応募者名簿!F274)","v":""},{"$f":"CONCATENATE(応募者名簿!G274)","v":""},{"$f":"CONCATENATE(応募者名簿!H274)","v":""},{"$f":"CONCATENATE(応募者名簿!I274)","v":""}]
[{"$f":"応募者名簿!$B$8","v":0},{"$f":"CONCATENATE(応募者名簿!$B$11,応募者名簿!$D$11,応募者名簿!$E$11,応募者名簿!$I$11)","v":""},"半紙",{"$f":"CONCATENATE(応募者名簿!F275)","v":""},{"$f":"CONCATENATE(応募者名簿!G275)","v":""},{"$f":"CONCATENATE(応募者名簿!H275)","v":""},{"$f":"CONCATENATE(応募者名簿!I275)","v":""}]
[{"$f":"応募者名簿!$B$8","v":0},{"$f":"CONCATENATE(応募者名簿!$B$11,応募者名簿!$D$11,応募者名簿!$E$11,応募者名簿!$I$11)","v":""},"半紙",{"$f":"CONCATENATE(応募者名簿!F276)","v":""},{"$f":"CONCATENATE(応募者名簿!G276)","v":""},{"$f":"CONCATENATE(応募者名簿!H276)","v":""},{"$f":"CONCATENATE(応募者名簿!I276)","v":""}]
[{"$f":"応募者名簿!$B$8","v":0},{"$f":"CONCATENATE(応募者名簿!$B$11,応募者名簿!$D$11,応募者名簿!$E$11,応募者名簿!$I$11)","v":""},"半紙",{"$f":"CONCATENATE(応募者名簿!F277)","v":""},{"$f":"CONCATENATE(応募者名簿!G277)","v":""},{"$f":"CONCATENATE(応募者名簿!H277)","v":""},{"$f":"CONCATENATE(応募者名簿!I277)","v":""}]
[{"$f":"応募者名簿!$B$8","v":0},{"$f":"CONCATENATE(応募者名簿!$B$11,応募者名簿!$D$11,応募者名簿!$E$11,応募者名簿!$I$11)","v":""},"半紙",{"$f":"CONCATENATE(応募者名簿!F278)","v":""},{"$f":"CONCATENATE(応募者名簿!G278)","v":""},{"$f":"CONCATENATE(応募者名簿!H278)","v":""},{"$f":"CONCATENATE(応募者名簿!I278)","v":""}]
[{"$f":"応募者名簿!$B$8","v":0},{"$f":"CONCATENATE(応募者名簿!$B$11,応募者名簿!$D$11,応募者名簿!$E$11,応募者名簿!$I$11)","v":""},"半紙",{"$f":"CONCATENATE(応募者名簿!F279)","v":""},{"$f":"CONCATENATE(応募者名簿!G279)","v":""},{"$f":"CONCATENATE(応募者名簿!H279)","v":""},{"$f":"CONCATENATE(応募者名簿!I279)","v":""}]
[{"$f":"応募者名簿!$B$8","v":0},{"$f":"CONCATENATE(応募者名簿!$B$11,応募者名簿!$D$11,応募者名簿!$E$11,応募者名簿!$I$11)","v":""},"半紙",{"$f":"CONCATENATE(応募者名簿!F280)","v":""},{"$f":"CONCATENATE(応募者名簿!G280)","v":""},{"$f":"CONCATENATE(応募者名簿!H280)","v":""},{"$f":"CONCATENATE(応募者名簿!I280)","v":""}]
[{"$f":"応募者名簿!$B$8","v":0},{"$f":"CONCATENATE(応募者名簿!$B$11,応募者名簿!$D$11,応募者名簿!$E$11,応募者名簿!$I$11)","v":""},"半紙",{"$f":"CONCATENATE(応募者名簿!F281)","v":""},{"$f":"CONCATENATE(応募者名簿!G281)","v":""},{"$f":"CONCATENATE(応募者名簿!H281)","v":""},{"$f":"CONCATENATE(応募者名簿!I281)","v":""}]
[{"$f":"応募者名簿!$B$8","v":0},{"$f":"CONCATENATE(応募者名簿!$B$11,応募者名簿!$D$11,応募者名簿!$E$11,応募者名簿!$I$11)","v":""},"半紙",{"$f":"CONCATENATE(応募者名簿!F282)","v":""},{"$f":"CONCATENATE(応募者名簿!G282)","v":""},{"$f":"CONCATENATE(応募者名簿!H282)","v":""},{"$f":"CONCATENATE(応募者名簿!I282)","v":""}]
[{"$f":"応募者名簿!$B$8","v":0},{"$f":"CONCATENATE(応募者名簿!$B$11,応募者名簿!$D$11,応募者名簿!$E$11,応募者名簿!$I$11)","v":""},"半紙",{"$f":"CONCATENATE(応募者名簿!F283)","v":""},{"$f":"CONCATENATE(応募者名簿!G283)","v":""},{"$f":"CONCATENATE(応募者名簿!H283)","v":""},{"$f":"CONCATENATE(応募者名簿!I283)","v":""}]
[{"$f":"応募者名簿!$B$8","v":0},{"$f":"CONCATENATE(応募者名簿!$B$11,応募者名簿!$D$11,応募者名簿!$E$11,応募者名簿!$I$11)","v":""},"半紙",{"$f":"CONCATENATE(応募者名簿!F284)","v":""},{"$f":"CONCATENATE(応募者名簿!G284)","v":""},{"$f":"CONCATENATE(応募者名簿!H284)","v":""},{"$f":"CONCATENATE(応募者名簿!I284)","v":""}]
[{"$f":"応募者名簿!$B$8","v":0},{"$f":"CONCATENATE(応募者名簿!$B$11,応募者名簿!$D$11,応募者名簿!$E$11,応募者名簿!$I$11)","v":""},"半紙",{"$f":"CONCATENATE(応募者名簿!F285)","v":""},{"$f":"CONCATENATE(応募者名簿!G285)","v":""},{"$f":"CONCATENATE(応募者名簿!H285)","v":""},{"$f":"CONCATENATE(応募者名簿!I285)","v":""}]
[{"$f":"応募者名簿!$B$8","v":0},{"$f":"CONCATENATE(応募者名簿!$B$11,応募者名簿!$D$11,応募者名簿!$E$11,応募者名簿!$I$11)","v":""},"半紙",{"$f":"CONCATENATE(応募者名簿!F286)","v":""},{"$f":"CONCATENATE(応募者名簿!G286)","v":""},{"$f":"CONCATENATE(応募者名簿!H286)","v":""},{"$f":"CONCATENATE(応募者名簿!I286)","v":""}]
[{"$f":"応募者名簿!$B$8","v":0},{"$f":"CONCATENATE(応募者名簿!$B$11,応募者名簿!$D$11,応募者名簿!$E$11,応募者名簿!$I$11)","v":""},"半紙",{"$f":"CONCATENATE(応募者名簿!F287)","v":""},{"$f":"CONCATENATE(応募者名簿!G287)","v":""},{"$f":"CONCATENATE(応募者名簿!H287)","v":""},{"$f":"CONCATENATE(応募者名簿!I287)","v":""}]
[{"$f":"応募者名簿!$B$8","v":0},{"$f":"CONCATENATE(応募者名簿!$B$11,応募者名簿!$D$11,応募者名簿!$E$11,応募者名簿!$I$11)","v":""},"半紙",{"$f":"CONCATENATE(応募者名簿!F288)","v":""},{"$f":"CONCATENATE(応募者名簿!G288)","v":""},{"$f":"CONCATENATE(応募者名簿!H288)","v":""},{"$f":"CONCATENATE(応募者名簿!I288)","v":""}]
[{"$f":"応募者名簿!$B$8","v":0},{"$f":"CONCATENATE(応募者名簿!$B$11,応募者名簿!$D$11,応募者名簿!$E$11,応募者名簿!$I$11)","v":""},"半紙",{"$f":"CONCATENATE(応募者名簿!F289)","v":""},{"$f":"CONCATENATE(応募者名簿!G289)","v":""},{"$f":"CONCATENATE(応募者名簿!H289)","v":""},{"$f":"CONCATENATE(応募者名簿!I289)","v":""}]
[{"$f":"応募者名簿!$B$8","v":0},{"$f":"CONCATENATE(応募者名簿!$B$11,応募者名簿!$D$11,応募者名簿!$E$11,応募者名簿!$I$11)","v":""},"半紙",{"$f":"CONCATENATE(応募者名簿!F290)","v":""},{"$f":"CONCATENATE(応募者名簿!G290)","v":""},{"$f":"CONCATENATE(応募者名簿!H290)","v":""},{"$f":"CONCATENATE(応募者名簿!I290)","v":""}]
[{"$f":"応募者名簿!$B$8","v":0},{"$f":"CONCATENATE(応募者名簿!$B$11,応募者名簿!$D$11,応募者名簿!$E$11,応募者名簿!$I$11)","v":""},"半紙",{"$f":"CONCATENATE(応募者名簿!F291)","v":""},{"$f":"CONCATENATE(応募者名簿!G291)","v":""},{"$f":"CONCATENATE(応募者名簿!H291)","v":""},{"$f":"CONCATENATE(応募者名簿!I291)","v":""}]
[{"$f":"応募者名簿!$B$8","v":0},{"$f":"CONCATENATE(応募者名簿!$B$11,応募者名簿!$D$11,応募者名簿!$E$11,応募者名簿!$I$11)","v":""},"半紙",{"$f":"CONCATENATE(応募者名簿!F292)","v":""},{"$f":"CONCATENATE(応募者名簿!G292)","v":""},{"$f":"CONCATENATE(応募者名簿!H292)","v":""},{"$f":"CONCATENATE(応募者名簿!I292)","v":""}]
[{"$f":"応募者名簿!$B$8","v":0},{"$f":"CONCATENATE(応募者名簿!$B$11,応募者名簿!$D$11,応募者名簿!$E$11,応募者名簿!$I$11)","v":""},"半紙",{"$f":"CONCATENATE(応募者名簿!F293)","v":""},{"$f":"CONCATENATE(応募者名簿!G293)","v":""},{"$f":"CONCATENATE(応募者名簿!H293)","v":""},{"$f":"CONCATENATE(応募者名簿!I293)","v":""}]
[{"$f":"応募者名簿!$B$8","v":0},{"$f":"CONCATENATE(応募者名簿!$B$11,応募者名簿!$D$11,応募者名簿!$E$11,応募者名簿!$I$11)","v":""},"半紙",{"$f":"CONCATENATE(応募者名簿!F294)","v":""},{"$f":"CONCATENATE(応募者名簿!G294)","v":""},{"$f":"CONCATENATE(応募者名簿!H294)","v":""},{"$f":"CONCATENATE(応募者名簿!I294)","v":""}]
[{"$f":"応募者名簿!$B$8","v":0},{"$f":"CONCATENATE(応募者名簿!$B$11,応募者名簿!$D$11,応募者名簿!$E$11,応募者名簿!$I$11)","v":""},"半紙",{"$f":"CONCATENATE(応募者名簿!F295)","v":""},{"$f":"CONCATENATE(応募者名簿!G295)","v":""},{"$f":"CONCATENATE(応募者名簿!H295)","v":""},{"$f":"CONCATENATE(応募者名簿!I295)","v":""}]
[{"$f":"応募者名簿!$B$8","v":0},{"$f":"CONCATENATE(応募者名簿!$B$11,応募者名簿!$D$11,応募者名簿!$E$11,応募者名簿!$I$11)","v":""},"半紙",{"$f":"CONCATENATE(応募者名簿!F296)","v":""},{"$f":"CONCATENATE(応募者名簿!G296)","v":""},{"$f":"CONCATENATE(応募者名簿!H296)","v":""},{"$f":"CONCATENATE(応募者名簿!I296)","v":""}]
[{"$f":"応募者名簿!$B$8","v":0},{"$f":"CONCATENATE(応募者名簿!$B$11,応募者名簿!$D$11,応募者名簿!$E$11,応募者名簿!$I$11)","v":""},"半紙",{"$f":"CONCATENATE(応募者名簿!F297)","v":""},{"$f":"CONCATENATE(応募者名簿!G297)","v":""},{"$f":"CONCATENATE(応募者名簿!H297)","v":""},{"$f":"CONCATENATE(応募者名簿!I297)","v":""}]
[{"$f":"応募者名簿!$B$8","v":0},{"$f":"CONCATENATE(応募者名簿!$B$11,応募者名簿!$D$11,応募者名簿!$E$11,応募者名簿!$I$11)","v":""},"半紙",{"$f":"CONCATENATE(応募者名簿!F298)","v":""},{"$f":"CONCATENATE(応募者名簿!G298)","v":""},{"$f":"CONCATENATE(応募者名簿!H298)","v":""},{"$f":"CONCATENATE(応募者名簿!I298)","v":""}]
[{"$f":"応募者名簿!$B$8","v":0},{"$f":"CONCATENATE(応募者名簿!$B$11,応募者名簿!$D$11,応募者名簿!$E$11,応募者名簿!$I$11)","v":""},"半紙",{"$f":"CONCATENATE(応募者名簿!F299)","v":""},{"$f":"CONCATENATE(応募者名簿!G299)","v":""},{"$f":"CONCATENATE(応募者名簿!H299)","v":""},{"$f":"CONCATENATE(応募者名簿!I299)","v":""}]
[{"$f":"応募者名簿!$B$8","v":0},{"$f":"CONCATENATE(応募者名簿!$B$11,応募者名簿!$D$11,応募者名簿!$E$11,応募者名簿!$I$11)","v":""},"半紙",{"$f":"CONCATENATE(応募者名簿!F300)","v":""},{"$f":"CONCATENATE(応募者名簿!G300)","v":""},{"$f":"CONCATENATE(応募者名簿!H300)","v":""},{"$f":"CONCATENATE(応募者名簿!I300)","v":""}]
[{"$f":"応募者名簿!$B$8","v":0},{"$f":"CONCATENATE(応募者名簿!$B$11,応募者名簿!$D$11,応募者名簿!$E$11,応募者名簿!$I$11)","v":""},"半紙",{"$f":"CONCATENATE(応募者名簿!F301)","v":""},{"$f":"CONCATENATE(応募者名簿!G301)","v":""},{"$f":"CONCATENATE(応募者名簿!H301)","v":""},{"$f":"CONCATENATE(応募者名簿!I301)","v":""}]
[{"$f":"応募者名簿!$B$8","v":0},{"$f":"CONCATENATE(応募者名簿!$B$11,応募者名簿!$D$11,応募者名簿!$E$11,応募者名簿!$I$11)","v":""},"半紙",{"$f":"CONCATENATE(応募者名簿!F302)","v":""},{"$f":"CONCATENATE(応募者名簿!G302)","v":""},{"$f":"CONCATENATE(応募者名簿!H302)","v":""},{"$f":"CONCATENATE(応募者名簿!I302)","v":""}]
[{"$f":"応募者名簿!$B$8","v":0},{"$f":"CONCATENATE(応募者名簿!$B$11,応募者名簿!$D$11,応募者名簿!$E$11,応募者名簿!$I$11)","v":""},"半紙",{"$f":"CONCATENATE(応募者名簿!F303)","v":""},{"$f":"CONCATENATE(応募者名簿!G303)","v":""},{"$f":"CONCATENATE(応募者名簿!H303)","v":""},{"$f":"CONCATENATE(応募者名簿!I303)","v":""}]
[{"$f":"応募者名簿!$B$8","v":0},{"$f":"CONCATENATE(応募者名簿!$B$11,応募者名簿!$D$11,応募者名簿!$E$11,応募者名簿!$I$11)","v":""},"半紙",{"$f":"CONCATENATE(応募者名簿!F304)","v":""},{"$f":"CONCATENATE(応募者名簿!G304)","v":""},{"$f":"CONCATENATE(応募者名簿!H304)","v":""},{"$f":"CONCATENATE(応募者名簿!I304)","v":""}]
[{"$f":"応募者名簿!$B$8","v":0},{"$f":"CONCATENATE(応募者名簿!$B$11,応募者名簿!$D$11,応募者名簿!$E$11,応募者名簿!$I$11)","v":""},"半紙",{"$f":"CONCATENATE(応募者名簿!F305)","v":""},{"$f":"CONCATENATE(応募者名簿!G305)","v":""},{"$f":"CONCATENATE(応募者名簿!H305)","v":""},{"$f":"CONCATENATE(応募者名簿!I305)","v":""}]
[{"$f":"応募者名簿!$B$8","v":0},{"$f":"CONCATENATE(応募者名簿!$B$11,応募者名簿!$D$11,応募者名簿!$E$11,応募者名簿!$I$11)","v":""},"半紙",{"$f":"CONCATENATE(応募者名簿!F306)","v":""},{"$f":"CONCATENATE(応募者名簿!G306)","v":""},{"$f":"CONCATENATE(応募者名簿!H306)","v":""},{"$f":"CONCATENATE(応募者名簿!I306)","v":""}]
[{"$f":"応募者名簿!$B$8","v":0},{"$f":"CONCATENATE(応募者名簿!$B$11,応募者名簿!$D$11,応募者名簿!$E$11,応募者名簿!$I$11)","v":""},"半紙",{"$f":"CONCATENATE(応募者名簿!F307)","v":""},{"$f":"CONCATENATE(応募者名簿!G307)","v":""},{"$f":"CONCATENATE(応募者名簿!H307)","v":""},{"$f":"CONCATENATE(応募者名簿!I307)","v":""}]
[{"$f":"応募者名簿!$B$8","v":0},{"$f":"CONCATENATE(応募者名簿!$B$11,応募者名簿!$D$11,応募者名簿!$E$11,応募者名簿!$I$11)","v":""},"半紙",{"$f":"CONCATENATE(応募者名簿!F308)","v":""},{"$f":"CONCATENATE(応募者名簿!G308)","v":""},{"$f":"CONCATENATE(応募者名簿!H308)","v":""},{"$f":"CONCATENATE(応募者名簿!I308)","v":""}]
[{"$f":"応募者名簿!$B$8","v":0},{"$f":"CONCATENATE(応募者名簿!$B$11,応募者名簿!$D$11,応募者名簿!$E$11,応募者名簿!$I$11)","v":""},"半紙",{"$f":"CONCATENATE(応募者名簿!F309)","v":""},{"$f":"CONCATENATE(応募者名簿!G309)","v":""},{"$f":"CONCATENATE(応募者名簿!H309)","v":""},{"$f":"CONCATENATE(応募者名簿!I309)","v":""}]
[{"$f":"応募者名簿!$B$8","v":0},{"$f":"CONCATENATE(応募者名簿!$B$11,応募者名簿!$D$11,応募者名簿!$E$11,応募者名簿!$I$11)","v":""},"半紙",{"$f":"CONCATENATE(応募者名簿!F310)","v":""},{"$f":"CONCATENATE(応募者名簿!G310)","v":""},{"$f":"CONCATENATE(応募者名簿!H310)","v":""},{"$f":"CONCATENATE(応募者名簿!I310)","v":""}]
[{"$f":"応募者名簿!$B$8","v":0},{"$f":"CONCATENATE(応募者名簿!$B$11,応募者名簿!$D$11,応募者名簿!$E$11,応募者名簿!$I$11)","v":""},"半紙",{"$f":"CONCATENATE(応募者名簿!F311)","v":""},{"$f":"CONCATENATE(応募者名簿!G311)","v":""},{"$f":"CONCATENATE(応募者名簿!H311)","v":""},{"$f":"CONCATENATE(応募者名簿!I311)","v":""}]
[{"$f":"応募者名簿!$B$8","v":0},{"$f":"CONCATENATE(応募者名簿!$B$11,応募者名簿!$D$11,応募者名簿!$E$11,応募者名簿!$I$11)","v":""},"半紙",{"$f":"CONCATENATE(応募者名簿!F312)","v":""},{"$f":"CONCATENATE(応募者名簿!G312)","v":""},{"$f":"CONCATENATE(応募者名簿!H312)","v":""},{"$f":"CONCATENATE(応募者名簿!I312)","v":""}]
[{"$f":"応募者名簿!$B$8","v":0},{"$f":"CONCATENATE(応募者名簿!$B$11,応募者名簿!$D$11,応募者名簿!$E$11,応募者名簿!$I$11)","v":""},"半紙",{"$f":"CONCATENATE(応募者名簿!F313)","v":""},{"$f":"CONCATENATE(応募者名簿!G313)","v":""},{"$f":"CONCATENATE(応募者名簿!H313)","v":""},{"$f":"CONCATENATE(応募者名簿!I313)","v":""}]
[{"$f":"応募者名簿!$B$8","v":0},{"$f":"CONCATENATE(応募者名簿!$B$11,応募者名簿!$D$11,応募者名簿!$E$11,応募者名簿!$I$11)","v":""},"半紙",{"$f":"CONCATENATE(応募者名簿!F314)","v":""},{"$f":"CONCATENATE(応募者名簿!G314)","v":""},{"$f":"CONCATENATE(応募者名簿!H314)","v":""},{"$f":"CONCATENATE(応募者名簿!I314)","v":""}]
[{"$f":"応募者名簿!$B$8","v":0},{"$f":"CONCATENATE(応募者名簿!$B$11,応募者名簿!$D$11,応募者名簿!$E$11,応募者名簿!$I$11)","v":""},"半紙",{"$f":"CONCATENATE(応募者名簿!F315)","v":""},{"$f":"CONCATENATE(応募者名簿!G315)","v":""},{"$f":"CONCATENATE(応募者名簿!H315)","v":""},{"$f":"CONCATENATE(応募者名簿!I315)","v":""}]
[{"$f":"応募者名簿!$B$8","v":0},{"$f":"CONCATENATE(応募者名簿!$B$11,応募者名簿!$D$11,応募者名簿!$E$11,応募者名簿!$I$11)","v":""},"半紙",{"$f":"CONCATENATE(応募者名簿!F316)","v":""},{"$f":"CONCATENATE(応募者名簿!G316)","v":""},{"$f":"CONCATENATE(応募者名簿!H316)","v":""},{"$f":"CONCATENATE(応募者名簿!I316)","v":""}]
[{"$f":"応募者名簿!$B$8","v":0},{"$f":"CONCATENATE(応募者名簿!$B$11,応募者名簿!$D$11,応募者名簿!$E$11,応募者名簿!$I$11)","v":""},"半紙",{"$f":"CONCATENATE(応募者名簿!F317)","v":""},{"$f":"CONCATENATE(応募者名簿!G317)","v":""},{"$f":"CONCATENATE(応募者名簿!H317)","v":""},{"$f":"CONCATENATE(応募者名簿!I317)","v":""}]
[{"$f":"応募者名簿!$B$8","v":0},{"$f":"CONCATENATE(応募者名簿!$B$11,応募者名簿!$D$11,応募者名簿!$E$11,応募者名簿!$I$11)","v":""},"半紙",{"$f":"CONCATENATE(応募者名簿!F318)","v":""},{"$f":"CONCATENATE(応募者名簿!G318)","v":""},{"$f":"CONCATENATE(応募者名簿!H318)","v":""},{"$f":"CONCATENATE(応募者名簿!I318)","v":""}]
[{"$f":"応募者名簿!$B$8","v":0},{"$f":"CONCATENATE(応募者名簿!$B$11,応募者名簿!$D$11,応募者名簿!$E$11,応募者名簿!$I$11)","v":""},"半紙",{"$f":"CONCATENATE(応募者名簿!F319)","v":""},{"$f":"CONCATENATE(応募者名簿!G319)","v":""},{"$f":"CONCATENATE(応募者名簿!H319)","v":""},{"$f":"CONCATENATE(応募者名簿!I319)","v":""}]
[{"$f":"応募者名簿!$B$8","v":0},{"$f":"CONCATENATE(応募者名簿!$B$11,応募者名簿!$D$11,応募者名簿!$E$11,応募者名簿!$I$11)","v":""},"半紙",{"$f":"CONCATENATE(応募者名簿!F320)","v":""},{"$f":"CONCATENATE(応募者名簿!G320)","v":""},{"$f":"CONCATENATE(応募者名簿!H320)","v":""},{"$f":"CONCATENATE(応募者名簿!I320)","v":""}]
[{"$f":"応募者名簿!$B$8","v":0},{"$f":"CONCATENATE(応募者名簿!$B$11,応募者名簿!$D$11,応募者名簿!$E$11,応募者名簿!$I$11)","v":""},"半紙",{"$f":"CONCATENATE(応募者名簿!F321)","v":""},{"$f":"CONCATENATE(応募者名簿!G321)","v":""},{"$f":"CONCATENATE(応募者名簿!H321)","v":""},{"$f":"CONCATENATE(応募者名簿!I321)","v":""}]
[{"$f":"応募者名簿!$B$8","v":0},{"$f":"CONCATENATE(応募者名簿!$B$11,応募者名簿!$D$11,応募者名簿!$E$11,応募者名簿!$I$11)","v":""},"半紙",{"$f":"CONCATENATE(応募者名簿!F322)","v":""},{"$f":"CONCATENATE(応募者名簿!G322)","v":""},{"$f":"CONCATENATE(応募者名簿!H322)","v":""},{"$f":"CONCATENATE(応募者名簿!I322)","v":""}]
[{"$f":"応募者名簿!$B$8","v":0},{"$f":"CONCATENATE(応募者名簿!$B$11,応募者名簿!$D$11,応募者名簿!$E$11,応募者名簿!$I$11)","v":""},"半紙",{"$f":"CONCATENATE(応募者名簿!F323)","v":""},{"$f":"CONCATENATE(応募者名簿!G323)","v":""},{"$f":"CONCATENATE(応募者名簿!H323)","v":""},{"$f":"CONCATENATE(応募者名簿!I323)","v":""}]
[{"$f":"応募者名簿!$B$8","v":0},{"$f":"CONCATENATE(応募者名簿!$B$11,応募者名簿!$D$11,応募者名簿!$E$11,応募者名簿!$I$11)","v":""},"半紙",{"$f":"CONCATENATE(応募者名簿!F324)","v":""},{"$f":"CONCATENATE(応募者名簿!G324)","v":""},{"$f":"CONCATENATE(応募者名簿!H324)","v":""},{"$f":"CONCATENATE(応募者名簿!I324)","v":""}]
[{"$f":"応募者名簿!$B$8","v":0},{"$f":"CONCATENATE(応募者名簿!$B$11,応募者名簿!$D$11,応募者名簿!$E$11,応募者名簿!$I$11)","v":""},"半紙",{"$f":"CONCATENATE(応募者名簿!F325)","v":""},{"$f":"CONCATENATE(応募者名簿!G325)","v":""},{"$f":"CONCATENATE(応募者名簿!H325)","v":""},{"$f":"CONCATENATE(応募者名簿!I325)","v":""}]
[{"$f":"応募者名簿!$B$8","v":0},{"$f":"CONCATENATE(応募者名簿!$B$11,応募者名簿!$D$11,応募者名簿!$E$11,応募者名簿!$I$11)","v":""},"半紙",{"$f":"CONCATENATE(応募者名簿!F326)","v":""},{"$f":"CONCATENATE(応募者名簿!G326)","v":""},{"$f":"CONCATENATE(応募者名簿!H326)","v":""},{"$f":"CONCATENATE(応募者名簿!I326)","v":""}]
[{"$f":"応募者名簿!$B$8","v":0},{"$f":"CONCATENATE(応募者名簿!$B$11,応募者名簿!$D$11,応募者名簿!$E$11,応募者名簿!$I$11)","v":""},"半紙",{"$f":"CONCATENATE(応募者名簿!F327)","v":""},{"$f":"CONCATENATE(応募者名簿!G327)","v":""},{"$f":"CONCATENATE(応募者名簿!H327)","v":""},{"$f":"CONCATENATE(応募者名簿!I327)","v":""}]
[{"$f":"応募者名簿!$B$8","v":0},{"$f":"CONCATENATE(応募者名簿!$B$11,応募者名簿!$D$11,応募者名簿!$E$11,応募者名簿!$I$11)","v":""},"半紙",{"$f":"CONCATENATE(応募者名簿!F328)","v":""},{"$f":"CONCATENATE(応募者名簿!G328)","v":""},{"$f":"CONCATENATE(応募者名簿!H328)","v":""},{"$f":"CONCATENATE(応募者名簿!I328)","v":""}]
[{"$f":"応募者名簿!$B$8","v":0},{"$f":"CONCATENATE(応募者名簿!$B$11,応募者名簿!$D$11,応募者名簿!$E$11,応募者名簿!$I$11)","v":""},"半紙",{"$f":"CONCATENATE(応募者名簿!F329)","v":""},{"$f":"CONCATENATE(応募者名簿!G329)","v":""},{"$f":"CONCATENATE(応募者名簿!H329)","v":""},{"$f":"CONCATENATE(応募者名簿!I329)","v":""}]
[{"$f":"応募者名簿!$B$8","v":0},{"$f":"CONCATENATE(応募者名簿!$B$11,応募者名簿!$D$11,応募者名簿!$E$11,応募者名簿!$I$11)","v":""},"半紙",{"$f":"CONCATENATE(応募者名簿!F330)","v":""},{"$f":"CONCATENATE(応募者名簿!G330)","v":""},{"$f":"CONCATENATE(応募者名簿!H330)","v":""},{"$f":"CONCATENATE(応募者名簿!I330)","v":""}]
[{"$f":"応募者名簿!$B$8","v":0},{"$f":"CONCATENATE(応募者名簿!$B$11,応募者名簿!$D$11,応募者名簿!$E$11,応募者名簿!$I$11)","v":""},"半紙",{"$f":"CONCATENATE(応募者名簿!F331)","v":""},{"$f":"CONCATENATE(応募者名簿!G331)","v":""},{"$f":"CONCATENATE(応募者名簿!H331)","v":""},{"$f":"CONCATENATE(応募者名簿!I331)","v":""}]
[{"$f":"応募者名簿!$B$8","v":0},{"$f":"CONCATENATE(応募者名簿!$B$11,応募者名簿!$D$11,応募者名簿!$E$11,応募者名簿!$I$11)","v":""},"半紙",{"$f":"CONCATENATE(応募者名簿!F332)","v":""},{"$f":"CONCATENATE(応募者名簿!G332)","v":""},{"$f":"CONCATENATE(応募者名簿!H332)","v":""},{"$f":"CONCATENATE(応募者名簿!I332)","v":""}]
[{"$f":"応募者名簿!$B$8","v":0},{"$f":"CONCATENATE(応募者名簿!$B$11,応募者名簿!$D$11,応募者名簿!$E$11,応募者名簿!$I$11)","v":""},"半紙",{"$f":"CONCATENATE(応募者名簿!F333)","v":""},{"$f":"CONCATENATE(応募者名簿!G333)","v":""},{"$f":"CONCATENATE(応募者名簿!H333)","v":""},{"$f":"CONCATENATE(応募者名簿!I333)","v":""}]
[{"$f":"応募者名簿!$B$8","v":0},{"$f":"CONCATENATE(応募者名簿!$B$11,応募者名簿!$D$11,応募者名簿!$E$11,応募者名簿!$I$11)","v":""},"半紙",{"$f":"CONCATENATE(応募者名簿!F334)","v":""},{"$f":"CONCATENATE(応募者名簿!G334)","v":""},{"$f":"CONCATENATE(応募者名簿!H334)","v":""},{"$f":"CONCATENATE(応募者名簿!I334)","v":""}]
[{"$f":"応募者名簿!$B$8","v":0},{"$f":"CONCATENATE(応募者名簿!$B$11,応募者名簿!$D$11,応募者名簿!$E$11,応募者名簿!$I$11)","v":""},"半紙",{"$f":"CONCATENATE(応募者名簿!F335)","v":""},{"$f":"CONCATENATE(応募者名簿!G335)","v":""},{"$f":"CONCATENATE(応募者名簿!H335)","v":""},{"$f":"CONCATENATE(応募者名簿!I335)","v":""}]
[{"$f":"応募者名簿!$B$8","v":0},{"$f":"CONCATENATE(応募者名簿!$B$11,応募者名簿!$D$11,応募者名簿!$E$11,応募者名簿!$I$11)","v":""},"半紙",{"$f":"CONCATENATE(応募者名簿!F336)","v":""},{"$f":"CONCATENATE(応募者名簿!G336)","v":""},{"$f":"CONCATENATE(応募者名簿!H336)","v":""},{"$f":"CONCATENATE(応募者名簿!I336)","v":""}]
[{"$f":"応募者名簿!$B$8","v":0},{"$f":"CONCATENATE(応募者名簿!$B$11,応募者名簿!$D$11,応募者名簿!$E$11,応募者名簿!$I$11)","v":""},"半紙",{"$f":"CONCATENATE(応募者名簿!F337)","v":""},{"$f":"CONCATENATE(応募者名簿!G337)","v":""},{"$f":"CONCATENATE(応募者名簿!H337)","v":""},{"$f":"CONCATENATE(応募者名簿!I337)","v":""}]
[{"$f":"応募者名簿!$B$8","v":0},{"$f":"CONCATENATE(応募者名簿!$B$11,応募者名簿!$D$11,応募者名簿!$E$11,応募者名簿!$I$11)","v":""},"半紙",{"$f":"CONCATENATE(応募者名簿!F338)","v":""},{"$f":"CONCATENATE(応募者名簿!G338)","v":""},{"$f":"CONCATENATE(応募者名簿!H338)","v":""},{"$f":"CONCATENATE(応募者名簿!I338)","v":""}]
[{"$f":"応募者名簿!$B$8","v":0},{"$f":"CONCATENATE(応募者名簿!$B$11,応募者名簿!$D$11,応募者名簿!$E$11,応募者名簿!$I$11)","v":""},"半紙",{"$f":"CONCATENATE(応募者名簿!F339)","v":""},{"$f":"CONCATENATE(応募者名簿!G339)","v":""},{"$f":"CONCATENATE(応募者名簿!H339)","v":""},{"$f":"CONCATENATE(応募者名簿!I339)","v":""}]
[{"$f":"応募者名簿!$B$8","v":0},{"$f":"CONCATENATE(応募者名簿!$B$11,応募者名簿!$D$11,応募者名簿!$E$11,応募者名簿!$I$11)","v":""},"半紙",{"$f":"CONCATENATE(応募者名簿!F340)","v":""},{"$f":"CONCATENATE(応募者名簿!G340)","v":""},{"$f":"CONCATENATE(応募者名簿!H340)","v":""},{"$f":"CONCATENATE(応募者名簿!I340)","v":""}]
[{"$f":"応募者名簿!$B$8","v":0},{"$f":"CONCATENATE(応募者名簿!$B$11,応募者名簿!$D$11,応募者名簿!$E$11,応募者名簿!$I$11)","v":""},"半紙",{"$f":"CONCATENATE(応募者名簿!F341)","v":""},{"$f":"CONCATENATE(応募者名簿!G341)","v":""},{"$f":"CONCATENATE(応募者名簿!H341)","v":""},{"$f":"CONCATENATE(応募者名簿!I341)","v":""}]
[{"$f":"応募者名簿!$B$8","v":0},{"$f":"CONCATENATE(応募者名簿!$B$11,応募者名簿!$D$11,応募者名簿!$E$11,応募者名簿!$I$11)","v":""},"半紙",{"$f":"CONCATENATE(応募者名簿!F342)","v":""},{"$f":"CONCATENATE(応募者名簿!G342)","v":""},{"$f":"CONCATENATE(応募者名簿!H342)","v":""},{"$f":"CONCATENATE(応募者名簿!I342)","v":""}]
[{"$f":"応募者名簿!$B$8","v":0},{"$f":"CONCATENATE(応募者名簿!$B$11,応募者名簿!$D$11,応募者名簿!$E$11,応募者名簿!$I$11)","v":""},"半紙",{"$f":"CONCATENATE(応募者名簿!F343)","v":""},{"$f":"CONCATENATE(応募者名簿!G343)","v":""},{"$f":"CONCATENATE(応募者名簿!H343)","v":""},{"$f":"CONCATENATE(応募者名簿!I343)","v":""}]
[{"$f":"応募者名簿!$B$8","v":0},{"$f":"CONCATENATE(応募者名簿!$B$11,応募者名簿!$D$11,応募者名簿!$E$11,応募者名簿!$I$11)","v":""},"半紙",{"$f":"CONCATENATE(応募者名簿!F344)","v":""},{"$f":"CONCATENATE(応募者名簿!G344)","v":""},{"$f":"CONCATENATE(応募者名簿!H344)","v":""},{"$f":"CONCATENATE(応募者名簿!I344)","v":""}]
[{"$f":"応募者名簿!$B$8","v":0},{"$f":"CONCATENATE(応募者名簿!$B$11,応募者名簿!$D$11,応募者名簿!$E$11,応募者名簿!$I$11)","v":""},"半紙",{"$f":"CONCATENATE(応募者名簿!F345)","v":""},{"$f":"CONCATENATE(応募者名簿!G345)","v":""},{"$f":"CONCATENATE(応募者名簿!H345)","v":""},{"$f":"CONCATENATE(応募者名簿!I345)","v":""}]
[{"$f":"応募者名簿!$B$8","v":0},{"$f":"CONCATENATE(応募者名簿!$B$11,応募者名簿!$D$11,応募者名簿!$E$11,応募者名簿!$I$11)","v":""},"半紙",{"$f":"CONCATENATE(応募者名簿!F346)","v":""},{"$f":"CONCATENATE(応募者名簿!G346)","v":""},{"$f":"CONCATENATE(応募者名簿!H346)","v":""},{"$f":"CONCATENATE(応募者名簿!I346)","v":""}]
[{"$f":"応募者名簿!$B$8","v":0},{"$f":"CONCATENATE(応募者名簿!$B$11,応募者名簿!$D$11,応募者名簿!$E$11,応募者名簿!$I$11)","v":""},"半紙",{"$f":"CONCATENATE(応募者名簿!F347)","v":""},{"$f":"CONCATENATE(応募者名簿!G347)","v":""},{"$f":"CONCATENATE(応募者名簿!H347)","v":""},{"$f":"CONCATENATE(応募者名簿!I347)","v":""}]
[{"$f":"応募者名簿!$B$8","v":0},{"$f":"CONCATENATE(応募者名簿!$B$11,応募者名簿!$D$11,応募者名簿!$E$11,応募者名簿!$I$11)","v":""},"半紙",{"$f":"CONCATENATE(応募者名簿!F348)","v":""},{"$f":"CONCATENATE(応募者名簿!G348)","v":""},{"$f":"CONCATENATE(応募者名簿!H348)","v":""},{"$f":"CONCATENATE(応募者名簿!I348)","v":""}]
[{"$f":"応募者名簿!$B$8","v":0},{"$f":"CONCATENATE(応募者名簿!$B$11,応募者名簿!$D$11,応募者名簿!$E$11,応募者名簿!$I$11)","v":""},"半紙",{"$f":"CONCATENATE(応募者名簿!F349)","v":""},{"$f":"CONCATENATE(応募者名簿!G349)","v":""},{"$f":"CONCATENATE(応募者名簿!H349)","v":""},{"$f":"CONCATENATE(応募者名簿!I349)","v":""}]
[{"$f":"応募者名簿!$B$8","v":0},{"$f":"CONCATENATE(応募者名簿!$B$11,応募者名簿!$D$11,応募者名簿!$E$11,応募者名簿!$I$11)","v":""},"半紙",{"$f":"CONCATENATE(応募者名簿!F350)","v":""},{"$f":"CONCATENATE(応募者名簿!G350)","v":""},{"$f":"CONCATENATE(応募者名簿!H350)","v":""},{"$f":"CONCATENATE(応募者名簿!I350)","v":""}]
[{"$f":"応募者名簿!$B$8","v":0},{"$f":"CONCATENATE(応募者名簿!$B$11,応募者名簿!$D$11,応募者名簿!$E$11,応募者名簿!$I$11)","v":""},"半紙",{"$f":"CONCATENATE(応募者名簿!F351)","v":""},{"$f":"CONCATENATE(応募者名簿!G351)","v":""},{"$f":"CONCATENATE(応募者名簿!H351)","v":""},{"$f":"CONCATENATE(応募者名簿!I351)","v":""}]
[{"$f":"応募者名簿!$B$8","v":0},{"$f":"CONCATENATE(応募者名簿!$B$11,応募者名簿!$D$11,応募者名簿!$E$11,応募者名簿!$I$11)","v":""},"半紙",{"$f":"CONCATENATE(応募者名簿!F352)","v":""},{"$f":"CONCATENATE(応募者名簿!G352)","v":""},{"$f":"CONCATENATE(応募者名簿!H352)","v":""},{"$f":"CONCATENATE(応募者名簿!I352)","v":""}]
[{"$f":"応募者名簿!$B$8","v":0},{"$f":"CONCATENATE(応募者名簿!$B$11,応募者名簿!$D$11,応募者名簿!$E$11,応募者名簿!$I$11)","v":""},"半紙",{"$f":"CONCATENATE(応募者名簿!F353)","v":""},{"$f":"CONCATENATE(応募者名簿!G353)","v":""},{"$f":"CONCATENATE(応募者名簿!H353)","v":""},{"$f":"CONCATENATE(応募者名簿!I353)","v":""}]
[{"$f":"応募者名簿!$B$8","v":0},{"$f":"CONCATENATE(応募者名簿!$B$11,応募者名簿!$D$11,応募者名簿!$E$11,応募者名簿!$I$11)","v":""},"半紙",{"$f":"CONCATENATE(応募者名簿!F354)","v":""},{"$f":"CONCATENATE(応募者名簿!G354)","v":""},{"$f":"CONCATENATE(応募者名簿!H354)","v":""},{"$f":"CONCATENATE(応募者名簿!I354)","v":""}]
[{"$f":"応募者名簿!$B$8","v":0},{"$f":"CONCATENATE(応募者名簿!$B$11,応募者名簿!$D$11,応募者名簿!$E$11,応募者名簿!$I$11)","v":""},"半紙",{"$f":"CONCATENATE(応募者名簿!F355)","v":""},{"$f":"CONCATENATE(応募者名簿!G355)","v":""},{"$f":"CONCATENATE(応募者名簿!H355)","v":""},{"$f":"CONCATENATE(応募者名簿!I355)","v":""}]
[{"$f":"応募者名簿!$B$8","v":0},{"$f":"CONCATENATE(応募者名簿!$B$11,応募者名簿!$D$11,応募者名簿!$E$11,応募者名簿!$I$11)","v":""},"半紙",{"$f":"CONCATENATE(応募者名簿!F356)","v":""},{"$f":"CONCATENATE(応募者名簿!G356)","v":""},{"$f":"CONCATENATE(応募者名簿!H356)","v":""},{"$f":"CONCATENATE(応募者名簿!I356)","v":""}]
[{"$f":"応募者名簿!$B$8","v":0},{"$f":"CONCATENATE(応募者名簿!$B$11,応募者名簿!$D$11,応募者名簿!$E$11,応募者名簿!$I$11)","v":""},"半紙",{"$f":"CONCATENATE(応募者名簿!F357)","v":""},{"$f":"CONCATENATE(応募者名簿!G357)","v":""},{"$f":"CONCATENATE(応募者名簿!H357)","v":""},{"$f":"CONCATENATE(応募者名簿!I357)","v":""}]
[{"$f":"応募者名簿!$B$8","v":0},{"$f":"CONCATENATE(応募者名簿!$B$11,応募者名簿!$D$11,応募者名簿!$E$11,応募者名簿!$I$11)","v":""},"半紙",{"$f":"CONCATENATE(応募者名簿!F358)","v":""},{"$f":"CONCATENATE(応募者名簿!G358)","v":""},{"$f":"CONCATENATE(応募者名簿!H358)","v":""},{"$f":"CONCATENATE(応募者名簿!I358)","v":""}]
[{"$f":"応募者名簿!$B$8","v":0},{"$f":"CONCATENATE(応募者名簿!$B$11,応募者名簿!$D$11,応募者名簿!$E$11,応募者名簿!$I$11)","v":""},"半紙",{"$f":"CONCATENATE(応募者名簿!F359)","v":""},{"$f":"CONCATENATE(応募者名簿!G359)","v":""},{"$f":"CONCATENATE(応募者名簿!H359)","v":""},{"$f":"CONCATENATE(応募者名簿!I359)","v":""}]
[{"$f":"応募者名簿!$B$8","v":0},{"$f":"CONCATENATE(応募者名簿!$B$11,応募者名簿!$D$11,応募者名簿!$E$11,応募者名簿!$I$11)","v":""},"半紙",{"$f":"CONCATENATE(応募者名簿!F360)","v":""},{"$f":"CONCATENATE(応募者名簿!G360)","v":""},{"$f":"CONCATENATE(応募者名簿!H360)","v":""},{"$f":"CONCATENATE(応募者名簿!I360)","v":""}]
[{"$f":"応募者名簿!$B$8","v":0},{"$f":"CONCATENATE(応募者名簿!$B$11,応募者名簿!$D$11,応募者名簿!$E$11,応募者名簿!$I$11)","v":""},"半紙",{"$f":"CONCATENATE(応募者名簿!F361)","v":""},{"$f":"CONCATENATE(応募者名簿!G361)","v":""},{"$f":"CONCATENATE(応募者名簿!H361)","v":""},{"$f":"CONCATENATE(応募者名簿!I361)","v":""}]
[{"$f":"応募者名簿!$B$8","v":0},{"$f":"CONCATENATE(応募者名簿!$B$11,応募者名簿!$D$11,応募者名簿!$E$11,応募者名簿!$I$11)","v":""},"半紙",{"$f":"CONCATENATE(応募者名簿!F362)","v":""},{"$f":"CONCATENATE(応募者名簿!G362)","v":""},{"$f":"CONCATENATE(応募者名簿!H362)","v":""},{"$f":"CONCATENATE(応募者名簿!I362)","v":""}]
[{"$f":"応募者名簿!$B$8","v":0},{"$f":"CONCATENATE(応募者名簿!$B$11,応募者名簿!$D$11,応募者名簿!$E$11,応募者名簿!$I$11)","v":""},"半紙",{"$f":"CONCATENATE(応募者名簿!F363)","v":""},{"$f":"CONCATENATE(応募者名簿!G363)","v":""},{"$f":"CONCATENATE(応募者名簿!H363)","v":""},{"$f":"CONCATENATE(応募者名簿!I363)","v":""}]
[{"$f":"応募者名簿!$B$8","v":0},{"$f":"CONCATENATE(応募者名簿!$B$11,応募者名簿!$D$11,応募者名簿!$E$11,応募者名簿!$I$11)","v":""},"半紙",{"$f":"CONCATENATE(応募者名簿!F364)","v":""},{"$f":"CONCATENATE(応募者名簿!G364)","v":""},{"$f":"CONCATENATE(応募者名簿!H364)","v":""},{"$f":"CONCATENATE(応募者名簿!I364)","v":""}]
[{"$f":"応募者名簿!$B$8","v":0},{"$f":"CONCATENATE(応募者名簿!$B$11,応募者名簿!$D$11,応募者名簿!$E$11,応募者名簿!$I$11)","v":""},"半紙",{"$f":"CONCATENATE(応募者名簿!F365)","v":""},{"$f":"CONCATENATE(応募者名簿!G365)","v":""},{"$f":"CONCATENATE(応募者名簿!H365)","v":""},{"$f":"CONCATENATE(応募者名簿!I365)","v":""}]
[{"$f":"応募者名簿!$B$8","v":0},{"$f":"CONCATENATE(応募者名簿!$B$11,応募者名簿!$D$11,応募者名簿!$E$11,応募者名簿!$I$11)","v":""},"半紙",{"$f":"CONCATENATE(応募者名簿!F366)","v":""},{"$f":"CONCATENATE(応募者名簿!G366)","v":""},{"$f":"CONCATENATE(応募者名簿!H366)","v":""},{"$f":"CONCATENATE(応募者名簿!I366)","v":""}]
[{"$f":"応募者名簿!$B$8","v":0},{"$f":"CONCATENATE(応募者名簿!$B$11,応募者名簿!$D$11,応募者名簿!$E$11,応募者名簿!$I$11)","v":""},"半紙",{"$f":"CONCATENATE(応募者名簿!F367)","v":""},{"$f":"CONCATENATE(応募者名簿!G367)","v":""},{"$f":"CONCATENATE(応募者名簿!H367)","v":""},{"$f":"CONCATENATE(応募者名簿!I367)","v":""}]
[{"$f":"応募者名簿!$B$8","v":0},{"$f":"CONCATENATE(応募者名簿!$B$11,応募者名簿!$D$11,応募者名簿!$E$11,応募者名簿!$I$11)","v":""},"半紙",{"$f":"CONCATENATE(応募者名簿!F368)","v":""},{"$f":"CONCATENATE(応募者名簿!G368)","v":""},{"$f":"CONCATENATE(応募者名簿!H368)","v":""},{"$f":"CONCATENATE(応募者名簿!I368)","v":""}]
[{"$f":"応募者名簿!$B$8","v":0},{"$f":"CONCATENATE(応募者名簿!$B$11,応募者名簿!$D$11,応募者名簿!$E$11,応募者名簿!$I$11)","v":""},"半紙",{"$f":"CONCATENATE(応募者名簿!F369)","v":""},{"$f":"CONCATENATE(応募者名簿!G369)","v":""},{"$f":"CONCATENATE(応募者名簿!H369)","v":""},{"$f":"CONCATENATE(応募者名簿!I369)","v":""}]
[{"$f":"応募者名簿!$B$8","v":0},{"$f":"CONCATENATE(応募者名簿!$B$11,応募者名簿!$D$11,応募者名簿!$E$11,応募者名簿!$I$11)","v":""},"半紙",{"$f":"CONCATENATE(応募者名簿!F370)","v":""},{"$f":"CONCATENATE(応募者名簿!G370)","v":""},{"$f":"CONCATENATE(応募者名簿!H370)","v":""},{"$f":"CONCATENATE(応募者名簿!I370)","v":""}]
[{"$f":"応募者名簿!$B$8","v":0},{"$f":"CONCATENATE(応募者名簿!$B$11,応募者名簿!$D$11,応募者名簿!$E$11,応募者名簿!$I$11)","v":""},"半紙",{"$f":"CONCATENATE(応募者名簿!F371)","v":""},{"$f":"CONCATENATE(応募者名簿!G371)","v":""},{"$f":"CONCATENATE(応募者名簿!H371)","v":""},{"$f":"CONCATENATE(応募者名簿!I371)","v":""}]
[{"$f":"応募者名簿!$B$8","v":0},{"$f":"CONCATENATE(応募者名簿!$B$11,応募者名簿!$D$11,応募者名簿!$E$11,応募者名簿!$I$11)","v":""},"半紙",{"$f":"CONCATENATE(応募者名簿!F372)","v":""},{"$f":"CONCATENATE(応募者名簿!G372)","v":""},{"$f":"CONCATENATE(応募者名簿!H372)","v":""},{"$f":"CONCATENATE(応募者名簿!I372)","v":""}]
[{"$f":"応募者名簿!$B$8","v":0},{"$f":"CONCATENATE(応募者名簿!$B$11,応募者名簿!$D$11,応募者名簿!$E$11,応募者名簿!$I$11)","v":""},"半紙",{"$f":"CONCATENATE(応募者名簿!F373)","v":""},{"$f":"CONCATENATE(応募者名簿!G373)","v":""},{"$f":"CONCATENATE(応募者名簿!H373)","v":""},{"$f":"CONCATENATE(応募者名簿!I373)","v":""}]
[{"$f":"応募者名簿!$B$8","v":0},{"$f":"CONCATENATE(応募者名簿!$B$11,応募者名簿!$D$11,応募者名簿!$E$11,応募者名簿!$I$11)","v":""},"半紙",{"$f":"CONCATENATE(応募者名簿!F374)","v":""},{"$f":"CONCATENATE(応募者名簿!G374)","v":""},{"$f":"CONCATENATE(応募者名簿!H374)","v":""},{"$f":"CONCATENATE(応募者名簿!I374)","v":""}]
[{"$f":"応募者名簿!$B$8","v":0},{"$f":"CONCATENATE(応募者名簿!$B$11,応募者名簿!$D$11,応募者名簿!$E$11,応募者名簿!$I$11)","v":""},"半紙",{"$f":"CONCATENATE(応募者名簿!F375)","v":""},{"$f":"CONCATENATE(応募者名簿!G375)","v":""},{"$f":"CONCATENATE(応募者名簿!H375)","v":""},{"$f":"CONCATENATE(応募者名簿!I375)","v":""}]
[{"$f":"応募者名簿!$B$8","v":0},{"$f":"CONCATENATE(応募者名簿!$B$11,応募者名簿!$D$11,応募者名簿!$E$11,応募者名簿!$I$11)","v":""},"半紙",{"$f":"CONCATENATE(応募者名簿!F376)","v":""},{"$f":"CONCATENATE(応募者名簿!G376)","v":""},{"$f":"CONCATENATE(応募者名簿!H376)","v":""},{"$f":"CONCATENATE(応募者名簿!I376)","v":""}]
[{"$f":"応募者名簿!$B$8","v":0},{"$f":"CONCATENATE(応募者名簿!$B$11,応募者名簿!$D$11,応募者名簿!$E$11,応募者名簿!$I$11)","v":""},"半紙",{"$f":"CONCATENATE(応募者名簿!F377)","v":""},{"$f":"CONCATENATE(応募者名簿!G377)","v":""},{"$f":"CONCATENATE(応募者名簿!H377)","v":""},{"$f":"CONCATENATE(応募者名簿!I377)","v":""}]
[{"$f":"応募者名簿!$B$8","v":0},{"$f":"CONCATENATE(応募者名簿!$B$11,応募者名簿!$D$11,応募者名簿!$E$11,応募者名簿!$I$11)","v":""},"半紙",{"$f":"CONCATENATE(応募者名簿!F378)","v":""},{"$f":"CONCATENATE(応募者名簿!G378)","v":""},{"$f":"CONCATENATE(応募者名簿!H378)","v":""},{"$f":"CONCATENATE(応募者名簿!I378)","v":""}]
[{"$f":"応募者名簿!$B$8","v":0},{"$f":"CONCATENATE(応募者名簿!$B$11,応募者名簿!$D$11,応募者名簿!$E$11,応募者名簿!$I$11)","v":""},"半紙",{"$f":"CONCATENATE(応募者名簿!F379)","v":""},{"$f":"CONCATENATE(応募者名簿!G379)","v":""},{"$f":"CONCATENATE(応募者名簿!H379)","v":""},{"$f":"CONCATENATE(応募者名簿!I379)","v":""}]
[{"$f":"応募者名簿!$B$8","v":0},{"$f":"CONCATENATE(応募者名簿!$B$11,応募者名簿!$D$11,応募者名簿!$E$11,応募者名簿!$I$11)","v":""},"半紙",{"$f":"CONCATENATE(応募者名簿!F380)","v":""},{"$f":"CONCATENATE(応募者名簿!G380)","v":""},{"$f":"CONCATENATE(応募者名簿!H380)","v":""},{"$f":"CONCATENATE(応募者名簿!I380)","v":""}]
[{"$f":"応募者名簿!$B$8","v":0},{"$f":"CONCATENATE(応募者名簿!$B$11,応募者名簿!$D$11,応募者名簿!$E$11,応募者名簿!$I$11)","v":""},"半紙",{"$f":"CONCATENATE(応募者名簿!F381)","v":""},{"$f":"CONCATENATE(応募者名簿!G381)","v":""},{"$f":"CONCATENATE(応募者名簿!H381)","v":""},{"$f":"CONCATENATE(応募者名簿!I381)","v":""}]
[{"$f":"応募者名簿!$B$8","v":0},{"$f":"CONCATENATE(応募者名簿!$B$11,応募者名簿!$D$11,応募者名簿!$E$11,応募者名簿!$I$11)","v":""},"半紙",{"$f":"CONCATENATE(応募者名簿!F382)","v":""},{"$f":"CONCATENATE(応募者名簿!G382)","v":""},{"$f":"CONCATENATE(応募者名簿!H382)","v":""},{"$f":"CONCATENATE(応募者名簿!I382)","v":""}]
[{"$f":"応募者名簿!$B$8","v":0},{"$f":"CONCATENATE(応募者名簿!$B$11,応募者名簿!$D$11,応募者名簿!$E$11,応募者名簿!$I$11)","v":""},"半紙",{"$f":"CONCATENATE(応募者名簿!F383)","v":""},{"$f":"CONCATENATE(応募者名簿!G383)","v":""},{"$f":"CONCATENATE(応募者名簿!H383)","v":""},{"$f":"CONCATENATE(応募者名簿!I383)","v":""}]
[{"$f":"応募者名簿!$B$8","v":0},{"$f":"CONCATENATE(応募者名簿!$B$11,応募者名簿!$D$11,応募者名簿!$E$11,応募者名簿!$I$11)","v":""},"半紙",{"$f":"CONCATENATE(応募者名簿!F384)","v":""},{"$f":"CONCATENATE(応募者名簿!G384)","v":""},{"$f":"CONCATENATE(応募者名簿!H384)","v":""},{"$f":"CONCATENATE(応募者名簿!I384)","v":""}]
[{"$f":"応募者名簿!$B$8","v":0},{"$f":"CONCATENATE(応募者名簿!$B$11,応募者名簿!$D$11,応募者名簿!$E$11,応募者名簿!$I$11)","v":""},"半紙",{"$f":"CONCATENATE(応募者名簿!F385)","v":""},{"$f":"CONCATENATE(応募者名簿!G385)","v":""},{"$f":"CONCATENATE(応募者名簿!H385)","v":""},{"$f":"CONCATENATE(応募者名簿!I385)","v":""}]
[{"$f":"応募者名簿!$B$8","v":0},{"$f":"CONCATENATE(応募者名簿!$B$11,応募者名簿!$D$11,応募者名簿!$E$11,応募者名簿!$I$11)","v":""},"半紙",{"$f":"CONCATENATE(応募者名簿!F386)","v":""},{"$f":"CONCATENATE(応募者名簿!G386)","v":""},{"$f":"CONCATENATE(応募者名簿!H386)","v":""},{"$f":"CONCATENATE(応募者名簿!I386)","v":""}]
[{"$f":"応募者名簿!$B$8","v":0},{"$f":"CONCATENATE(応募者名簿!$B$11,応募者名簿!$D$11,応募者名簿!$E$11,応募者名簿!$I$11)","v":""},"半紙",{"$f":"CONCATENATE(応募者名簿!F387)","v":""},{"$f":"CONCATENATE(応募者名簿!G387)","v":""},{"$f":"CONCATENATE(応募者名簿!H387)","v":""},{"$f":"CONCATENATE(応募者名簿!I387)","v":""}]
[{"$f":"応募者名簿!$B$8","v":0},{"$f":"CONCATENATE(応募者名簿!$B$11,応募者名簿!$D$11,応募者名簿!$E$11,応募者名簿!$I$11)","v":""},"半紙",{"$f":"CONCATENATE(応募者名簿!F388)","v":""},{"$f":"CONCATENATE(応募者名簿!G388)","v":""},{"$f":"CONCATENATE(応募者名簿!H388)","v":""},{"$f":"CONCATENATE(応募者名簿!I388)","v":""}]
[{"$f":"応募者名簿!$B$8","v":0},{"$f":"CONCATENATE(応募者名簿!$B$11,応募者名簿!$D$11,応募者名簿!$E$11,応募者名簿!$I$11)","v":""},"半紙",{"$f":"CONCATENATE(応募者名簿!F389)","v":""},{"$f":"CONCATENATE(応募者名簿!G389)","v":""},{"$f":"CONCATENATE(応募者名簿!H389)","v":""},{"$f":"CONCATENATE(応募者名簿!I389)","v":""}]
[{"$f":"応募者名簿!$B$8","v":0},{"$f":"CONCATENATE(応募者名簿!$B$11,応募者名簿!$D$11,応募者名簿!$E$11,応募者名簿!$I$11)","v":""},"半紙",{"$f":"CONCATENATE(応募者名簿!F390)","v":""},{"$f":"CONCATENATE(応募者名簿!G390)","v":""},{"$f":"CONCATENATE(応募者名簿!H390)","v":""},{"$f":"CONCATENATE(応募者名簿!I390)","v":""}]
[{"$f":"応募者名簿!$B$8","v":0},{"$f":"CONCATENATE(応募者名簿!$B$11,応募者名簿!$D$11,応募者名簿!$E$11,応募者名簿!$I$11)","v":""},"半紙",{"$f":"CONCATENATE(応募者名簿!F391)","v":""},{"$f":"CONCATENATE(応募者名簿!G391)","v":""},{"$f":"CONCATENATE(応募者名簿!H391)","v":""},{"$f":"CONCATENATE(応募者名簿!I391)","v":""}]
[{"$f":"応募者名簿!$B$8","v":0},{"$f":"CONCATENATE(応募者名簿!$B$11,応募者名簿!$D$11,応募者名簿!$E$11,応募者名簿!$I$11)","v":""},"半紙",{"$f":"CONCATENATE(応募者名簿!F392)","v":""},{"$f":"CONCATENATE(応募者名簿!G392)","v":""},{"$f":"CONCATENATE(応募者名簿!H392)","v":""},{"$f":"CONCATENATE(応募者名簿!I392)","v":""}]
[{"$f":"応募者名簿!$B$8","v":0},{"$f":"CONCATENATE(応募者名簿!$B$11,応募者名簿!$D$11,応募者名簿!$E$11,応募者名簿!$I$11)","v":""},"半紙",{"$f":"CONCATENATE(応募者名簿!F393)","v":""},{"$f":"CONCATENATE(応募者名簿!G393)","v":""},{"$f":"CONCATENATE(応募者名簿!H393)","v":""},{"$f":"CONCATENATE(応募者名簿!I393)","v":""}]
[{"$f":"応募者名簿!$B$8","v":0},{"$f":"CONCATENATE(応募者名簿!$B$11,応募者名簿!$D$11,応募者名簿!$E$11,応募者名簿!$I$11)","v":""},"半紙",{"$f":"CONCATENATE(応募者名簿!F394)","v":""},{"$f":"CONCATENATE(応募者名簿!G394)","v":""},{"$f":"CONCATENATE(応募者名簿!H394)","v":""},{"$f":"CONCATENATE(応募者名簿!I394)","v":""}]
[{"$f":"応募者名簿!$B$8","v":0},{"$f":"CONCATENATE(応募者名簿!$B$11,応募者名簿!$D$11,応募者名簿!$E$11,応募者名簿!$I$11)","v":""},"半紙",{"$f":"CONCATENATE(応募者名簿!F395)","v":""},{"$f":"CONCATENATE(応募者名簿!G395)","v":""},{"$f":"CONCATENATE(応募者名簿!H395)","v":""},{"$f":"CONCATENATE(応募者名簿!I395)","v":""}]
[{"$f":"応募者名簿!$B$8","v":0},{"$f":"CONCATENATE(応募者名簿!$B$11,応募者名簿!$D$11,応募者名簿!$E$11,応募者名簿!$I$11)","v":""},"半紙",{"$f":"CONCATENATE(応募者名簿!F396)","v":""},{"$f":"CONCATENATE(応募者名簿!G396)","v":""},{"$f":"CONCATENATE(応募者名簿!H396)","v":""},{"$f":"CONCATENATE(応募者名簿!I396)","v":""}]
[{"$f":"応募者名簿!$B$8","v":0},{"$f":"CONCATENATE(応募者名簿!$B$11,応募者名簿!$D$11,応募者名簿!$E$11,応募者名簿!$I$11)","v":""},"半紙",{"$f":"CONCATENATE(応募者名簿!F397)","v":""},{"$f":"CONCATENATE(応募者名簿!G397)","v":""},{"$f":"CONCATENATE(応募者名簿!H397)","v":""},{"$f":"CONCATENATE(応募者名簿!I397)","v":""}]
[{"$f":"応募者名簿!$B$8","v":0},{"$f":"CONCATENATE(応募者名簿!$B$11,応募者名簿!$D$11,応募者名簿!$E$11,応募者名簿!$I$11)","v":""},"半紙",{"$f":"CONCATENATE(応募者名簿!F398)","v":""},{"$f":"CONCATENATE(応募者名簿!G398)","v":""},{"$f":"CONCATENATE(応募者名簿!H398)","v":""},{"$f":"CONCATENATE(応募者名簿!I398)","v":""}]
[{"$f":"応募者名簿!$B$8","v":0},{"$f":"CONCATENATE(応募者名簿!$B$11,応募者名簿!$D$11,応募者名簿!$E$11,応募者名簿!$I$11)","v":""},"半紙",{"$f":"CONCATENATE(応募者名簿!F399)","v":""},{"$f":"CONCATENATE(応募者名簿!G399)","v":""},{"$f":"CONCATENATE(応募者名簿!H399)","v":""},{"$f":"CONCATENATE(応募者名簿!I399)","v":""}]
[{"$f":"応募者名簿!$B$8","v":0},{"$f":"CONCATENATE(応募者名簿!$B$11,応募者名簿!$D$11,応募者名簿!$E$11,応募者名簿!$I$11)","v":""},"半紙",{"$f":"CONCATENATE(応募者名簿!F400)","v":""},{"$f":"CONCATENATE(応募者名簿!G400)","v":""},{"$f":"CONCATENATE(応募者名簿!H400)","v":""},{"$f":"CONCATENATE(応募者名簿!I400)","v":""}]
[{"$f":"応募者名簿!$B$8","v":0},{"$f":"CONCATENATE(応募者名簿!$B$11,応募者名簿!$D$11,応募者名簿!$E$11,応募者名簿!$I$11)","v":""},"半紙",{"$f":"CONCATENATE(応募者名簿!F401)","v":""},{"$f":"CONCATENATE(応募者名簿!G401)","v":""},{"$f":"CONCATENATE(応募者名簿!H401)","v":""},{"$f":"CONCATENATE(応募者名簿!I401)","v":""}]
[{"$f":"応募者名簿!$B$8","v":0},{"$f":"CONCATENATE(応募者名簿!$B$11,応募者名簿!$D$11,応募者名簿!$E$11,応募者名簿!$I$11)","v":""},"半紙",{"$f":"CONCATENATE(応募者名簿!F402)","v":""},{"$f":"CONCATENATE(応募者名簿!G402)","v":""},{"$f":"CONCATENATE(応募者名簿!H402)","v":""},{"$f":"CONCATENATE(応募者名簿!I402)","v":""}]
[{"$f":"応募者名簿!$B$8","v":0},{"$f":"CONCATENATE(応募者名簿!$B$11,応募者名簿!$D$11,応募者名簿!$E$11,応募者名簿!$I$11)","v":""},"半紙",{"$f":"CONCATENATE(応募者名簿!F403)","v":""},{"$f":"CONCATENATE(応募者名簿!G403)","v":""},{"$f":"CONCATENATE(応募者名簿!H403)","v":""},{"$f":"CONCATENATE(応募者名簿!I403)","v":""}]
[{"$f":"応募者名簿!$B$8","v":0},{"$f":"CONCATENATE(応募者名簿!$B$11,応募者名簿!$D$11,応募者名簿!$E$11,応募者名簿!$I$11)","v":""},"半紙",{"$f":"CONCATENATE(応募者名簿!F404)","v":""},{"$f":"CONCATENATE(応募者名簿!G404)","v":""},{"$f":"CONCATENATE(応募者名簿!H404)","v":""},{"$f":"CONCATENATE(応募者名簿!I404)","v":""}]
[{"$f":"応募者名簿!$B$8","v":0},{"$f":"CONCATENATE(応募者名簿!$B$11,応募者名簿!$D$11,応募者名簿!$E$11,応募者名簿!$I$11)","v":""},"半紙",{"$f":"CONCATENATE(応募者名簿!F405)","v":""},{"$f":"CONCATENATE(応募者名簿!G405)","v":""},{"$f":"CONCATENATE(応募者名簿!H405)","v":""},{"$f":"CONCATENATE(応募者名簿!I405)","v":""}]
[{"$f":"応募者名簿!$B$8","v":0},{"$f":"CONCATENATE(応募者名簿!$B$11,応募者名簿!$D$11,応募者名簿!$E$11,応募者名簿!$I$11)","v":""},"半紙",{"$f":"CONCATENATE(応募者名簿!F406)","v":""},{"$f":"CONCATENATE(応募者名簿!G406)","v":""},{"$f":"CONCATENATE(応募者名簿!H406)","v":""},{"$f":"CONCATENATE(応募者名簿!I406)","v":""}]
[{"$f":"応募者名簿!$B$8","v":0},{"$f":"CONCATENATE(応募者名簿!$B$11,応募者名簿!$D$11,応募者名簿!$E$11,応募者名簿!$I$11)","v":""},"半紙",{"$f":"CONCATENATE(応募者名簿!F407)","v":""},{"$f":"CONCATENATE(応募者名簿!G407)","v":""},{"$f":"CONCATENATE(応募者名簿!H407)","v":""},{"$f":"CONCATENATE(応募者名簿!I407)","v":""}]
[{"$f":"応募者名簿!$B$8","v":0},{"$f":"CONCATENATE(応募者名簿!$B$11,応募者名簿!$D$11,応募者名簿!$E$11,応募者名簿!$I$11)","v":""},"半紙",{"$f":"CONCATENATE(応募者名簿!F408)","v":""},{"$f":"CONCATENATE(応募者名簿!G408)","v":""},{"$f":"CONCATENATE(応募者名簿!H408)","v":""},{"$f":"CONCATENATE(応募者名簿!I408)","v":""}]
[{"$f":"応募者名簿!$B$8","v":0},{"$f":"CONCATENATE(応募者名簿!$B$11,応募者名簿!$D$11,応募者名簿!$E$11,応募者名簿!$I$11)","v":""},"半紙",{"$f":"CONCATENATE(応募者名簿!F409)","v":""},{"$f":"CONCATENATE(応募者名簿!G409)","v":""},{"$f":"CONCATENATE(応募者名簿!H409)","v":""},{"$f":"CONCATENATE(応募者名簿!I409)","v":""}]
[{"$f":"応募者名簿!$B$8","v":0},{"$f":"CONCATENATE(応募者名簿!$B$11,応募者名簿!$D$11,応募者名簿!$E$11,応募者名簿!$I$11)","v":""},"半紙",{"$f":"CONCATENATE(応募者名簿!F410)","v":""},{"$f":"CONCATENATE(応募者名簿!G410)","v":""},{"$f":"CONCATENATE(応募者名簿!H410)","v":""},{"$f":"CONCATENATE(応募者名簿!I410)","v":""}]
[{"$f":"応募者名簿!$B$8","v":0},{"$f":"CONCATENATE(応募者名簿!$B$11,応募者名簿!$D$11,応募者名簿!$E$11,応募者名簿!$I$11)","v":""},"半紙",{"$f":"CONCATENATE(応募者名簿!F411)","v":""},{"$f":"CONCATENATE(応募者名簿!G411)","v":""},{"$f":"CONCATENATE(応募者名簿!H411)","v":""},{"$f":"CONCATENATE(応募者名簿!I411)","v":""}]
[{"$f":"応募者名簿!$B$8","v":0},{"$f":"CONCATENATE(応募者名簿!$B$11,応募者名簿!$D$11,応募者名簿!$E$11,応募者名簿!$I$11)","v":""},"半紙",{"$f":"CONCATENATE(応募者名簿!F412)","v":""},{"$f":"CONCATENATE(応募者名簿!G412)","v":""},{"$f":"CONCATENATE(応募者名簿!H412)","v":""},{"$f":"CONCATENATE(応募者名簿!I412)","v":""}]
[{"$f":"応募者名簿!$B$8","v":0},{"$f":"CONCATENATE(応募者名簿!$B$11,応募者名簿!$D$11,応募者名簿!$E$11,応募者名簿!$I$11)","v":""},"半紙",{"$f":"CONCATENATE(応募者名簿!F413)","v":""},{"$f":"CONCATENATE(応募者名簿!G413)","v":""},{"$f":"CONCATENATE(応募者名簿!H413)","v":""},{"$f":"CONCATENATE(応募者名簿!I413)","v":""}]
[{"$f":"応募者名簿!$B$8","v":0},{"$f":"CONCATENATE(応募者名簿!$B$11,応募者名簿!$D$11,応募者名簿!$E$11,応募者名簿!$I$11)","v":""},"半紙",{"$f":"CONCATENATE(応募者名簿!F414)","v":""},{"$f":"CONCATENATE(応募者名簿!G414)","v":""},{"$f":"CONCATENATE(応募者名簿!H414)","v":""},{"$f":"CONCATENATE(応募者名簿!I414)","v":""}]
[{"$f":"応募者名簿!$B$8","v":0},{"$f":"CONCATENATE(応募者名簿!$B$11,応募者名簿!$D$11,応募者名簿!$E$11,応募者名簿!$I$11)","v":""},"半紙",{"$f":"CONCATENATE(応募者名簿!F415)","v":""},{"$f":"CONCATENATE(応募者名簿!G415)","v":""},{"$f":"CONCATENATE(応募者名簿!H415)","v":""},{"$f":"CONCATENATE(応募者名簿!I415)","v":""}]
[{"$f":"応募者名簿!$B$8","v":0},{"$f":"CONCATENATE(応募者名簿!$B$11,応募者名簿!$D$11,応募者名簿!$E$11,応募者名簿!$I$11)","v":""},"半紙",{"$f":"CONCATENATE(応募者名簿!F416)","v":""},{"$f":"CONCATENATE(応募者名簿!G416)","v":""},{"$f":"CONCATENATE(応募者名簿!H416)","v":""},{"$f":"CONCATENATE(応募者名簿!I416)","v":""}]
[{"$f":"応募者名簿!$B$8","v":0},{"$f":"CONCATENATE(応募者名簿!$B$11,応募者名簿!$D$11,応募者名簿!$E$11,応募者名簿!$I$11)","v":""},"半紙",{"$f":"CONCATENATE(応募者名簿!F417)","v":""},{"$f":"CONCATENATE(応募者名簿!G417)","v":""},{"$f":"CONCATENATE(応募者名簿!H417)","v":""},{"$f":"CONCATENATE(応募者名簿!I417)","v":""}]
[{"$f":"応募者名簿!$B$8","v":0},{"$f":"CONCATENATE(応募者名簿!$B$11,応募者名簿!$D$11,応募者名簿!$E$11,応募者名簿!$I$11)","v":""},"半紙",{"$f":"CONCATENATE(応募者名簿!F418)","v":""},{"$f":"CONCATENATE(応募者名簿!G418)","v":""},{"$f":"CONCATENATE(応募者名簿!H418)","v":""},{"$f":"CONCATENATE(応募者名簿!I418)","v":""}]
[{"$f":"応募者名簿!$B$8","v":0},{"$f":"CONCATENATE(応募者名簿!$B$11,応募者名簿!$D$11,応募者名簿!$E$11,応募者名簿!$I$11)","v":""},"半紙",{"$f":"CONCATENATE(応募者名簿!F419)","v":""},{"$f":"CONCATENATE(応募者名簿!G419)","v":""},{"$f":"CONCATENATE(応募者名簿!H419)","v":""},{"$f":"CONCATENATE(応募者名簿!I419)","v":""}]
[{"$f":"応募者名簿!$B$8","v":0},{"$f":"CONCATENATE(応募者名簿!$B$11,応募者名簿!$D$11,応募者名簿!$E$11,応募者名簿!$I$11)","v":""},"半紙",{"$f":"CONCATENATE(応募者名簿!F420)","v":""},{"$f":"CONCATENATE(応募者名簿!G420)","v":""},{"$f":"CONCATENATE(応募者名簿!H420)","v":""},{"$f":"CONCATENATE(応募者名簿!I420)","v":""}]
[{"$f":"応募者名簿!$B$8","v":0},{"$f":"CONCATENATE(応募者名簿!$B$11,応募者名簿!$D$11,応募者名簿!$E$11,応募者名簿!$I$11)","v":""},"半紙",{"$f":"CONCATENATE(応募者名簿!F421)","v":""},{"$f":"CONCATENATE(応募者名簿!G421)","v":""},{"$f":"CONCATENATE(応募者名簿!H421)","v":""},{"$f":"CONCATENATE(応募者名簿!I421)","v":""}]
[{"$f":"応募者名簿!$B$8","v":0},{"$f":"CONCATENATE(応募者名簿!$B$11,応募者名簿!$D$11,応募者名簿!$E$11,応募者名簿!$I$11)","v":""},"半紙",{"$f":"CONCATENATE(応募者名簿!F422)","v":""},{"$f":"CONCATENATE(応募者名簿!G422)","v":""},{"$f":"CONCATENATE(応募者名簿!H422)","v":""},{"$f":"CONCATENATE(応募者名簿!I422)","v":""}]
[{"$f":"応募者名簿!$B$8","v":0},{"$f":"CONCATENATE(応募者名簿!$B$11,応募者名簿!$D$11,応募者名簿!$E$11,応募者名簿!$I$11)","v":""},"半紙",{"$f":"CONCATENATE(応募者名簿!F423)","v":""},{"$f":"CONCATENATE(応募者名簿!G423)","v":""},{"$f":"CONCATENATE(応募者名簿!H423)","v":""},{"$f":"CONCATENATE(応募者名簿!I423)","v":""}]
[{"$f":"応募者名簿!$B$8","v":0},{"$f":"CONCATENATE(応募者名簿!$B$11,応募者名簿!$D$11,応募者名簿!$E$11,応募者名簿!$I$11)","v":""},"半紙",{"$f":"CONCATENATE(応募者名簿!F424)","v":""},{"$f":"CONCATENATE(応募者名簿!G424)","v":""},{"$f":"CONCATENATE(応募者名簿!H424)","v":""},{"$f":"CONCATENATE(応募者名簿!I424)","v":""}]
[{"$f":"応募者名簿!$B$8","v":0},{"$f":"CONCATENATE(応募者名簿!$B$11,応募者名簿!$D$11,応募者名簿!$E$11,応募者名簿!$I$11)","v":""},"半紙",{"$f":"CONCATENATE(応募者名簿!F425)","v":""},{"$f":"CONCATENATE(応募者名簿!G425)","v":""},{"$f":"CONCATENATE(応募者名簿!H425)","v":""},{"$f":"CONCATENATE(応募者名簿!I425)","v":""}]
[{"$f":"応募者名簿!$B$8","v":0},{"$f":"CONCATENATE(応募者名簿!$B$11,応募者名簿!$D$11,応募者名簿!$E$11,応募者名簿!$I$11)","v":""},"半紙",{"$f":"CONCATENATE(応募者名簿!F426)","v":""},{"$f":"CONCATENATE(応募者名簿!G426)","v":""},{"$f":"CONCATENATE(応募者名簿!H426)","v":""},{"$f":"CONCATENATE(応募者名簿!I426)","v":""}]
[{"$f":"応募者名簿!$B$8","v":0},{"$f":"CONCATENATE(応募者名簿!$B$11,応募者名簿!$D$11,応募者名簿!$E$11,応募者名簿!$I$11)","v":""},"半紙",{"$f":"CONCATENATE(応募者名簿!F427)","v":""},{"$f":"CONCATENATE(応募者名簿!G427)","v":""},{"$f":"CONCATENATE(応募者名簿!H427)","v":""},{"$f":"CONCATENATE(応募者名簿!I427)","v":""}]
[{"$f":"応募者名簿!$B$8","v":0},{"$f":"CONCATENATE(応募者名簿!$B$11,応募者名簿!$D$11,応募者名簿!$E$11,応募者名簿!$I$11)","v":""},"半紙",{"$f":"CONCATENATE(応募者名簿!F428)","v":""},{"$f":"CONCATENATE(応募者名簿!G428)","v":""},{"$f":"CONCATENATE(応募者名簿!H428)","v":""},{"$f":"CONCATENATE(応募者名簿!I428)","v":""}]
[{"$f":"応募者名簿!$B$8","v":0},{"$f":"CONCATENATE(応募者名簿!$B$11,応募者名簿!$D$11,応募者名簿!$E$11,応募者名簿!$I$11)","v":""},"半紙",{"$f":"CONCATENATE(応募者名簿!F429)","v":""},{"$f":"CONCATENATE(応募者名簿!G429)","v":""},{"$f":"CONCATENATE(応募者名簿!H429)","v":""},{"$f":"CONCATENATE(応募者名簿!I429)","v":""}]
[{"$f":"応募者名簿!$B$8","v":0},{"$f":"CONCATENATE(応募者名簿!$B$11,応募者名簿!$D$11,応募者名簿!$E$11,応募者名簿!$I$11)","v":""},"半紙",{"$f":"CONCATENATE(応募者名簿!F430)","v":""},{"$f":"CONCATENATE(応募者名簿!G430)","v":""},{"$f":"CONCATENATE(応募者名簿!H430)","v":""},{"$f":"CONCATENATE(応募者名簿!I430)","v":""}]
[{"$f":"応募者名簿!$B$8","v":0},{"$f":"CONCATENATE(応募者名簿!$B$11,応募者名簿!$D$11,応募者名簿!$E$11,応募者名簿!$I$11)","v":""},"半紙",{"$f":"CONCATENATE(応募者名簿!F431)","v":""},{"$f":"CONCATENATE(応募者名簿!G431)","v":""},{"$f":"CONCATENATE(応募者名簿!H431)","v":""},{"$f":"CONCATENATE(応募者名簿!I431)","v":""}]
[{"$f":"応募者名簿!$B$8","v":0},{"$f":"CONCATENATE(応募者名簿!$B$11,応募者名簿!$D$11,応募者名簿!$E$11,応募者名簿!$I$11)","v":""},"半紙",{"$f":"CONCATENATE(応募者名簿!F432)","v":""},{"$f":"CONCATENATE(応募者名簿!G432)","v":""},{"$f":"CONCATENATE(応募者名簿!H432)","v":""},{"$f":"CONCATENATE(応募者名簿!I432)","v":""}]
[{"$f":"応募者名簿!$B$8","v":0},{"$f":"CONCATENATE(応募者名簿!$B$11,応募者名簿!$D$11,応募者名簿!$E$11,応募者名簿!$I$11)","v":""},"半紙",{"$f":"CONCATENATE(応募者名簿!F433)","v":""},{"$f":"CONCATENATE(応募者名簿!G433)","v":""},{"$f":"CONCATENATE(応募者名簿!H433)","v":""},{"$f":"CONCATENATE(応募者名簿!I433)","v":""}]
[{"$f":"応募者名簿!$B$8","v":0},{"$f":"CONCATENATE(応募者名簿!$B$11,応募者名簿!$D$11,応募者名簿!$E$11,応募者名簿!$I$11)","v":""},"半紙",{"$f":"CONCATENATE(応募者名簿!F434)","v":""},{"$f":"CONCATENATE(応募者名簿!G434)","v":""},{"$f":"CONCATENATE(応募者名簿!H434)","v":""},{"$f":"CONCATENATE(応募者名簿!I434)","v":""}]
[{"$f":"応募者名簿!$B$8","v":0},{"$f":"CONCATENATE(応募者名簿!$B$11,応募者名簿!$D$11,応募者名簿!$E$11,応募者名簿!$I$11)","v":""},"半紙",{"$f":"CONCATENATE(応募者名簿!F435)","v":""},{"$f":"CONCATENATE(応募者名簿!G435)","v":""},{"$f":"CONCATENATE(応募者名簿!H435)","v":""},{"$f":"CONCATENATE(応募者名簿!I435)","v":""}]
[{"$f":"応募者名簿!$B$8","v":0},{"$f":"CONCATENATE(応募者名簿!$B$11,応募者名簿!$D$11,応募者名簿!$E$11,応募者名簿!$I$11)","v":""},"半紙",{"$f":"CONCATENATE(応募者名簿!F436)","v":""},{"$f":"CONCATENATE(応募者名簿!G436)","v":""},{"$f":"CONCATENATE(応募者名簿!H436)","v":""},{"$f":"CONCATENATE(応募者名簿!I436)","v":""}]
[{"$f":"応募者名簿!$B$8","v":0},{"$f":"CONCATENATE(応募者名簿!$B$11,応募者名簿!$D$11,応募者名簿!$E$11,応募者名簿!$I$11)","v":""},"半紙",{"$f":"CONCATENATE(応募者名簿!F437)","v":""},{"$f":"CONCATENATE(応募者名簿!G437)","v":""},{"$f":"CONCATENATE(応募者名簿!H437)","v":""},{"$f":"CONCATENATE(応募者名簿!I437)","v":""}]
[{"$f":"応募者名簿!$B$8","v":0},{"$f":"CONCATENATE(応募者名簿!$B$11,応募者名簿!$D$11,応募者名簿!$E$11,応募者名簿!$I$11)","v":""},"半紙",{"$f":"CONCATENATE(応募者名簿!F438)","v":""},{"$f":"CONCATENATE(応募者名簿!G438)","v":""},{"$f":"CONCATENATE(応募者名簿!H438)","v":""},{"$f":"CONCATENATE(応募者名簿!I438)","v":""}]
[{"$f":"応募者名簿!$B$8","v":0},{"$f":"CONCATENATE(応募者名簿!$B$11,応募者名簿!$D$11,応募者名簿!$E$11,応募者名簿!$I$11)","v":""},"半紙",{"$f":"CONCATENATE(応募者名簿!F439)","v":""},{"$f":"CONCATENATE(応募者名簿!G439)","v":""},{"$f":"CONCATENATE(応募者名簿!H439)","v":""},{"$f":"CONCATENATE(応募者名簿!I439)","v":""}]
[{"$f":"応募者名簿!$B$8","v":0},{"$f":"CONCATENATE(応募者名簿!$B$11,応募者名簿!$D$11,応募者名簿!$E$11,応募者名簿!$I$11)","v":""},"半紙",{"$f":"CONCATENATE(応募者名簿!F440)","v":""},{"$f":"CONCATENATE(応募者名簿!G440)","v":""},{"$f":"CONCATENATE(応募者名簿!H440)","v":""},{"$f":"CONCATENATE(応募者名簿!I440)","v":""}]
[{"$f":"応募者名簿!$B$8","v":0},{"$f":"CONCATENATE(応募者名簿!$B$11,応募者名簿!$D$11,応募者名簿!$E$11,応募者名簿!$I$11)","v":""},"半紙",{"$f":"CONCATENATE(応募者名簿!F441)","v":""},{"$f":"CONCATENATE(応募者名簿!G441)","v":""},{"$f":"CONCATENATE(応募者名簿!H441)","v":""},{"$f":"CONCATENATE(応募者名簿!I441)","v":""}]
[{"$f":"応募者名簿!$B$8","v":0},{"$f":"CONCATENATE(応募者名簿!$B$11,応募者名簿!$D$11,応募者名簿!$E$11,応募者名簿!$I$11)","v":""},"半紙",{"$f":"CONCATENATE(応募者名簿!F442)","v":""},{"$f":"CONCATENATE(応募者名簿!G442)","v":""},{"$f":"CONCATENATE(応募者名簿!H442)","v":""},{"$f":"CONCATENATE(応募者名簿!I442)","v":""}]
[{"$f":"応募者名簿!$B$8","v":0},{"$f":"CONCATENATE(応募者名簿!$B$11,応募者名簿!$D$11,応募者名簿!$E$11,応募者名簿!$I$11)","v":""},"半紙",{"$f":"CONCATENATE(応募者名簿!F443)","v":""},{"$f":"CONCATENATE(応募者名簿!G443)","v":""},{"$f":"CONCATENATE(応募者名簿!H443)","v":""},{"$f":"CONCATENATE(応募者名簿!I443)","v":""}]
[{"$f":"応募者名簿!$B$8","v":0},{"$f":"CONCATENATE(応募者名簿!$B$11,応募者名簿!$D$11,応募者名簿!$E$11,応募者名簿!$I$11)","v":""},"半紙",{"$f":"CONCATENATE(応募者名簿!F444)","v":""},{"$f":"CONCATENATE(応募者名簿!G444)","v":""},{"$f":"CONCATENATE(応募者名簿!H444)","v":""},{"$f":"CONCATENATE(応募者名簿!I444)","v":""}]
[{"$f":"応募者名簿!$B$8","v":0},{"$f":"CONCATENATE(応募者名簿!$B$11,応募者名簿!$D$11,応募者名簿!$E$11,応募者名簿!$I$11)","v":""},"半紙",{"$f":"CONCATENATE(応募者名簿!F445)","v":""},{"$f":"CONCATENATE(応募者名簿!G445)","v":""},{"$f":"CONCATENATE(応募者名簿!H445)","v":""},{"$f":"CONCATENATE(応募者名簿!I445)","v":""}]
[{"$f":"応募者名簿!$B$8","v":0},{"$f":"CONCATENATE(応募者名簿!$B$11,応募者名簿!$D$11,応募者名簿!$E$11,応募者名簿!$I$11)","v":""},"半紙",{"$f":"CONCATENATE(応募者名簿!F446)","v":""},{"$f":"CONCATENATE(応募者名簿!G446)","v":""},{"$f":"CONCATENATE(応募者名簿!H446)","v":""},{"$f":"CONCATENATE(応募者名簿!I446)","v":""}]
[{"$f":"応募者名簿!$B$8","v":0},{"$f":"CONCATENATE(応募者名簿!$B$11,応募者名簿!$D$11,応募者名簿!$E$11,応募者名簿!$I$11)","v":""},"半紙",{"$f":"CONCATENATE(応募者名簿!F447)","v":""},{"$f":"CONCATENATE(応募者名簿!G447)","v":""},{"$f":"CONCATENATE(応募者名簿!H447)","v":""},{"$f":"CONCATENATE(応募者名簿!I447)","v":""}]
[{"$f":"応募者名簿!$B$8","v":0},{"$f":"CONCATENATE(応募者名簿!$B$11,応募者名簿!$D$11,応募者名簿!$E$11,応募者名簿!$I$11)","v":""},"半紙",{"$f":"CONCATENATE(応募者名簿!F448)","v":""},{"$f":"CONCATENATE(応募者名簿!G448)","v":""},{"$f":"CONCATENATE(応募者名簿!H448)","v":""},{"$f":"CONCATENATE(応募者名簿!I448)","v":""}]
[{"$f":"応募者名簿!$B$8","v":0},{"$f":"CONCATENATE(応募者名簿!$B$11,応募者名簿!$D$11,応募者名簿!$E$11,応募者名簿!$I$11)","v":""},"半紙",{"$f":"CONCATENATE(応募者名簿!F449)","v":""},{"$f":"CONCATENATE(応募者名簿!G449)","v":""},{"$f":"CONCATENATE(応募者名簿!H449)","v":""},{"$f":"CONCATENATE(応募者名簿!I449)","v":""}]
[{"$f":"応募者名簿!$B$8","v":0},{"$f":"CONCATENATE(応募者名簿!$B$11,応募者名簿!$D$11,応募者名簿!$E$11,応募者名簿!$I$11)","v":""},"半紙",{"$f":"CONCATENATE(応募者名簿!F450)","v":""},{"$f":"CONCATENATE(応募者名簿!G450)","v":""},{"$f":"CONCATENATE(応募者名簿!H450)","v":""},{"$f":"CONCATENATE(応募者名簿!I450)","v":""}]
[{"$f":"応募者名簿!$B$8","v":0},{"$f":"CONCATENATE(応募者名簿!$B$11,応募者名簿!$D$11,応募者名簿!$E$11,応募者名簿!$I$11)","v":""},"半紙",{"$f":"CONCATENATE(応募者名簿!F451)","v":""},{"$f":"CONCATENATE(応募者名簿!G451)","v":""},{"$f":"CONCATENATE(応募者名簿!H451)","v":""},{"$f":"CONCATENATE(応募者名簿!I451)","v":""}]
[{"$f":"応募者名簿!$B$8","v":0},{"$f":"CONCATENATE(応募者名簿!$B$11,応募者名簿!$D$11,応募者名簿!$E$11,応募者名簿!$I$11)","v":""},"半紙",{"$f":"CONCATENATE(応募者名簿!F452)","v":""},{"$f":"CONCATENATE(応募者名簿!G452)","v":""},{"$f":"CONCATENATE(応募者名簿!H452)","v":""},{"$f":"CONCATENATE(応募者名簿!I452)","v":""}]
[{"$f":"応募者名簿!$B$8","v":0},{"$f":"CONCATENATE(応募者名簿!$B$11,応募者名簿!$D$11,応募者名簿!$E$11,応募者名簿!$I$11)","v":""},"半紙",{"$f":"CONCATENATE(応募者名簿!F453)","v":""},{"$f":"CONCATENATE(応募者名簿!G453)","v":""},{"$f":"CONCATENATE(応募者名簿!H453)","v":""},{"$f":"CONCATENATE(応募者名簿!I453)","v":""}]
[{"$f":"応募者名簿!$B$8","v":0},{"$f":"CONCATENATE(応募者名簿!$B$11,応募者名簿!$D$11,応募者名簿!$E$11,応募者名簿!$I$11)","v":""},"半紙",{"$f":"CONCATENATE(応募者名簿!F454)","v":""},{"$f":"CONCATENATE(応募者名簿!G454)","v":""},{"$f":"CONCATENATE(応募者名簿!H454)","v":""},{"$f":"CONCATENATE(応募者名簿!I454)","v":""}]
[{"$f":"応募者名簿!$B$8","v":0},{"$f":"CONCATENATE(応募者名簿!$B$11,応募者名簿!$D$11,応募者名簿!$E$11,応募者名簿!$I$11)","v":""},"半紙",{"$f":"CONCATENATE(応募者名簿!F455)","v":""},{"$f":"CONCATENATE(応募者名簿!G455)","v":""},{"$f":"CONCATENATE(応募者名簿!H455)","v":""},{"$f":"CONCATENATE(応募者名簿!I455)","v":""}]
[{"$f":"応募者名簿!$B$8","v":0},{"$f":"CONCATENATE(応募者名簿!$B$11,応募者名簿!$D$11,応募者名簿!$E$11,応募者名簿!$I$11)","v":""},"半紙",{"$f":"CONCATENATE(応募者名簿!F456)","v":""},{"$f":"CONCATENATE(応募者名簿!G456)","v":""},{"$f":"CONCATENATE(応募者名簿!H456)","v":""},{"$f":"CONCATENATE(応募者名簿!I456)","v":""}]
[{"$f":"応募者名簿!$B$8","v":0},{"$f":"CONCATENATE(応募者名簿!$B$11,応募者名簿!$D$11,応募者名簿!$E$11,応募者名簿!$I$11)","v":""},"半紙",{"$f":"CONCATENATE(応募者名簿!F457)","v":""},{"$f":"CONCATENATE(応募者名簿!G457)","v":""},{"$f":"CONCATENATE(応募者名簿!H457)","v":""},{"$f":"CONCATENATE(応募者名簿!I457)","v":""}]
[{"$f":"応募者名簿!$B$8","v":0},{"$f":"CONCATENATE(応募者名簿!$B$11,応募者名簿!$D$11,応募者名簿!$E$11,応募者名簿!$I$11)","v":""},"半紙",{"$f":"CONCATENATE(応募者名簿!F458)","v":""},{"$f":"CONCATENATE(応募者名簿!G458)","v":""},{"$f":"CONCATENATE(応募者名簿!H458)","v":""},{"$f":"CONCATENATE(応募者名簿!I458)","v":""}]
[{"$f":"応募者名簿!$B$8","v":0},{"$f":"CONCATENATE(応募者名簿!$B$11,応募者名簿!$D$11,応募者名簿!$E$11,応募者名簿!$I$11)","v":""},"半紙",{"$f":"CONCATENATE(応募者名簿!F459)","v":""},{"$f":"CONCATENATE(応募者名簿!G459)","v":""},{"$f":"CONCATENATE(応募者名簿!H459)","v":""},{"$f":"CONCATENATE(応募者名簿!I459)","v":""}]
[{"$f":"応募者名簿!$B$8","v":0},{"$f":"CONCATENATE(応募者名簿!$B$11,応募者名簿!$D$11,応募者名簿!$E$11,応募者名簿!$I$11)","v":""},"半紙",{"$f":"CONCATENATE(応募者名簿!F460)","v":""},{"$f":"CONCATENATE(応募者名簿!G460)","v":""},{"$f":"CONCATENATE(応募者名簿!H460)","v":""},{"$f":"CONCATENATE(応募者名簿!I460)","v":""}]
[{"$f":"応募者名簿!$B$8","v":0},{"$f":"CONCATENATE(応募者名簿!$B$11,応募者名簿!$D$11,応募者名簿!$E$11,応募者名簿!$I$11)","v":""},"半紙",{"$f":"CONCATENATE(応募者名簿!F461)","v":""},{"$f":"CONCATENATE(応募者名簿!G461)","v":""},{"$f":"CONCATENATE(応募者名簿!H461)","v":""},{"$f":"CONCATENATE(応募者名簿!I461)","v":""}]
[{"$f":"応募者名簿!$B$8","v":0},{"$f":"CONCATENATE(応募者名簿!$B$11,応募者名簿!$D$11,応募者名簿!$E$11,応募者名簿!$I$11)","v":""},"半紙",{"$f":"CONCATENATE(応募者名簿!F462)","v":""},{"$f":"CONCATENATE(応募者名簿!G462)","v":""},{"$f":"CONCATENATE(応募者名簿!H462)","v":""},{"$f":"CONCATENATE(応募者名簿!I462)","v":""}]
[{"$f":"応募者名簿!$B$8","v":0},{"$f":"CONCATENATE(応募者名簿!$B$11,応募者名簿!$D$11,応募者名簿!$E$11,応募者名簿!$I$11)","v":""},"半紙",{"$f":"CONCATENATE(応募者名簿!F463)","v":""},{"$f":"CONCATENATE(応募者名簿!G463)","v":""},{"$f":"CONCATENATE(応募者名簿!H463)","v":""},{"$f":"CONCATENATE(応募者名簿!I463)","v":""}]
[{"$f":"応募者名簿!$B$8","v":0},{"$f":"CONCATENATE(応募者名簿!$B$11,応募者名簿!$D$11,応募者名簿!$E$11,応募者名簿!$I$11)","v":""},"半紙",{"$f":"CONCATENATE(応募者名簿!F464)","v":""},{"$f":"CONCATENATE(応募者名簿!G464)","v":""},{"$f":"CONCATENATE(応募者名簿!H464)","v":""},{"$f":"CONCATENATE(応募者名簿!I464)","v":""}]
[{"$f":"応募者名簿!$B$8","v":0},{"$f":"CONCATENATE(応募者名簿!$B$11,応募者名簿!$D$11,応募者名簿!$E$11,応募者名簿!$I$11)","v":""},"半紙",{"$f":"CONCATENATE(応募者名簿!F465)","v":""},{"$f":"CONCATENATE(応募者名簿!G465)","v":""},{"$f":"CONCATENATE(応募者名簿!H465)","v":""},{"$f":"CONCATENATE(応募者名簿!I465)","v":""}]
[{"$f":"応募者名簿!$B$8","v":0},{"$f":"CONCATENATE(応募者名簿!$B$11,応募者名簿!$D$11,応募者名簿!$E$11,応募者名簿!$I$11)","v":""},"半紙",{"$f":"CONCATENATE(応募者名簿!F466)","v":""},{"$f":"CONCATENATE(応募者名簿!G466)","v":""},{"$f":"CONCATENATE(応募者名簿!H466)","v":""},{"$f":"CONCATENATE(応募者名簿!I466)","v":""}]
[{"$f":"応募者名簿!$B$8","v":0},{"$f":"CONCATENATE(応募者名簿!$B$11,応募者名簿!$D$11,応募者名簿!$E$11,応募者名簿!$I$11)","v":""},"半紙",{"$f":"CONCATENATE(応募者名簿!F467)","v":""},{"$f":"CONCATENATE(応募者名簿!G467)","v":""},{"$f":"CONCATENATE(応募者名簿!H467)","v":""},{"$f":"CONCATENATE(応募者名簿!I467)","v":""}]
[{"$f":"応募者名簿!$B$8","v":0},{"$f":"CONCATENATE(応募者名簿!$B$11,応募者名簿!$D$11,応募者名簿!$E$11,応募者名簿!$I$11)","v":""},"半紙",{"$f":"CONCATENATE(応募者名簿!F468)","v":""},{"$f":"CONCATENATE(応募者名簿!G468)","v":""},{"$f":"CONCATENATE(応募者名簿!H468)","v":""},{"$f":"CONCATENATE(応募者名簿!I468)","v":""}]
[{"$f":"応募者名簿!$B$8","v":0},{"$f":"CONCATENATE(応募者名簿!$B$11,応募者名簿!$D$11,応募者名簿!$E$11,応募者名簿!$I$11)","v":""},"半紙",{"$f":"CONCATENATE(応募者名簿!F469)","v":""},{"$f":"CONCATENATE(応募者名簿!G469)","v":""},{"$f":"CONCATENATE(応募者名簿!H469)","v":""},{"$f":"CONCATENATE(応募者名簿!I469)","v":""}]
[{"$f":"応募者名簿!$B$8","v":0},{"$f":"CONCATENATE(応募者名簿!$B$11,応募者名簿!$D$11,応募者名簿!$E$11,応募者名簿!$I$11)","v":""},"半紙",{"$f":"CONCATENATE(応募者名簿!F470)","v":""},{"$f":"CONCATENATE(応募者名簿!G470)","v":""},{"$f":"CONCATENATE(応募者名簿!H470)","v":""},{"$f":"CONCATENATE(応募者名簿!I470)","v":""}]
[{"$f":"応募者名簿!$B$8","v":0},{"$f":"CONCATENATE(応募者名簿!$B$11,応募者名簿!$D$11,応募者名簿!$E$11,応募者名簿!$I$11)","v":""},"半紙",{"$f":"CONCATENATE(応募者名簿!F471)","v":""},{"$f":"CONCATENATE(応募者名簿!G471)","v":""},{"$f":"CONCATENATE(応募者名簿!H471)","v":""},{"$f":"CONCATENATE(応募者名簿!I471)","v":""}]
[{"$f":"応募者名簿!$B$8","v":0},{"$f":"CONCATENATE(応募者名簿!$B$11,応募者名簿!$D$11,応募者名簿!$E$11,応募者名簿!$I$11)","v":""},"半紙",{"$f":"CONCATENATE(応募者名簿!F472)","v":""},{"$f":"CONCATENATE(応募者名簿!G472)","v":""},{"$f":"CONCATENATE(応募者名簿!H472)","v":""},{"$f":"CONCATENATE(応募者名簿!I472)","v":""}]
[{"$f":"応募者名簿!$B$8","v":0},{"$f":"CONCATENATE(応募者名簿!$B$11,応募者名簿!$D$11,応募者名簿!$E$11,応募者名簿!$I$11)","v":""},"半紙",{"$f":"CONCATENATE(応募者名簿!F473)","v":""},{"$f":"CONCATENATE(応募者名簿!G473)","v":""},{"$f":"CONCATENATE(応募者名簿!H473)","v":""},{"$f":"CONCATENATE(応募者名簿!I473)","v":""}]
[{"$f":"応募者名簿!$B$8","v":0},{"$f":"CONCATENATE(応募者名簿!$B$11,応募者名簿!$D$11,応募者名簿!$E$11,応募者名簿!$I$11)","v":""},"半紙",{"$f":"CONCATENATE(応募者名簿!F474)","v":""},{"$f":"CONCATENATE(応募者名簿!G474)","v":""},{"$f":"CONCATENATE(応募者名簿!H474)","v":""},{"$f":"CONCATENATE(応募者名簿!I474)","v":""}]
[{"$f":"応募者名簿!$B$8","v":0},{"$f":"CONCATENATE(応募者名簿!$B$11,応募者名簿!$D$11,応募者名簿!$E$11,応募者名簿!$I$11)","v":""},"半紙",{"$f":"CONCATENATE(応募者名簿!F475)","v":""},{"$f":"CONCATENATE(応募者名簿!G475)","v":""},{"$f":"CONCATENATE(応募者名簿!H475)","v":""},{"$f":"CONCATENATE(応募者名簿!I475)","v":""}]
[{"$f":"応募者名簿!$B$8","v":0},{"$f":"CONCATENATE(応募者名簿!$B$11,応募者名簿!$D$11,応募者名簿!$E$11,応募者名簿!$I$11)","v":""},"半紙",{"$f":"CONCATENATE(応募者名簿!F476)","v":""},{"$f":"CONCATENATE(応募者名簿!G476)","v":""},{"$f":"CONCATENATE(応募者名簿!H476)","v":""},{"$f":"CONCATENATE(応募者名簿!I476)","v":""}]
[{"$f":"応募者名簿!$B$8","v":0},{"$f":"CONCATENATE(応募者名簿!$B$11,応募者名簿!$D$11,応募者名簿!$E$11,応募者名簿!$I$11)","v":""},"半紙",{"$f":"CONCATENATE(応募者名簿!F477)","v":""},{"$f":"CONCATENATE(応募者名簿!G477)","v":""},{"$f":"CONCATENATE(応募者名簿!H477)","v":""},{"$f":"CONCATENATE(応募者名簿!I477)","v":""}]
[{"$f":"応募者名簿!$B$8","v":0},{"$f":"CONCATENATE(応募者名簿!$B$11,応募者名簿!$D$11,応募者名簿!$E$11,応募者名簿!$I$11)","v":""},"半紙",{"$f":"CONCATENATE(応募者名簿!F478)","v":""},{"$f":"CONCATENATE(応募者名簿!G478)","v":""},{"$f":"CONCATENATE(応募者名簿!H478)","v":""},{"$f":"CONCATENATE(応募者名簿!I478)","v":""}]
[{"$f":"応募者名簿!$B$8","v":0},{"$f":"CONCATENATE(応募者名簿!$B$11,応募者名簿!$D$11,応募者名簿!$E$11,応募者名簿!$I$11)","v":""},"半紙",{"$f":"CONCATENATE(応募者名簿!F479)","v":""},{"$f":"CONCATENATE(応募者名簿!G479)","v":""},{"$f":"CONCATENATE(応募者名簿!H479)","v":""},{"$f":"CONCATENATE(応募者名簿!I479)","v":""}]
[{"$f":"応募者名簿!$B$8","v":0},{"$f":"CONCATENATE(応募者名簿!$B$11,応募者名簿!$D$11,応募者名簿!$E$11,応募者名簿!$I$11)","v":""},"半紙",{"$f":"CONCATENATE(応募者名簿!F480)","v":""},{"$f":"CONCATENATE(応募者名簿!G480)","v":""},{"$f":"CONCATENATE(応募者名簿!H480)","v":""},{"$f":"CONCATENATE(応募者名簿!I480)","v":""}]
[{"$f":"応募者名簿!$B$8","v":0},{"$f":"CONCATENATE(応募者名簿!$B$11,応募者名簿!$D$11,応募者名簿!$E$11,応募者名簿!$I$11)","v":""},"半紙",{"$f":"CONCATENATE(応募者名簿!F481)","v":""},{"$f":"CONCATENATE(応募者名簿!G481)","v":""},{"$f":"CONCATENATE(応募者名簿!H481)","v":""},{"$f":"CONCATENATE(応募者名簿!I481)","v":""}]
[{"$f":"応募者名簿!$B$8","v":0},{"$f":"CONCATENATE(応募者名簿!$B$11,応募者名簿!$D$11,応募者名簿!$E$11,応募者名簿!$I$11)","v":""},"半紙",{"$f":"CONCATENATE(応募者名簿!F482)","v":""},{"$f":"CONCATENATE(応募者名簿!G482)","v":""},{"$f":"CONCATENATE(応募者名簿!H482)","v":""},{"$f":"CONCATENATE(応募者名簿!I482)","v":""}]
[{"$f":"応募者名簿!$B$8","v":0},{"$f":"CONCATENATE(応募者名簿!$B$11,応募者名簿!$D$11,応募者名簿!$E$11,応募者名簿!$I$11)","v":""},"半紙",{"$f":"CONCATENATE(応募者名簿!F483)","v":""},{"$f":"CONCATENATE(応募者名簿!G483)","v":""},{"$f":"CONCATENATE(応募者名簿!H483)","v":""},{"$f":"CONCATENATE(応募者名簿!I483)","v":""}]
[{"$f":"応募者名簿!$B$8","v":0},{"$f":"CONCATENATE(応募者名簿!$B$11,応募者名簿!$D$11,応募者名簿!$E$11,応募者名簿!$I$11)","v":""},"半紙",{"$f":"CONCATENATE(応募者名簿!F484)","v":""},{"$f":"CONCATENATE(応募者名簿!G484)","v":""},{"$f":"CONCATENATE(応募者名簿!H484)","v":""},{"$f":"CONCATENATE(応募者名簿!I484)","v":""}]
[{"$f":"応募者名簿!$B$8","v":0},{"$f":"CONCATENATE(応募者名簿!$B$11,応募者名簿!$D$11,応募者名簿!$E$11,応募者名簿!$I$11)","v":""},"半紙",{"$f":"CONCATENATE(応募者名簿!F485)","v":""},{"$f":"CONCATENATE(応募者名簿!G485)","v":""},{"$f":"CONCATENATE(応募者名簿!H485)","v":""},{"$f":"CONCATENATE(応募者名簿!I485)","v":""}]
[{"$f":"応募者名簿!$B$8","v":0},{"$f":"CONCATENATE(応募者名簿!$B$11,応募者名簿!$D$11,応募者名簿!$E$11,応募者名簿!$I$11)","v":""},"半紙",{"$f":"CONCATENATE(応募者名簿!F486)","v":""},{"$f":"CONCATENATE(応募者名簿!G486)","v":""},{"$f":"CONCATENATE(応募者名簿!H486)","v":""},{"$f":"CONCATENATE(応募者名簿!I486)","v":""}]
[{"$f":"応募者名簿!$B$8","v":0},{"$f":"CONCATENATE(応募者名簿!$B$11,応募者名簿!$D$11,応募者名簿!$E$11,応募者名簿!$I$11)","v":""},"半紙",{"$f":"CONCATENATE(応募者名簿!F487)","v":""},{"$f":"CONCATENATE(応募者名簿!G487)","v":""},{"$f":"CONCATENATE(応募者名簿!H487)","v":""},{"$f":"CONCATENATE(応募者名簿!I487)","v":""}]
[{"$f":"応募者名簿!$B$8","v":0},{"$f":"CONCATENATE(応募者名簿!$B$11,応募者名簿!$D$11,応募者名簿!$E$11,応募者名簿!$I$11)","v":""},"半紙",{"$f":"CONCATENATE(応募者名簿!F488)","v":""},{"$f":"CONCATENATE(応募者名簿!G488)","v":""},{"$f":"CONCATENATE(応募者名簿!H488)","v":""},{"$f":"CONCATENATE(応募者名簿!I488)","v":""}]
[{"$f":"応募者名簿!$B$8","v":0},{"$f":"CONCATENATE(応募者名簿!$B$11,応募者名簿!$D$11,応募者名簿!$E$11,応募者名簿!$I$11)","v":""},"半紙",{"$f":"CONCATENATE(応募者名簿!F489)","v":""},{"$f":"CONCATENATE(応募者名簿!G489)","v":""},{"$f":"CONCATENATE(応募者名簿!H489)","v":""},{"$f":"CONCATENATE(応募者名簿!I489)","v":""}]
[{"$f":"応募者名簿!$B$8","v":0},{"$f":"CONCATENATE(応募者名簿!$B$11,応募者名簿!$D$11,応募者名簿!$E$11,応募者名簿!$I$11)","v":""},"半紙",{"$f":"CONCATENATE(応募者名簿!F490)","v":""},{"$f":"CONCATENATE(応募者名簿!G490)","v":""},{"$f":"CONCATENATE(応募者名簿!H490)","v":""},{"$f":"CONCATENATE(応募者名簿!I490)","v":""}]
[{"$f":"応募者名簿!$B$8","v":0},{"$f":"CONCATENATE(応募者名簿!$B$11,応募者名簿!$D$11,応募者名簿!$E$11,応募者名簿!$I$11)","v":""},"半紙",{"$f":"CONCATENATE(応募者名簿!F491)","v":""},{"$f":"CONCATENATE(応募者名簿!G491)","v":""},{"$f":"CONCATENATE(応募者名簿!H491)","v":""},{"$f":"CONCATENATE(応募者名簿!I491)","v":""}]
[{"$f":"応募者名簿!$B$8","v":0},{"$f":"CONCATENATE(応募者名簿!$B$11,応募者名簿!$D$11,応募者名簿!$E$11,応募者名簿!$I$11)","v":""},"半紙",{"$f":"CONCATENATE(応募者名簿!F492)","v":""},{"$f":"CONCATENATE(応募者名簿!G492)","v":""},{"$f":"CONCATENATE(応募者名簿!H492)","v":""},{"$f":"CONCATENATE(応募者名簿!I492)","v":""}]
[{"$f":"応募者名簿!$B$8","v":0},{"$f":"CONCATENATE(応募者名簿!$B$11,応募者名簿!$D$11,応募者名簿!$E$11,応募者名簿!$I$11)","v":""},"半紙",{"$f":"CONCATENATE(応募者名簿!F493)","v":""},{"$f":"CONCATENATE(応募者名簿!G493)","v":""},{"$f":"CONCATENATE(応募者名簿!H493)","v":""},{"$f":"CONCATENATE(応募者名簿!I493)","v":""}]
[{"$f":"応募者名簿!$B$8","v":0},{"$f":"CONCATENATE(応募者名簿!$B$11,応募者名簿!$D$11,応募者名簿!$E$11,応募者名簿!$I$11)","v":""},"半紙",{"$f":"CONCATENATE(応募者名簿!F494)","v":""},{"$f":"CONCATENATE(応募者名簿!G494)","v":""},{"$f":"CONCATENATE(応募者名簿!H494)","v":""},{"$f":"CONCATENATE(応募者名簿!I494)","v":""}]
[{"$f":"応募者名簿!$B$8","v":0},{"$f":"CONCATENATE(応募者名簿!$B$11,応募者名簿!$D$11,応募者名簿!$E$11,応募者名簿!$I$11)","v":""},"半紙",{"$f":"CONCATENATE(応募者名簿!F495)","v":""},{"$f":"CONCATENATE(応募者名簿!G495)","v":""},{"$f":"CONCATENATE(応募者名簿!H495)","v":""},{"$f":"CONCATENATE(応募者名簿!I495)","v":""}]
[{"$f":"応募者名簿!$B$8","v":0},{"$f":"CONCATENATE(応募者名簿!$B$11,応募者名簿!$D$11,応募者名簿!$E$11,応募者名簿!$I$11)","v":""},"半紙",{"$f":"CONCATENATE(応募者名簿!F496)","v":""},{"$f":"CONCATENATE(応募者名簿!G496)","v":""},{"$f":"CONCATENATE(応募者名簿!H496)","v":""},{"$f":"CONCATENATE(応募者名簿!I496)","v":""}]
[{"$f":"応募者名簿!$B$8","v":0},{"$f":"CONCATENATE(応募者名簿!$B$11,応募者名簿!$D$11,応募者名簿!$E$11,応募者名簿!$I$11)","v":""},"半紙",{"$f":"CONCATENATE(応募者名簿!F497)","v":""},{"$f":"CONCATENATE(応募者名簿!G497)","v":""},{"$f":"CONCATENATE(応募者名簿!H497)","v":""},{"$f":"CONCATENATE(応募者名簿!I497)","v":""}]
[{"$f":"応募者名簿!$B$8","v":0},{"$f":"CONCATENATE(応募者名簿!$B$11,応募者名簿!$D$11,応募者名簿!$E$11,応募者名簿!$I$11)","v":""},"半紙",{"$f":"CONCATENATE(応募者名簿!F498)","v":""},{"$f":"CONCATENATE(応募者名簿!G498)","v":""},{"$f":"CONCATENATE(応募者名簿!H498)","v":""},{"$f":"CONCATENATE(応募者名簿!I498)","v":""}]
[{"$f":"応募者名簿!$B$8","v":0},{"$f":"CONCATENATE(応募者名簿!$B$11,応募者名簿!$D$11,応募者名簿!$E$11,応募者名簿!$I$11)","v":""},"半紙",{"$f":"CONCATENATE(応募者名簿!F499)","v":""},{"$f":"CONCATENATE(応募者名簿!G499)","v":""},{"$f":"CONCATENATE(応募者名簿!H499)","v":""},{"$f":"CONCATENATE(応募者名簿!I499)","v":""}]
[{"$f":"応募者名簿!$B$8","v":0},{"$f":"CONCATENATE(応募者名簿!$B$11,応募者名簿!$D$11,応募者名簿!$E$11,応募者名簿!$I$11)","v":""},"半紙",{"$f":"CONCATENATE(応募者名簿!F500)","v":""},{"$f":"CONCATENATE(応募者名簿!G500)","v":""},{"$f":"CONCATENATE(応募者名簿!H500)","v":""},{"$f":"CONCATENATE(応募者名簿!I500)","v":""}]
[{"$f":"応募者名簿!$B$8","v":0},{"$f":"CONCATENATE(応募者名簿!$B$11,応募者名簿!$D$11,応募者名簿!$E$11,応募者名簿!$I$11)","v":""},"半紙",{"$f":"CONCATENATE(応募者名簿!F501)","v":""},{"$f":"CONCATENATE(応募者名簿!G501)","v":""},{"$f":"CONCATENATE(応募者名簿!H501)","v":""},{"$f":"CONCATENATE(応募者名簿!I501)","v":""}]
[{"$f":"応募者名簿!$B$8","v":0},{"$f":"CONCATENATE(応募者名簿!$B$11,応募者名簿!$D$11,応募者名簿!$E$11,応募者名簿!$I$11)","v":""},"半紙",{"$f":"CONCATENATE(応募者名簿!F502)","v":""},{"$f":"CONCATENATE(応募者名簿!G502)","v":""},{"$f":"CONCATENATE(応募者名簿!H502)","v":""},{"$f":"CONCATENATE(応募者名簿!I502)","v":""}]
[{"$f":"応募者名簿!$B$8","v":0},{"$f":"CONCATENATE(応募者名簿!$B$11,応募者名簿!$D$11,応募者名簿!$E$11,応募者名簿!$I$11)","v":""},"半紙",{"$f":"CONCATENATE(応募者名簿!F503)","v":""},{"$f":"CONCATENATE(応募者名簿!G503)","v":""},{"$f":"CONCATENATE(応募者名簿!H503)","v":""},{"$f":"CONCATENATE(応募者名簿!I503)","v":""}]
[{"$f":"応募者名簿!$B$8","v":0},{"$f":"CONCATENATE(応募者名簿!$B$11,応募者名簿!$D$11,応募者名簿!$E$11,応募者名簿!$I$11)","v":""},"半紙",{"$f":"CONCATENATE(応募者名簿!F504)","v":""},{"$f":"CONCATENATE(応募者名簿!G504)","v":""},{"$f":"CONCATENATE(応募者名簿!H504)","v":""},{"$f":"CONCATENATE(応募者名簿!I504)","v":""}]
[{"$f":"応募者名簿!$B$8","v":0},{"$f":"CONCATENATE(応募者名簿!$B$11,応募者名簿!$D$11,応募者名簿!$E$11,応募者名簿!$I$11)","v":""},"半紙",{"$f":"CONCATENATE(応募者名簿!F505)","v":""},{"$f":"CONCATENATE(応募者名簿!G505)","v":""},{"$f":"CONCATENATE(応募者名簿!H505)","v":""},{"$f":"CONCATENATE(応募者名簿!I505)","v":""}]
[{"$f":"応募者名簿!$B$8","v":0},{"$f":"CONCATENATE(応募者名簿!$B$11,応募者名簿!$D$11,応募者名簿!$E$11,応募者名簿!$I$11)","v":""},"半紙",{"$f":"CONCATENATE(応募者名簿!F506)","v":""},{"$f":"CONCATENATE(応募者名簿!G506)","v":""},{"$f":"CONCATENATE(応募者名簿!H506)","v":""},{"$f":"CONCATENATE(応募者名簿!I506)","v":""}]
[{"$f":"応募者名簿!$B$8","v":0},{"$f":"CONCATENATE(応募者名簿!$B$11,応募者名簿!$D$11,応募者名簿!$E$11,応募者名簿!$I$11)","v":""},"半紙",{"$f":"CONCATENATE(応募者名簿!F507)","v":""},{"$f":"CONCATENATE(応募者名簿!G507)","v":""},{"$f":"CONCATENATE(応募者名簿!H507)","v":""},{"$f":"CONCATENATE(応募者名簿!I507)","v":""}]
[{"$f":"応募者名簿!$B$8","v":0},{"$f":"CONCATENATE(応募者名簿!$B$11,応募者名簿!$D$11,応募者名簿!$E$11,応募者名簿!$I$11)","v":""},"半紙",{"$f":"CONCATENATE(応募者名簿!F508)","v":""},{"$f":"CONCATENATE(応募者名簿!G508)","v":""},{"$f":"CONCATENATE(応募者名簿!H508)","v":""},{"$f":"CONCATENATE(応募者名簿!I508)","v":""}]
[{"$f":"応募者名簿!$B$8","v":0},{"$f":"CONCATENATE(応募者名簿!$B$11,応募者名簿!$D$11,応募者名簿!$E$11,応募者名簿!$I$11)","v":""},"半紙",{"$f":"CONCATENATE(応募者名簿!F509)","v":""},{"$f":"CONCATENATE(応募者名簿!G509)","v":""},{"$f":"CONCATENATE(応募者名簿!H509)","v":""},{"$f":"CONCATENATE(応募者名簿!I509)","v":""}]
[{"$f":"応募者名簿!$B$8","v":0},{"$f":"CONCATENATE(応募者名簿!$B$11,応募者名簿!$D$11,応募者名簿!$E$11,応募者名簿!$I$11)","v":""},"半紙",{"$f":"CONCATENATE(応募者名簿!F510)","v":""},{"$f":"CONCATENATE(応募者名簿!G510)","v":""},{"$f":"CONCATENATE(応募者名簿!H510)","v":""},{"$f":"CONCATENATE(応募者名簿!I510)","v":""}]
[{"$f":"応募者名簿!$B$8","v":0},{"$f":"CONCATENATE(応募者名簿!$B$11,応募者名簿!$D$11,応募者名簿!$E$11,応募者名簿!$I$11)","v":""},"半紙",{"$f":"CONCATENATE(応募者名簿!F511)","v":""},{"$f":"CONCATENATE(応募者名簿!G511)","v":""},{"$f":"CONCATENATE(応募者名簿!H511)","v":""},{"$f":"CONCATENATE(応募者名簿!I511)","v":""}]
[{"$f":"応募者名簿!$B$8","v":0},{"$f":"CONCATENATE(応募者名簿!$B$11,応募者名簿!$D$11,応募者名簿!$E$11,応募者名簿!$I$11)","v":""},"半紙",{"$f":"CONCATENATE(応募者名簿!F512)","v":""},{"$f":"CONCATENATE(応募者名簿!G512)","v":""},{"$f":"CONCATENATE(応募者名簿!H512)","v":""},{"$f":"CONCATENATE(応募者名簿!I512)","v":""}]
[{"$f":"応募者名簿!$B$8","v":0},{"$f":"CONCATENATE(応募者名簿!$B$11,応募者名簿!$D$11,応募者名簿!$E$11,応募者名簿!$I$11)","v":""},"半紙",{"$f":"CONCATENATE(応募者名簿!F513)","v":""},{"$f":"CONCATENATE(応募者名簿!G513)","v":""},{"$f":"CONCATENATE(応募者名簿!H513)","v":""},{"$f":"CONCATENATE(応募者名簿!I513)","v":""}]
[{"$f":"応募者名簿!$B$8","v":0},{"$f":"CONCATENATE(応募者名簿!$B$11,応募者名簿!$D$11,応募者名簿!$E$11,応募者名簿!$I$11)","v":""},"半紙",{"$f":"CONCATENATE(応募者名簿!F514)","v":""},{"$f":"CONCATENATE(応募者名簿!G514)","v":""},{"$f":"CONCATENATE(応募者名簿!H514)","v":""},{"$f":"CONCATENATE(応募者名簿!I514)","v":""}]
[{"$f":"応募者名簿!$B$8","v":0},{"$f":"CONCATENATE(応募者名簿!$B$11,応募者名簿!$D$11,応募者名簿!$E$11,応募者名簿!$I$11)","v":""},"半紙",{"$f":"CONCATENATE(応募者名簿!F515)","v":""},{"$f":"CONCATENATE(応募者名簿!G515)","v":""},{"$f":"CONCATENATE(応募者名簿!H515)","v":""},{"$f":"CONCATENATE(応募者名簿!I515)","v":""}]
[{"$f":"応募者名簿!$B$8","v":0},{"$f":"CONCATENATE(応募者名簿!$B$11,応募者名簿!$D$11,応募者名簿!$E$11,応募者名簿!$I$11)","v":""},"半紙",{"$f":"CONCATENATE(応募者名簿!F516)","v":""},{"$f":"CONCATENATE(応募者名簿!G516)","v":""},{"$f":"CONCATENATE(応募者名簿!H516)","v":""},{"$f":"CONCATENATE(応募者名簿!I516)","v":""}]
[{"$f":"応募者名簿!$B$8","v":0},{"$f":"CONCATENATE(応募者名簿!$B$11,応募者名簿!$D$11,応募者名簿!$E$11,応募者名簿!$I$11)","v":""},"半紙",{"$f":"CONCATENATE(応募者名簿!F517)","v":""},{"$f":"CONCATENATE(応募者名簿!G517)","v":""},{"$f":"CONCATENATE(応募者名簿!H517)","v":""},{"$f":"CONCATENATE(応募者名簿!I517)","v":""}]
[{"$f":"応募者名簿!$B$8","v":0},{"$f":"CONCATENATE(応募者名簿!$B$11,応募者名簿!$D$11,応募者名簿!$E$11,応募者名簿!$I$11)","v":""},"半紙",{"$f":"CONCATENATE(応募者名簿!F518)","v":""},{"$f":"CONCATENATE(応募者名簿!G518)","v":""},{"$f":"CONCATENATE(応募者名簿!H518)","v":""},{"$f":"CONCATENATE(応募者名簿!I518)","v":""}]
[{"$f":"応募者名簿!$B$8","v":0},{"$f":"CONCATENATE(応募者名簿!$B$11,応募者名簿!$D$11,応募者名簿!$E$11,応募者名簿!$I$11)","v":""},"半紙",{"$f":"CONCATENATE(応募者名簿!F519)","v":""},{"$f":"CONCATENATE(応募者名簿!G519)","v":""},{"$f":"CONCATENATE(応募者名簿!H519)","v":""},{"$f":"CONCATENATE(応募者名簿!I519)","v":""}]
[{"$f":"応募者名簿!$B$8","v":0},{"$f":"CONCATENATE(応募者名簿!$B$11,応募者名簿!$D$11,応募者名簿!$E$11,応募者名簿!$I$11)","v":""},"半紙",{"$f":"CONCATENATE(応募者名簿!F520)","v":""},{"$f":"CONCATENATE(応募者名簿!G520)","v":""},{"$f":"CONCATENATE(応募者名簿!H520)","v":""},{"$f":"CONCATENATE(応募者名簿!I520)","v":""}]
[{"$f":"応募者名簿!$B$8","v":0},{"$f":"CONCATENATE(応募者名簿!$B$11,応募者名簿!$D$11,応募者名簿!$E$11,応募者名簿!$I$11)","v":""},"半紙",{"$f":"CONCATENATE(応募者名簿!F521)","v":""},{"$f":"CONCATENATE(応募者名簿!G521)","v":""},{"$f":"CONCATENATE(応募者名簿!H521)","v":""},{"$f":"CONCATENATE(応募者名簿!I521)","v":""}]
[{"$f":"応募者名簿!$B$8","v":0},{"$f":"CONCATENATE(応募者名簿!$B$11,応募者名簿!$D$11,応募者名簿!$E$11,応募者名簿!$I$11)","v":""},"半紙",{"$f":"CONCATENATE(応募者名簿!F522)","v":""},{"$f":"CONCATENATE(応募者名簿!G522)","v":""},{"$f":"CONCATENATE(応募者名簿!H522)","v":""},{"$f":"CONCATENATE(応募者名簿!I522)","v":""}]
[{"$f":"応募者名簿!$B$8","v":0},{"$f":"CONCATENATE(応募者名簿!$B$11,応募者名簿!$D$11,応募者名簿!$E$11,応募者名簿!$I$11)","v":""},"半紙",{"$f":"CONCATENATE(応募者名簿!F523)","v":""},{"$f":"CONCATENATE(応募者名簿!G523)","v":""},{"$f":"CONCATENATE(応募者名簿!H523)","v":""},{"$f":"CONCATENATE(応募者名簿!I523)","v":""}]
[{"$f":"応募者名簿!$B$8","v":0},{"$f":"CONCATENATE(応募者名簿!$B$11,応募者名簿!$D$11,応募者名簿!$E$11,応募者名簿!$I$11)","v":""},"半紙",{"$f":"CONCATENATE(応募者名簿!F524)","v":""},{"$f":"CONCATENATE(応募者名簿!G524)","v":""},{"$f":"CONCATENATE(応募者名簿!H524)","v":""},{"$f":"CONCATENATE(応募者名簿!I524)","v":""}]
[{"$f":"応募者名簿!$B$8","v":0},{"$f":"CONCATENATE(応募者名簿!$B$11,応募者名簿!$D$11,応募者名簿!$E$11,応募者名簿!$I$11)","v":""},"半紙",{"$f":"CONCATENATE(応募者名簿!F525)","v":""},{"$f":"CONCATENATE(応募者名簿!G525)","v":""},{"$f":"CONCATENATE(応募者名簿!H525)","v":""},{"$f":"CONCATENATE(応募者名簿!I525)","v":""}]
[{"$f":"応募者名簿!$B$8","v":0},{"$f":"CONCATENATE(応募者名簿!$B$11,応募者名簿!$D$11,応募者名簿!$E$11,応募者名簿!$I$11)","v":""},"半紙",{"$f":"CONCATENATE(応募者名簿!F526)","v":""},{"$f":"CONCATENATE(応募者名簿!G526)","v":""},{"$f":"CONCATENATE(応募者名簿!H526)","v":""},{"$f":"CONCATENATE(応募者名簿!I526)","v":""}]
[{"$f":"応募者名簿!$B$8","v":0},{"$f":"CONCATENATE(応募者名簿!$B$11,応募者名簿!$D$11,応募者名簿!$E$11,応募者名簿!$I$11)","v":""},"半紙",{"$f":"CONCATENATE(応募者名簿!F527)","v":""},{"$f":"CONCATENATE(応募者名簿!G527)","v":""},{"$f":"CONCATENATE(応募者名簿!H527)","v":""},{"$f":"CONCATENATE(応募者名簿!I527)","v":""}]
[{"$f":"応募者名簿!$B$8","v":0},{"$f":"CONCATENATE(応募者名簿!$B$11,応募者名簿!$D$11,応募者名簿!$E$11,応募者名簿!$I$11)","v":""},"半紙",{"$f":"CONCATENATE(応募者名簿!F528)","v":""},{"$f":"CONCATENATE(応募者名簿!G528)","v":""},{"$f":"CONCATENATE(応募者名簿!H528)","v":""},{"$f":"CONCATENATE(応募者名簿!I528)","v":""}]
[{"$f":"応募者名簿!$B$8","v":0},{"$f":"CONCATENATE(応募者名簿!$B$11,応募者名簿!$D$11,応募者名簿!$E$11,応募者名簿!$I$11)","v":""},"半紙",{"$f":"CONCATENATE(応募者名簿!F529)","v":""},{"$f":"CONCATENATE(応募者名簿!G529)","v":""},{"$f":"CONCATENATE(応募者名簿!H529)","v":""},{"$f":"CONCATENATE(応募者名簿!I529)","v":""}]
[{"$f":"応募者名簿!$B$8","v":0},{"$f":"CONCATENATE(応募者名簿!$B$11,応募者名簿!$D$11,応募者名簿!$E$11,応募者名簿!$I$11)","v":""},"半紙",{"$f":"CONCATENATE(応募者名簿!F530)","v":""},{"$f":"CONCATENATE(応募者名簿!G530)","v":""},{"$f":"CONCATENATE(応募者名簿!H530)","v":""},{"$f":"CONCATENATE(応募者名簿!I530)","v":""}]
[{"$f":"応募者名簿!$B$8","v":0},{"$f":"CONCATENATE(応募者名簿!$B$11,応募者名簿!$D$11,応募者名簿!$E$11,応募者名簿!$I$11)","v":""},"半紙",{"$f":"CONCATENATE(応募者名簿!F531)","v":""},{"$f":"CONCATENATE(応募者名簿!G531)","v":""},{"$f":"CONCATENATE(応募者名簿!H531)","v":""},{"$f":"CONCATENATE(応募者名簿!I531)","v":""}]
[{"$f":"応募者名簿!$B$8","v":0},{"$f":"CONCATENATE(応募者名簿!$B$11,応募者名簿!$D$11,応募者名簿!$E$11,応募者名簿!$I$11)","v":""},"半紙",{"$f":"CONCATENATE(応募者名簿!F532)","v":""},{"$f":"CONCATENATE(応募者名簿!G532)","v":""},{"$f":"CONCATENATE(応募者名簿!H532)","v":""},{"$f":"CONCATENATE(応募者名簿!I532)","v":""}]
[{"$f":"応募者名簿!$B$8","v":0},{"$f":"CONCATENATE(応募者名簿!$B$11,応募者名簿!$D$11,応募者名簿!$E$11,応募者名簿!$I$11)","v":""},"半紙",{"$f":"CONCATENATE(応募者名簿!F533)","v":""},{"$f":"CONCATENATE(応募者名簿!G533)","v":""},{"$f":"CONCATENATE(応募者名簿!H533)","v":""},{"$f":"CONCATENATE(応募者名簿!I533)","v":""}]
[{"$f":"応募者名簿!$B$8","v":0},{"$f":"CONCATENATE(応募者名簿!$B$11,応募者名簿!$D$11,応募者名簿!$E$11,応募者名簿!$I$11)","v":""},"半紙",{"$f":"CONCATENATE(応募者名簿!F534)","v":""},{"$f":"CONCATENATE(応募者名簿!G534)","v":""},{"$f":"CONCATENATE(応募者名簿!H534)","v":""},{"$f":"CONCATENATE(応募者名簿!I534)","v":""}]
[{"$f":"応募者名簿!$B$8","v":0},{"$f":"CONCATENATE(応募者名簿!$B$11,応募者名簿!$D$11,応募者名簿!$E$11,応募者名簿!$I$11)","v":""},"半紙",{"$f":"CONCATENATE(応募者名簿!F535)","v":""},{"$f":"CONCATENATE(応募者名簿!G535)","v":""},{"$f":"CONCATENATE(応募者名簿!H535)","v":""},{"$f":"CONCATENATE(応募者名簿!I535)","v":""}]
[{"$f":"応募者名簿!$B$8","v":0},{"$f":"CONCATENATE(応募者名簿!$B$11,応募者名簿!$D$11,応募者名簿!$E$11,応募者名簿!$I$11)","v":""},"半紙",{"$f":"CONCATENATE(応募者名簿!F536)","v":""},{"$f":"CONCATENATE(応募者名簿!G536)","v":""},{"$f":"CONCATENATE(応募者名簿!H536)","v":""},{"$f":"CONCATENATE(応募者名簿!I536)","v":""}]
[{"$f":"応募者名簿!$B$8","v":0},{"$f":"CONCATENATE(応募者名簿!$B$11,応募者名簿!$D$11,応募者名簿!$E$11,応募者名簿!$I$11)","v":""},"半紙",{"$f":"CONCATENATE(応募者名簿!F537)","v":""},{"$f":"CONCATENATE(応募者名簿!G537)","v":""},{"$f":"CONCATENATE(応募者名簿!H537)","v":""},{"$f":"CONCATENATE(応募者名簿!I537)","v":""}]
[{"$f":"応募者名簿!$B$8","v":0},{"$f":"CONCATENATE(応募者名簿!$B$11,応募者名簿!$D$11,応募者名簿!$E$11,応募者名簿!$I$11)","v":""},"半紙",{"$f":"CONCATENATE(応募者名簿!F538)","v":""},{"$f":"CONCATENATE(応募者名簿!G538)","v":""},{"$f":"CONCATENATE(応募者名簿!H538)","v":""},{"$f":"CONCATENATE(応募者名簿!I538)","v":""}]
[{"$f":"応募者名簿!$B$8","v":0},{"$f":"CONCATENATE(応募者名簿!$B$11,応募者名簿!$D$11,応募者名簿!$E$11,応募者名簿!$I$11)","v":""},"半紙",{"$f":"CONCATENATE(応募者名簿!F539)","v":""},{"$f":"CONCATENATE(応募者名簿!G539)","v":""},{"$f":"CONCATENATE(応募者名簿!H539)","v":""},{"$f":"CONCATENATE(応募者名簿!I539)","v":""}]
[{"$f":"応募者名簿!$B$8","v":0},{"$f":"CONCATENATE(応募者名簿!$B$11,応募者名簿!$D$11,応募者名簿!$E$11,応募者名簿!$I$11)","v":""},"半紙",{"$f":"CONCATENATE(応募者名簿!F540)","v":""},{"$f":"CONCATENATE(応募者名簿!G540)","v":""},{"$f":"CONCATENATE(応募者名簿!H540)","v":""},{"$f":"CONCATENATE(応募者名簿!I540)","v":""}]
[{"$f":"応募者名簿!$B$8","v":0},{"$f":"CONCATENATE(応募者名簿!$B$11,応募者名簿!$D$11,応募者名簿!$E$11,応募者名簿!$I$11)","v":""},"半紙",{"$f":"CONCATENATE(応募者名簿!F541)","v":""},{"$f":"CONCATENATE(応募者名簿!G541)","v":""},{"$f":"CONCATENATE(応募者名簿!H541)","v":""},{"$f":"CONCATENATE(応募者名簿!I541)","v":""}]
[{"$f":"応募者名簿!$B$8","v":0},{"$f":"CONCATENATE(応募者名簿!$B$11,応募者名簿!$D$11,応募者名簿!$E$11,応募者名簿!$I$11)","v":""},"半紙",{"$f":"CONCATENATE(応募者名簿!F542)","v":""},{"$f":"CONCATENATE(応募者名簿!G542)","v":""},{"$f":"CONCATENATE(応募者名簿!H542)","v":""},{"$f":"CONCATENATE(応募者名簿!I542)","v":""}]
[{"$f":"応募者名簿!$B$8","v":0},{"$f":"CONCATENATE(応募者名簿!$B$11,応募者名簿!$D$11,応募者名簿!$E$11,応募者名簿!$I$11)","v":""},"半紙",{"$f":"CONCATENATE(応募者名簿!F543)","v":""},{"$f":"CONCATENATE(応募者名簿!G543)","v":""},{"$f":"CONCATENATE(応募者名簿!H543)","v":""},{"$f":"CONCATENATE(応募者名簿!I543)","v":""}]
[{"$f":"応募者名簿!$B$8","v":0},{"$f":"CONCATENATE(応募者名簿!$B$11,応募者名簿!$D$11,応募者名簿!$E$11,応募者名簿!$I$11)","v":""},"半紙",{"$f":"CONCATENATE(応募者名簿!F544)","v":""},{"$f":"CONCATENATE(応募者名簿!G544)","v":""},{"$f":"CONCATENATE(応募者名簿!H544)","v":""},{"$f":"CONCATENATE(応募者名簿!I544)","v":""}]
[{"$f":"応募者名簿!$B$8","v":0},{"$f":"CONCATENATE(応募者名簿!$B$11,応募者名簿!$D$11,応募者名簿!$E$11,応募者名簿!$I$11)","v":""},"半紙",{"$f":"CONCATENATE(応募者名簿!F545)","v":""},{"$f":"CONCATENATE(応募者名簿!G545)","v":""},{"$f":"CONCATENATE(応募者名簿!H545)","v":""},{"$f":"CONCATENATE(応募者名簿!I545)","v":""}]
[{"$f":"応募者名簿!$B$8","v":0},{"$f":"CONCATENATE(応募者名簿!$B$11,応募者名簿!$D$11,応募者名簿!$E$11,応募者名簿!$I$11)","v":""},"半紙",{"$f":"CONCATENATE(応募者名簿!F546)","v":""},{"$f":"CONCATENATE(応募者名簿!G546)","v":""},{"$f":"CONCATENATE(応募者名簿!H546)","v":""},{"$f":"CONCATENATE(応募者名簿!I546)","v":""}]
[{"$f":"応募者名簿!$B$8","v":0},{"$f":"CONCATENATE(応募者名簿!$B$11,応募者名簿!$D$11,応募者名簿!$E$11,応募者名簿!$I$11)","v":""},"半紙",{"$f":"CONCATENATE(応募者名簿!F547)","v":""},{"$f":"CONCATENATE(応募者名簿!G547)","v":""},{"$f":"CONCATENATE(応募者名簿!H547)","v":""},{"$f":"CONCATENATE(応募者名簿!I547)","v":""}]
[{"$f":"応募者名簿!$B$8","v":0},{"$f":"CONCATENATE(応募者名簿!$B$11,応募者名簿!$D$11,応募者名簿!$E$11,応募者名簿!$I$11)","v":""},"半紙",{"$f":"CONCATENATE(応募者名簿!F548)","v":""},{"$f":"CONCATENATE(応募者名簿!G548)","v":""},{"$f":"CONCATENATE(応募者名簿!H548)","v":""},{"$f":"CONCATENATE(応募者名簿!I548)","v":""}]
[{"$f":"応募者名簿!$B$8","v":0},{"$f":"CONCATENATE(応募者名簿!$B$11,応募者名簿!$D$11,応募者名簿!$E$11,応募者名簿!$I$11)","v":""},"半紙",{"$f":"CONCATENATE(応募者名簿!F549)","v":""},{"$f":"CONCATENATE(応募者名簿!G549)","v":""},{"$f":"CONCATENATE(応募者名簿!H549)","v":""},{"$f":"CONCATENATE(応募者名簿!I549)","v":""}]
[{"$f":"応募者名簿!$B$8","v":0},{"$f":"CONCATENATE(応募者名簿!$B$11,応募者名簿!$D$11,応募者名簿!$E$11,応募者名簿!$I$11)","v":""},"半紙",{"$f":"CONCATENATE(応募者名簿!F550)","v":""},{"$f":"CONCATENATE(応募者名簿!G550)","v":""},{"$f":"CONCATENATE(応募者名簿!H550)","v":""},{"$f":"CONCATENATE(応募者名簿!I550)","v":""}]
[{"$f":"応募者名簿!$B$8","v":0},{"$f":"CONCATENATE(応募者名簿!$B$11,応募者名簿!$D$11,応募者名簿!$E$11,応募者名簿!$I$11)","v":""},"半紙",{"$f":"CONCATENATE(応募者名簿!F551)","v":""},{"$f":"CONCATENATE(応募者名簿!G551)","v":""},{"$f":"CONCATENATE(応募者名簿!H551)","v":""},{"$f":"CONCATENATE(応募者名簿!I551)","v":""}]
[{"$f":"応募者名簿!$B$8","v":0},{"$f":"CONCATENATE(応募者名簿!$B$11,応募者名簿!$D$11,応募者名簿!$E$11,応募者名簿!$I$11)","v":""},"半紙",{"$f":"CONCATENATE(応募者名簿!F552)","v":""},{"$f":"CONCATENATE(応募者名簿!G552)","v":""},{"$f":"CONCATENATE(応募者名簿!H552)","v":""},{"$f":"CONCATENATE(応募者名簿!I552)","v":""}]
[{"$f":"応募者名簿!$B$8","v":0},{"$f":"CONCATENATE(応募者名簿!$B$11,応募者名簿!$D$11,応募者名簿!$E$11,応募者名簿!$I$11)","v":""},"半紙",{"$f":"CONCATENATE(応募者名簿!F553)","v":""},{"$f":"CONCATENATE(応募者名簿!G553)","v":""},{"$f":"CONCATENATE(応募者名簿!H553)","v":""},{"$f":"CONCATENATE(応募者名簿!I553)","v":""}]
[{"$f":"応募者名簿!$B$8","v":0},{"$f":"CONCATENATE(応募者名簿!$B$11,応募者名簿!$D$11,応募者名簿!$E$11,応募者名簿!$I$11)","v":""},"半紙",{"$f":"CONCATENATE(応募者名簿!F554)","v":""},{"$f":"CONCATENATE(応募者名簿!G554)","v":""},{"$f":"CONCATENATE(応募者名簿!H554)","v":""},{"$f":"CONCATENATE(応募者名簿!I554)","v":""}]
[{"$f":"応募者名簿!$B$8","v":0},{"$f":"CONCATENATE(応募者名簿!$B$11,応募者名簿!$D$11,応募者名簿!$E$11,応募者名簿!$I$11)","v":""},"半紙",{"$f":"CONCATENATE(応募者名簿!F555)","v":""},{"$f":"CONCATENATE(応募者名簿!G555)","v":""},{"$f":"CONCATENATE(応募者名簿!H555)","v":""},{"$f":"CONCATENATE(応募者名簿!I555)","v":""}]
[{"$f":"応募者名簿!$B$8","v":0},{"$f":"CONCATENATE(応募者名簿!$B$11,応募者名簿!$D$11,応募者名簿!$E$11,応募者名簿!$I$11)","v":""},"半紙",{"$f":"CONCATENATE(応募者名簿!F556)","v":""},{"$f":"CONCATENATE(応募者名簿!G556)","v":""},{"$f":"CONCATENATE(応募者名簿!H556)","v":""},{"$f":"CONCATENATE(応募者名簿!I556)","v":""}]
[{"$f":"応募者名簿!$B$8","v":0},{"$f":"CONCATENATE(応募者名簿!$B$11,応募者名簿!$D$11,応募者名簿!$E$11,応募者名簿!$I$11)","v":""},"半紙",{"$f":"CONCATENATE(応募者名簿!F557)","v":""},{"$f":"CONCATENATE(応募者名簿!G557)","v":""},{"$f":"CONCATENATE(応募者名簿!H557)","v":""},{"$f":"CONCATENATE(応募者名簿!I557)","v":""}]
[{"$f":"応募者名簿!$B$8","v":0},{"$f":"CONCATENATE(応募者名簿!$B$11,応募者名簿!$D$11,応募者名簿!$E$11,応募者名簿!$I$11)","v":""},"半紙",{"$f":"CONCATENATE(応募者名簿!F558)","v":""},{"$f":"CONCATENATE(応募者名簿!G558)","v":""},{"$f":"CONCATENATE(応募者名簿!H558)","v":""},{"$f":"CONCATENATE(応募者名簿!I558)","v":""}]
[{"$f":"応募者名簿!$B$8","v":0},{"$f":"CONCATENATE(応募者名簿!$B$11,応募者名簿!$D$11,応募者名簿!$E$11,応募者名簿!$I$11)","v":""},"半紙",{"$f":"CONCATENATE(応募者名簿!F559)","v":""},{"$f":"CONCATENATE(応募者名簿!G559)","v":""},{"$f":"CONCATENATE(応募者名簿!H559)","v":""},{"$f":"CONCATENATE(応募者名簿!I559)","v":""}]
[{"$f":"応募者名簿!$B$8","v":0},{"$f":"CONCATENATE(応募者名簿!$B$11,応募者名簿!$D$11,応募者名簿!$E$11,応募者名簿!$I$11)","v":""},"半紙",{"$f":"CONCATENATE(応募者名簿!F560)","v":""},{"$f":"CONCATENATE(応募者名簿!G560)","v":""},{"$f":"CONCATENATE(応募者名簿!H560)","v":""},{"$f":"CONCATENATE(応募者名簿!I560)","v":""}]
[{"$f":"応募者名簿!$B$8","v":0},{"$f":"CONCATENATE(応募者名簿!$B$11,応募者名簿!$D$11,応募者名簿!$E$11,応募者名簿!$I$11)","v":""},"半紙",{"$f":"CONCATENATE(応募者名簿!F561)","v":""},{"$f":"CONCATENATE(応募者名簿!G561)","v":""},{"$f":"CONCATENATE(応募者名簿!H561)","v":""},{"$f":"CONCATENATE(応募者名簿!I561)","v":""}]
[{"$f":"応募者名簿!$B$8","v":0},{"$f":"CONCATENATE(応募者名簿!$B$11,応募者名簿!$D$11,応募者名簿!$E$11,応募者名簿!$I$11)","v":""},"半紙",{"$f":"CONCATENATE(応募者名簿!F562)","v":""},{"$f":"CONCATENATE(応募者名簿!G562)","v":""},{"$f":"CONCATENATE(応募者名簿!H562)","v":""},{"$f":"CONCATENATE(応募者名簿!I562)","v":""}]
[{"$f":"応募者名簿!$B$8","v":0},{"$f":"CONCATENATE(応募者名簿!$B$11,応募者名簿!$D$11,応募者名簿!$E$11,応募者名簿!$I$11)","v":""},"半紙",{"$f":"CONCATENATE(応募者名簿!F563)","v":""},{"$f":"CONCATENATE(応募者名簿!G563)","v":""},{"$f":"CONCATENATE(応募者名簿!H563)","v":""},{"$f":"CONCATENATE(応募者名簿!I563)","v":""}]
[{"$f":"応募者名簿!$B$8","v":0},{"$f":"CONCATENATE(応募者名簿!$B$11,応募者名簿!$D$11,応募者名簿!$E$11,応募者名簿!$I$11)","v":""},"半紙",{"$f":"CONCATENATE(応募者名簿!F564)","v":""},{"$f":"CONCATENATE(応募者名簿!G564)","v":""},{"$f":"CONCATENATE(応募者名簿!H564)","v":""},{"$f":"CONCATENATE(応募者名簿!I564)","v":""}]
[{"$f":"応募者名簿!$B$8","v":0},{"$f":"CONCATENATE(応募者名簿!$B$11,応募者名簿!$D$11,応募者名簿!$E$11,応募者名簿!$I$11)","v":""},"半紙",{"$f":"CONCATENATE(応募者名簿!F565)","v":""},{"$f":"CONCATENATE(応募者名簿!G565)","v":""},{"$f":"CONCATENATE(応募者名簿!H565)","v":""},{"$f":"CONCATENATE(応募者名簿!I565)","v":""}]
[{"$f":"応募者名簿!$B$8","v":0},{"$f":"CONCATENATE(応募者名簿!$B$11,応募者名簿!$D$11,応募者名簿!$E$11,応募者名簿!$I$11)","v":""},"半紙",{"$f":"CONCATENATE(応募者名簿!F566)","v":""},{"$f":"CONCATENATE(応募者名簿!G566)","v":""},{"$f":"CONCATENATE(応募者名簿!H566)","v":""},{"$f":"CONCATENATE(応募者名簿!I566)","v":""}]
[{"$f":"応募者名簿!$B$8","v":0},{"$f":"CONCATENATE(応募者名簿!$B$11,応募者名簿!$D$11,応募者名簿!$E$11,応募者名簿!$I$11)","v":""},"半紙",{"$f":"CONCATENATE(応募者名簿!F567)","v":""},{"$f":"CONCATENATE(応募者名簿!G567)","v":""},{"$f":"CONCATENATE(応募者名簿!H567)","v":""},{"$f":"CONCATENATE(応募者名簿!I567)","v":""}]
[{"$f":"応募者名簿!$B$8","v":0},{"$f":"CONCATENATE(応募者名簿!$B$11,応募者名簿!$D$11,応募者名簿!$E$11,応募者名簿!$I$11)","v":""},"半紙",{"$f":"CONCATENATE(応募者名簿!F568)","v":""},{"$f":"CONCATENATE(応募者名簿!G568)","v":""},{"$f":"CONCATENATE(応募者名簿!H568)","v":""},{"$f":"CONCATENATE(応募者名簿!I568)","v":""}]
[{"$f":"応募者名簿!$B$8","v":0},{"$f":"CONCATENATE(応募者名簿!$B$11,応募者名簿!$D$11,応募者名簿!$E$11,応募者名簿!$I$11)","v":""},"半紙",{"$f":"CONCATENATE(応募者名簿!F569)","v":""},{"$f":"CONCATENATE(応募者名簿!G569)","v":""},{"$f":"CONCATENATE(応募者名簿!H569)","v":""},{"$f":"CONCATENATE(応募者名簿!I569)","v":""}]
[{"$f":"応募者名簿!$B$8","v":0},{"$f":"CONCATENATE(応募者名簿!$B$11,応募者名簿!$D$11,応募者名簿!$E$11,応募者名簿!$I$11)","v":""},"半紙",{"$f":"CONCATENATE(応募者名簿!F570)","v":""},{"$f":"CONCATENATE(応募者名簿!G570)","v":""},{"$f":"CONCATENATE(応募者名簿!H570)","v":""},{"$f":"CONCATENATE(応募者名簿!I570)","v":""}]
[{"$f":"応募者名簿!$B$8","v":0},{"$f":"CONCATENATE(応募者名簿!$B$11,応募者名簿!$D$11,応募者名簿!$E$11,応募者名簿!$I$11)","v":""},"半紙",{"$f":"CONCATENATE(応募者名簿!F571)","v":""},{"$f":"CONCATENATE(応募者名簿!G571)","v":""},{"$f":"CONCATENATE(応募者名簿!H571)","v":""},{"$f":"CONCATENATE(応募者名簿!I571)","v":""}]
[{"$f":"応募者名簿!$B$8","v":0},{"$f":"CONCATENATE(応募者名簿!$B$11,応募者名簿!$D$11,応募者名簿!$E$11,応募者名簿!$I$11)","v":""},"半紙",{"$f":"CONCATENATE(応募者名簿!F572)","v":""},{"$f":"CONCATENATE(応募者名簿!G572)","v":""},{"$f":"CONCATENATE(応募者名簿!H572)","v":""},{"$f":"CONCATENATE(応募者名簿!I572)","v":""}]
[{"$f":"応募者名簿!$B$8","v":0},{"$f":"CONCATENATE(応募者名簿!$B$11,応募者名簿!$D$11,応募者名簿!$E$11,応募者名簿!$I$11)","v":""},"半紙",{"$f":"CONCATENATE(応募者名簿!F573)","v":""},{"$f":"CONCATENATE(応募者名簿!G573)","v":""},{"$f":"CONCATENATE(応募者名簿!H573)","v":""},{"$f":"CONCATENATE(応募者名簿!I573)","v":""}]
[{"$f":"応募者名簿!$B$8","v":0},{"$f":"CONCATENATE(応募者名簿!$B$11,応募者名簿!$D$11,応募者名簿!$E$11,応募者名簿!$I$11)","v":""},"半紙",{"$f":"CONCATENATE(応募者名簿!F574)","v":""},{"$f":"CONCATENATE(応募者名簿!G574)","v":""},{"$f":"CONCATENATE(応募者名簿!H574)","v":""},{"$f":"CONCATENATE(応募者名簿!I574)","v":""}]
[{"$f":"応募者名簿!$B$8","v":0},{"$f":"CONCATENATE(応募者名簿!$B$11,応募者名簿!$D$11,応募者名簿!$E$11,応募者名簿!$I$11)","v":""},"半紙",{"$f":"CONCATENATE(応募者名簿!F575)","v":""},{"$f":"CONCATENATE(応募者名簿!G575)","v":""},{"$f":"CONCATENATE(応募者名簿!H575)","v":""},{"$f":"CONCATENATE(応募者名簿!I575)","v":""}]
[{"$f":"応募者名簿!$B$8","v":0},{"$f":"CONCATENATE(応募者名簿!$B$11,応募者名簿!$D$11,応募者名簿!$E$11,応募者名簿!$I$11)","v":""},"半紙",{"$f":"CONCATENATE(応募者名簿!F576)","v":""},{"$f":"CONCATENATE(応募者名簿!G576)","v":""},{"$f":"CONCATENATE(応募者名簿!H576)","v":""},{"$f":"CONCATENATE(応募者名簿!I576)","v":""}]
[{"$f":"応募者名簿!$B$8","v":0},{"$f":"CONCATENATE(応募者名簿!$B$11,応募者名簿!$D$11,応募者名簿!$E$11,応募者名簿!$I$11)","v":""},"半紙",{"$f":"CONCATENATE(応募者名簿!F577)","v":""},{"$f":"CONCATENATE(応募者名簿!G577)","v":""},{"$f":"CONCATENATE(応募者名簿!H577)","v":""},{"$f":"CONCATENATE(応募者名簿!I577)","v":""}]
[{"$f":"応募者名簿!$B$8","v":0},{"$f":"CONCATENATE(応募者名簿!$B$11,応募者名簿!$D$11,応募者名簿!$E$11,応募者名簿!$I$11)","v":""},"半紙",{"$f":"CONCATENATE(応募者名簿!F578)","v":""},{"$f":"CONCATENATE(応募者名簿!G578)","v":""},{"$f":"CONCATENATE(応募者名簿!H578)","v":""},{"$f":"CONCATENATE(応募者名簿!I578)","v":""}]
[{"$f":"応募者名簿!$B$8","v":0},{"$f":"CONCATENATE(応募者名簿!$B$11,応募者名簿!$D$11,応募者名簿!$E$11,応募者名簿!$I$11)","v":""},"半紙",{"$f":"CONCATENATE(応募者名簿!F579)","v":""},{"$f":"CONCATENATE(応募者名簿!G579)","v":""},{"$f":"CONCATENATE(応募者名簿!H579)","v":""},{"$f":"CONCATENATE(応募者名簿!I579)","v":""}]
[{"$f":"応募者名簿!$B$8","v":0},{"$f":"CONCATENATE(応募者名簿!$B$11,応募者名簿!$D$11,応募者名簿!$E$11,応募者名簿!$I$11)","v":""},"半紙",{"$f":"CONCATENATE(応募者名簿!F580)","v":""},{"$f":"CONCATENATE(応募者名簿!G580)","v":""},{"$f":"CONCATENATE(応募者名簿!H580)","v":""},{"$f":"CONCATENATE(応募者名簿!I580)","v":""}]
[{"$f":"応募者名簿!$B$8","v":0},{"$f":"CONCATENATE(応募者名簿!$B$11,応募者名簿!$D$11,応募者名簿!$E$11,応募者名簿!$I$11)","v":""},"半紙",{"$f":"CONCATENATE(応募者名簿!F581)","v":""},{"$f":"CONCATENATE(応募者名簿!G581)","v":""},{"$f":"CONCATENATE(応募者名簿!H581)","v":""},{"$f":"CONCATENATE(応募者名簿!I581)","v":""}]
[{"$f":"応募者名簿!$B$8","v":0},{"$f":"CONCATENATE(応募者名簿!$B$11,応募者名簿!$D$11,応募者名簿!$E$11,応募者名簿!$I$11)","v":""},"半紙",{"$f":"CONCATENATE(応募者名簿!F582)","v":""},{"$f":"CONCATENATE(応募者名簿!G582)","v":""},{"$f":"CONCATENATE(応募者名簿!H582)","v":""},{"$f":"CONCATENATE(応募者名簿!I582)","v":""}]
[{"$f":"応募者名簿!$B$8","v":0},{"$f":"CONCATENATE(応募者名簿!$B$11,応募者名簿!$D$11,応募者名簿!$E$11,応募者名簿!$I$11)","v":""},"半紙",{"$f":"CONCATENATE(応募者名簿!F583)","v":""},{"$f":"CONCATENATE(応募者名簿!G583)","v":""},{"$f":"CONCATENATE(応募者名簿!H583)","v":""},{"$f":"CONCATENATE(応募者名簿!I583)","v":""}]
[{"$f":"応募者名簿!$B$8","v":0},{"$f":"CONCATENATE(応募者名簿!$B$11,応募者名簿!$D$11,応募者名簿!$E$11,応募者名簿!$I$11)","v":""},"半紙",{"$f":"CONCATENATE(応募者名簿!F584)","v":""},{"$f":"CONCATENATE(応募者名簿!G584)","v":""},{"$f":"CONCATENATE(応募者名簿!H584)","v":""},{"$f":"CONCATENATE(応募者名簿!I584)","v":""}]
[{"$f":"応募者名簿!$B$8","v":0},{"$f":"CONCATENATE(応募者名簿!$B$11,応募者名簿!$D$11,応募者名簿!$E$11,応募者名簿!$I$11)","v":""},"半紙",{"$f":"CONCATENATE(応募者名簿!F585)","v":""},{"$f":"CONCATENATE(応募者名簿!G585)","v":""},{"$f":"CONCATENATE(応募者名簿!H585)","v":""},{"$f":"CONCATENATE(応募者名簿!I585)","v":""}]
[{"$f":"応募者名簿!$B$8","v":0},{"$f":"CONCATENATE(応募者名簿!$B$11,応募者名簿!$D$11,応募者名簿!$E$11,応募者名簿!$I$11)","v":""},"半紙",{"$f":"CONCATENATE(応募者名簿!F586)","v":""},{"$f":"CONCATENATE(応募者名簿!G586)","v":""},{"$f":"CONCATENATE(応募者名簿!H586)","v":""},{"$f":"CONCATENATE(応募者名簿!I586)","v":""}]
[{"$f":"応募者名簿!$B$8","v":0},{"$f":"CONCATENATE(応募者名簿!$B$11,応募者名簿!$D$11,応募者名簿!$E$11,応募者名簿!$I$11)","v":""},"半紙",{"$f":"CONCATENATE(応募者名簿!F587)","v":""},{"$f":"CONCATENATE(応募者名簿!G587)","v":""},{"$f":"CONCATENATE(応募者名簿!H587)","v":""},{"$f":"CONCATENATE(応募者名簿!I587)","v":""}]
[{"$f":"応募者名簿!$B$8","v":0},{"$f":"CONCATENATE(応募者名簿!$B$11,応募者名簿!$D$11,応募者名簿!$E$11,応募者名簿!$I$11)","v":""},"半紙",{"$f":"CONCATENATE(応募者名簿!F588)","v":""},{"$f":"CONCATENATE(応募者名簿!G588)","v":""},{"$f":"CONCATENATE(応募者名簿!H588)","v":""},{"$f":"CONCATENATE(応募者名簿!I588)","v":""}]
[{"$f":"応募者名簿!$B$8","v":0},{"$f":"CONCATENATE(応募者名簿!$B$11,応募者名簿!$D$11,応募者名簿!$E$11,応募者名簿!$I$11)","v":""},"半紙",{"$f":"CONCATENATE(応募者名簿!F589)","v":""},{"$f":"CONCATENATE(応募者名簿!G589)","v":""},{"$f":"CONCATENATE(応募者名簿!H589)","v":""},{"$f":"CONCATENATE(応募者名簿!I589)","v":""}]
[{"$f":"応募者名簿!$B$8","v":0},{"$f":"CONCATENATE(応募者名簿!$B$11,応募者名簿!$D$11,応募者名簿!$E$11,応募者名簿!$I$11)","v":""},"半紙",{"$f":"CONCATENATE(応募者名簿!F590)","v":""},{"$f":"CONCATENATE(応募者名簿!G590)","v":""},{"$f":"CONCATENATE(応募者名簿!H590)","v":""},{"$f":"CONCATENATE(応募者名簿!I590)","v":""}]
[{"$f":"応募者名簿!$B$8","v":0},{"$f":"CONCATENATE(応募者名簿!$B$11,応募者名簿!$D$11,応募者名簿!$E$11,応募者名簿!$I$11)","v":""},"半紙",{"$f":"CONCATENATE(応募者名簿!F591)","v":""},{"$f":"CONCATENATE(応募者名簿!G591)","v":""},{"$f":"CONCATENATE(応募者名簿!H591)","v":""},{"$f":"CONCATENATE(応募者名簿!I591)","v":""}]
[{"$f":"応募者名簿!$B$8","v":0},{"$f":"CONCATENATE(応募者名簿!$B$11,応募者名簿!$D$11,応募者名簿!$E$11,応募者名簿!$I$11)","v":""},"半紙",{"$f":"CONCATENATE(応募者名簿!F592)","v":""},{"$f":"CONCATENATE(応募者名簿!G592)","v":""},{"$f":"CONCATENATE(応募者名簿!H592)","v":""},{"$f":"CONCATENATE(応募者名簿!I592)","v":""}]
[{"$f":"応募者名簿!$B$8","v":0},{"$f":"CONCATENATE(応募者名簿!$B$11,応募者名簿!$D$11,応募者名簿!$E$11,応募者名簿!$I$11)","v":""},"半紙",{"$f":"CONCATENATE(応募者名簿!F593)","v":""},{"$f":"CONCATENATE(応募者名簿!G593)","v":""},{"$f":"CONCATENATE(応募者名簿!H593)","v":""},{"$f":"CONCATENATE(応募者名簿!I593)","v":""}]
[{"$f":"応募者名簿!$B$8","v":0},{"$f":"CONCATENATE(応募者名簿!$B$11,応募者名簿!$D$11,応募者名簿!$E$11,応募者名簿!$I$11)","v":""},"半紙",{"$f":"CONCATENATE(応募者名簿!F594)","v":""},{"$f":"CONCATENATE(応募者名簿!G594)","v":""},{"$f":"CONCATENATE(応募者名簿!H594)","v":""},{"$f":"CONCATENATE(応募者名簿!I594)","v":""}]
[{"$f":"応募者名簿!$B$8","v":0},{"$f":"CONCATENATE(応募者名簿!$B$11,応募者名簿!$D$11,応募者名簿!$E$11,応募者名簿!$I$11)","v":""},"半紙",{"$f":"CONCATENATE(応募者名簿!F595)","v":""},{"$f":"CONCATENATE(応募者名簿!G595)","v":""},{"$f":"CONCATENATE(応募者名簿!H595)","v":""},{"$f":"CONCATENATE(応募者名簿!I595)","v":""}]
[{"$f":"応募者名簿!$B$8","v":0},{"$f":"CONCATENATE(応募者名簿!$B$11,応募者名簿!$D$11,応募者名簿!$E$11,応募者名簿!$I$11)","v":""},"半紙",{"$f":"CONCATENATE(応募者名簿!F596)","v":""},{"$f":"CONCATENATE(応募者名簿!G596)","v":""},{"$f":"CONCATENATE(応募者名簿!H596)","v":""},{"$f":"CONCATENATE(応募者名簿!I596)","v":""}]
[{"$f":"応募者名簿!$B$8","v":0},{"$f":"CONCATENATE(応募者名簿!$B$11,応募者名簿!$D$11,応募者名簿!$E$11,応募者名簿!$I$11)","v":""},"半紙",{"$f":"CONCATENATE(応募者名簿!F597)","v":""},{"$f":"CONCATENATE(応募者名簿!G597)","v":""},{"$f":"CONCATENATE(応募者名簿!H597)","v":""},{"$f":"CONCATENATE(応募者名簿!I597)","v":""}]
[{"$f":"応募者名簿!$B$8","v":0},{"$f":"CONCATENATE(応募者名簿!$B$11,応募者名簿!$D$11,応募者名簿!$E$11,応募者名簿!$I$11)","v":""},"半紙",{"$f":"CONCATENATE(応募者名簿!F598)","v":""},{"$f":"CONCATENATE(応募者名簿!G598)","v":""},{"$f":"CONCATENATE(応募者名簿!H598)","v":""},{"$f":"CONCATENATE(応募者名簿!I598)","v":""}]
[{"$f":"応募者名簿!$B$8","v":0},{"$f":"CONCATENATE(応募者名簿!$B$11,応募者名簿!$D$11,応募者名簿!$E$11,応募者名簿!$I$11)","v":""},"半紙",{"$f":"CONCATENATE(応募者名簿!F599)","v":""},{"$f":"CONCATENATE(応募者名簿!G599)","v":""},{"$f":"CONCATENATE(応募者名簿!H599)","v":""},{"$f":"CONCATENATE(応募者名簿!I599)","v":""}]
[{"$f":"応募者名簿!$B$8","v":0},{"$f":"CONCATENATE(応募者名簿!$B$11,応募者名簿!$D$11,応募者名簿!$E$11,応募者名簿!$I$11)","v":""},"半紙",{"$f":"CONCATENATE(応募者名簿!F600)","v":""},{"$f":"CONCATENATE(応募者名簿!G600)","v":""},{"$f":"CONCATENATE(応募者名簿!H600)","v":""},{"$f":"CONCATENATE(応募者名簿!I600)","v":""}]
[{"$f":"応募者名簿!$B$8","v":0},{"$f":"CONCATENATE(応募者名簿!$B$11,応募者名簿!$D$11,応募者名簿!$E$11,応募者名簿!$I$11)","v":""},"半紙",{"$f":"CONCATENATE(応募者名簿!F601)","v":""},{"$f":"CONCATENATE(応募者名簿!G601)","v":""},{"$f":"CONCATENATE(応募者名簿!H601)","v":""},{"$f":"CONCATENATE(応募者名簿!I601)","v":""}]
[{"$f":"応募者名簿!$B$8","v":0},{"$f":"CONCATENATE(応募者名簿!$B$11,応募者名簿!$D$11,応募者名簿!$E$11,応募者名簿!$I$11)","v":""},"半紙",{"$f":"CONCATENATE(応募者名簿!F602)","v":""},{"$f":"CONCATENATE(応募者名簿!G602)","v":""},{"$f":"CONCATENATE(応募者名簿!H602)","v":""},{"$f":"CONCATENATE(応募者名簿!I602)","v":""}]
[{"$f":"応募者名簿!$B$8","v":0},{"$f":"CONCATENATE(応募者名簿!$B$11,応募者名簿!$D$11,応募者名簿!$E$11,応募者名簿!$I$11)","v":""},"半紙",{"$f":"CONCATENATE(応募者名簿!F603)","v":""},{"$f":"CONCATENATE(応募者名簿!G603)","v":""},{"$f":"CONCATENATE(応募者名簿!H603)","v":""},{"$f":"CONCATENATE(応募者名簿!I603)","v":""}]
[{"$f":"応募者名簿!$B$8","v":0},{"$f":"CONCATENATE(応募者名簿!$B$11,応募者名簿!$D$11,応募者名簿!$E$11,応募者名簿!$I$11)","v":""},"半紙",{"$f":"CONCATENATE(応募者名簿!F604)","v":""},{"$f":"CONCATENATE(応募者名簿!G604)","v":""},{"$f":"CONCATENATE(応募者名簿!H604)","v":""},{"$f":"CONCATENATE(応募者名簿!I604)","v":""}]
[{"$f":"応募者名簿!$B$8","v":0},{"$f":"CONCATENATE(応募者名簿!$B$11,応募者名簿!$D$11,応募者名簿!$E$11,応募者名簿!$I$11)","v":""},"半紙",{"$f":"CONCATENATE(応募者名簿!F605)","v":""},{"$f":"CONCATENATE(応募者名簿!G605)","v":""},{"$f":"CONCATENATE(応募者名簿!H605)","v":""},{"$f":"CONCATENATE(応募者名簿!I605)","v":""}]
[{"$f":"応募者名簿!$B$8","v":0},{"$f":"CONCATENATE(応募者名簿!$B$11,応募者名簿!$D$11,応募者名簿!$E$11,応募者名簿!$I$11)","v":""},"半紙",{"$f":"CONCATENATE(応募者名簿!F606)","v":""},{"$f":"CONCATENATE(応募者名簿!G606)","v":""},{"$f":"CONCATENATE(応募者名簿!H606)","v":""},{"$f":"CONCATENATE(応募者名簿!I606)","v":""}]
[{"$f":"応募者名簿!$B$8","v":0},{"$f":"CONCATENATE(応募者名簿!$B$11,応募者名簿!$D$11,応募者名簿!$E$11,応募者名簿!$I$11)","v":""},"半紙",{"$f":"CONCATENATE(応募者名簿!F607)","v":""},{"$f":"CONCATENATE(応募者名簿!G607)","v":""},{"$f":"CONCATENATE(応募者名簿!H607)","v":""},{"$f":"CONCATENATE(応募者名簿!I607)","v":""}]
[{"$f":"応募者名簿!$B$8","v":0},{"$f":"CONCATENATE(応募者名簿!$B$11,応募者名簿!$D$11,応募者名簿!$E$11,応募者名簿!$I$11)","v":""},"半紙",{"$f":"CONCATENATE(応募者名簿!F608)","v":""},{"$f":"CONCATENATE(応募者名簿!G608)","v":""},{"$f":"CONCATENATE(応募者名簿!H608)","v":""},{"$f":"CONCATENATE(応募者名簿!I608)","v":""}]
[{"$f":"応募者名簿!$B$8","v":0},{"$f":"CONCATENATE(応募者名簿!$B$11,応募者名簿!$D$11,応募者名簿!$E$11,応募者名簿!$I$11)","v":""},"半紙",{"$f":"CONCATENATE(応募者名簿!F609)","v":""},{"$f":"CONCATENATE(応募者名簿!G609)","v":""},{"$f":"CONCATENATE(応募者名簿!H609)","v":""},{"$f":"CONCATENATE(応募者名簿!I609)","v":""}]
[{"$f":"応募者名簿!$B$8","v":0},{"$f":"CONCATENATE(応募者名簿!$B$11,応募者名簿!$D$11,応募者名簿!$E$11,応募者名簿!$I$11)","v":""},"半紙",{"$f":"CONCATENATE(応募者名簿!F610)","v":""},{"$f":"CONCATENATE(応募者名簿!G610)","v":""},{"$f":"CONCATENATE(応募者名簿!H610)","v":""},{"$f":"CONCATENATE(応募者名簿!I610)","v":""}]
[{"$f":"応募者名簿!$B$8","v":0},{"$f":"CONCATENATE(応募者名簿!$B$11,応募者名簿!$D$11,応募者名簿!$E$11,応募者名簿!$I$11)","v":""},"半紙",{"$f":"CONCATENATE(応募者名簿!F611)","v":""},{"$f":"CONCATENATE(応募者名簿!G611)","v":""},{"$f":"CONCATENATE(応募者名簿!H611)","v":""},{"$f":"CONCATENATE(応募者名簿!I611)","v":""}]
[{"$f":"応募者名簿!$B$8","v":0},{"$f":"CONCATENATE(応募者名簿!$B$11,応募者名簿!$D$11,応募者名簿!$E$11,応募者名簿!$I$11)","v":""},"半紙",{"$f":"CONCATENATE(応募者名簿!F612)","v":""},{"$f":"CONCATENATE(応募者名簿!G612)","v":""},{"$f":"CONCATENATE(応募者名簿!H612)","v":""},{"$f":"CONCATENATE(応募者名簿!I612)","v":""}]
[{"$f":"応募者名簿!$B$8","v":0},{"$f":"CONCATENATE(応募者名簿!$B$11,応募者名簿!$D$11,応募者名簿!$E$11,応募者名簿!$I$11)","v":""},"半紙",{"$f":"CONCATENATE(応募者名簿!F613)","v":""},{"$f":"CONCATENATE(応募者名簿!G613)","v":""},{"$f":"CONCATENATE(応募者名簿!H613)","v":""},{"$f":"CONCATENATE(応募者名簿!I613)","v":""}]
[{"$f":"応募者名簿!$B$8","v":0},{"$f":"CONCATENATE(応募者名簿!$B$11,応募者名簿!$D$11,応募者名簿!$E$11,応募者名簿!$I$11)","v":""},"半紙",{"$f":"CONCATENATE(応募者名簿!F614)","v":""},{"$f":"CONCATENATE(応募者名簿!G614)","v":""},{"$f":"CONCATENATE(応募者名簿!H614)","v":""},{"$f":"CONCATENATE(応募者名簿!I614)","v":""}]
[{"$f":"応募者名簿!$B$8","v":0},{"$f":"CONCATENATE(応募者名簿!$B$11,応募者名簿!$D$11,応募者名簿!$E$11,応募者名簿!$I$11)","v":""},"半紙",{"$f":"CONCATENATE(応募者名簿!F615)","v":""},{"$f":"CONCATENATE(応募者名簿!G615)","v":""},{"$f":"CONCATENATE(応募者名簿!H615)","v":""},{"$f":"CONCATENATE(応募者名簿!I615)","v":""}]
[{"$f":"応募者名簿!$B$8","v":0},{"$f":"CONCATENATE(応募者名簿!$B$11,応募者名簿!$D$11,応募者名簿!$E$11,応募者名簿!$I$11)","v":""},"半紙",{"$f":"CONCATENATE(応募者名簿!F616)","v":""},{"$f":"CONCATENATE(応募者名簿!G616)","v":""},{"$f":"CONCATENATE(応募者名簿!H616)","v":""},{"$f":"CONCATENATE(応募者名簿!I616)","v":""}]
[{"$f":"応募者名簿!$B$8","v":0},{"$f":"CONCATENATE(応募者名簿!$B$11,応募者名簿!$D$11,応募者名簿!$E$11,応募者名簿!$I$11)","v":""},"半紙",{"$f":"CONCATENATE(応募者名簿!F617)","v":""},{"$f":"CONCATENATE(応募者名簿!G617)","v":""},{"$f":"CONCATENATE(応募者名簿!H617)","v":""},{"$f":"CONCATENATE(応募者名簿!I617)","v":""}]
[{"$f":"応募者名簿!$B$8","v":0},{"$f":"CONCATENATE(応募者名簿!$B$11,応募者名簿!$D$11,応募者名簿!$E$11,応募者名簿!$I$11)","v":""},"半紙",{"$f":"CONCATENATE(応募者名簿!F618)","v":""},{"$f":"CONCATENATE(応募者名簿!G618)","v":""},{"$f":"CONCATENATE(応募者名簿!H618)","v":""},{"$f":"CONCATENATE(応募者名簿!I618)","v":""}]
[{"$f":"応募者名簿!$B$8","v":0},{"$f":"CONCATENATE(応募者名簿!$B$11,応募者名簿!$D$11,応募者名簿!$E$11,応募者名簿!$I$11)","v":""},"半紙",{"$f":"CONCATENATE(応募者名簿!F619)","v":""},{"$f":"CONCATENATE(応募者名簿!G619)","v":""},{"$f":"CONCATENATE(応募者名簿!H619)","v":""},{"$f":"CONCATENATE(応募者名簿!I619)","v":""}]
[{"$f":"応募者名簿!$B$8","v":0},{"$f":"CONCATENATE(応募者名簿!$B$11,応募者名簿!$D$11,応募者名簿!$E$11,応募者名簿!$I$11)","v":""},"半紙",{"$f":"CONCATENATE(応募者名簿!F620)","v":""},{"$f":"CONCATENATE(応募者名簿!G620)","v":""},{"$f":"CONCATENATE(応募者名簿!H620)","v":""},{"$f":"CONCATENATE(応募者名簿!I620)","v":""}]
[{"$f":"応募者名簿!$B$8","v":0},{"$f":"CONCATENATE(応募者名簿!$B$11,応募者名簿!$D$11,応募者名簿!$E$11,応募者名簿!$I$11)","v":""},"半紙",{"$f":"CONCATENATE(応募者名簿!F621)","v":""},{"$f":"CONCATENATE(応募者名簿!G621)","v":""},{"$f":"CONCATENATE(応募者名簿!H621)","v":""},{"$f":"CONCATENATE(応募者名簿!I621)","v":""}]
[{"$f":"応募者名簿!$B$8","v":0},{"$f":"CONCATENATE(応募者名簿!$B$11,応募者名簿!$D$11,応募者名簿!$E$11,応募者名簿!$I$11)","v":""},"半紙",{"$f":"CONCATENATE(応募者名簿!F622)","v":""},{"$f":"CONCATENATE(応募者名簿!G622)","v":""},{"$f":"CONCATENATE(応募者名簿!H622)","v":""},{"$f":"CONCATENATE(応募者名簿!I622)","v":""}]
[{"$f":"応募者名簿!$B$8","v":0},{"$f":"CONCATENATE(応募者名簿!$B$11,応募者名簿!$D$11,応募者名簿!$E$11,応募者名簿!$I$11)","v":""},"半紙",{"$f":"CONCATENATE(応募者名簿!F623)","v":""},{"$f":"CONCATENATE(応募者名簿!G623)","v":""},{"$f":"CONCATENATE(応募者名簿!H623)","v":""},{"$f":"CONCATENATE(応募者名簿!I623)","v":""}]
[{"$f":"応募者名簿!$B$8","v":0},{"$f":"CONCATENATE(応募者名簿!$B$11,応募者名簿!$D$11,応募者名簿!$E$11,応募者名簿!$I$11)","v":""},"半紙",{"$f":"CONCATENATE(応募者名簿!F624)","v":""},{"$f":"CONCATENATE(応募者名簿!G624)","v":""},{"$f":"CONCATENATE(応募者名簿!H624)","v":""},{"$f":"CONCATENATE(応募者名簿!I624)","v":""}]
[{"$f":"応募者名簿!$B$8","v":0},{"$f":"CONCATENATE(応募者名簿!$B$11,応募者名簿!$D$11,応募者名簿!$E$11,応募者名簿!$I$11)","v":""},"半紙",{"$f":"CONCATENATE(応募者名簿!F625)","v":""},{"$f":"CONCATENATE(応募者名簿!G625)","v":""},{"$f":"CONCATENATE(応募者名簿!H625)","v":""},{"$f":"CONCATENATE(応募者名簿!I625)","v":""}]
[{"$f":"応募者名簿!$B$8","v":0},{"$f":"CONCATENATE(応募者名簿!$B$11,応募者名簿!$D$11,応募者名簿!$E$11,応募者名簿!$I$11)","v":""},"半紙",{"$f":"CONCATENATE(応募者名簿!F626)","v":""},{"$f":"CONCATENATE(応募者名簿!G626)","v":""},{"$f":"CONCATENATE(応募者名簿!H626)","v":""},{"$f":"CONCATENATE(応募者名簿!I626)","v":""}]
[{"$f":"応募者名簿!$B$8","v":0},{"$f":"CONCATENATE(応募者名簿!$B$11,応募者名簿!$D$11,応募者名簿!$E$11,応募者名簿!$I$11)","v":""},"半紙",{"$f":"CONCATENATE(応募者名簿!F627)","v":""},{"$f":"CONCATENATE(応募者名簿!G627)","v":""},{"$f":"CONCATENATE(応募者名簿!H627)","v":""},{"$f":"CONCATENATE(応募者名簿!I627)","v":""}]
[{"$f":"応募者名簿!$B$8","v":0},{"$f":"CONCATENATE(応募者名簿!$B$11,応募者名簿!$D$11,応募者名簿!$E$11,応募者名簿!$I$11)","v":""},"半紙",{"$f":"CONCATENATE(応募者名簿!F628)","v":""},{"$f":"CONCATENATE(応募者名簿!G628)","v":""},{"$f":"CONCATENATE(応募者名簿!H628)","v":""},{"$f":"CONCATENATE(応募者名簿!I628)","v":""}]
[{"$f":"応募者名簿!$B$8","v":0},{"$f":"CONCATENATE(応募者名簿!$B$11,応募者名簿!$D$11,応募者名簿!$E$11,応募者名簿!$I$11)","v":""},"半紙",{"$f":"CONCATENATE(応募者名簿!F629)","v":""},{"$f":"CONCATENATE(応募者名簿!G629)","v":""},{"$f":"CONCATENATE(応募者名簿!H629)","v":""},{"$f":"CONCATENATE(応募者名簿!I629)","v":""}]
[{"$f":"応募者名簿!$B$8","v":0},{"$f":"CONCATENATE(応募者名簿!$B$11,応募者名簿!$D$11,応募者名簿!$E$11,応募者名簿!$I$11)","v":""},"半紙",{"$f":"CONCATENATE(応募者名簿!F630)","v":""},{"$f":"CONCATENATE(応募者名簿!G630)","v":""},{"$f":"CONCATENATE(応募者名簿!H630)","v":""},{"$f":"CONCATENATE(応募者名簿!I630)","v":""}]
[{"$f":"応募者名簿!$B$8","v":0},{"$f":"CONCATENATE(応募者名簿!$B$11,応募者名簿!$D$11,応募者名簿!$E$11,応募者名簿!$I$11)","v":""},"半紙",{"$f":"CONCATENATE(応募者名簿!F631)","v":""},{"$f":"CONCATENATE(応募者名簿!G631)","v":""},{"$f":"CONCATENATE(応募者名簿!H631)","v":""},{"$f":"CONCATENATE(応募者名簿!I631)","v":""}]
[{"$f":"応募者名簿!$B$8","v":0},{"$f":"CONCATENATE(応募者名簿!$B$11,応募者名簿!$D$11,応募者名簿!$E$11,応募者名簿!$I$11)","v":""},"半紙",{"$f":"CONCATENATE(応募者名簿!F632)","v":""},{"$f":"CONCATENATE(応募者名簿!G632)","v":""},{"$f":"CONCATENATE(応募者名簿!H632)","v":""},{"$f":"CONCATENATE(応募者名簿!I632)","v":""}]
[{"$f":"応募者名簿!$B$8","v":0},{"$f":"CONCATENATE(応募者名簿!$B$11,応募者名簿!$D$11,応募者名簿!$E$11,応募者名簿!$I$11)","v":""},"半紙",{"$f":"CONCATENATE(応募者名簿!F633)","v":""},{"$f":"CONCATENATE(応募者名簿!G633)","v":""},{"$f":"CONCATENATE(応募者名簿!H633)","v":""},{"$f":"CONCATENATE(応募者名簿!I633)","v":""}]
[{"$f":"応募者名簿!$B$8","v":0},{"$f":"CONCATENATE(応募者名簿!$B$11,応募者名簿!$D$11,応募者名簿!$E$11,応募者名簿!$I$11)","v":""},"半紙",{"$f":"CONCATENATE(応募者名簿!F634)","v":""},{"$f":"CONCATENATE(応募者名簿!G634)","v":""},{"$f":"CONCATENATE(応募者名簿!H634)","v":""},{"$f":"CONCATENATE(応募者名簿!I634)","v":""}]
[{"$f":"応募者名簿!$B$8","v":0},{"$f":"CONCATENATE(応募者名簿!$B$11,応募者名簿!$D$11,応募者名簿!$E$11,応募者名簿!$I$11)","v":""},"半紙",{"$f":"CONCATENATE(応募者名簿!F635)","v":""},{"$f":"CONCATENATE(応募者名簿!G635)","v":""},{"$f":"CONCATENATE(応募者名簿!H635)","v":""},{"$f":"CONCATENATE(応募者名簿!I635)","v":""}]
[{"$f":"応募者名簿!$B$8","v":0},{"$f":"CONCATENATE(応募者名簿!$B$11,応募者名簿!$D$11,応募者名簿!$E$11,応募者名簿!$I$11)","v":""},"半紙",{"$f":"CONCATENATE(応募者名簿!F636)","v":""},{"$f":"CONCATENATE(応募者名簿!G636)","v":""},{"$f":"CONCATENATE(応募者名簿!H636)","v":""},{"$f":"CONCATENATE(応募者名簿!I636)","v":""}]
[{"$f":"応募者名簿!$B$8","v":0},{"$f":"CONCATENATE(応募者名簿!$B$11,応募者名簿!$D$11,応募者名簿!$E$11,応募者名簿!$I$11)","v":""},"半紙",{"$f":"CONCATENATE(応募者名簿!F637)","v":""},{"$f":"CONCATENATE(応募者名簿!G637)","v":""},{"$f":"CONCATENATE(応募者名簿!H637)","v":""},{"$f":"CONCATENATE(応募者名簿!I637)","v":""}]
[{"$f":"応募者名簿!$B$8","v":0},{"$f":"CONCATENATE(応募者名簿!$B$11,応募者名簿!$D$11,応募者名簿!$E$11,応募者名簿!$I$11)","v":""},"半紙",{"$f":"CONCATENATE(応募者名簿!F638)","v":""},{"$f":"CONCATENATE(応募者名簿!G638)","v":""},{"$f":"CONCATENATE(応募者名簿!H638)","v":""},{"$f":"CONCATENATE(応募者名簿!I638)","v":""}]
[{"$f":"応募者名簿!$B$8","v":0},{"$f":"CONCATENATE(応募者名簿!$B$11,応募者名簿!$D$11,応募者名簿!$E$11,応募者名簿!$I$11)","v":""},"半紙",{"$f":"CONCATENATE(応募者名簿!F639)","v":""},{"$f":"CONCATENATE(応募者名簿!G639)","v":""},{"$f":"CONCATENATE(応募者名簿!H639)","v":""},{"$f":"CONCATENATE(応募者名簿!I639)","v":""}]
[{"$f":"応募者名簿!$B$8","v":0},{"$f":"CONCATENATE(応募者名簿!$B$11,応募者名簿!$D$11,応募者名簿!$E$11,応募者名簿!$I$11)","v":""},"半紙",{"$f":"CONCATENATE(応募者名簿!F640)","v":""},{"$f":"CONCATENATE(応募者名簿!G640)","v":""},{"$f":"CONCATENATE(応募者名簿!H640)","v":""},{"$f":"CONCATENATE(応募者名簿!I640)","v":""}]
[{"$f":"応募者名簿!$B$8","v":0},{"$f":"CONCATENATE(応募者名簿!$B$11,応募者名簿!$D$11,応募者名簿!$E$11,応募者名簿!$I$11)","v":""},"半紙",{"$f":"CONCATENATE(応募者名簿!F641)","v":""},{"$f":"CONCATENATE(応募者名簿!G641)","v":""},{"$f":"CONCATENATE(応募者名簿!H641)","v":""},{"$f":"CONCATENATE(応募者名簿!I641)","v":""}]
[{"$f":"応募者名簿!$B$8","v":0},{"$f":"CONCATENATE(応募者名簿!$B$11,応募者名簿!$D$11,応募者名簿!$E$11,応募者名簿!$I$11)","v":""},"半紙",{"$f":"CONCATENATE(応募者名簿!F642)","v":""},{"$f":"CONCATENATE(応募者名簿!G642)","v":""},{"$f":"CONCATENATE(応募者名簿!H642)","v":""},{"$f":"CONCATENATE(応募者名簿!I642)","v":""}]
[{"$f":"応募者名簿!$B$8","v":0},{"$f":"CONCATENATE(応募者名簿!$B$11,応募者名簿!$D$11,応募者名簿!$E$11,応募者名簿!$I$11)","v":""},"半紙",{"$f":"CONCATENATE(応募者名簿!F643)","v":""},{"$f":"CONCATENATE(応募者名簿!G643)","v":""},{"$f":"CONCATENATE(応募者名簿!H643)","v":""},{"$f":"CONCATENATE(応募者名簿!I643)","v":""}]
[{"$f":"応募者名簿!$B$8","v":0},{"$f":"CONCATENATE(応募者名簿!$B$11,応募者名簿!$D$11,応募者名簿!$E$11,応募者名簿!$I$11)","v":""},"半紙",{"$f":"CONCATENATE(応募者名簿!F644)","v":""},{"$f":"CONCATENATE(応募者名簿!G644)","v":""},{"$f":"CONCATENATE(応募者名簿!H644)","v":""},{"$f":"CONCATENATE(応募者名簿!I644)","v":""}]
[{"$f":"応募者名簿!$B$8","v":0},{"$f":"CONCATENATE(応募者名簿!$B$11,応募者名簿!$D$11,応募者名簿!$E$11,応募者名簿!$I$11)","v":""},"半紙",{"$f":"CONCATENATE(応募者名簿!F645)","v":""},{"$f":"CONCATENATE(応募者名簿!G645)","v":""},{"$f":"CONCATENATE(応募者名簿!H645)","v":""},{"$f":"CONCATENATE(応募者名簿!I645)","v":""}]
[{"$f":"応募者名簿!$B$8","v":0},{"$f":"CONCATENATE(応募者名簿!$B$11,応募者名簿!$D$11,応募者名簿!$E$11,応募者名簿!$I$11)","v":""},"半紙",{"$f":"CONCATENATE(応募者名簿!F646)","v":""},{"$f":"CONCATENATE(応募者名簿!G646)","v":""},{"$f":"CONCATENATE(応募者名簿!H646)","v":""},{"$f":"CONCATENATE(応募者名簿!I646)","v":""}]
[{"$f":"応募者名簿!$B$8","v":0},{"$f":"CONCATENATE(応募者名簿!$B$11,応募者名簿!$D$11,応募者名簿!$E$11,応募者名簿!$I$11)","v":""},"半紙",{"$f":"CONCATENATE(応募者名簿!F647)","v":""},{"$f":"CONCATENATE(応募者名簿!G647)","v":""},{"$f":"CONCATENATE(応募者名簿!H647)","v":""},{"$f":"CONCATENATE(応募者名簿!I647)","v":""}]
[{"$f":"応募者名簿!$B$8","v":0},{"$f":"CONCATENATE(応募者名簿!$B$11,応募者名簿!$D$11,応募者名簿!$E$11,応募者名簿!$I$11)","v":""},"半紙",{"$f":"CONCATENATE(応募者名簿!F648)","v":""},{"$f":"CONCATENATE(応募者名簿!G648)","v":""},{"$f":"CONCATENATE(応募者名簿!H648)","v":""},{"$f":"CONCATENATE(応募者名簿!I648)","v":""}]
[{"$f":"応募者名簿!$B$8","v":0},{"$f":"CONCATENATE(応募者名簿!$B$11,応募者名簿!$D$11,応募者名簿!$E$11,応募者名簿!$I$11)","v":""},"半紙",{"$f":"CONCATENATE(応募者名簿!F649)","v":""},{"$f":"CONCATENATE(応募者名簿!G649)","v":""},{"$f":"CONCATENATE(応募者名簿!H649)","v":""},{"$f":"CONCATENATE(応募者名簿!I649)","v":""}]
[{"$f":"応募者名簿!$B$8","v":0},{"$f":"CONCATENATE(応募者名簿!$B$11,応募者名簿!$D$11,応募者名簿!$E$11,応募者名簿!$I$11)","v":""},"半紙",{"$f":"CONCATENATE(応募者名簿!F650)","v":""},{"$f":"CONCATENATE(応募者名簿!G650)","v":""},{"$f":"CONCATENATE(応募者名簿!H650)","v":""},{"$f":"CONCATENATE(応募者名簿!I650)","v":""}]
[{"$f":"応募者名簿!$B$8","v":0},{"$f":"CONCATENATE(応募者名簿!$B$11,応募者名簿!$D$11,応募者名簿!$E$11,応募者名簿!$I$11)","v":""},"半紙",{"$f":"CONCATENATE(応募者名簿!F651)","v":""},{"$f":"CONCATENATE(応募者名簿!G651)","v":""},{"$f":"CONCATENATE(応募者名簿!H651)","v":""},{"$f":"CONCATENATE(応募者名簿!I651)","v":""}]
[{"$f":"応募者名簿!$B$8","v":0},{"$f":"CONCATENATE(応募者名簿!$B$11,応募者名簿!$D$11,応募者名簿!$E$11,応募者名簿!$I$11)","v":""},"半紙",{"$f":"CONCATENATE(応募者名簿!F652)","v":""},{"$f":"CONCATENATE(応募者名簿!G652)","v":""},{"$f":"CONCATENATE(応募者名簿!H652)","v":""},{"$f":"CONCATENATE(応募者名簿!I652)","v":""}]
[{"$f":"応募者名簿!$B$8","v":0},{"$f":"CONCATENATE(応募者名簿!$B$11,応募者名簿!$D$11,応募者名簿!$E$11,応募者名簿!$I$11)","v":""},"半紙",{"$f":"CONCATENATE(応募者名簿!F653)","v":""},{"$f":"CONCATENATE(応募者名簿!G653)","v":""},{"$f":"CONCATENATE(応募者名簿!H653)","v":""},{"$f":"CONCATENATE(応募者名簿!I653)","v":""}]
[{"$f":"応募者名簿!$B$8","v":0},{"$f":"CONCATENATE(応募者名簿!$B$11,応募者名簿!$D$11,応募者名簿!$E$11,応募者名簿!$I$11)","v":""},"半紙",{"$f":"CONCATENATE(応募者名簿!F654)","v":""},{"$f":"CONCATENATE(応募者名簿!G654)","v":""},{"$f":"CONCATENATE(応募者名簿!H654)","v":""},{"$f":"CONCATENATE(応募者名簿!I654)","v":""}]
[{"$f":"応募者名簿!$B$8","v":0},{"$f":"CONCATENATE(応募者名簿!$B$11,応募者名簿!$D$11,応募者名簿!$E$11,応募者名簿!$I$11)","v":""},"半紙",{"$f":"CONCATENATE(応募者名簿!F655)","v":""},{"$f":"CONCATENATE(応募者名簿!G655)","v":""},{"$f":"CONCATENATE(応募者名簿!H655)","v":""},{"$f":"CONCATENATE(応募者名簿!I655)","v":""}]
[{"$f":"応募者名簿!$B$8","v":0},{"$f":"CONCATENATE(応募者名簿!$B$11,応募者名簿!$D$11,応募者名簿!$E$11,応募者名簿!$I$11)","v":""},"半紙",{"$f":"CONCATENATE(応募者名簿!F656)","v":""},{"$f":"CONCATENATE(応募者名簿!G656)","v":""},{"$f":"CONCATENATE(応募者名簿!H656)","v":""},{"$f":"CONCATENATE(応募者名簿!I656)","v":""}]
[{"$f":"応募者名簿!$B$8","v":0},{"$f":"CONCATENATE(応募者名簿!$B$11,応募者名簿!$D$11,応募者名簿!$E$11,応募者名簿!$I$11)","v":""},"半紙",{"$f":"CONCATENATE(応募者名簿!F657)","v":""},{"$f":"CONCATENATE(応募者名簿!G657)","v":""},{"$f":"CONCATENATE(応募者名簿!H657)","v":""},{"$f":"CONCATENATE(応募者名簿!I657)","v":""}]
[{"$f":"応募者名簿!$B$8","v":0},{"$f":"CONCATENATE(応募者名簿!$B$11,応募者名簿!$D$11,応募者名簿!$E$11,応募者名簿!$I$11)","v":""},"半紙",{"$f":"CONCATENATE(応募者名簿!F658)","v":""},{"$f":"CONCATENATE(応募者名簿!G658)","v":""},{"$f":"CONCATENATE(応募者名簿!H658)","v":""},{"$f":"CONCATENATE(応募者名簿!I658)","v":""}]
[{"$f":"応募者名簿!$B$8","v":0},{"$f":"CONCATENATE(応募者名簿!$B$11,応募者名簿!$D$11,応募者名簿!$E$11,応募者名簿!$I$11)","v":""},"半紙",{"$f":"CONCATENATE(応募者名簿!F659)","v":""},{"$f":"CONCATENATE(応募者名簿!G659)","v":""},{"$f":"CONCATENATE(応募者名簿!H659)","v":""},{"$f":"CONCATENATE(応募者名簿!I659)","v":""}]
[{"$f":"応募者名簿!$B$8","v":0},{"$f":"CONCATENATE(応募者名簿!$B$11,応募者名簿!$D$11,応募者名簿!$E$11,応募者名簿!$I$11)","v":""},"半紙",{"$f":"CONCATENATE(応募者名簿!F660)","v":""},{"$f":"CONCATENATE(応募者名簿!G660)","v":""},{"$f":"CONCATENATE(応募者名簿!H660)","v":""},{"$f":"CONCATENATE(応募者名簿!I660)","v":""}]
[{"$f":"応募者名簿!$B$8","v":0},{"$f":"CONCATENATE(応募者名簿!$B$11,応募者名簿!$D$11,応募者名簿!$E$11,応募者名簿!$I$11)","v":""},"半紙",{"$f":"CONCATENATE(応募者名簿!F661)","v":""},{"$f":"CONCATENATE(応募者名簿!G661)","v":""},{"$f":"CONCATENATE(応募者名簿!H661)","v":""},{"$f":"CONCATENATE(応募者名簿!I661)","v":""}]
[{"$f":"応募者名簿!$B$8","v":0},{"$f":"CONCATENATE(応募者名簿!$B$11,応募者名簿!$D$11,応募者名簿!$E$11,応募者名簿!$I$11)","v":""},"半紙",{"$f":"CONCATENATE(応募者名簿!F662)","v":""},{"$f":"CONCATENATE(応募者名簿!G662)","v":""},{"$f":"CONCATENATE(応募者名簿!H662)","v":""},{"$f":"CONCATENATE(応募者名簿!I662)","v":""}]
[{"$f":"応募者名簿!$B$8","v":0},{"$f":"CONCATENATE(応募者名簿!$B$11,応募者名簿!$D$11,応募者名簿!$E$11,応募者名簿!$I$11)","v":""},"半紙",{"$f":"CONCATENATE(応募者名簿!F663)","v":""},{"$f":"CONCATENATE(応募者名簿!G663)","v":""},{"$f":"CONCATENATE(応募者名簿!H663)","v":""},{"$f":"CONCATENATE(応募者名簿!I663)","v":""}]
[{"$f":"応募者名簿!$B$8","v":0},{"$f":"CONCATENATE(応募者名簿!$B$11,応募者名簿!$D$11,応募者名簿!$E$11,応募者名簿!$I$11)","v":""},"半紙",{"$f":"CONCATENATE(応募者名簿!F664)","v":""},{"$f":"CONCATENATE(応募者名簿!G664)","v":""},{"$f":"CONCATENATE(応募者名簿!H664)","v":""},{"$f":"CONCATENATE(応募者名簿!I664)","v":""}]
[{"$f":"応募者名簿!$B$8","v":0},{"$f":"CONCATENATE(応募者名簿!$B$11,応募者名簿!$D$11,応募者名簿!$E$11,応募者名簿!$I$11)","v":""},"半紙",{"$f":"CONCATENATE(応募者名簿!F665)","v":""},{"$f":"CONCATENATE(応募者名簿!G665)","v":""},{"$f":"CONCATENATE(応募者名簿!H665)","v":""},{"$f":"CONCATENATE(応募者名簿!I665)","v":""}]
[{"$f":"応募者名簿!$B$8","v":0},{"$f":"CONCATENATE(応募者名簿!$B$11,応募者名簿!$D$11,応募者名簿!$E$11,応募者名簿!$I$11)","v":""},"半紙",{"$f":"CONCATENATE(応募者名簿!F666)","v":""},{"$f":"CONCATENATE(応募者名簿!G666)","v":""},{"$f":"CONCATENATE(応募者名簿!H666)","v":""},{"$f":"CONCATENATE(応募者名簿!I666)","v":""}]
[{"$f":"応募者名簿!$B$8","v":0},{"$f":"CONCATENATE(応募者名簿!$B$11,応募者名簿!$D$11,応募者名簿!$E$11,応募者名簿!$I$11)","v":""},"半紙",{"$f":"CONCATENATE(応募者名簿!F667)","v":""},{"$f":"CONCATENATE(応募者名簿!G667)","v":""},{"$f":"CONCATENATE(応募者名簿!H667)","v":""},{"$f":"CONCATENATE(応募者名簿!I667)","v":""}]
[{"$f":"応募者名簿!$B$8","v":0},{"$f":"CONCATENATE(応募者名簿!$B$11,応募者名簿!$D$11,応募者名簿!$E$11,応募者名簿!$I$11)","v":""},"半紙",{"$f":"CONCATENATE(応募者名簿!F668)","v":""},{"$f":"CONCATENATE(応募者名簿!G668)","v":""},{"$f":"CONCATENATE(応募者名簿!H668)","v":""},{"$f":"CONCATENATE(応募者名簿!I668)","v":""}]
[{"$f":"応募者名簿!$B$8","v":0},{"$f":"CONCATENATE(応募者名簿!$B$11,応募者名簿!$D$11,応募者名簿!$E$11,応募者名簿!$I$11)","v":""},"半紙",{"$f":"CONCATENATE(応募者名簿!F669)","v":""},{"$f":"CONCATENATE(応募者名簿!G669)","v":""},{"$f":"CONCATENATE(応募者名簿!H669)","v":""},{"$f":"CONCATENATE(応募者名簿!I669)","v":""}]
[{"$f":"応募者名簿!$B$8","v":0},{"$f":"CONCATENATE(応募者名簿!$B$11,応募者名簿!$D$11,応募者名簿!$E$11,応募者名簿!$I$11)","v":""},"半紙",{"$f":"CONCATENATE(応募者名簿!F670)","v":""},{"$f":"CONCATENATE(応募者名簿!G670)","v":""},{"$f":"CONCATENATE(応募者名簿!H670)","v":""},{"$f":"CONCATENATE(応募者名簿!I670)","v":""}]
[{"$f":"応募者名簿!$B$8","v":0},{"$f":"CONCATENATE(応募者名簿!$B$11,応募者名簿!$D$11,応募者名簿!$E$11,応募者名簿!$I$11)","v":""},"半紙",{"$f":"CONCATENATE(応募者名簿!F671)","v":""},{"$f":"CONCATENATE(応募者名簿!G671)","v":""},{"$f":"CONCATENATE(応募者名簿!H671)","v":""},{"$f":"CONCATENATE(応募者名簿!I671)","v":""}]
[{"$f":"応募者名簿!$B$8","v":0},{"$f":"CONCATENATE(応募者名簿!$B$11,応募者名簿!$D$11,応募者名簿!$E$11,応募者名簿!$I$11)","v":""},"半紙",{"$f":"CONCATENATE(応募者名簿!F672)","v":""},{"$f":"CONCATENATE(応募者名簿!G672)","v":""},{"$f":"CONCATENATE(応募者名簿!H672)","v":""},{"$f":"CONCATENATE(応募者名簿!I672)","v":""}]
[{"$f":"応募者名簿!$B$8","v":0},{"$f":"CONCATENATE(応募者名簿!$B$11,応募者名簿!$D$11,応募者名簿!$E$11,応募者名簿!$I$11)","v":""},"半紙",{"$f":"CONCATENATE(応募者名簿!F673)","v":""},{"$f":"CONCATENATE(応募者名簿!G673)","v":""},{"$f":"CONCATENATE(応募者名簿!H673)","v":""},{"$f":"CONCATENATE(応募者名簿!I673)","v":""}]
[{"$f":"応募者名簿!$B$8","v":0},{"$f":"CONCATENATE(応募者名簿!$B$11,応募者名簿!$D$11,応募者名簿!$E$11,応募者名簿!$I$11)","v":""},"半紙",{"$f":"CONCATENATE(応募者名簿!F674)","v":""},{"$f":"CONCATENATE(応募者名簿!G674)","v":""},{"$f":"CONCATENATE(応募者名簿!H674)","v":""},{"$f":"CONCATENATE(応募者名簿!I674)","v":""}]
[{"$f":"応募者名簿!$B$8","v":0},{"$f":"CONCATENATE(応募者名簿!$B$11,応募者名簿!$D$11,応募者名簿!$E$11,応募者名簿!$I$11)","v":""},"半紙",{"$f":"CONCATENATE(応募者名簿!F675)","v":""},{"$f":"CONCATENATE(応募者名簿!G675)","v":""},{"$f":"CONCATENATE(応募者名簿!H675)","v":""},{"$f":"CONCATENATE(応募者名簿!I675)","v":""}]
[{"$f":"応募者名簿!$B$8","v":0},{"$f":"CONCATENATE(応募者名簿!$B$11,応募者名簿!$D$11,応募者名簿!$E$11,応募者名簿!$I$11)","v":""},"半紙",{"$f":"CONCATENATE(応募者名簿!F676)","v":""},{"$f":"CONCATENATE(応募者名簿!G676)","v":""},{"$f":"CONCATENATE(応募者名簿!H676)","v":""},{"$f":"CONCATENATE(応募者名簿!I676)","v":""}]
[{"$f":"応募者名簿!$B$8","v":0},{"$f":"CONCATENATE(応募者名簿!$B$11,応募者名簿!$D$11,応募者名簿!$E$11,応募者名簿!$I$11)","v":""},"半紙",{"$f":"CONCATENATE(応募者名簿!F677)","v":""},{"$f":"CONCATENATE(応募者名簿!G677)","v":""},{"$f":"CONCATENATE(応募者名簿!H677)","v":""},{"$f":"CONCATENATE(応募者名簿!I677)","v":""}]
[{"$f":"応募者名簿!$B$8","v":0},{"$f":"CONCATENATE(応募者名簿!$B$11,応募者名簿!$D$11,応募者名簿!$E$11,応募者名簿!$I$11)","v":""},"半紙",{"$f":"CONCATENATE(応募者名簿!F678)","v":""},{"$f":"CONCATENATE(応募者名簿!G678)","v":""},{"$f":"CONCATENATE(応募者名簿!H678)","v":""},{"$f":"CONCATENATE(応募者名簿!I678)","v":""}]
[{"$f":"応募者名簿!$B$8","v":0},{"$f":"CONCATENATE(応募者名簿!$B$11,応募者名簿!$D$11,応募者名簿!$E$11,応募者名簿!$I$11)","v":""},"半紙",{"$f":"CONCATENATE(応募者名簿!F679)","v":""},{"$f":"CONCATENATE(応募者名簿!G679)","v":""},{"$f":"CONCATENATE(応募者名簿!H679)","v":""},{"$f":"CONCATENATE(応募者名簿!I679)","v":""}]
[{"$f":"応募者名簿!$B$8","v":0},{"$f":"CONCATENATE(応募者名簿!$B$11,応募者名簿!$D$11,応募者名簿!$E$11,応募者名簿!$I$11)","v":""},"半紙",{"$f":"CONCATENATE(応募者名簿!F680)","v":""},{"$f":"CONCATENATE(応募者名簿!G680)","v":""},{"$f":"CONCATENATE(応募者名簿!H680)","v":""},{"$f":"CONCATENATE(応募者名簿!I680)","v":""}]
[{"$f":"応募者名簿!$B$8","v":0},{"$f":"CONCATENATE(応募者名簿!$B$11,応募者名簿!$D$11,応募者名簿!$E$11,応募者名簿!$I$11)","v":""},"半紙",{"$f":"CONCATENATE(応募者名簿!F681)","v":""},{"$f":"CONCATENATE(応募者名簿!G681)","v":""},{"$f":"CONCATENATE(応募者名簿!H681)","v":""},{"$f":"CONCATENATE(応募者名簿!I681)","v":""}]
[{"$f":"応募者名簿!$B$8","v":0},{"$f":"CONCATENATE(応募者名簿!$B$11,応募者名簿!$D$11,応募者名簿!$E$11,応募者名簿!$I$11)","v":""},"半紙",{"$f":"CONCATENATE(応募者名簿!F682)","v":""},{"$f":"CONCATENATE(応募者名簿!G682)","v":""},{"$f":"CONCATENATE(応募者名簿!H682)","v":""},{"$f":"CONCATENATE(応募者名簿!I682)","v":""}]
[{"$f":"応募者名簿!$B$8","v":0},{"$f":"CONCATENATE(応募者名簿!$B$11,応募者名簿!$D$11,応募者名簿!$E$11,応募者名簿!$I$11)","v":""},"半紙",{"$f":"CONCATENATE(応募者名簿!F683)","v":""},{"$f":"CONCATENATE(応募者名簿!G683)","v":""},{"$f":"CONCATENATE(応募者名簿!H683)","v":""},{"$f":"CONCATENATE(応募者名簿!I683)","v":""}]
[{"$f":"応募者名簿!$B$8","v":0},{"$f":"CONCATENATE(応募者名簿!$B$11,応募者名簿!$D$11,応募者名簿!$E$11,応募者名簿!$I$11)","v":""},"半紙",{"$f":"CONCATENATE(応募者名簿!F684)","v":""},{"$f":"CONCATENATE(応募者名簿!G684)","v":""},{"$f":"CONCATENATE(応募者名簿!H684)","v":""},{"$f":"CONCATENATE(応募者名簿!I684)","v":""}]
[{"$f":"応募者名簿!$B$8","v":0},{"$f":"CONCATENATE(応募者名簿!$B$11,応募者名簿!$D$11,応募者名簿!$E$11,応募者名簿!$I$11)","v":""},"半紙",{"$f":"CONCATENATE(応募者名簿!F685)","v":""},{"$f":"CONCATENATE(応募者名簿!G685)","v":""},{"$f":"CONCATENATE(応募者名簿!H685)","v":""},{"$f":"CONCATENATE(応募者名簿!I685)","v":""}]
[{"$f":"応募者名簿!$B$8","v":0},{"$f":"CONCATENATE(応募者名簿!$B$11,応募者名簿!$D$11,応募者名簿!$E$11,応募者名簿!$I$11)","v":""},"半紙",{"$f":"CONCATENATE(応募者名簿!F686)","v":""},{"$f":"CONCATENATE(応募者名簿!G686)","v":""},{"$f":"CONCATENATE(応募者名簿!H686)","v":""},{"$f":"CONCATENATE(応募者名簿!I686)","v":""}]
[{"$f":"応募者名簿!$B$8","v":0},{"$f":"CONCATENATE(応募者名簿!$B$11,応募者名簿!$D$11,応募者名簿!$E$11,応募者名簿!$I$11)","v":""},"半紙",{"$f":"CONCATENATE(応募者名簿!F687)","v":""},{"$f":"CONCATENATE(応募者名簿!G687)","v":""},{"$f":"CONCATENATE(応募者名簿!H687)","v":""},{"$f":"CONCATENATE(応募者名簿!I687)","v":""}]
[{"$f":"応募者名簿!$B$8","v":0},{"$f":"CONCATENATE(応募者名簿!$B$11,応募者名簿!$D$11,応募者名簿!$E$11,応募者名簿!$I$11)","v":""},"半紙",{"$f":"CONCATENATE(応募者名簿!F688)","v":""},{"$f":"CONCATENATE(応募者名簿!G688)","v":""},{"$f":"CONCATENATE(応募者名簿!H688)","v":""},{"$f":"CONCATENATE(応募者名簿!I688)","v":""}]
[{"$f":"応募者名簿!$B$8","v":0},{"$f":"CONCATENATE(応募者名簿!$B$11,応募者名簿!$D$11,応募者名簿!$E$11,応募者名簿!$I$11)","v":""},"半紙",{"$f":"CONCATENATE(応募者名簿!F689)","v":""},{"$f":"CONCATENATE(応募者名簿!G689)","v":""},{"$f":"CONCATENATE(応募者名簿!H689)","v":""},{"$f":"CONCATENATE(応募者名簿!I689)","v":""}]
[{"$f":"応募者名簿!$B$8","v":0},{"$f":"CONCATENATE(応募者名簿!$B$11,応募者名簿!$D$11,応募者名簿!$E$11,応募者名簿!$I$11)","v":""},"半紙",{"$f":"CONCATENATE(応募者名簿!F690)","v":""},{"$f":"CONCATENATE(応募者名簿!G690)","v":""},{"$f":"CONCATENATE(応募者名簿!H690)","v":""},{"$f":"CONCATENATE(応募者名簿!I690)","v":""}]
[{"$f":"応募者名簿!$B$8","v":0},{"$f":"CONCATENATE(応募者名簿!$B$11,応募者名簿!$D$11,応募者名簿!$E$11,応募者名簿!$I$11)","v":""},"半紙",{"$f":"CONCATENATE(応募者名簿!F691)","v":""},{"$f":"CONCATENATE(応募者名簿!G691)","v":""},{"$f":"CONCATENATE(応募者名簿!H691)","v":""},{"$f":"CONCATENATE(応募者名簿!I691)","v":""}]
[{"$f":"応募者名簿!$B$8","v":0},{"$f":"CONCATENATE(応募者名簿!$B$11,応募者名簿!$D$11,応募者名簿!$E$11,応募者名簿!$I$11)","v":""},"半紙",{"$f":"CONCATENATE(応募者名簿!F692)","v":""},{"$f":"CONCATENATE(応募者名簿!G692)","v":""},{"$f":"CONCATENATE(応募者名簿!H692)","v":""},{"$f":"CONCATENATE(応募者名簿!I692)","v":""}]
[{"$f":"応募者名簿!$B$8","v":0},{"$f":"CONCATENATE(応募者名簿!$B$11,応募者名簿!$D$11,応募者名簿!$E$11,応募者名簿!$I$11)","v":""},"半紙",{"$f":"CONCATENATE(応募者名簿!F693)","v":""},{"$f":"CONCATENATE(応募者名簿!G693)","v":""},{"$f":"CONCATENATE(応募者名簿!H693)","v":""},{"$f":"CONCATENATE(応募者名簿!I693)","v":""}]
[{"$f":"応募者名簿!$B$8","v":0},{"$f":"CONCATENATE(応募者名簿!$B$11,応募者名簿!$D$11,応募者名簿!$E$11,応募者名簿!$I$11)","v":""},"半紙",{"$f":"CONCATENATE(応募者名簿!F694)","v":""},{"$f":"CONCATENATE(応募者名簿!G694)","v":""},{"$f":"CONCATENATE(応募者名簿!H694)","v":""},{"$f":"CONCATENATE(応募者名簿!I694)","v":""}]
[{"$f":"応募者名簿!$B$8","v":0},{"$f":"CONCATENATE(応募者名簿!$B$11,応募者名簿!$D$11,応募者名簿!$E$11,応募者名簿!$I$11)","v":""},"半紙",{"$f":"CONCATENATE(応募者名簿!F695)","v":""},{"$f":"CONCATENATE(応募者名簿!G695)","v":""},{"$f":"CONCATENATE(応募者名簿!H695)","v":""},{"$f":"CONCATENATE(応募者名簿!I695)","v":""}]
[{"$f":"応募者名簿!$B$8","v":0},{"$f":"CONCATENATE(応募者名簿!$B$11,応募者名簿!$D$11,応募者名簿!$E$11,応募者名簿!$I$11)","v":""},"半紙",{"$f":"CONCATENATE(応募者名簿!F696)","v":""},{"$f":"CONCATENATE(応募者名簿!G696)","v":""},{"$f":"CONCATENATE(応募者名簿!H696)","v":""},{"$f":"CONCATENATE(応募者名簿!I696)","v":""}]
[{"$f":"応募者名簿!$B$8","v":0},{"$f":"CONCATENATE(応募者名簿!$B$11,応募者名簿!$D$11,応募者名簿!$E$11,応募者名簿!$I$11)","v":""},"半紙",{"$f":"CONCATENATE(応募者名簿!F697)","v":""},{"$f":"CONCATENATE(応募者名簿!G697)","v":""},{"$f":"CONCATENATE(応募者名簿!H697)","v":""},{"$f":"CONCATENATE(応募者名簿!I697)","v":""}]
[{"$f":"応募者名簿!$B$8","v":0},{"$f":"CONCATENATE(応募者名簿!$B$11,応募者名簿!$D$11,応募者名簿!$E$11,応募者名簿!$I$11)","v":""},"半紙",{"$f":"CONCATENATE(応募者名簿!F698)","v":""},{"$f":"CONCATENATE(応募者名簿!G698)","v":""},{"$f":"CONCATENATE(応募者名簿!H698)","v":""},{"$f":"CONCATENATE(応募者名簿!I698)","v":""}]
[{"$f":"応募者名簿!$B$8","v":0},{"$f":"CONCATENATE(応募者名簿!$B$11,応募者名簿!$D$11,応募者名簿!$E$11,応募者名簿!$I$11)","v":""},"半紙",{"$f":"CONCATENATE(応募者名簿!F699)","v":""},{"$f":"CONCATENATE(応募者名簿!G699)","v":""},{"$f":"CONCATENATE(応募者名簿!H699)","v":""},{"$f":"CONCATENATE(応募者名簿!I699)","v":""}]
[{"$f":"応募者名簿!$B$8","v":0},{"$f":"CONCATENATE(応募者名簿!$B$11,応募者名簿!$D$11,応募者名簿!$E$11,応募者名簿!$I$11)","v":""},"半紙",{"$f":"CONCATENATE(応募者名簿!F700)","v":""},{"$f":"CONCATENATE(応募者名簿!G700)","v":""},{"$f":"CONCATENATE(応募者名簿!H700)","v":""},{"$f":"CONCATENATE(応募者名簿!I700)","v":""}]
[{"$f":"応募者名簿!$B$8","v":0},{"$f":"CONCATENATE(応募者名簿!$B$11,応募者名簿!$D$11,応募者名簿!$E$11,応募者名簿!$I$11)","v":""},"半紙",{"$f":"CONCATENATE(応募者名簿!F701)","v":""},{"$f":"CONCATENATE(応募者名簿!G701)","v":""},{"$f":"CONCATENATE(応募者名簿!H701)","v":""},{"$f":"CONCATENATE(応募者名簿!I701)","v":""}]
[{"$f":"応募者名簿!$B$8","v":0},{"$f":"CONCATENATE(応募者名簿!$B$11,応募者名簿!$D$11,応募者名簿!$E$11,応募者名簿!$I$11)","v":""},"半紙",{"$f":"CONCATENATE(応募者名簿!F702)","v":""},{"$f":"CONCATENATE(応募者名簿!G702)","v":""},{"$f":"CONCATENATE(応募者名簿!H702)","v":""},{"$f":"CONCATENATE(応募者名簿!I702)","v":""}]
[{"$f":"応募者名簿!$B$8","v":0},{"$f":"CONCATENATE(応募者名簿!$B$11,応募者名簿!$D$11,応募者名簿!$E$11,応募者名簿!$I$11)","v":""},"半紙",{"$f":"CONCATENATE(応募者名簿!F703)","v":""},{"$f":"CONCATENATE(応募者名簿!G703)","v":""},{"$f":"CONCATENATE(応募者名簿!H703)","v":""},{"$f":"CONCATENATE(応募者名簿!I703)","v":""}]
[{"$f":"応募者名簿!$B$8","v":0},{"$f":"CONCATENATE(応募者名簿!$B$11,応募者名簿!$D$11,応募者名簿!$E$11,応募者名簿!$I$11)","v":""},"半紙",{"$f":"CONCATENATE(応募者名簿!F704)","v":""},{"$f":"CONCATENATE(応募者名簿!G704)","v":""},{"$f":"CONCATENATE(応募者名簿!H704)","v":""},{"$f":"CONCATENATE(応募者名簿!I704)","v":""}]
[{"$f":"応募者名簿!$B$8","v":0},{"$f":"CONCATENATE(応募者名簿!$B$11,応募者名簿!$D$11,応募者名簿!$E$11,応募者名簿!$I$11)","v":""},"半紙",{"$f":"CONCATENATE(応募者名簿!F705)","v":""},{"$f":"CONCATENATE(応募者名簿!G705)","v":""},{"$f":"CONCATENATE(応募者名簿!H705)","v":""},{"$f":"CONCATENATE(応募者名簿!I705)","v":""}]
[{"$f":"応募者名簿!$B$8","v":0},{"$f":"CONCATENATE(応募者名簿!$B$11,応募者名簿!$D$11,応募者名簿!$E$11,応募者名簿!$I$11)","v":""},"半紙",{"$f":"CONCATENATE(応募者名簿!F706)","v":""},{"$f":"CONCATENATE(応募者名簿!G706)","v":""},{"$f":"CONCATENATE(応募者名簿!H706)","v":""},{"$f":"CONCATENATE(応募者名簿!I706)","v":""}]
[{"$f":"応募者名簿!$B$8","v":0},{"$f":"CONCATENATE(応募者名簿!$B$11,応募者名簿!$D$11,応募者名簿!$E$11,応募者名簿!$I$11)","v":""},"半紙",{"$f":"CONCATENATE(応募者名簿!F707)","v":""},{"$f":"CONCATENATE(応募者名簿!G707)","v":""},{"$f":"CONCATENATE(応募者名簿!H707)","v":""},{"$f":"CONCATENATE(応募者名簿!I707)","v":""}]
[{"$f":"応募者名簿!$B$8","v":0},{"$f":"CONCATENATE(応募者名簿!$B$11,応募者名簿!$D$11,応募者名簿!$E$11,応募者名簿!$I$11)","v":""},"半紙",{"$f":"CONCATENATE(応募者名簿!F708)","v":""},{"$f":"CONCATENATE(応募者名簿!G708)","v":""},{"$f":"CONCATENATE(応募者名簿!H708)","v":""},{"$f":"CONCATENATE(応募者名簿!I708)","v":""}]
[{"$f":"応募者名簿!$B$8","v":0},{"$f":"CONCATENATE(応募者名簿!$B$11,応募者名簿!$D$11,応募者名簿!$E$11,応募者名簿!$I$11)","v":""},"半紙",{"$f":"CONCATENATE(応募者名簿!F709)","v":""},{"$f":"CONCATENATE(応募者名簿!G709)","v":""},{"$f":"CONCATENATE(応募者名簿!H709)","v":""},{"$f":"CONCATENATE(応募者名簿!I709)","v":""}]
[{"$f":"応募者名簿!$B$8","v":0},{"$f":"CONCATENATE(応募者名簿!$B$11,応募者名簿!$D$11,応募者名簿!$E$11,応募者名簿!$I$11)","v":""},"半紙",{"$f":"CONCATENATE(応募者名簿!F710)","v":""},{"$f":"CONCATENATE(応募者名簿!G710)","v":""},{"$f":"CONCATENATE(応募者名簿!H710)","v":""},{"$f":"CONCATENATE(応募者名簿!I710)","v":""}]
[{"$f":"応募者名簿!$B$8","v":0},{"$f":"CONCATENATE(応募者名簿!$B$11,応募者名簿!$D$11,応募者名簿!$E$11,応募者名簿!$I$11)","v":""},"半紙",{"$f":"CONCATENATE(応募者名簿!F711)","v":""},{"$f":"CONCATENATE(応募者名簿!G711)","v":""},{"$f":"CONCATENATE(応募者名簿!H711)","v":""},{"$f":"CONCATENATE(応募者名簿!I711)","v":""}]
[{"$f":"応募者名簿!$B$8","v":0},{"$f":"CONCATENATE(応募者名簿!$B$11,応募者名簿!$D$11,応募者名簿!$E$11,応募者名簿!$I$11)","v":""},"半紙",{"$f":"CONCATENATE(応募者名簿!F712)","v":""},{"$f":"CONCATENATE(応募者名簿!G712)","v":""},{"$f":"CONCATENATE(応募者名簿!H712)","v":""},{"$f":"CONCATENATE(応募者名簿!I712)","v":""}]
[{"$f":"応募者名簿!$B$8","v":0},{"$f":"CONCATENATE(応募者名簿!$B$11,応募者名簿!$D$11,応募者名簿!$E$11,応募者名簿!$I$11)","v":""},"半紙",{"$f":"CONCATENATE(応募者名簿!F713)","v":""},{"$f":"CONCATENATE(応募者名簿!G713)","v":""},{"$f":"CONCATENATE(応募者名簿!H713)","v":""},{"$f":"CONCATENATE(応募者名簿!I713)","v":""}]
[{"$f":"応募者名簿!$B$8","v":0},{"$f":"CONCATENATE(応募者名簿!$B$11,応募者名簿!$D$11,応募者名簿!$E$11,応募者名簿!$I$11)","v":""},"半紙",{"$f":"CONCATENATE(応募者名簿!F714)","v":""},{"$f":"CONCATENATE(応募者名簿!G714)","v":""},{"$f":"CONCATENATE(応募者名簿!H714)","v":""},{"$f":"CONCATENATE(応募者名簿!I714)","v":""}]
[{"$f":"応募者名簿!$B$8","v":0},{"$f":"CONCATENATE(応募者名簿!$B$11,応募者名簿!$D$11,応募者名簿!$E$11,応募者名簿!$I$11)","v":""},"半紙",{"$f":"CONCATENATE(応募者名簿!F715)","v":""},{"$f":"CONCATENATE(応募者名簿!G715)","v":""},{"$f":"CONCATENATE(応募者名簿!H715)","v":""},{"$f":"CONCATENATE(応募者名簿!I715)","v":""}]
[{"$f":"応募者名簿!$B$8","v":0},{"$f":"CONCATENATE(応募者名簿!$B$11,応募者名簿!$D$11,応募者名簿!$E$11,応募者名簿!$I$11)","v":""},"半紙",{"$f":"CONCATENATE(応募者名簿!F716)","v":""},{"$f":"CONCATENATE(応募者名簿!G716)","v":""},{"$f":"CONCATENATE(応募者名簿!H716)","v":""},{"$f":"CONCATENATE(応募者名簿!I716)","v":""}]
[{"$f":"応募者名簿!$B$8","v":0},{"$f":"CONCATENATE(応募者名簿!$B$11,応募者名簿!$D$11,応募者名簿!$E$11,応募者名簿!$I$11)","v":""},"半紙",{"$f":"CONCATENATE(応募者名簿!F717)","v":""},{"$f":"CONCATENATE(応募者名簿!G717)","v":""},{"$f":"CONCATENATE(応募者名簿!H717)","v":""},{"$f":"CONCATENATE(応募者名簿!I717)","v":""}]
[{"$f":"応募者名簿!$B$8","v":0},{"$f":"CONCATENATE(応募者名簿!$B$11,応募者名簿!$D$11,応募者名簿!$E$11,応募者名簿!$I$11)","v":""},"半紙",{"$f":"CONCATENATE(応募者名簿!F718)","v":""},{"$f":"CONCATENATE(応募者名簿!G718)","v":""},{"$f":"CONCATENATE(応募者名簿!H718)","v":""},{"$f":"CONCATENATE(応募者名簿!I718)","v":""}]
[{"$f":"応募者名簿!$B$8","v":0},{"$f":"CONCATENATE(応募者名簿!$B$11,応募者名簿!$D$11,応募者名簿!$E$11,応募者名簿!$I$11)","v":""},"半紙",{"$f":"CONCATENATE(応募者名簿!F719)","v":""},{"$f":"CONCATENATE(応募者名簿!G719)","v":""},{"$f":"CONCATENATE(応募者名簿!H719)","v":""},{"$f":"CONCATENATE(応募者名簿!I719)","v":""}]
[{"$f":"応募者名簿!$B$8","v":0},{"$f":"CONCATENATE(応募者名簿!$B$11,応募者名簿!$D$11,応募者名簿!$E$11,応募者名簿!$I$11)","v":""},"半紙",{"$f":"CONCATENATE(応募者名簿!F720)","v":""},{"$f":"CONCATENATE(応募者名簿!G720)","v":""},{"$f":"CONCATENATE(応募者名簿!H720)","v":""},{"$f":"CONCATENATE(応募者名簿!I720)","v":""}]
[{"$f":"応募者名簿!$B$8","v":0},{"$f":"CONCATENATE(応募者名簿!$B$11,応募者名簿!$D$11,応募者名簿!$E$11,応募者名簿!$I$11)","v":""},"半紙",{"$f":"CONCATENATE(応募者名簿!F721)","v":""},{"$f":"CONCATENATE(応募者名簿!G721)","v":""},{"$f":"CONCATENATE(応募者名簿!H721)","v":""},{"$f":"CONCATENATE(応募者名簿!I721)","v":""}]
[{"$f":"応募者名簿!$B$8","v":0},{"$f":"CONCATENATE(応募者名簿!$B$11,応募者名簿!$D$11,応募者名簿!$E$11,応募者名簿!$I$11)","v":""},"半紙",{"$f":"CONCATENATE(応募者名簿!F722)","v":""},{"$f":"CONCATENATE(応募者名簿!G722)","v":""},{"$f":"CONCATENATE(応募者名簿!H722)","v":""},{"$f":"CONCATENATE(応募者名簿!I722)","v":""}]
[{"$f":"応募者名簿!$B$8","v":0},{"$f":"CONCATENATE(応募者名簿!$B$11,応募者名簿!$D$11,応募者名簿!$E$11,応募者名簿!$I$11)","v":""},"半紙",{"$f":"CONCATENATE(応募者名簿!F723)","v":""},{"$f":"CONCATENATE(応募者名簿!G723)","v":""},{"$f":"CONCATENATE(応募者名簿!H723)","v":""},{"$f":"CONCATENATE(応募者名簿!I723)","v":""}]
[{"$f":"応募者名簿!$B$8","v":0},{"$f":"CONCATENATE(応募者名簿!$B$11,応募者名簿!$D$11,応募者名簿!$E$11,応募者名簿!$I$11)","v":""},"半紙",{"$f":"CONCATENATE(応募者名簿!F724)","v":""},{"$f":"CONCATENATE(応募者名簿!G724)","v":""},{"$f":"CONCATENATE(応募者名簿!H724)","v":""},{"$f":"CONCATENATE(応募者名簿!I724)","v":""}]
[{"$f":"応募者名簿!$B$8","v":0},{"$f":"CONCATENATE(応募者名簿!$B$11,応募者名簿!$D$11,応募者名簿!$E$11,応募者名簿!$I$11)","v":""},"半紙",{"$f":"CONCATENATE(応募者名簿!F725)","v":""},{"$f":"CONCATENATE(応募者名簿!G725)","v":""},{"$f":"CONCATENATE(応募者名簿!H725)","v":""},{"$f":"CONCATENATE(応募者名簿!I725)","v":""}]
[{"$f":"応募者名簿!$B$8","v":0},{"$f":"CONCATENATE(応募者名簿!$B$11,応募者名簿!$D$11,応募者名簿!$E$11,応募者名簿!$I$11)","v":""},"半紙",{"$f":"CONCATENATE(応募者名簿!F726)","v":""},{"$f":"CONCATENATE(応募者名簿!G726)","v":""},{"$f":"CONCATENATE(応募者名簿!H726)","v":""},{"$f":"CONCATENATE(応募者名簿!I726)","v":""}]
[{"$f":"応募者名簿!$B$8","v":0},{"$f":"CONCATENATE(応募者名簿!$B$11,応募者名簿!$D$11,応募者名簿!$E$11,応募者名簿!$I$11)","v":""},"半紙",{"$f":"CONCATENATE(応募者名簿!F727)","v":""},{"$f":"CONCATENATE(応募者名簿!G727)","v":""},{"$f":"CONCATENATE(応募者名簿!H727)","v":""},{"$f":"CONCATENATE(応募者名簿!I727)","v":""}]
[{"$f":"応募者名簿!$B$8","v":0},{"$f":"CONCATENATE(応募者名簿!$B$11,応募者名簿!$D$11,応募者名簿!$E$11,応募者名簿!$I$11)","v":""},"半紙",{"$f":"CONCATENATE(応募者名簿!F728)","v":""},{"$f":"CONCATENATE(応募者名簿!G728)","v":""},{"$f":"CONCATENATE(応募者名簿!H728)","v":""},{"$f":"CONCATENATE(応募者名簿!I728)","v":""}]
[{"$f":"応募者名簿!$B$8","v":0},{"$f":"CONCATENATE(応募者名簿!$B$11,応募者名簿!$D$11,応募者名簿!$E$11,応募者名簿!$I$11)","v":""},"半紙",{"$f":"CONCATENATE(応募者名簿!F729)","v":""},{"$f":"CONCATENATE(応募者名簿!G729)","v":""},{"$f":"CONCATENATE(応募者名簿!H729)","v":""},{"$f":"CONCATENATE(応募者名簿!I729)","v":""}]
[{"$f":"応募者名簿!$B$8","v":0},{"$f":"CONCATENATE(応募者名簿!$B$11,応募者名簿!$D$11,応募者名簿!$E$11,応募者名簿!$I$11)","v":""},"半紙",{"$f":"CONCATENATE(応募者名簿!F730)","v":""},{"$f":"CONCATENATE(応募者名簿!G730)","v":""},{"$f":"CONCATENATE(応募者名簿!H730)","v":""},{"$f":"CONCATENATE(応募者名簿!I730)","v":""}]
[{"$f":"応募者名簿!$B$8","v":0},{"$f":"CONCATENATE(応募者名簿!$B$11,応募者名簿!$D$11,応募者名簿!$E$11,応募者名簿!$I$11)","v":""},"半紙",{"$f":"CONCATENATE(応募者名簿!F731)","v":""},{"$f":"CONCATENATE(応募者名簿!G731)","v":""},{"$f":"CONCATENATE(応募者名簿!H731)","v":""},{"$f":"CONCATENATE(応募者名簿!I731)","v":""}]
[{"$f":"応募者名簿!$B$8","v":0},{"$f":"CONCATENATE(応募者名簿!$B$11,応募者名簿!$D$11,応募者名簿!$E$11,応募者名簿!$I$11)","v":""},"半紙",{"$f":"CONCATENATE(応募者名簿!F732)","v":""},{"$f":"CONCATENATE(応募者名簿!G732)","v":""},{"$f":"CONCATENATE(応募者名簿!H732)","v":""},{"$f":"CONCATENATE(応募者名簿!I732)","v":""}]
[{"$f":"応募者名簿!$B$8","v":0},{"$f":"CONCATENATE(応募者名簿!$B$11,応募者名簿!$D$11,応募者名簿!$E$11,応募者名簿!$I$11)","v":""},"半紙",{"$f":"CONCATENATE(応募者名簿!F733)","v":""},{"$f":"CONCATENATE(応募者名簿!G733)","v":""},{"$f":"CONCATENATE(応募者名簿!H733)","v":""},{"$f":"CONCATENATE(応募者名簿!I733)","v":""}]
[{"$f":"応募者名簿!$B$8","v":0},{"$f":"CONCATENATE(応募者名簿!$B$11,応募者名簿!$D$11,応募者名簿!$E$11,応募者名簿!$I$11)","v":""},"半紙",{"$f":"CONCATENATE(応募者名簿!F734)","v":""},{"$f":"CONCATENATE(応募者名簿!G734)","v":""},{"$f":"CONCATENATE(応募者名簿!H734)","v":""},{"$f":"CONCATENATE(応募者名簿!I734)","v":""}]
[{"$f":"応募者名簿!$B$8","v":0},{"$f":"CONCATENATE(応募者名簿!$B$11,応募者名簿!$D$11,応募者名簿!$E$11,応募者名簿!$I$11)","v":""},"半紙",{"$f":"CONCATENATE(応募者名簿!F735)","v":""},{"$f":"CONCATENATE(応募者名簿!G735)","v":""},{"$f":"CONCATENATE(応募者名簿!H735)","v":""},{"$f":"CONCATENATE(応募者名簿!I735)","v":""}]
[{"$f":"応募者名簿!$B$8","v":0},{"$f":"CONCATENATE(応募者名簿!$B$11,応募者名簿!$D$11,応募者名簿!$E$11,応募者名簿!$I$11)","v":""},"半紙",{"$f":"CONCATENATE(応募者名簿!F736)","v":""},{"$f":"CONCATENATE(応募者名簿!G736)","v":""},{"$f":"CONCATENATE(応募者名簿!H736)","v":""},{"$f":"CONCATENATE(応募者名簿!I736)","v":""}]
[{"$f":"応募者名簿!$B$8","v":0},{"$f":"CONCATENATE(応募者名簿!$B$11,応募者名簿!$D$11,応募者名簿!$E$11,応募者名簿!$I$11)","v":""},"半紙",{"$f":"CONCATENATE(応募者名簿!F737)","v":""},{"$f":"CONCATENATE(応募者名簿!G737)","v":""},{"$f":"CONCATENATE(応募者名簿!H737)","v":""},{"$f":"CONCATENATE(応募者名簿!I737)","v":""}]
[{"$f":"応募者名簿!$B$8","v":0},{"$f":"CONCATENATE(応募者名簿!$B$11,応募者名簿!$D$11,応募者名簿!$E$11,応募者名簿!$I$11)","v":""},"半紙",{"$f":"CONCATENATE(応募者名簿!F738)","v":""},{"$f":"CONCATENATE(応募者名簿!G738)","v":""},{"$f":"CONCATENATE(応募者名簿!H738)","v":""},{"$f":"CONCATENATE(応募者名簿!I738)","v":""}]
[{"$f":"応募者名簿!$B$8","v":0},{"$f":"CONCATENATE(応募者名簿!$B$11,応募者名簿!$D$11,応募者名簿!$E$11,応募者名簿!$I$11)","v":""},"半紙",{"$f":"CONCATENATE(応募者名簿!F739)","v":""},{"$f":"CONCATENATE(応募者名簿!G739)","v":""},{"$f":"CONCATENATE(応募者名簿!H739)","v":""},{"$f":"CONCATENATE(応募者名簿!I739)","v":""}]
[{"$f":"応募者名簿!$B$8","v":0},{"$f":"CONCATENATE(応募者名簿!$B$11,応募者名簿!$D$11,応募者名簿!$E$11,応募者名簿!$I$11)","v":""},"半紙",{"$f":"CONCATENATE(応募者名簿!F740)","v":""},{"$f":"CONCATENATE(応募者名簿!G740)","v":""},{"$f":"CONCATENATE(応募者名簿!H740)","v":""},{"$f":"CONCATENATE(応募者名簿!I740)","v":""}]
[{"$f":"応募者名簿!$B$8","v":0},{"$f":"CONCATENATE(応募者名簿!$B$11,応募者名簿!$D$11,応募者名簿!$E$11,応募者名簿!$I$11)","v":""},"半紙",{"$f":"CONCATENATE(応募者名簿!F741)","v":""},{"$f":"CONCATENATE(応募者名簿!G741)","v":""},{"$f":"CONCATENATE(応募者名簿!H741)","v":""},{"$f":"CONCATENATE(応募者名簿!I741)","v":""}]
[{"$f":"応募者名簿!$B$8","v":0},{"$f":"CONCATENATE(応募者名簿!$B$11,応募者名簿!$D$11,応募者名簿!$E$11,応募者名簿!$I$11)","v":""},"半紙",{"$f":"CONCATENATE(応募者名簿!F742)","v":""},{"$f":"CONCATENATE(応募者名簿!G742)","v":""},{"$f":"CONCATENATE(応募者名簿!H742)","v":""},{"$f":"CONCATENATE(応募者名簿!I742)","v":""}]
[{"$f":"応募者名簿!$B$8","v":0},{"$f":"CONCATENATE(応募者名簿!$B$11,応募者名簿!$D$11,応募者名簿!$E$11,応募者名簿!$I$11)","v":""},"半紙",{"$f":"CONCATENATE(応募者名簿!F743)","v":""},{"$f":"CONCATENATE(応募者名簿!G743)","v":""},{"$f":"CONCATENATE(応募者名簿!H743)","v":""},{"$f":"CONCATENATE(応募者名簿!I743)","v":""}]
[{"$f":"応募者名簿!$B$8","v":0},{"$f":"CONCATENATE(応募者名簿!$B$11,応募者名簿!$D$11,応募者名簿!$E$11,応募者名簿!$I$11)","v":""},"半紙",{"$f":"CONCATENATE(応募者名簿!F744)","v":""},{"$f":"CONCATENATE(応募者名簿!G744)","v":""},{"$f":"CONCATENATE(応募者名簿!H744)","v":""},{"$f":"CONCATENATE(応募者名簿!I744)","v":""}]
[{"$f":"応募者名簿!$B$8","v":0},{"$f":"CONCATENATE(応募者名簿!$B$11,応募者名簿!$D$11,応募者名簿!$E$11,応募者名簿!$I$11)","v":""},"半紙",{"$f":"CONCATENATE(応募者名簿!F745)","v":""},{"$f":"CONCATENATE(応募者名簿!G745)","v":""},{"$f":"CONCATENATE(応募者名簿!H745)","v":""},{"$f":"CONCATENATE(応募者名簿!I745)","v":""}]
[{"$f":"応募者名簿!$B$8","v":0},{"$f":"CONCATENATE(応募者名簿!$B$11,応募者名簿!$D$11,応募者名簿!$E$11,応募者名簿!$I$11)","v":""},"半紙",{"$f":"CONCATENATE(応募者名簿!F746)","v":""},{"$f":"CONCATENATE(応募者名簿!G746)","v":""},{"$f":"CONCATENATE(応募者名簿!H746)","v":""},{"$f":"CONCATENATE(応募者名簿!I746)","v":""}]
[{"$f":"応募者名簿!$B$8","v":0},{"$f":"CONCATENATE(応募者名簿!$B$11,応募者名簿!$D$11,応募者名簿!$E$11,応募者名簿!$I$11)","v":""},"半紙",{"$f":"CONCATENATE(応募者名簿!F747)","v":""},{"$f":"CONCATENATE(応募者名簿!G747)","v":""},{"$f":"CONCATENATE(応募者名簿!H747)","v":""},{"$f":"CONCATENATE(応募者名簿!I747)","v":""}]
[{"$f":"応募者名簿!$B$8","v":0},{"$f":"CONCATENATE(応募者名簿!$B$11,応募者名簿!$D$11,応募者名簿!$E$11,応募者名簿!$I$11)","v":""},"半紙",{"$f":"CONCATENATE(応募者名簿!F748)","v":""},{"$f":"CONCATENATE(応募者名簿!G748)","v":""},{"$f":"CONCATENATE(応募者名簿!H748)","v":""},{"$f":"CONCATENATE(応募者名簿!I748)","v":""}]
[{"$f":"応募者名簿!$B$8","v":0},{"$f":"CONCATENATE(応募者名簿!$B$11,応募者名簿!$D$11,応募者名簿!$E$11,応募者名簿!$I$11)","v":""},"半紙",{"$f":"CONCATENATE(応募者名簿!F749)","v":""},{"$f":"CONCATENATE(応募者名簿!G749)","v":""},{"$f":"CONCATENATE(応募者名簿!H749)","v":""},{"$f":"CONCATENATE(応募者名簿!I749)","v":""}]
[{"$f":"応募者名簿!$B$8","v":0},{"$f":"CONCATENATE(応募者名簿!$B$11,応募者名簿!$D$11,応募者名簿!$E$11,応募者名簿!$I$11)","v":""},"半紙",{"$f":"CONCATENATE(応募者名簿!F750)","v":""},{"$f":"CONCATENATE(応募者名簿!G750)","v":""},{"$f":"CONCATENATE(応募者名簿!H750)","v":""},{"$f":"CONCATENATE(応募者名簿!I750)","v":""}]
[{"$f":"応募者名簿!$B$8","v":0},{"$f":"CONCATENATE(応募者名簿!$B$11,応募者名簿!$D$11,応募者名簿!$E$11,応募者名簿!$I$11)","v":""},"半紙",{"$f":"CONCATENATE(応募者名簿!F751)","v":""},{"$f":"CONCATENATE(応募者名簿!G751)","v":""},{"$f":"CONCATENATE(応募者名簿!H751)","v":""},{"$f":"CONCATENATE(応募者名簿!I751)","v":""}]
[{"$f":"応募者名簿!$B$8","v":0},{"$f":"CONCATENATE(応募者名簿!$B$11,応募者名簿!$D$11,応募者名簿!$E$11,応募者名簿!$I$11)","v":""},"半紙",{"$f":"CONCATENATE(応募者名簿!F752)","v":""},{"$f":"CONCATENATE(応募者名簿!G752)","v":""},{"$f":"CONCATENATE(応募者名簿!H752)","v":""},{"$f":"CONCATENATE(応募者名簿!I752)","v":""}]
[{"$f":"応募者名簿!$B$8","v":0},{"$f":"CONCATENATE(応募者名簿!$B$11,応募者名簿!$D$11,応募者名簿!$E$11,応募者名簿!$I$11)","v":""},"半紙",{"$f":"CONCATENATE(応募者名簿!F753)","v":""},{"$f":"CONCATENATE(応募者名簿!G753)","v":""},{"$f":"CONCATENATE(応募者名簿!H753)","v":""},{"$f":"CONCATENATE(応募者名簿!I753)","v":""}]
[{"$f":"応募者名簿!$B$8","v":0},{"$f":"CONCATENATE(応募者名簿!$B$11,応募者名簿!$D$11,応募者名簿!$E$11,応募者名簿!$I$11)","v":""},"半紙",{"$f":"CONCATENATE(応募者名簿!F754)","v":""},{"$f":"CONCATENATE(応募者名簿!G754)","v":""},{"$f":"CONCATENATE(応募者名簿!H754)","v":""},{"$f":"CONCATENATE(応募者名簿!I754)","v":""}]
[{"$f":"応募者名簿!$B$8","v":0},{"$f":"CONCATENATE(応募者名簿!$B$11,応募者名簿!$D$11,応募者名簿!$E$11,応募者名簿!$I$11)","v":""},"半紙",{"$f":"CONCATENATE(応募者名簿!F755)","v":""},{"$f":"CONCATENATE(応募者名簿!G755)","v":""},{"$f":"CONCATENATE(応募者名簿!H755)","v":""},{"$f":"CONCATENATE(応募者名簿!I755)","v":""}]
[{"$f":"応募者名簿!$B$8","v":0},{"$f":"CONCATENATE(応募者名簿!$B$11,応募者名簿!$D$11,応募者名簿!$E$11,応募者名簿!$I$11)","v":""},"半紙",{"$f":"CONCATENATE(応募者名簿!F756)","v":""},{"$f":"CONCATENATE(応募者名簿!G756)","v":""},{"$f":"CONCATENATE(応募者名簿!H756)","v":""},{"$f":"CONCATENATE(応募者名簿!I756)","v":""}]
[{"$f":"応募者名簿!$B$8","v":0},{"$f":"CONCATENATE(応募者名簿!$B$11,応募者名簿!$D$11,応募者名簿!$E$11,応募者名簿!$I$11)","v":""},"半紙",{"$f":"CONCATENATE(応募者名簿!F757)","v":""},{"$f":"CONCATENATE(応募者名簿!G757)","v":""},{"$f":"CONCATENATE(応募者名簿!H757)","v":""},{"$f":"CONCATENATE(応募者名簿!I757)","v":""}]
[{"$f":"応募者名簿!$B$8","v":0},{"$f":"CONCATENATE(応募者名簿!$B$11,応募者名簿!$D$11,応募者名簿!$E$11,応募者名簿!$I$11)","v":""},"半紙",{"$f":"CONCATENATE(応募者名簿!F758)","v":""},{"$f":"CONCATENATE(応募者名簿!G758)","v":""},{"$f":"CONCATENATE(応募者名簿!H758)","v":""},{"$f":"CONCATENATE(応募者名簿!I758)","v":""}]
[{"$f":"応募者名簿!$B$8","v":0},{"$f":"CONCATENATE(応募者名簿!$B$11,応募者名簿!$D$11,応募者名簿!$E$11,応募者名簿!$I$11)","v":""},"半紙",{"$f":"CONCATENATE(応募者名簿!F759)","v":""},{"$f":"CONCATENATE(応募者名簿!G759)","v":""},{"$f":"CONCATENATE(応募者名簿!H759)","v":""},{"$f":"CONCATENATE(応募者名簿!I759)","v":""}]
[{"$f":"応募者名簿!$B$8","v":0},{"$f":"CONCATENATE(応募者名簿!$B$11,応募者名簿!$D$11,応募者名簿!$E$11,応募者名簿!$I$11)","v":""},"半紙",{"$f":"CONCATENATE(応募者名簿!F760)","v":""},{"$f":"CONCATENATE(応募者名簿!G760)","v":""},{"$f":"CONCATENATE(応募者名簿!H760)","v":""},{"$f":"CONCATENATE(応募者名簿!I760)","v":""}]
[{"$f":"応募者名簿!$B$8","v":0},{"$f":"CONCATENATE(応募者名簿!$B$11,応募者名簿!$D$11,応募者名簿!$E$11,応募者名簿!$I$11)","v":""},"半紙",{"$f":"CONCATENATE(応募者名簿!F761)","v":""},{"$f":"CONCATENATE(応募者名簿!G761)","v":""},{"$f":"CONCATENATE(応募者名簿!H761)","v":""},{"$f":"CONCATENATE(応募者名簿!I761)","v":""}]
[{"$f":"応募者名簿!$B$8","v":0},{"$f":"CONCATENATE(応募者名簿!$B$11,応募者名簿!$D$11,応募者名簿!$E$11,応募者名簿!$I$11)","v":""},"半紙",{"$f":"CONCATENATE(応募者名簿!F762)","v":""},{"$f":"CONCATENATE(応募者名簿!G762)","v":""},{"$f":"CONCATENATE(応募者名簿!H762)","v":""},{"$f":"CONCATENATE(応募者名簿!I762)","v":""}]
[{"$f":"応募者名簿!$B$8","v":0},{"$f":"CONCATENATE(応募者名簿!$B$11,応募者名簿!$D$11,応募者名簿!$E$11,応募者名簿!$I$11)","v":""},"半紙",{"$f":"CONCATENATE(応募者名簿!F763)","v":""},{"$f":"CONCATENATE(応募者名簿!G763)","v":""},{"$f":"CONCATENATE(応募者名簿!H763)","v":""},{"$f":"CONCATENATE(応募者名簿!I763)","v":""}]
[{"$f":"応募者名簿!$B$8","v":0},{"$f":"CONCATENATE(応募者名簿!$B$11,応募者名簿!$D$11,応募者名簿!$E$11,応募者名簿!$I$11)","v":""},"半紙",{"$f":"CONCATENATE(応募者名簿!F764)","v":""},{"$f":"CONCATENATE(応募者名簿!G764)","v":""},{"$f":"CONCATENATE(応募者名簿!H764)","v":""},{"$f":"CONCATENATE(応募者名簿!I764)","v":""}]
[{"$f":"応募者名簿!$B$8","v":0},{"$f":"CONCATENATE(応募者名簿!$B$11,応募者名簿!$D$11,応募者名簿!$E$11,応募者名簿!$I$11)","v":""},"半紙",{"$f":"CONCATENATE(応募者名簿!F765)","v":""},{"$f":"CONCATENATE(応募者名簿!G765)","v":""},{"$f":"CONCATENATE(応募者名簿!H765)","v":""},{"$f":"CONCATENATE(応募者名簿!I765)","v":""}]
[{"$f":"応募者名簿!$B$8","v":0},{"$f":"CONCATENATE(応募者名簿!$B$11,応募者名簿!$D$11,応募者名簿!$E$11,応募者名簿!$I$11)","v":""},"半紙",{"$f":"CONCATENATE(応募者名簿!F766)","v":""},{"$f":"CONCATENATE(応募者名簿!G766)","v":""},{"$f":"CONCATENATE(応募者名簿!H766)","v":""},{"$f":"CONCATENATE(応募者名簿!I766)","v":""}]
[{"$f":"応募者名簿!$B$8","v":0},{"$f":"CONCATENATE(応募者名簿!$B$11,応募者名簿!$D$11,応募者名簿!$E$11,応募者名簿!$I$11)","v":""},"半紙",{"$f":"CONCATENATE(応募者名簿!F767)","v":""},{"$f":"CONCATENATE(応募者名簿!G767)","v":""},{"$f":"CONCATENATE(応募者名簿!H767)","v":""},{"$f":"CONCATENATE(応募者名簿!I767)","v":""}]
[{"$f":"応募者名簿!$B$8","v":0},{"$f":"CONCATENATE(応募者名簿!$B$11,応募者名簿!$D$11,応募者名簿!$E$11,応募者名簿!$I$11)","v":""},"半紙",{"$f":"CONCATENATE(応募者名簿!F768)","v":""},{"$f":"CONCATENATE(応募者名簿!G768)","v":""},{"$f":"CONCATENATE(応募者名簿!H768)","v":""},{"$f":"CONCATENATE(応募者名簿!I768)","v":""}]
[{"$f":"応募者名簿!$B$8","v":0},{"$f":"CONCATENATE(応募者名簿!$B$11,応募者名簿!$D$11,応募者名簿!$E$11,応募者名簿!$I$11)","v":""},"半紙",{"$f":"CONCATENATE(応募者名簿!F769)","v":""},{"$f":"CONCATENATE(応募者名簿!G769)","v":""},{"$f":"CONCATENATE(応募者名簿!H769)","v":""},{"$f":"CONCATENATE(応募者名簿!I769)","v":""}]
[{"$f":"応募者名簿!$B$8","v":0},{"$f":"CONCATENATE(応募者名簿!$B$11,応募者名簿!$D$11,応募者名簿!$E$11,応募者名簿!$I$11)","v":""},"半紙",{"$f":"CONCATENATE(応募者名簿!F770)","v":""},{"$f":"CONCATENATE(応募者名簿!G770)","v":""},{"$f":"CONCATENATE(応募者名簿!H770)","v":""},{"$f":"CONCATENATE(応募者名簿!I770)","v":""}]
[{"$f":"応募者名簿!$B$8","v":0},{"$f":"CONCATENATE(応募者名簿!$B$11,応募者名簿!$D$11,応募者名簿!$E$11,応募者名簿!$I$11)","v":""},"半紙",{"$f":"CONCATENATE(応募者名簿!F771)","v":""},{"$f":"CONCATENATE(応募者名簿!G771)","v":""},{"$f":"CONCATENATE(応募者名簿!H771)","v":""},{"$f":"CONCATENATE(応募者名簿!I771)","v":""}]
[{"$f":"応募者名簿!$B$8","v":0},{"$f":"CONCATENATE(応募者名簿!$B$11,応募者名簿!$D$11,応募者名簿!$E$11,応募者名簿!$I$11)","v":""},"半紙",{"$f":"CONCATENATE(応募者名簿!F772)","v":""},{"$f":"CONCATENATE(応募者名簿!G772)","v":""},{"$f":"CONCATENATE(応募者名簿!H772)","v":""},{"$f":"CONCATENATE(応募者名簿!I772)","v":""}]
[{"$f":"応募者名簿!$B$8","v":0},{"$f":"CONCATENATE(応募者名簿!$B$11,応募者名簿!$D$11,応募者名簿!$E$11,応募者名簿!$I$11)","v":""},"半紙",{"$f":"CONCATENATE(応募者名簿!F773)","v":""},{"$f":"CONCATENATE(応募者名簿!G773)","v":""},{"$f":"CONCATENATE(応募者名簿!H773)","v":""},{"$f":"CONCATENATE(応募者名簿!I773)","v":""}]
[{"$f":"応募者名簿!$B$8","v":0},{"$f":"CONCATENATE(応募者名簿!$B$11,応募者名簿!$D$11,応募者名簿!$E$11,応募者名簿!$I$11)","v":""},"半紙",{"$f":"CONCATENATE(応募者名簿!F774)","v":""},{"$f":"CONCATENATE(応募者名簿!G774)","v":""},{"$f":"CONCATENATE(応募者名簿!H774)","v":""},{"$f":"CONCATENATE(応募者名簿!I774)","v":""}]
[{"$f":"応募者名簿!$B$8","v":0},{"$f":"CONCATENATE(応募者名簿!$B$11,応募者名簿!$D$11,応募者名簿!$E$11,応募者名簿!$I$11)","v":""},"半紙",{"$f":"CONCATENATE(応募者名簿!F775)","v":""},{"$f":"CONCATENATE(応募者名簿!G775)","v":""},{"$f":"CONCATENATE(応募者名簿!H775)","v":""},{"$f":"CONCATENATE(応募者名簿!I775)","v":""}]
[{"$f":"応募者名簿!$B$8","v":0},{"$f":"CONCATENATE(応募者名簿!$B$11,応募者名簿!$D$11,応募者名簿!$E$11,応募者名簿!$I$11)","v":""},"半紙",{"$f":"CONCATENATE(応募者名簿!F776)","v":""},{"$f":"CONCATENATE(応募者名簿!G776)","v":""},{"$f":"CONCATENATE(応募者名簿!H776)","v":""},{"$f":"CONCATENATE(応募者名簿!I776)","v":""}]
[{"$f":"応募者名簿!$B$8","v":0},{"$f":"CONCATENATE(応募者名簿!$B$11,応募者名簿!$D$11,応募者名簿!$E$11,応募者名簿!$I$11)","v":""},"半紙",{"$f":"CONCATENATE(応募者名簿!F777)","v":""},{"$f":"CONCATENATE(応募者名簿!G777)","v":""},{"$f":"CONCATENATE(応募者名簿!H777)","v":""},{"$f":"CONCATENATE(応募者名簿!I777)","v":""}]
[{"$f":"応募者名簿!$B$8","v":0},{"$f":"CONCATENATE(応募者名簿!$B$11,応募者名簿!$D$11,応募者名簿!$E$11,応募者名簿!$I$11)","v":""},"半紙",{"$f":"CONCATENATE(応募者名簿!F778)","v":""},{"$f":"CONCATENATE(応募者名簿!G778)","v":""},{"$f":"CONCATENATE(応募者名簿!H778)","v":""},{"$f":"CONCATENATE(応募者名簿!I778)","v":""}]
[{"$f":"応募者名簿!$B$8","v":0},{"$f":"CONCATENATE(応募者名簿!$B$11,応募者名簿!$D$11,応募者名簿!$E$11,応募者名簿!$I$11)","v":""},"半紙",{"$f":"CONCATENATE(応募者名簿!F779)","v":""},{"$f":"CONCATENATE(応募者名簿!G779)","v":""},{"$f":"CONCATENATE(応募者名簿!H779)","v":""},{"$f":"CONCATENATE(応募者名簿!I779)","v":""}]
[{"$f":"応募者名簿!$B$8","v":0},{"$f":"CONCATENATE(応募者名簿!$B$11,応募者名簿!$D$11,応募者名簿!$E$11,応募者名簿!$I$11)","v":""},"半紙",{"$f":"CONCATENATE(応募者名簿!F780)","v":""},{"$f":"CONCATENATE(応募者名簿!G780)","v":""},{"$f":"CONCATENATE(応募者名簿!H780)","v":""},{"$f":"CONCATENATE(応募者名簿!I780)","v":""}]
[{"$f":"応募者名簿!$B$8","v":0},{"$f":"CONCATENATE(応募者名簿!$B$11,応募者名簿!$D$11,応募者名簿!$E$11,応募者名簿!$I$11)","v":""},"半紙",{"$f":"CONCATENATE(応募者名簿!F781)","v":""},{"$f":"CONCATENATE(応募者名簿!G781)","v":""},{"$f":"CONCATENATE(応募者名簿!H781)","v":""},{"$f":"CONCATENATE(応募者名簿!I781)","v":""}]
[{"$f":"応募者名簿!$B$8","v":0},{"$f":"CONCATENATE(応募者名簿!$B$11,応募者名簿!$D$11,応募者名簿!$E$11,応募者名簿!$I$11)","v":""},"半紙",{"$f":"CONCATENATE(応募者名簿!F782)","v":""},{"$f":"CONCATENATE(応募者名簿!G782)","v":""},{"$f":"CONCATENATE(応募者名簿!H782)","v":""},{"$f":"CONCATENATE(応募者名簿!I782)","v":""}]
[{"$f":"応募者名簿!$B$8","v":0},{"$f":"CONCATENATE(応募者名簿!$B$11,応募者名簿!$D$11,応募者名簿!$E$11,応募者名簿!$I$11)","v":""},"半紙",{"$f":"CONCATENATE(応募者名簿!F783)","v":""},{"$f":"CONCATENATE(応募者名簿!G783)","v":""},{"$f":"CONCATENATE(応募者名簿!H783)","v":""},{"$f":"CONCATENATE(応募者名簿!I783)","v":""}]
[{"$f":"応募者名簿!$B$8","v":0},{"$f":"CONCATENATE(応募者名簿!$B$11,応募者名簿!$D$11,応募者名簿!$E$11,応募者名簿!$I$11)","v":""},"半紙",{"$f":"CONCATENATE(応募者名簿!F784)","v":""},{"$f":"CONCATENATE(応募者名簿!G784)","v":""},{"$f":"CONCATENATE(応募者名簿!H784)","v":""},{"$f":"CONCATENATE(応募者名簿!I784)","v":""}]
[{"$f":"応募者名簿!$B$8","v":0},{"$f":"CONCATENATE(応募者名簿!$B$11,応募者名簿!$D$11,応募者名簿!$E$11,応募者名簿!$I$11)","v":""},"半紙",{"$f":"CONCATENATE(応募者名簿!F785)","v":""},{"$f":"CONCATENATE(応募者名簿!G785)","v":""},{"$f":"CONCATENATE(応募者名簿!H785)","v":""},{"$f":"CONCATENATE(応募者名簿!I785)","v":""}]
[{"$f":"応募者名簿!$B$8","v":0},{"$f":"CONCATENATE(応募者名簿!$B$11,応募者名簿!$D$11,応募者名簿!$E$11,応募者名簿!$I$11)","v":""},"半紙",{"$f":"CONCATENATE(応募者名簿!F786)","v":""},{"$f":"CONCATENATE(応募者名簿!G786)","v":""},{"$f":"CONCATENATE(応募者名簿!H786)","v":""},{"$f":"CONCATENATE(応募者名簿!I786)","v":""}]
[{"$f":"応募者名簿!$B$8","v":0},{"$f":"CONCATENATE(応募者名簿!$B$11,応募者名簿!$D$11,応募者名簿!$E$11,応募者名簿!$I$11)","v":""},"半紙",{"$f":"CONCATENATE(応募者名簿!F787)","v":""},{"$f":"CONCATENATE(応募者名簿!G787)","v":""},{"$f":"CONCATENATE(応募者名簿!H787)","v":""},{"$f":"CONCATENATE(応募者名簿!I787)","v":""}]
[{"$f":"応募者名簿!$B$8","v":0},{"$f":"CONCATENATE(応募者名簿!$B$11,応募者名簿!$D$11,応募者名簿!$E$11,応募者名簿!$I$11)","v":""},"半紙",{"$f":"CONCATENATE(応募者名簿!F788)","v":""},{"$f":"CONCATENATE(応募者名簿!G788)","v":""},{"$f":"CONCATENATE(応募者名簿!H788)","v":""},{"$f":"CONCATENATE(応募者名簿!I788)","v":""}]
[{"$f":"応募者名簿!$B$8","v":0},{"$f":"CONCATENATE(応募者名簿!$B$11,応募者名簿!$D$11,応募者名簿!$E$11,応募者名簿!$I$11)","v":""},"半紙",{"$f":"CONCATENATE(応募者名簿!F789)","v":""},{"$f":"CONCATENATE(応募者名簿!G789)","v":""},{"$f":"CONCATENATE(応募者名簿!H789)","v":""},{"$f":"CONCATENATE(応募者名簿!I789)","v":""}]
[{"$f":"応募者名簿!$B$8","v":0},{"$f":"CONCATENATE(応募者名簿!$B$11,応募者名簿!$D$11,応募者名簿!$E$11,応募者名簿!$I$11)","v":""},"半紙",{"$f":"CONCATENATE(応募者名簿!F790)","v":""},{"$f":"CONCATENATE(応募者名簿!G790)","v":""},{"$f":"CONCATENATE(応募者名簿!H790)","v":""},{"$f":"CONCATENATE(応募者名簿!I790)","v":""}]
[{"$f":"応募者名簿!$B$8","v":0},{"$f":"CONCATENATE(応募者名簿!$B$11,応募者名簿!$D$11,応募者名簿!$E$11,応募者名簿!$I$11)","v":""},"半紙",{"$f":"CONCATENATE(応募者名簿!F791)","v":""},{"$f":"CONCATENATE(応募者名簿!G791)","v":""},{"$f":"CONCATENATE(応募者名簿!H791)","v":""},{"$f":"CONCATENATE(応募者名簿!I791)","v":""}]
[{"$f":"応募者名簿!$B$8","v":0},{"$f":"CONCATENATE(応募者名簿!$B$11,応募者名簿!$D$11,応募者名簿!$E$11,応募者名簿!$I$11)","v":""},"半紙",{"$f":"CONCATENATE(応募者名簿!F792)","v":""},{"$f":"CONCATENATE(応募者名簿!G792)","v":""},{"$f":"CONCATENATE(応募者名簿!H792)","v":""},{"$f":"CONCATENATE(応募者名簿!I792)","v":""}]
[{"$f":"応募者名簿!$B$8","v":0},{"$f":"CONCATENATE(応募者名簿!$B$11,応募者名簿!$D$11,応募者名簿!$E$11,応募者名簿!$I$11)","v":""},"半紙",{"$f":"CONCATENATE(応募者名簿!F793)","v":""},{"$f":"CONCATENATE(応募者名簿!G793)","v":""},{"$f":"CONCATENATE(応募者名簿!H793)","v":""},{"$f":"CONCATENATE(応募者名簿!I793)","v":""}]
[{"$f":"応募者名簿!$B$8","v":0},{"$f":"CONCATENATE(応募者名簿!$B$11,応募者名簿!$D$11,応募者名簿!$E$11,応募者名簿!$I$11)","v":""},"半紙",{"$f":"CONCATENATE(応募者名簿!F794)","v":""},{"$f":"CONCATENATE(応募者名簿!G794)","v":""},{"$f":"CONCATENATE(応募者名簿!H794)","v":""},{"$f":"CONCATENATE(応募者名簿!I794)","v":""}]
[{"$f":"応募者名簿!$B$8","v":0},{"$f":"CONCATENATE(応募者名簿!$B$11,応募者名簿!$D$11,応募者名簿!$E$11,応募者名簿!$I$11)","v":""},"半紙",{"$f":"CONCATENATE(応募者名簿!F795)","v":""},{"$f":"CONCATENATE(応募者名簿!G795)","v":""},{"$f":"CONCATENATE(応募者名簿!H795)","v":""},{"$f":"CONCATENATE(応募者名簿!I795)","v":""}]
[{"$f":"応募者名簿!$B$8","v":0},{"$f":"CONCATENATE(応募者名簿!$B$11,応募者名簿!$D$11,応募者名簿!$E$11,応募者名簿!$I$11)","v":""},"半紙",{"$f":"CONCATENATE(応募者名簿!F796)","v":""},{"$f":"CONCATENATE(応募者名簿!G796)","v":""},{"$f":"CONCATENATE(応募者名簿!H796)","v":""},{"$f":"CONCATENATE(応募者名簿!I796)","v":""}]
[{"$f":"応募者名簿!$B$8","v":0},{"$f":"CONCATENATE(応募者名簿!$B$11,応募者名簿!$D$11,応募者名簿!$E$11,応募者名簿!$I$11)","v":""},"半紙",{"$f":"CONCATENATE(応募者名簿!F797)","v":""},{"$f":"CONCATENATE(応募者名簿!G797)","v":""},{"$f":"CONCATENATE(応募者名簿!H797)","v":""},{"$f":"CONCATENATE(応募者名簿!I797)","v":""}]
[{"$f":"応募者名簿!$B$8","v":0},{"$f":"CONCATENATE(応募者名簿!$B$11,応募者名簿!$D$11,応募者名簿!$E$11,応募者名簿!$I$11)","v":""},"半紙",{"$f":"CONCATENATE(応募者名簿!F798)","v":""},{"$f":"CONCATENATE(応募者名簿!G798)","v":""},{"$f":"CONCATENATE(応募者名簿!H798)","v":""},{"$f":"CONCATENATE(応募者名簿!I798)","v":""}]
[{"$f":"応募者名簿!$B$8","v":0},{"$f":"CONCATENATE(応募者名簿!$B$11,応募者名簿!$D$11,応募者名簿!$E$11,応募者名簿!$I$11)","v":""},"半紙",{"$f":"CONCATENATE(応募者名簿!F799)","v":""},{"$f":"CONCATENATE(応募者名簿!G799)","v":""},{"$f":"CONCATENATE(応募者名簿!H799)","v":""},{"$f":"CONCATENATE(応募者名簿!I799)","v":""}]
[{"$f":"応募者名簿!$B$8","v":0},{"$f":"CONCATENATE(応募者名簿!$B$11,応募者名簿!$D$11,応募者名簿!$E$11,応募者名簿!$I$11)","v":""},"半紙",{"$f":"CONCATENATE(応募者名簿!F800)","v":""},{"$f":"CONCATENATE(応募者名簿!G800)","v":""},{"$f":"CONCATENATE(応募者名簿!H800)","v":""},{"$f":"CONCATENATE(応募者名簿!I800)","v":""}]
[{"$f":"応募者名簿!$B$8","v":0},{"$f":"CONCATENATE(応募者名簿!$B$11,応募者名簿!$D$11,応募者名簿!$E$11,応募者名簿!$I$11)","v":""},"半紙",{"$f":"CONCATENATE(応募者名簿!F801)","v":""},{"$f":"CONCATENATE(応募者名簿!G801)","v":""},{"$f":"CONCATENATE(応募者名簿!H801)","v":""},{"$f":"CONCATENATE(応募者名簿!I801)","v":""}]
[{"$f":"応募者名簿!$B$8","v":0},{"$f":"CONCATENATE(応募者名簿!$B$11,応募者名簿!$D$11,応募者名簿!$E$11,応募者名簿!$I$11)","v":""},"半紙",{"$f":"CONCATENATE(応募者名簿!F802)","v":""},{"$f":"CONCATENATE(応募者名簿!G802)","v":""},{"$f":"CONCATENATE(応募者名簿!H802)","v":""},{"$f":"CONCATENATE(応募者名簿!I802)","v":""}]
[{"$f":"応募者名簿!$B$8","v":0},{"$f":"CONCATENATE(応募者名簿!$B$11,応募者名簿!$D$11,応募者名簿!$E$11,応募者名簿!$I$11)","v":""},"半紙",{"$f":"CONCATENATE(応募者名簿!F803)","v":""},{"$f":"CONCATENATE(応募者名簿!G803)","v":""},{"$f":"CONCATENATE(応募者名簿!H803)","v":""},{"$f":"CONCATENATE(応募者名簿!I803)","v":""}]
[{"$f":"応募者名簿!$B$8","v":0},{"$f":"CONCATENATE(応募者名簿!$B$11,応募者名簿!$D$11,応募者名簿!$E$11,応募者名簿!$I$11)","v":""},"半紙",{"$f":"CONCATENATE(応募者名簿!F804)","v":""},{"$f":"CONCATENATE(応募者名簿!G804)","v":""},{"$f":"CONCATENATE(応募者名簿!H804)","v":""},{"$f":"CONCATENATE(応募者名簿!I804)","v":""}]
[{"$f":"応募者名簿!$B$8","v":0},{"$f":"CONCATENATE(応募者名簿!$B$11,応募者名簿!$D$11,応募者名簿!$E$11,応募者名簿!$I$11)","v":""},"半紙",{"$f":"CONCATENATE(応募者名簿!F805)","v":""},{"$f":"CONCATENATE(応募者名簿!G805)","v":""},{"$f":"CONCATENATE(応募者名簿!H805)","v":""},{"$f":"CONCATENATE(応募者名簿!I805)","v":""}]
[{"$f":"応募者名簿!$B$8","v":0},{"$f":"CONCATENATE(応募者名簿!$B$11,応募者名簿!$D$11,応募者名簿!$E$11,応募者名簿!$I$11)","v":""},"半紙",{"$f":"CONCATENATE(応募者名簿!F806)","v":""},{"$f":"CONCATENATE(応募者名簿!G806)","v":""},{"$f":"CONCATENATE(応募者名簿!H806)","v":""},{"$f":"CONCATENATE(応募者名簿!I806)","v":""}]
[{"$f":"応募者名簿!$B$8","v":0},{"$f":"CONCATENATE(応募者名簿!$B$11,応募者名簿!$D$11,応募者名簿!$E$11,応募者名簿!$I$11)","v":""},"半紙",{"$f":"CONCATENATE(応募者名簿!F807)","v":""},{"$f":"CONCATENATE(応募者名簿!G807)","v":""},{"$f":"CONCATENATE(応募者名簿!H807)","v":""},{"$f":"CONCATENATE(応募者名簿!I807)","v":""}]
[{"$f":"応募者名簿!$B$8","v":0},{"$f":"CONCATENATE(応募者名簿!$B$11,応募者名簿!$D$11,応募者名簿!$E$11,応募者名簿!$I$11)","v":""},"半紙",{"$f":"CONCATENATE(応募者名簿!F808)","v":""},{"$f":"CONCATENATE(応募者名簿!G808)","v":""},{"$f":"CONCATENATE(応募者名簿!H808)","v":""},{"$f":"CONCATENATE(応募者名簿!I808)","v":""}]
[{"$f":"応募者名簿!$B$8","v":0},{"$f":"CONCATENATE(応募者名簿!$B$11,応募者名簿!$D$11,応募者名簿!$E$11,応募者名簿!$I$11)","v":""},"半紙",{"$f":"CONCATENATE(応募者名簿!F809)","v":""},{"$f":"CONCATENATE(応募者名簿!G809)","v":""},{"$f":"CONCATENATE(応募者名簿!H809)","v":""},{"$f":"CONCATENATE(応募者名簿!I809)","v":""}]
[{"$f":"応募者名簿!$B$8","v":0},{"$f":"CONCATENATE(応募者名簿!$B$11,応募者名簿!$D$11,応募者名簿!$E$11,応募者名簿!$I$11)","v":""},"半紙",{"$f":"CONCATENATE(応募者名簿!F810)","v":""},{"$f":"CONCATENATE(応募者名簿!G810)","v":""},{"$f":"CONCATENATE(応募者名簿!H810)","v":""},{"$f":"CONCATENATE(応募者名簿!I810)","v":""}]
[{"$f":"応募者名簿!$B$8","v":0},{"$f":"CONCATENATE(応募者名簿!$B$11,応募者名簿!$D$11,応募者名簿!$E$11,応募者名簿!$I$11)","v":""},"半紙",{"$f":"CONCATENATE(応募者名簿!F811)","v":""},{"$f":"CONCATENATE(応募者名簿!G811)","v":""},{"$f":"CONCATENATE(応募者名簿!H811)","v":""},{"$f":"CONCATENATE(応募者名簿!I811)","v":""}]
[{"$f":"応募者名簿!$B$8","v":0},{"$f":"CONCATENATE(応募者名簿!$B$11,応募者名簿!$D$11,応募者名簿!$E$11,応募者名簿!$I$11)","v":""},"半紙",{"$f":"CONCATENATE(応募者名簿!F812)","v":""},{"$f":"CONCATENATE(応募者名簿!G812)","v":""},{"$f":"CONCATENATE(応募者名簿!H812)","v":""},{"$f":"CONCATENATE(応募者名簿!I812)","v":""}]
[{"$f":"応募者名簿!$B$8","v":0},{"$f":"CONCATENATE(応募者名簿!$B$11,応募者名簿!$D$11,応募者名簿!$E$11,応募者名簿!$I$11)","v":""},"半紙",{"$f":"CONCATENATE(応募者名簿!F813)","v":""},{"$f":"CONCATENATE(応募者名簿!G813)","v":""},{"$f":"CONCATENATE(応募者名簿!H813)","v":""},{"$f":"CONCATENATE(応募者名簿!I813)","v":""}]
[{"$f":"応募者名簿!$B$8","v":0},{"$f":"CONCATENATE(応募者名簿!$B$11,応募者名簿!$D$11,応募者名簿!$E$11,応募者名簿!$I$11)","v":""},"半紙",{"$f":"CONCATENATE(応募者名簿!F814)","v":""},{"$f":"CONCATENATE(応募者名簿!G814)","v":""},{"$f":"CONCATENATE(応募者名簿!H814)","v":""},{"$f":"CONCATENATE(応募者名簿!I814)","v":""}]
[{"$f":"応募者名簿!$B$8","v":0},{"$f":"CONCATENATE(応募者名簿!$B$11,応募者名簿!$D$11,応募者名簿!$E$11,応募者名簿!$I$11)","v":""},"半紙",{"$f":"CONCATENATE(応募者名簿!F815)","v":""},{"$f":"CONCATENATE(応募者名簿!G815)","v":""},{"$f":"CONCATENATE(応募者名簿!H815)","v":""},{"$f":"CONCATENATE(応募者名簿!I815)","v":""}]
[{"$f":"応募者名簿!$B$8","v":0},{"$f":"CONCATENATE(応募者名簿!$B$11,応募者名簿!$D$11,応募者名簿!$E$11,応募者名簿!$I$11)","v":""},"半紙",{"$f":"CONCATENATE(応募者名簿!F816)","v":""},{"$f":"CONCATENATE(応募者名簿!G816)","v":""},{"$f":"CONCATENATE(応募者名簿!H816)","v":""},{"$f":"CONCATENATE(応募者名簿!I816)","v":""}]
[{"$f":"応募者名簿!$B$8","v":0},{"$f":"CONCATENATE(応募者名簿!$B$11,応募者名簿!$D$11,応募者名簿!$E$11,応募者名簿!$I$11)","v":""},"半紙",{"$f":"CONCATENATE(応募者名簿!F817)","v":""},{"$f":"CONCATENATE(応募者名簿!G817)","v":""},{"$f":"CONCATENATE(応募者名簿!H817)","v":""},{"$f":"CONCATENATE(応募者名簿!I817)","v":""}]
[{"$f":"応募者名簿!$B$8","v":0},{"$f":"CONCATENATE(応募者名簿!$B$11,応募者名簿!$D$11,応募者名簿!$E$11,応募者名簿!$I$11)","v":""},"半紙",{"$f":"CONCATENATE(応募者名簿!F818)","v":""},{"$f":"CONCATENATE(応募者名簿!G818)","v":""},{"$f":"CONCATENATE(応募者名簿!H818)","v":""},{"$f":"CONCATENATE(応募者名簿!I818)","v":""}]
[{"$f":"応募者名簿!$B$8","v":0},{"$f":"CONCATENATE(応募者名簿!$B$11,応募者名簿!$D$11,応募者名簿!$E$11,応募者名簿!$I$11)","v":""},"半紙",{"$f":"CONCATENATE(応募者名簿!F819)","v":""},{"$f":"CONCATENATE(応募者名簿!G819)","v":""},{"$f":"CONCATENATE(応募者名簿!H819)","v":""},{"$f":"CONCATENATE(応募者名簿!I819)","v":""}]
[{"$f":"応募者名簿!$B$8","v":0},{"$f":"CONCATENATE(応募者名簿!$B$11,応募者名簿!$D$11,応募者名簿!$E$11,応募者名簿!$I$11)","v":""},"半紙",{"$f":"CONCATENATE(応募者名簿!F820)","v":""},{"$f":"CONCATENATE(応募者名簿!G820)","v":""},{"$f":"CONCATENATE(応募者名簿!H820)","v":""},{"$f":"CONCATENATE(応募者名簿!I820)","v":""}]
[{"$f":"応募者名簿!$B$8","v":0},{"$f":"CONCATENATE(応募者名簿!$B$11,応募者名簿!$D$11,応募者名簿!$E$11,応募者名簿!$I$11)","v":""},"半紙",{"$f":"CONCATENATE(応募者名簿!F821)","v":""},{"$f":"CONCATENATE(応募者名簿!G821)","v":""},{"$f":"CONCATENATE(応募者名簿!H821)","v":""},{"$f":"CONCATENATE(応募者名簿!I821)","v":""}]
[{"$f":"応募者名簿!$B$8","v":0},{"$f":"CONCATENATE(応募者名簿!$B$11,応募者名簿!$D$11,応募者名簿!$E$11,応募者名簿!$I$11)","v":""},"半紙",{"$f":"CONCATENATE(応募者名簿!F822)","v":""},{"$f":"CONCATENATE(応募者名簿!G822)","v":""},{"$f":"CONCATENATE(応募者名簿!H822)","v":""},{"$f":"CONCATENATE(応募者名簿!I822)","v":""}]
[{"$f":"応募者名簿!$B$8","v":0},{"$f":"CONCATENATE(応募者名簿!$B$11,応募者名簿!$D$11,応募者名簿!$E$11,応募者名簿!$I$11)","v":""},"半紙",{"$f":"CONCATENATE(応募者名簿!F823)","v":""},{"$f":"CONCATENATE(応募者名簿!G823)","v":""},{"$f":"CONCATENATE(応募者名簿!H823)","v":""},{"$f":"CONCATENATE(応募者名簿!I823)","v":""}]
[{"$f":"応募者名簿!$B$8","v":0},{"$f":"CONCATENATE(応募者名簿!$B$11,応募者名簿!$D$11,応募者名簿!$E$11,応募者名簿!$I$11)","v":""},"半紙",{"$f":"CONCATENATE(応募者名簿!F824)","v":""},{"$f":"CONCATENATE(応募者名簿!G824)","v":""},{"$f":"CONCATENATE(応募者名簿!H824)","v":""},{"$f":"CONCATENATE(応募者名簿!I824)","v":""}]
[{"$f":"応募者名簿!$B$8","v":0},{"$f":"CONCATENATE(応募者名簿!$B$11,応募者名簿!$D$11,応募者名簿!$E$11,応募者名簿!$I$11)","v":""},"半紙",{"$f":"CONCATENATE(応募者名簿!F825)","v":""},{"$f":"CONCATENATE(応募者名簿!G825)","v":""},{"$f":"CONCATENATE(応募者名簿!H825)","v":""},{"$f":"CONCATENATE(応募者名簿!I825)","v":""}]
[{"$f":"応募者名簿!$B$8","v":0},{"$f":"CONCATENATE(応募者名簿!$B$11,応募者名簿!$D$11,応募者名簿!$E$11,応募者名簿!$I$11)","v":""},"半紙",{"$f":"CONCATENATE(応募者名簿!F826)","v":""},{"$f":"CONCATENATE(応募者名簿!G826)","v":""},{"$f":"CONCATENATE(応募者名簿!H826)","v":""},{"$f":"CONCATENATE(応募者名簿!I826)","v":""}]
[{"$f":"応募者名簿!$B$8","v":0},{"$f":"CONCATENATE(応募者名簿!$B$11,応募者名簿!$D$11,応募者名簿!$E$11,応募者名簿!$I$11)","v":""},"半紙",{"$f":"CONCATENATE(応募者名簿!F827)","v":""},{"$f":"CONCATENATE(応募者名簿!G827)","v":""},{"$f":"CONCATENATE(応募者名簿!H827)","v":""},{"$f":"CONCATENATE(応募者名簿!I827)","v":""}]
[{"$f":"応募者名簿!$B$8","v":0},{"$f":"CONCATENATE(応募者名簿!$B$11,応募者名簿!$D$11,応募者名簿!$E$11,応募者名簿!$I$11)","v":""},"半紙",{"$f":"CONCATENATE(応募者名簿!F828)","v":""},{"$f":"CONCATENATE(応募者名簿!G828)","v":""},{"$f":"CONCATENATE(応募者名簿!H828)","v":""},{"$f":"CONCATENATE(応募者名簿!I828)","v":""}]
[{"$f":"応募者名簿!$B$8","v":0},{"$f":"CONCATENATE(応募者名簿!$B$11,応募者名簿!$D$11,応募者名簿!$E$11,応募者名簿!$I$11)","v":""},"半紙",{"$f":"CONCATENATE(応募者名簿!F829)","v":""},{"$f":"CONCATENATE(応募者名簿!G829)","v":""},{"$f":"CONCATENATE(応募者名簿!H829)","v":""},{"$f":"CONCATENATE(応募者名簿!I829)","v":""}]
[{"$f":"応募者名簿!$B$8","v":0},{"$f":"CONCATENATE(応募者名簿!$B$11,応募者名簿!$D$11,応募者名簿!$E$11,応募者名簿!$I$11)","v":""},"半紙",{"$f":"CONCATENATE(応募者名簿!F830)","v":""},{"$f":"CONCATENATE(応募者名簿!G830)","v":""},{"$f":"CONCATENATE(応募者名簿!H830)","v":""},{"$f":"CONCATENATE(応募者名簿!I830)","v":""}]
[{"$f":"応募者名簿!$B$8","v":0},{"$f":"CONCATENATE(応募者名簿!$B$11,応募者名簿!$D$11,応募者名簿!$E$11,応募者名簿!$I$11)","v":""},"半紙",{"$f":"CONCATENATE(応募者名簿!F831)","v":""},{"$f":"CONCATENATE(応募者名簿!G831)","v":""},{"$f":"CONCATENATE(応募者名簿!H831)","v":""},{"$f":"CONCATENATE(応募者名簿!I831)","v":""}]
[{"$f":"応募者名簿!$B$8","v":0},{"$f":"CONCATENATE(応募者名簿!$B$11,応募者名簿!$D$11,応募者名簿!$E$11,応募者名簿!$I$11)","v":""},"半紙",{"$f":"CONCATENATE(応募者名簿!F832)","v":""},{"$f":"CONCATENATE(応募者名簿!G832)","v":""},{"$f":"CONCATENATE(応募者名簿!H832)","v":""},{"$f":"CONCATENATE(応募者名簿!I832)","v":""}]
[{"$f":"応募者名簿!$B$8","v":0},{"$f":"CONCATENATE(応募者名簿!$B$11,応募者名簿!$D$11,応募者名簿!$E$11,応募者名簿!$I$11)","v":""},"半紙",{"$f":"CONCATENATE(応募者名簿!F833)","v":""},{"$f":"CONCATENATE(応募者名簿!G833)","v":""},{"$f":"CONCATENATE(応募者名簿!H833)","v":""},{"$f":"CONCATENATE(応募者名簿!I833)","v":""}]
[{"$f":"応募者名簿!$B$8","v":0},{"$f":"CONCATENATE(応募者名簿!$B$11,応募者名簿!$D$11,応募者名簿!$E$11,応募者名簿!$I$11)","v":""},"半紙",{"$f":"CONCATENATE(応募者名簿!F834)","v":""},{"$f":"CONCATENATE(応募者名簿!G834)","v":""},{"$f":"CONCATENATE(応募者名簿!H834)","v":""},{"$f":"CONCATENATE(応募者名簿!I834)","v":""}]
[{"$f":"応募者名簿!$B$8","v":0},{"$f":"CONCATENATE(応募者名簿!$B$11,応募者名簿!$D$11,応募者名簿!$E$11,応募者名簿!$I$11)","v":""},"半紙",{"$f":"CONCATENATE(応募者名簿!F835)","v":""},{"$f":"CONCATENATE(応募者名簿!G835)","v":""},{"$f":"CONCATENATE(応募者名簿!H835)","v":""},{"$f":"CONCATENATE(応募者名簿!I835)","v":""}]
[{"$f":"応募者名簿!$B$8","v":0},{"$f":"CONCATENATE(応募者名簿!$B$11,応募者名簿!$D$11,応募者名簿!$E$11,応募者名簿!$I$11)","v":""},"半紙",{"$f":"CONCATENATE(応募者名簿!F836)","v":""},{"$f":"CONCATENATE(応募者名簿!G836)","v":""},{"$f":"CONCATENATE(応募者名簿!H836)","v":""},{"$f":"CONCATENATE(応募者名簿!I836)","v":""}]
[{"$f":"応募者名簿!$B$8","v":0},{"$f":"CONCATENATE(応募者名簿!$B$11,応募者名簿!$D$11,応募者名簿!$E$11,応募者名簿!$I$11)","v":""},"半紙",{"$f":"CONCATENATE(応募者名簿!F837)","v":""},{"$f":"CONCATENATE(応募者名簿!G837)","v":""},{"$f":"CONCATENATE(応募者名簿!H837)","v":""},{"$f":"CONCATENATE(応募者名簿!I837)","v":""}]
[{"$f":"応募者名簿!$B$8","v":0},{"$f":"CONCATENATE(応募者名簿!$B$11,応募者名簿!$D$11,応募者名簿!$E$11,応募者名簿!$I$11)","v":""},"半紙",{"$f":"CONCATENATE(応募者名簿!F838)","v":""},{"$f":"CONCATENATE(応募者名簿!G838)","v":""},{"$f":"CONCATENATE(応募者名簿!H838)","v":""},{"$f":"CONCATENATE(応募者名簿!I838)","v":""}]
[{"$f":"応募者名簿!$B$8","v":0},{"$f":"CONCATENATE(応募者名簿!$B$11,応募者名簿!$D$11,応募者名簿!$E$11,応募者名簿!$I$11)","v":""},"半紙",{"$f":"CONCATENATE(応募者名簿!F839)","v":""},{"$f":"CONCATENATE(応募者名簿!G839)","v":""},{"$f":"CONCATENATE(応募者名簿!H839)","v":""},{"$f":"CONCATENATE(応募者名簿!I839)","v":""}]
[{"$f":"応募者名簿!$B$8","v":0},{"$f":"CONCATENATE(応募者名簿!$B$11,応募者名簿!$D$11,応募者名簿!$E$11,応募者名簿!$I$11)","v":""},"半紙",{"$f":"CONCATENATE(応募者名簿!F840)","v":""},{"$f":"CONCATENATE(応募者名簿!G840)","v":""},{"$f":"CONCATENATE(応募者名簿!H840)","v":""},{"$f":"CONCATENATE(応募者名簿!I840)","v":""}]
[{"$f":"応募者名簿!$B$8","v":0},{"$f":"CONCATENATE(応募者名簿!$B$11,応募者名簿!$D$11,応募者名簿!$E$11,応募者名簿!$I$11)","v":""},"半紙",{"$f":"CONCATENATE(応募者名簿!F841)","v":""},{"$f":"CONCATENATE(応募者名簿!G841)","v":""},{"$f":"CONCATENATE(応募者名簿!H841)","v":""},{"$f":"CONCATENATE(応募者名簿!I841)","v":""}]
[{"$f":"応募者名簿!$B$8","v":0},{"$f":"CONCATENATE(応募者名簿!$B$11,応募者名簿!$D$11,応募者名簿!$E$11,応募者名簿!$I$11)","v":""},"半紙",{"$f":"CONCATENATE(応募者名簿!F842)","v":""},{"$f":"CONCATENATE(応募者名簿!G842)","v":""},{"$f":"CONCATENATE(応募者名簿!H842)","v":""},{"$f":"CONCATENATE(応募者名簿!I842)","v":""}]
[{"$f":"応募者名簿!$B$8","v":0},{"$f":"CONCATENATE(応募者名簿!$B$11,応募者名簿!$D$11,応募者名簿!$E$11,応募者名簿!$I$11)","v":""},"半紙",{"$f":"CONCATENATE(応募者名簿!F843)","v":""},{"$f":"CONCATENATE(応募者名簿!G843)","v":""},{"$f":"CONCATENATE(応募者名簿!H843)","v":""},{"$f":"CONCATENATE(応募者名簿!I843)","v":""}]
[{"$f":"応募者名簿!$B$8","v":0},{"$f":"CONCATENATE(応募者名簿!$B$11,応募者名簿!$D$11,応募者名簿!$E$11,応募者名簿!$I$11)","v":""},"半紙",{"$f":"CONCATENATE(応募者名簿!F844)","v":""},{"$f":"CONCATENATE(応募者名簿!G844)","v":""},{"$f":"CONCATENATE(応募者名簿!H844)","v":""},{"$f":"CONCATENATE(応募者名簿!I844)","v":""}]
[{"$f":"応募者名簿!$B$8","v":0},{"$f":"CONCATENATE(応募者名簿!$B$11,応募者名簿!$D$11,応募者名簿!$E$11,応募者名簿!$I$11)","v":""},"半紙",{"$f":"CONCATENATE(応募者名簿!F845)","v":""},{"$f":"CONCATENATE(応募者名簿!G845)","v":""},{"$f":"CONCATENATE(応募者名簿!H845)","v":""},{"$f":"CONCATENATE(応募者名簿!I845)","v":""}]
[{"$f":"応募者名簿!$B$8","v":0},{"$f":"CONCATENATE(応募者名簿!$B$11,応募者名簿!$D$11,応募者名簿!$E$11,応募者名簿!$I$11)","v":""},"半紙",{"$f":"CONCATENATE(応募者名簿!F846)","v":""},{"$f":"CONCATENATE(応募者名簿!G846)","v":""},{"$f":"CONCATENATE(応募者名簿!H846)","v":""},{"$f":"CONCATENATE(応募者名簿!I846)","v":""}]
[{"$f":"応募者名簿!$B$8","v":0},{"$f":"CONCATENATE(応募者名簿!$B$11,応募者名簿!$D$11,応募者名簿!$E$11,応募者名簿!$I$11)","v":""},"半紙",{"$f":"CONCATENATE(応募者名簿!F847)","v":""},{"$f":"CONCATENATE(応募者名簿!G847)","v":""},{"$f":"CONCATENATE(応募者名簿!H847)","v":""},{"$f":"CONCATENATE(応募者名簿!I847)","v":""}]
[{"$f":"応募者名簿!$B$8","v":0},{"$f":"CONCATENATE(応募者名簿!$B$11,応募者名簿!$D$11,応募者名簿!$E$11,応募者名簿!$I$11)","v":""},"半紙",{"$f":"CONCATENATE(応募者名簿!F848)","v":""},{"$f":"CONCATENATE(応募者名簿!G848)","v":""},{"$f":"CONCATENATE(応募者名簿!H848)","v":""},{"$f":"CONCATENATE(応募者名簿!I848)","v":""}]
[{"$f":"応募者名簿!$B$8","v":0},{"$f":"CONCATENATE(応募者名簿!$B$11,応募者名簿!$D$11,応募者名簿!$E$11,応募者名簿!$I$11)","v":""},"半紙",{"$f":"CONCATENATE(応募者名簿!F849)","v":""},{"$f":"CONCATENATE(応募者名簿!G849)","v":""},{"$f":"CONCATENATE(応募者名簿!H849)","v":""},{"$f":"CONCATENATE(応募者名簿!I849)","v":""}]
[{"$f":"応募者名簿!$B$8","v":0},{"$f":"CONCATENATE(応募者名簿!$B$11,応募者名簿!$D$11,応募者名簿!$E$11,応募者名簿!$I$11)","v":""},"半紙",{"$f":"CONCATENATE(応募者名簿!F850)","v":""},{"$f":"CONCATENATE(応募者名簿!G850)","v":""},{"$f":"CONCATENATE(応募者名簿!H850)","v":""},{"$f":"CONCATENATE(応募者名簿!I850)","v":""}]
[{"$f":"応募者名簿!$B$8","v":0},{"$f":"CONCATENATE(応募者名簿!$B$11,応募者名簿!$D$11,応募者名簿!$E$11,応募者名簿!$I$11)","v":""},"半紙",{"$f":"CONCATENATE(応募者名簿!F851)","v":""},{"$f":"CONCATENATE(応募者名簿!G851)","v":""},{"$f":"CONCATENATE(応募者名簿!H851)","v":""},{"$f":"CONCATENATE(応募者名簿!I851)","v":""}]
[{"$f":"応募者名簿!$B$8","v":0},{"$f":"CONCATENATE(応募者名簿!$B$11,応募者名簿!$D$11,応募者名簿!$E$11,応募者名簿!$I$11)","v":""},"半紙",{"$f":"CONCATENATE(応募者名簿!F852)","v":""},{"$f":"CONCATENATE(応募者名簿!G852)","v":""},{"$f":"CONCATENATE(応募者名簿!H852)","v":""},{"$f":"CONCATENATE(応募者名簿!I852)","v":""}]
[{"$f":"応募者名簿!$B$8","v":0},{"$f":"CONCATENATE(応募者名簿!$B$11,応募者名簿!$D$11,応募者名簿!$E$11,応募者名簿!$I$11)","v":""},"半紙",{"$f":"CONCATENATE(応募者名簿!F853)","v":""},{"$f":"CONCATENATE(応募者名簿!G853)","v":""},{"$f":"CONCATENATE(応募者名簿!H853)","v":""},{"$f":"CONCATENATE(応募者名簿!I853)","v":""}]
[{"$f":"応募者名簿!$B$8","v":0},{"$f":"CONCATENATE(応募者名簿!$B$11,応募者名簿!$D$11,応募者名簿!$E$11,応募者名簿!$I$11)","v":""},"半紙",{"$f":"CONCATENATE(応募者名簿!F854)","v":""},{"$f":"CONCATENATE(応募者名簿!G854)","v":""},{"$f":"CONCATENATE(応募者名簿!H854)","v":""},{"$f":"CONCATENATE(応募者名簿!I854)","v":""}]
[{"$f":"応募者名簿!$B$8","v":0},{"$f":"CONCATENATE(応募者名簿!$B$11,応募者名簿!$D$11,応募者名簿!$E$11,応募者名簿!$I$11)","v":""},"半紙",{"$f":"CONCATENATE(応募者名簿!F855)","v":""},{"$f":"CONCATENATE(応募者名簿!G855)","v":""},{"$f":"CONCATENATE(応募者名簿!H855)","v":""},{"$f":"CONCATENATE(応募者名簿!I855)","v":""}]
[{"$f":"応募者名簿!$B$8","v":0},{"$f":"CONCATENATE(応募者名簿!$B$11,応募者名簿!$D$11,応募者名簿!$E$11,応募者名簿!$I$11)","v":""},"半紙",{"$f":"CONCATENATE(応募者名簿!F856)","v":""},{"$f":"CONCATENATE(応募者名簿!G856)","v":""},{"$f":"CONCATENATE(応募者名簿!H856)","v":""},{"$f":"CONCATENATE(応募者名簿!I856)","v":""}]
[{"$f":"応募者名簿!$B$8","v":0},{"$f":"CONCATENATE(応募者名簿!$B$11,応募者名簿!$D$11,応募者名簿!$E$11,応募者名簿!$I$11)","v":""},"半紙",{"$f":"CONCATENATE(応募者名簿!F857)","v":""},{"$f":"CONCATENATE(応募者名簿!G857)","v":""},{"$f":"CONCATENATE(応募者名簿!H857)","v":""},{"$f":"CONCATENATE(応募者名簿!I857)","v":""}]
[{"$f":"応募者名簿!$B$8","v":0},{"$f":"CONCATENATE(応募者名簿!$B$11,応募者名簿!$D$11,応募者名簿!$E$11,応募者名簿!$I$11)","v":""},"半紙",{"$f":"CONCATENATE(応募者名簿!F858)","v":""},{"$f":"CONCATENATE(応募者名簿!G858)","v":""},{"$f":"CONCATENATE(応募者名簿!H858)","v":""},{"$f":"CONCATENATE(応募者名簿!I858)","v":""}]
[{"$f":"応募者名簿!$B$8","v":0},{"$f":"CONCATENATE(応募者名簿!$B$11,応募者名簿!$D$11,応募者名簿!$E$11,応募者名簿!$I$11)","v":""},"半紙",{"$f":"CONCATENATE(応募者名簿!F859)","v":""},{"$f":"CONCATENATE(応募者名簿!G859)","v":""},{"$f":"CONCATENATE(応募者名簿!H859)","v":""},{"$f":"CONCATENATE(応募者名簿!I859)","v":""}]
[{"$f":"応募者名簿!$B$8","v":0},{"$f":"CONCATENATE(応募者名簿!$B$11,応募者名簿!$D$11,応募者名簿!$E$11,応募者名簿!$I$11)","v":""},"半紙",{"$f":"CONCATENATE(応募者名簿!F860)","v":""},{"$f":"CONCATENATE(応募者名簿!G860)","v":""},{"$f":"CONCATENATE(応募者名簿!H860)","v":""},{"$f":"CONCATENATE(応募者名簿!I860)","v":""}]
[{"$f":"応募者名簿!$B$8","v":0},{"$f":"CONCATENATE(応募者名簿!$B$11,応募者名簿!$D$11,応募者名簿!$E$11,応募者名簿!$I$11)","v":""},"半紙",{"$f":"CONCATENATE(応募者名簿!F861)","v":""},{"$f":"CONCATENATE(応募者名簿!G861)","v":""},{"$f":"CONCATENATE(応募者名簿!H861)","v":""},{"$f":"CONCATENATE(応募者名簿!I861)","v":""}]
[{"$f":"応募者名簿!$B$8","v":0},{"$f":"CONCATENATE(応募者名簿!$B$11,応募者名簿!$D$11,応募者名簿!$E$11,応募者名簿!$I$11)","v":""},"半紙",{"$f":"CONCATENATE(応募者名簿!F862)","v":""},{"$f":"CONCATENATE(応募者名簿!G862)","v":""},{"$f":"CONCATENATE(応募者名簿!H862)","v":""},{"$f":"CONCATENATE(応募者名簿!I862)","v":""}]
[{"$f":"応募者名簿!$B$8","v":0},{"$f":"CONCATENATE(応募者名簿!$B$11,応募者名簿!$D$11,応募者名簿!$E$11,応募者名簿!$I$11)","v":""},"半紙",{"$f":"CONCATENATE(応募者名簿!F863)","v":""},{"$f":"CONCATENATE(応募者名簿!G863)","v":""},{"$f":"CONCATENATE(応募者名簿!H863)","v":""},{"$f":"CONCATENATE(応募者名簿!I863)","v":""}]
[{"$f":"応募者名簿!$B$8","v":0},{"$f":"CONCATENATE(応募者名簿!$B$11,応募者名簿!$D$11,応募者名簿!$E$11,応募者名簿!$I$11)","v":""},"半紙",{"$f":"CONCATENATE(応募者名簿!F864)","v":""},{"$f":"CONCATENATE(応募者名簿!G864)","v":""},{"$f":"CONCATENATE(応募者名簿!H864)","v":""},{"$f":"CONCATENATE(応募者名簿!I864)","v":""}]
[{"$f":"応募者名簿!$B$8","v":0},{"$f":"CONCATENATE(応募者名簿!$B$11,応募者名簿!$D$11,応募者名簿!$E$11,応募者名簿!$I$11)","v":""},"半紙",{"$f":"CONCATENATE(応募者名簿!F865)","v":""},{"$f":"CONCATENATE(応募者名簿!G865)","v":""},{"$f":"CONCATENATE(応募者名簿!H865)","v":""},{"$f":"CONCATENATE(応募者名簿!I865)","v":""}]
[{"$f":"応募者名簿!$B$8","v":0},{"$f":"CONCATENATE(応募者名簿!$B$11,応募者名簿!$D$11,応募者名簿!$E$11,応募者名簿!$I$11)","v":""},"半紙",{"$f":"CONCATENATE(応募者名簿!F866)","v":""},{"$f":"CONCATENATE(応募者名簿!G866)","v":""},{"$f":"CONCATENATE(応募者名簿!H866)","v":""},{"$f":"CONCATENATE(応募者名簿!I866)","v":""}]
[{"$f":"応募者名簿!$B$8","v":0},{"$f":"CONCATENATE(応募者名簿!$B$11,応募者名簿!$D$11,応募者名簿!$E$11,応募者名簿!$I$11)","v":""},"半紙",{"$f":"CONCATENATE(応募者名簿!F867)","v":""},{"$f":"CONCATENATE(応募者名簿!G867)","v":""},{"$f":"CONCATENATE(応募者名簿!H867)","v":""},{"$f":"CONCATENATE(応募者名簿!I867)","v":""}]
[{"$f":"応募者名簿!$B$8","v":0},{"$f":"CONCATENATE(応募者名簿!$B$11,応募者名簿!$D$11,応募者名簿!$E$11,応募者名簿!$I$11)","v":""},"半紙",{"$f":"CONCATENATE(応募者名簿!F868)","v":""},{"$f":"CONCATENATE(応募者名簿!G868)","v":""},{"$f":"CONCATENATE(応募者名簿!H868)","v":""},{"$f":"CONCATENATE(応募者名簿!I868)","v":""}]
[{"$f":"応募者名簿!$B$8","v":0},{"$f":"CONCATENATE(応募者名簿!$B$11,応募者名簿!$D$11,応募者名簿!$E$11,応募者名簿!$I$11)","v":""},"半紙",{"$f":"CONCATENATE(応募者名簿!F869)","v":""},{"$f":"CONCATENATE(応募者名簿!G869)","v":""},{"$f":"CONCATENATE(応募者名簿!H869)","v":""},{"$f":"CONCATENATE(応募者名簿!I869)","v":""}]
[{"$f":"応募者名簿!$B$8","v":0},{"$f":"CONCATENATE(応募者名簿!$B$11,応募者名簿!$D$11,応募者名簿!$E$11,応募者名簿!$I$11)","v":""},"半紙",{"$f":"CONCATENATE(応募者名簿!F870)","v":""},{"$f":"CONCATENATE(応募者名簿!G870)","v":""},{"$f":"CONCATENATE(応募者名簿!H870)","v":""},{"$f":"CONCATENATE(応募者名簿!I870)","v":""}]
[{"$f":"応募者名簿!$B$8","v":0},{"$f":"CONCATENATE(応募者名簿!$B$11,応募者名簿!$D$11,応募者名簿!$E$11,応募者名簿!$I$11)","v":""},"半紙",{"$f":"CONCATENATE(応募者名簿!F871)","v":""},{"$f":"CONCATENATE(応募者名簿!G871)","v":""},{"$f":"CONCATENATE(応募者名簿!H871)","v":""},{"$f":"CONCATENATE(応募者名簿!I871)","v":""}]
[{"$f":"応募者名簿!$B$8","v":0},{"$f":"CONCATENATE(応募者名簿!$B$11,応募者名簿!$D$11,応募者名簿!$E$11,応募者名簿!$I$11)","v":""},"半紙",{"$f":"CONCATENATE(応募者名簿!F872)","v":""},{"$f":"CONCATENATE(応募者名簿!G872)","v":""},{"$f":"CONCATENATE(応募者名簿!H872)","v":""},{"$f":"CONCATENATE(応募者名簿!I872)","v":""}]
[{"$f":"応募者名簿!$B$8","v":0},{"$f":"CONCATENATE(応募者名簿!$B$11,応募者名簿!$D$11,応募者名簿!$E$11,応募者名簿!$I$11)","v":""},"半紙",{"$f":"CONCATENATE(応募者名簿!F873)","v":""},{"$f":"CONCATENATE(応募者名簿!G873)","v":""},{"$f":"CONCATENATE(応募者名簿!H873)","v":""},{"$f":"CONCATENATE(応募者名簿!I873)","v":""}]
[{"$f":"応募者名簿!$B$8","v":0},{"$f":"CONCATENATE(応募者名簿!$B$11,応募者名簿!$D$11,応募者名簿!$E$11,応募者名簿!$I$11)","v":""},"半紙",{"$f":"CONCATENATE(応募者名簿!F874)","v":""},{"$f":"CONCATENATE(応募者名簿!G874)","v":""},{"$f":"CONCATENATE(応募者名簿!H874)","v":""},{"$f":"CONCATENATE(応募者名簿!I874)","v":""}]
[{"$f":"応募者名簿!$B$8","v":0},{"$f":"CONCATENATE(応募者名簿!$B$11,応募者名簿!$D$11,応募者名簿!$E$11,応募者名簿!$I$11)","v":""},"半紙",{"$f":"CONCATENATE(応募者名簿!F875)","v":""},{"$f":"CONCATENATE(応募者名簿!G875)","v":""},{"$f":"CONCATENATE(応募者名簿!H875)","v":""},{"$f":"CONCATENATE(応募者名簿!I875)","v":""}]
[{"$f":"応募者名簿!$B$8","v":0},{"$f":"CONCATENATE(応募者名簿!$B$11,応募者名簿!$D$11,応募者名簿!$E$11,応募者名簿!$I$11)","v":""},"半紙",{"$f":"CONCATENATE(応募者名簿!F876)","v":""},{"$f":"CONCATENATE(応募者名簿!G876)","v":""},{"$f":"CONCATENATE(応募者名簿!H876)","v":""},{"$f":"CONCATENATE(応募者名簿!I876)","v":""}]
[{"$f":"応募者名簿!$B$8","v":0},{"$f":"CONCATENATE(応募者名簿!$B$11,応募者名簿!$D$11,応募者名簿!$E$11,応募者名簿!$I$11)","v":""},"半紙",{"$f":"CONCATENATE(応募者名簿!F877)","v":""},{"$f":"CONCATENATE(応募者名簿!G877)","v":""},{"$f":"CONCATENATE(応募者名簿!H877)","v":""},{"$f":"CONCATENATE(応募者名簿!I877)","v":""}]
[{"$f":"応募者名簿!$B$8","v":0},{"$f":"CONCATENATE(応募者名簿!$B$11,応募者名簿!$D$11,応募者名簿!$E$11,応募者名簿!$I$11)","v":""},"半紙",{"$f":"CONCATENATE(応募者名簿!F878)","v":""},{"$f":"CONCATENATE(応募者名簿!G878)","v":""},{"$f":"CONCATENATE(応募者名簿!H878)","v":""},{"$f":"CONCATENATE(応募者名簿!I878)","v":""}]
[{"$f":"応募者名簿!$B$8","v":0},{"$f":"CONCATENATE(応募者名簿!$B$11,応募者名簿!$D$11,応募者名簿!$E$11,応募者名簿!$I$11)","v":""},"半紙",{"$f":"CONCATENATE(応募者名簿!F879)","v":""},{"$f":"CONCATENATE(応募者名簿!G879)","v":""},{"$f":"CONCATENATE(応募者名簿!H879)","v":""},{"$f":"CONCATENATE(応募者名簿!I879)","v":""}]
[{"$f":"応募者名簿!$B$8","v":0},{"$f":"CONCATENATE(応募者名簿!$B$11,応募者名簿!$D$11,応募者名簿!$E$11,応募者名簿!$I$11)","v":""},"半紙",{"$f":"CONCATENATE(応募者名簿!F880)","v":""},{"$f":"CONCATENATE(応募者名簿!G880)","v":""},{"$f":"CONCATENATE(応募者名簿!H880)","v":""},{"$f":"CONCATENATE(応募者名簿!I880)","v":""}]
[{"$f":"応募者名簿!$B$8","v":0},{"$f":"CONCATENATE(応募者名簿!$B$11,応募者名簿!$D$11,応募者名簿!$E$11,応募者名簿!$I$11)","v":""},"半紙",{"$f":"CONCATENATE(応募者名簿!F881)","v":""},{"$f":"CONCATENATE(応募者名簿!G881)","v":""},{"$f":"CONCATENATE(応募者名簿!H881)","v":""},{"$f":"CONCATENATE(応募者名簿!I881)","v":""}]
[{"$f":"応募者名簿!$B$8","v":0},{"$f":"CONCATENATE(応募者名簿!$B$11,応募者名簿!$D$11,応募者名簿!$E$11,応募者名簿!$I$11)","v":""},"半紙",{"$f":"CONCATENATE(応募者名簿!F882)","v":""},{"$f":"CONCATENATE(応募者名簿!G882)","v":""},{"$f":"CONCATENATE(応募者名簿!H882)","v":""},{"$f":"CONCATENATE(応募者名簿!I882)","v":""}]
[{"$f":"応募者名簿!$B$8","v":0},{"$f":"CONCATENATE(応募者名簿!$B$11,応募者名簿!$D$11,応募者名簿!$E$11,応募者名簿!$I$11)","v":""},"半紙",{"$f":"CONCATENATE(応募者名簿!F883)","v":""},{"$f":"CONCATENATE(応募者名簿!G883)","v":""},{"$f":"CONCATENATE(応募者名簿!H883)","v":""},{"$f":"CONCATENATE(応募者名簿!I883)","v":""}]
[{"$f":"応募者名簿!$B$8","v":0},{"$f":"CONCATENATE(応募者名簿!$B$11,応募者名簿!$D$11,応募者名簿!$E$11,応募者名簿!$I$11)","v":""},"半紙",{"$f":"CONCATENATE(応募者名簿!F884)","v":""},{"$f":"CONCATENATE(応募者名簿!G884)","v":""},{"$f":"CONCATENATE(応募者名簿!H884)","v":""},{"$f":"CONCATENATE(応募者名簿!I884)","v":""}]
[{"$f":"応募者名簿!$B$8","v":0},{"$f":"CONCATENATE(応募者名簿!$B$11,応募者名簿!$D$11,応募者名簿!$E$11,応募者名簿!$I$11)","v":""},"半紙",{"$f":"CONCATENATE(応募者名簿!F885)","v":""},{"$f":"CONCATENATE(応募者名簿!G885)","v":""},{"$f":"CONCATENATE(応募者名簿!H885)","v":""},{"$f":"CONCATENATE(応募者名簿!I885)","v":""}]
[{"$f":"応募者名簿!$B$8","v":0},{"$f":"CONCATENATE(応募者名簿!$B$11,応募者名簿!$D$11,応募者名簿!$E$11,応募者名簿!$I$11)","v":""},"半紙",{"$f":"CONCATENATE(応募者名簿!F886)","v":""},{"$f":"CONCATENATE(応募者名簿!G886)","v":""},{"$f":"CONCATENATE(応募者名簿!H886)","v":""},{"$f":"CONCATENATE(応募者名簿!I886)","v":""}]
[{"$f":"応募者名簿!$B$8","v":0},{"$f":"CONCATENATE(応募者名簿!$B$11,応募者名簿!$D$11,応募者名簿!$E$11,応募者名簿!$I$11)","v":""},"半紙",{"$f":"CONCATENATE(応募者名簿!F887)","v":""},{"$f":"CONCATENATE(応募者名簿!G887)","v":""},{"$f":"CONCATENATE(応募者名簿!H887)","v":""},{"$f":"CONCATENATE(応募者名簿!I887)","v":""}]
[{"$f":"応募者名簿!$B$8","v":0},{"$f":"CONCATENATE(応募者名簿!$B$11,応募者名簿!$D$11,応募者名簿!$E$11,応募者名簿!$I$11)","v":""},"半紙",{"$f":"CONCATENATE(応募者名簿!F888)","v":""},{"$f":"CONCATENATE(応募者名簿!G888)","v":""},{"$f":"CONCATENATE(応募者名簿!H888)","v":""},{"$f":"CONCATENATE(応募者名簿!I888)","v":""}]
[{"$f":"応募者名簿!$B$8","v":0},{"$f":"CONCATENATE(応募者名簿!$B$11,応募者名簿!$D$11,応募者名簿!$E$11,応募者名簿!$I$11)","v":""},"半紙",{"$f":"CONCATENATE(応募者名簿!F889)","v":""},{"$f":"CONCATENATE(応募者名簿!G889)","v":""},{"$f":"CONCATENATE(応募者名簿!H889)","v":""},{"$f":"CONCATENATE(応募者名簿!I889)","v":""}]
[{"$f":"応募者名簿!$B$8","v":0},{"$f":"CONCATENATE(応募者名簿!$B$11,応募者名簿!$D$11,応募者名簿!$E$11,応募者名簿!$I$11)","v":""},"半紙",{"$f":"CONCATENATE(応募者名簿!F890)","v":""},{"$f":"CONCATENATE(応募者名簿!G890)","v":""},{"$f":"CONCATENATE(応募者名簿!H890)","v":""},{"$f":"CONCATENATE(応募者名簿!I890)","v":""}]
[{"$f":"応募者名簿!$B$8","v":0},{"$f":"CONCATENATE(応募者名簿!$B$11,応募者名簿!$D$11,応募者名簿!$E$11,応募者名簿!$I$11)","v":""},"半紙",{"$f":"CONCATENATE(応募者名簿!F891)","v":""},{"$f":"CONCATENATE(応募者名簿!G891)","v":""},{"$f":"CONCATENATE(応募者名簿!H891)","v":""},{"$f":"CONCATENATE(応募者名簿!I891)","v":""}]
[{"$f":"応募者名簿!$B$8","v":0},{"$f":"CONCATENATE(応募者名簿!$B$11,応募者名簿!$D$11,応募者名簿!$E$11,応募者名簿!$I$11)","v":""},"半紙",{"$f":"CONCATENATE(応募者名簿!F892)","v":""},{"$f":"CONCATENATE(応募者名簿!G892)","v":""},{"$f":"CONCATENATE(応募者名簿!H892)","v":""},{"$f":"CONCATENATE(応募者名簿!I892)","v":""}]
[{"$f":"応募者名簿!$B$8","v":0},{"$f":"CONCATENATE(応募者名簿!$B$11,応募者名簿!$D$11,応募者名簿!$E$11,応募者名簿!$I$11)","v":""},"半紙",{"$f":"CONCATENATE(応募者名簿!F893)","v":""},{"$f":"CONCATENATE(応募者名簿!G893)","v":""},{"$f":"CONCATENATE(応募者名簿!H893)","v":""},{"$f":"CONCATENATE(応募者名簿!I893)","v":""}]
[{"$f":"応募者名簿!$B$8","v":0},{"$f":"CONCATENATE(応募者名簿!$B$11,応募者名簿!$D$11,応募者名簿!$E$11,応募者名簿!$I$11)","v":""},"半紙",{"$f":"CONCATENATE(応募者名簿!F894)","v":""},{"$f":"CONCATENATE(応募者名簿!G894)","v":""},{"$f":"CONCATENATE(応募者名簿!H894)","v":""},{"$f":"CONCATENATE(応募者名簿!I894)","v":""}]
[{"$f":"応募者名簿!$B$8","v":0},{"$f":"CONCATENATE(応募者名簿!$B$11,応募者名簿!$D$11,応募者名簿!$E$11,応募者名簿!$I$11)","v":""},"半紙",{"$f":"CONCATENATE(応募者名簿!F895)","v":""},{"$f":"CONCATENATE(応募者名簿!G895)","v":""},{"$f":"CONCATENATE(応募者名簿!H895)","v":""},{"$f":"CONCATENATE(応募者名簿!I895)","v":""}]
[{"$f":"応募者名簿!$B$8","v":0},{"$f":"CONCATENATE(応募者名簿!$B$11,応募者名簿!$D$11,応募者名簿!$E$11,応募者名簿!$I$11)","v":""},"半紙",{"$f":"CONCATENATE(応募者名簿!F896)","v":""},{"$f":"CONCATENATE(応募者名簿!G896)","v":""},{"$f":"CONCATENATE(応募者名簿!H896)","v":""},{"$f":"CONCATENATE(応募者名簿!I896)","v":""}]
[{"$f":"応募者名簿!$B$8","v":0},{"$f":"CONCATENATE(応募者名簿!$B$11,応募者名簿!$D$11,応募者名簿!$E$11,応募者名簿!$I$11)","v":""},"半紙",{"$f":"CONCATENATE(応募者名簿!F897)","v":""},{"$f":"CONCATENATE(応募者名簿!G897)","v":""},{"$f":"CONCATENATE(応募者名簿!H897)","v":""},{"$f":"CONCATENATE(応募者名簿!I897)","v":""}]
[{"$f":"応募者名簿!$B$8","v":0},{"$f":"CONCATENATE(応募者名簿!$B$11,応募者名簿!$D$11,応募者名簿!$E$11,応募者名簿!$I$11)","v":""},"半紙",{"$f":"CONCATENATE(応募者名簿!F898)","v":""},{"$f":"CONCATENATE(応募者名簿!G898)","v":""},{"$f":"CONCATENATE(応募者名簿!H898)","v":""},{"$f":"CONCATENATE(応募者名簿!I898)","v":""}]
[{"$f":"応募者名簿!$B$8","v":0},{"$f":"CONCATENATE(応募者名簿!$B$11,応募者名簿!$D$11,応募者名簿!$E$11,応募者名簿!$I$11)","v":""},"半紙",{"$f":"CONCATENATE(応募者名簿!F899)","v":""},{"$f":"CONCATENATE(応募者名簿!G899)","v":""},{"$f":"CONCATENATE(応募者名簿!H899)","v":""},{"$f":"CONCATENATE(応募者名簿!I899)","v":""}]
[{"$f":"応募者名簿!$B$8","v":0},{"$f":"CONCATENATE(応募者名簿!$B$11,応募者名簿!$D$11,応募者名簿!$E$11,応募者名簿!$I$11)","v":""},"半紙",{"$f":"CONCATENATE(応募者名簿!F900)","v":""},{"$f":"CONCATENATE(応募者名簿!G900)","v":""},{"$f":"CONCATENATE(応募者名簿!H900)","v":""},{"$f":"CONCATENATE(応募者名簿!I900)","v":""}]
[{"$f":"応募者名簿!$B$8","v":0},{"$f":"CONCATENATE(応募者名簿!$B$11,応募者名簿!$D$11,応募者名簿!$E$11,応募者名簿!$I$11)","v":""},"半紙",{"$f":"CONCATENATE(応募者名簿!F901)","v":""},{"$f":"CONCATENATE(応募者名簿!G901)","v":""},{"$f":"CONCATENATE(応募者名簿!H901)","v":""},{"$f":"CONCATENATE(応募者名簿!I901)","v":""}]
[{"$f":"応募者名簿!$B$8","v":0},{"$f":"CONCATENATE(応募者名簿!$B$11,応募者名簿!$D$11,応募者名簿!$E$11,応募者名簿!$I$11)","v":""},"半紙",{"$f":"CONCATENATE(応募者名簿!F902)","v":""},{"$f":"CONCATENATE(応募者名簿!G902)","v":""},{"$f":"CONCATENATE(応募者名簿!H902)","v":""},{"$f":"CONCATENATE(応募者名簿!I902)","v":""}]
[{"$f":"応募者名簿!$B$8","v":0},{"$f":"CONCATENATE(応募者名簿!$B$11,応募者名簿!$D$11,応募者名簿!$E$11,応募者名簿!$I$11)","v":""},"半紙",{"$f":"CONCATENATE(応募者名簿!F903)","v":""},{"$f":"CONCATENATE(応募者名簿!G903)","v":""},{"$f":"CONCATENATE(応募者名簿!H903)","v":""},{"$f":"CONCATENATE(応募者名簿!I903)","v":""}]
[{"$f":"応募者名簿!$B$8","v":0},{"$f":"CONCATENATE(応募者名簿!$B$11,応募者名簿!$D$11,応募者名簿!$E$11,応募者名簿!$I$11)","v":""},"半紙",{"$f":"CONCATENATE(応募者名簿!F904)","v":""},{"$f":"CONCATENATE(応募者名簿!G904)","v":""},{"$f":"CONCATENATE(応募者名簿!H904)","v":""},{"$f":"CONCATENATE(応募者名簿!I904)","v":""}]
[{"$f":"応募者名簿!$B$8","v":0},{"$f":"CONCATENATE(応募者名簿!$B$11,応募者名簿!$D$11,応募者名簿!$E$11,応募者名簿!$I$11)","v":""},"半紙",{"$f":"CONCATENATE(応募者名簿!F905)","v":""},{"$f":"CONCATENATE(応募者名簿!G905)","v":""},{"$f":"CONCATENATE(応募者名簿!H905)","v":""},{"$f":"CONCATENATE(応募者名簿!I905)","v":""}]
[{"$f":"応募者名簿!$B$8","v":0},{"$f":"CONCATENATE(応募者名簿!$B$11,応募者名簿!$D$11,応募者名簿!$E$11,応募者名簿!$I$11)","v":""},"半紙",{"$f":"CONCATENATE(応募者名簿!F906)","v":""},{"$f":"CONCATENATE(応募者名簿!G906)","v":""},{"$f":"CONCATENATE(応募者名簿!H906)","v":""},{"$f":"CONCATENATE(応募者名簿!I906)","v":""}]
[{"$f":"応募者名簿!$B$8","v":0},{"$f":"CONCATENATE(応募者名簿!$B$11,応募者名簿!$D$11,応募者名簿!$E$11,応募者名簿!$I$11)","v":""},"半紙",{"$f":"CONCATENATE(応募者名簿!F907)","v":""},{"$f":"CONCATENATE(応募者名簿!G907)","v":""},{"$f":"CONCATENATE(応募者名簿!H907)","v":""},{"$f":"CONCATENATE(応募者名簿!I907)","v":""}]
[{"$f":"応募者名簿!$B$8","v":0},{"$f":"CONCATENATE(応募者名簿!$B$11,応募者名簿!$D$11,応募者名簿!$E$11,応募者名簿!$I$11)","v":""},"半紙",{"$f":"CONCATENATE(応募者名簿!F908)","v":""},{"$f":"CONCATENATE(応募者名簿!G908)","v":""},{"$f":"CONCATENATE(応募者名簿!H908)","v":""},{"$f":"CONCATENATE(応募者名簿!I908)","v":""}]
[{"$f":"応募者名簿!$B$8","v":0},{"$f":"CONCATENATE(応募者名簿!$B$11,応募者名簿!$D$11,応募者名簿!$E$11,応募者名簿!$I$11)","v":""},"半紙",{"$f":"CONCATENATE(応募者名簿!F909)","v":""},{"$f":"CONCATENATE(応募者名簿!G909)","v":""},{"$f":"CONCATENATE(応募者名簿!H909)","v":""},{"$f":"CONCATENATE(応募者名簿!I909)","v":""}]
[{"$f":"応募者名簿!$B$8","v":0},{"$f":"CONCATENATE(応募者名簿!$B$11,応募者名簿!$D$11,応募者名簿!$E$11,応募者名簿!$I$11)","v":""},"半紙",{"$f":"CONCATENATE(応募者名簿!F910)","v":""},{"$f":"CONCATENATE(応募者名簿!G910)","v":""},{"$f":"CONCATENATE(応募者名簿!H910)","v":""},{"$f":"CONCATENATE(応募者名簿!I910)","v":""}]
[{"$f":"応募者名簿!$B$8","v":0},{"$f":"CONCATENATE(応募者名簿!$B$11,応募者名簿!$D$11,応募者名簿!$E$11,応募者名簿!$I$11)","v":""},"半紙",{"$f":"CONCATENATE(応募者名簿!F911)","v":""},{"$f":"CONCATENATE(応募者名簿!G911)","v":""},{"$f":"CONCATENATE(応募者名簿!H911)","v":""},{"$f":"CONCATENATE(応募者名簿!I911)","v":""}]
[{"$f":"応募者名簿!$B$8","v":0},{"$f":"CONCATENATE(応募者名簿!$B$11,応募者名簿!$D$11,応募者名簿!$E$11,応募者名簿!$I$11)","v":""},"半紙",{"$f":"CONCATENATE(応募者名簿!F912)","v":""},{"$f":"CONCATENATE(応募者名簿!G912)","v":""},{"$f":"CONCATENATE(応募者名簿!H912)","v":""},{"$f":"CONCATENATE(応募者名簿!I912)","v":""}]
[{"$f":"応募者名簿!$B$8","v":0},{"$f":"CONCATENATE(応募者名簿!$B$11,応募者名簿!$D$11,応募者名簿!$E$11,応募者名簿!$I$11)","v":""},"半紙",{"$f":"CONCATENATE(応募者名簿!F913)","v":""},{"$f":"CONCATENATE(応募者名簿!G913)","v":""},{"$f":"CONCATENATE(応募者名簿!H913)","v":""},{"$f":"CONCATENATE(応募者名簿!I913)","v":""}]
[{"$f":"応募者名簿!$B$8","v":0},{"$f":"CONCATENATE(応募者名簿!$B$11,応募者名簿!$D$11,応募者名簿!$E$11,応募者名簿!$I$11)","v":""},"半紙",{"$f":"CONCATENATE(応募者名簿!F914)","v":""},{"$f":"CONCATENATE(応募者名簿!G914)","v":""},{"$f":"CONCATENATE(応募者名簿!H914)","v":""},{"$f":"CONCATENATE(応募者名簿!I914)","v":""}]
[{"$f":"応募者名簿!$B$8","v":0},{"$f":"CONCATENATE(応募者名簿!$B$11,応募者名簿!$D$11,応募者名簿!$E$11,応募者名簿!$I$11)","v":""},"半紙",{"$f":"CONCATENATE(応募者名簿!F915)","v":""},{"$f":"CONCATENATE(応募者名簿!G915)","v":""},{"$f":"CONCATENATE(応募者名簿!H915)","v":""},{"$f":"CONCATENATE(応募者名簿!I915)","v":""}]
[{"$f":"応募者名簿!$B$8","v":0},{"$f":"CONCATENATE(応募者名簿!$B$11,応募者名簿!$D$11,応募者名簿!$E$11,応募者名簿!$I$11)","v":""},"半紙",{"$f":"CONCATENATE(応募者名簿!F916)","v":""},{"$f":"CONCATENATE(応募者名簿!G916)","v":""},{"$f":"CONCATENATE(応募者名簿!H916)","v":""},{"$f":"CONCATENATE(応募者名簿!I916)","v":""}]
[{"$f":"応募者名簿!$B$8","v":0},{"$f":"CONCATENATE(応募者名簿!$B$11,応募者名簿!$D$11,応募者名簿!$E$11,応募者名簿!$I$11)","v":""},"半紙",{"$f":"CONCATENATE(応募者名簿!F917)","v":""},{"$f":"CONCATENATE(応募者名簿!G917)","v":""},{"$f":"CONCATENATE(応募者名簿!H917)","v":""},{"$f":"CONCATENATE(応募者名簿!I917)","v":""}]
[{"$f":"応募者名簿!$B$8","v":0},{"$f":"CONCATENATE(応募者名簿!$B$11,応募者名簿!$D$11,応募者名簿!$E$11,応募者名簿!$I$11)","v":""},"半紙",{"$f":"CONCATENATE(応募者名簿!F918)","v":""},{"$f":"CONCATENATE(応募者名簿!G918)","v":""},{"$f":"CONCATENATE(応募者名簿!H918)","v":""},{"$f":"CONCATENATE(応募者名簿!I918)","v":""}]
[{"$f":"応募者名簿!$B$8","v":0},{"$f":"CONCATENATE(応募者名簿!$B$11,応募者名簿!$D$11,応募者名簿!$E$11,応募者名簿!$I$11)","v":""},"半紙",{"$f":"CONCATENATE(応募者名簿!F919)","v":""},{"$f":"CONCATENATE(応募者名簿!G919)","v":""},{"$f":"CONCATENATE(応募者名簿!H919)","v":""},{"$f":"CONCATENATE(応募者名簿!I919)","v":""}]
[{"$f":"応募者名簿!$B$8","v":0},{"$f":"CONCATENATE(応募者名簿!$B$11,応募者名簿!$D$11,応募者名簿!$E$11,応募者名簿!$I$11)","v":""},"半紙",{"$f":"CONCATENATE(応募者名簿!F920)","v":""},{"$f":"CONCATENATE(応募者名簿!G920)","v":""},{"$f":"CONCATENATE(応募者名簿!H920)","v":""},{"$f":"CONCATENATE(応募者名簿!I920)","v":""}]
[{"$f":"応募者名簿!$B$8","v":0},{"$f":"CONCATENATE(応募者名簿!$B$11,応募者名簿!$D$11,応募者名簿!$E$11,応募者名簿!$I$11)","v":""},"半紙",{"$f":"CONCATENATE(応募者名簿!F921)","v":""},{"$f":"CONCATENATE(応募者名簿!G921)","v":""},{"$f":"CONCATENATE(応募者名簿!H921)","v":""},{"$f":"CONCATENATE(応募者名簿!I921)","v":""}]
[{"$f":"応募者名簿!$B$8","v":0},{"$f":"CONCATENATE(応募者名簿!$B$11,応募者名簿!$D$11,応募者名簿!$E$11,応募者名簿!$I$11)","v":""},"半紙",{"$f":"CONCATENATE(応募者名簿!F922)","v":""},{"$f":"CONCATENATE(応募者名簿!G922)","v":""},{"$f":"CONCATENATE(応募者名簿!H922)","v":""},{"$f":"CONCATENATE(応募者名簿!I922)","v":""}]
[{"$f":"応募者名簿!$B$8","v":0},{"$f":"CONCATENATE(応募者名簿!$B$11,応募者名簿!$D$11,応募者名簿!$E$11,応募者名簿!$I$11)","v":""},"半紙",{"$f":"CONCATENATE(応募者名簿!F923)","v":""},{"$f":"CONCATENATE(応募者名簿!G923)","v":""},{"$f":"CONCATENATE(応募者名簿!H923)","v":""},{"$f":"CONCATENATE(応募者名簿!I923)","v":""}]
[{"$f":"応募者名簿!$B$8","v":0},{"$f":"CONCATENATE(応募者名簿!$B$11,応募者名簿!$D$11,応募者名簿!$E$11,応募者名簿!$I$11)","v":""},"半紙",{"$f":"CONCATENATE(応募者名簿!F924)","v":""},{"$f":"CONCATENATE(応募者名簿!G924)","v":""},{"$f":"CONCATENATE(応募者名簿!H924)","v":""},{"$f":"CONCATENATE(応募者名簿!I924)","v":""}]
[{"$f":"応募者名簿!$B$8","v":0},{"$f":"CONCATENATE(応募者名簿!$B$11,応募者名簿!$D$11,応募者名簿!$E$11,応募者名簿!$I$11)","v":""},"半紙",{"$f":"CONCATENATE(応募者名簿!F925)","v":""},{"$f":"CONCATENATE(応募者名簿!G925)","v":""},{"$f":"CONCATENATE(応募者名簿!H925)","v":""},{"$f":"CONCATENATE(応募者名簿!I925)","v":""}]
[{"$f":"応募者名簿!$B$8","v":0},{"$f":"CONCATENATE(応募者名簿!$B$11,応募者名簿!$D$11,応募者名簿!$E$11,応募者名簿!$I$11)","v":""},"半紙",{"$f":"CONCATENATE(応募者名簿!F926)","v":""},{"$f":"CONCATENATE(応募者名簿!G926)","v":""},{"$f":"CONCATENATE(応募者名簿!H926)","v":""},{"$f":"CONCATENATE(応募者名簿!I926)","v":""}]
[{"$f":"応募者名簿!$B$8","v":0},{"$f":"CONCATENATE(応募者名簿!$B$11,応募者名簿!$D$11,応募者名簿!$E$11,応募者名簿!$I$11)","v":""},"半紙",{"$f":"CONCATENATE(応募者名簿!F927)","v":""},{"$f":"CONCATENATE(応募者名簿!G927)","v":""},{"$f":"CONCATENATE(応募者名簿!H927)","v":""},{"$f":"CONCATENATE(応募者名簿!I927)","v":""}]
[{"$f":"応募者名簿!$B$8","v":0},{"$f":"CONCATENATE(応募者名簿!$B$11,応募者名簿!$D$11,応募者名簿!$E$11,応募者名簿!$I$11)","v":""},"半紙",{"$f":"CONCATENATE(応募者名簿!F928)","v":""},{"$f":"CONCATENATE(応募者名簿!G928)","v":""},{"$f":"CONCATENATE(応募者名簿!H928)","v":""},{"$f":"CONCATENATE(応募者名簿!I928)","v":""}]
[{"$f":"応募者名簿!$B$8","v":0},{"$f":"CONCATENATE(応募者名簿!$B$11,応募者名簿!$D$11,応募者名簿!$E$11,応募者名簿!$I$11)","v":""},"半紙",{"$f":"CONCATENATE(応募者名簿!F929)","v":""},{"$f":"CONCATENATE(応募者名簿!G929)","v":""},{"$f":"CONCATENATE(応募者名簿!H929)","v":""},{"$f":"CONCATENATE(応募者名簿!I929)","v":""}]
[{"$f":"応募者名簿!$B$8","v":0},{"$f":"CONCATENATE(応募者名簿!$B$11,応募者名簿!$D$11,応募者名簿!$E$11,応募者名簿!$I$11)","v":""},"半紙",{"$f":"CONCATENATE(応募者名簿!F930)","v":""},{"$f":"CONCATENATE(応募者名簿!G930)","v":""},{"$f":"CONCATENATE(応募者名簿!H930)","v":""},{"$f":"CONCATENATE(応募者名簿!I930)","v":""}]
[{"$f":"応募者名簿!$B$8","v":0},{"$f":"CONCATENATE(応募者名簿!$B$11,応募者名簿!$D$11,応募者名簿!$E$11,応募者名簿!$I$11)","v":""},"半紙",{"$f":"CONCATENATE(応募者名簿!F931)","v":""},{"$f":"CONCATENATE(応募者名簿!G931)","v":""},{"$f":"CONCATENATE(応募者名簿!H931)","v":""},{"$f":"CONCATENATE(応募者名簿!I931)","v":""}]
[{"$f":"応募者名簿!$B$8","v":0},{"$f":"CONCATENATE(応募者名簿!$B$11,応募者名簿!$D$11,応募者名簿!$E$11,応募者名簿!$I$11)","v":""},"半紙",{"$f":"CONCATENATE(応募者名簿!F932)","v":""},{"$f":"CONCATENATE(応募者名簿!G932)","v":""},{"$f":"CONCATENATE(応募者名簿!H932)","v":""},{"$f":"CONCATENATE(応募者名簿!I932)","v":""}]
[{"$f":"応募者名簿!$B$8","v":0},{"$f":"CONCATENATE(応募者名簿!$B$11,応募者名簿!$D$11,応募者名簿!$E$11,応募者名簿!$I$11)","v":""},"半紙",{"$f":"CONCATENATE(応募者名簿!F933)","v":""},{"$f":"CONCATENATE(応募者名簿!G933)","v":""},{"$f":"CONCATENATE(応募者名簿!H933)","v":""},{"$f":"CONCATENATE(応募者名簿!I933)","v":""}]
[{"$f":"応募者名簿!$B$8","v":0},{"$f":"CONCATENATE(応募者名簿!$B$11,応募者名簿!$D$11,応募者名簿!$E$11,応募者名簿!$I$11)","v":""},"半紙",{"$f":"CONCATENATE(応募者名簿!F934)","v":""},{"$f":"CONCATENATE(応募者名簿!G934)","v":""},{"$f":"CONCATENATE(応募者名簿!H934)","v":""},{"$f":"CONCATENATE(応募者名簿!I934)","v":""}]
[{"$f":"応募者名簿!$B$8","v":0},{"$f":"CONCATENATE(応募者名簿!$B$11,応募者名簿!$D$11,応募者名簿!$E$11,応募者名簿!$I$11)","v":""},"半紙",{"$f":"CONCATENATE(応募者名簿!F935)","v":""},{"$f":"CONCATENATE(応募者名簿!G935)","v":""},{"$f":"CONCATENATE(応募者名簿!H935)","v":""},{"$f":"CONCATENATE(応募者名簿!I935)","v":""}]
[{"$f":"応募者名簿!$B$8","v":0},{"$f":"CONCATENATE(応募者名簿!$B$11,応募者名簿!$D$11,応募者名簿!$E$11,応募者名簿!$I$11)","v":""},"半紙",{"$f":"CONCATENATE(応募者名簿!F936)","v":""},{"$f":"CONCATENATE(応募者名簿!G936)","v":""},{"$f":"CONCATENATE(応募者名簿!H936)","v":""},{"$f":"CONCATENATE(応募者名簿!I936)","v":""}]
[{"$f":"応募者名簿!$B$8","v":0},{"$f":"CONCATENATE(応募者名簿!$B$11,応募者名簿!$D$11,応募者名簿!$E$11,応募者名簿!$I$11)","v":""},"半紙",{"$f":"CONCATENATE(応募者名簿!F937)","v":""},{"$f":"CONCATENATE(応募者名簿!G937)","v":""},{"$f":"CONCATENATE(応募者名簿!H937)","v":""},{"$f":"CONCATENATE(応募者名簿!I937)","v":""}]
[{"$f":"応募者名簿!$B$8","v":0},{"$f":"CONCATENATE(応募者名簿!$B$11,応募者名簿!$D$11,応募者名簿!$E$11,応募者名簿!$I$11)","v":""},"半紙",{"$f":"CONCATENATE(応募者名簿!F938)","v":""},{"$f":"CONCATENATE(応募者名簿!G938)","v":""},{"$f":"CONCATENATE(応募者名簿!H938)","v":""},{"$f":"CONCATENATE(応募者名簿!I938)","v":""}]
[{"$f":"応募者名簿!$B$8","v":0},{"$f":"CONCATENATE(応募者名簿!$B$11,応募者名簿!$D$11,応募者名簿!$E$11,応募者名簿!$I$11)","v":""},"半紙",{"$f":"CONCATENATE(応募者名簿!F939)","v":""},{"$f":"CONCATENATE(応募者名簿!G939)","v":""},{"$f":"CONCATENATE(応募者名簿!H939)","v":""},{"$f":"CONCATENATE(応募者名簿!I939)","v":""}]
[{"$f":"応募者名簿!$B$8","v":0},{"$f":"CONCATENATE(応募者名簿!$B$11,応募者名簿!$D$11,応募者名簿!$E$11,応募者名簿!$I$11)","v":""},"半紙",{"$f":"CONCATENATE(応募者名簿!F940)","v":""},{"$f":"CONCATENATE(応募者名簿!G940)","v":""},{"$f":"CONCATENATE(応募者名簿!H940)","v":""},{"$f":"CONCATENATE(応募者名簿!I940)","v":""}]
[{"$f":"応募者名簿!$B$8","v":0},{"$f":"CONCATENATE(応募者名簿!$B$11,応募者名簿!$D$11,応募者名簿!$E$11,応募者名簿!$I$11)","v":""},"半紙",{"$f":"CONCATENATE(応募者名簿!F941)","v":""},{"$f":"CONCATENATE(応募者名簿!G941)","v":""},{"$f":"CONCATENATE(応募者名簿!H941)","v":""},{"$f":"CONCATENATE(応募者名簿!I941)","v":""}]
[{"$f":"応募者名簿!$B$8","v":0},{"$f":"CONCATENATE(応募者名簿!$B$11,応募者名簿!$D$11,応募者名簿!$E$11,応募者名簿!$I$11)","v":""},"半紙",{"$f":"CONCATENATE(応募者名簿!F942)","v":""},{"$f":"CONCATENATE(応募者名簿!G942)","v":""},{"$f":"CONCATENATE(応募者名簿!H942)","v":""},{"$f":"CONCATENATE(応募者名簿!I942)","v":""}]
[{"$f":"応募者名簿!$B$8","v":0},{"$f":"CONCATENATE(応募者名簿!$B$11,応募者名簿!$D$11,応募者名簿!$E$11,応募者名簿!$I$11)","v":""},"半紙",{"$f":"CONCATENATE(応募者名簿!F943)","v":""},{"$f":"CONCATENATE(応募者名簿!G943)","v":""},{"$f":"CONCATENATE(応募者名簿!H943)","v":""},{"$f":"CONCATENATE(応募者名簿!I943)","v":""}]
[{"$f":"応募者名簿!$B$8","v":0},{"$f":"CONCATENATE(応募者名簿!$B$11,応募者名簿!$D$11,応募者名簿!$E$11,応募者名簿!$I$11)","v":""},"半紙",{"$f":"CONCATENATE(応募者名簿!F944)","v":""},{"$f":"CONCATENATE(応募者名簿!G944)","v":""},{"$f":"CONCATENATE(応募者名簿!H944)","v":""},{"$f":"CONCATENATE(応募者名簿!I944)","v":""}]
[{"$f":"応募者名簿!$B$8","v":0},{"$f":"CONCATENATE(応募者名簿!$B$11,応募者名簿!$D$11,応募者名簿!$E$11,応募者名簿!$I$11)","v":""},"半紙",{"$f":"CONCATENATE(応募者名簿!F945)","v":""},{"$f":"CONCATENATE(応募者名簿!G945)","v":""},{"$f":"CONCATENATE(応募者名簿!H945)","v":""},{"$f":"CONCATENATE(応募者名簿!I945)","v":""}]
[{"$f":"応募者名簿!$B$8","v":0},{"$f":"CONCATENATE(応募者名簿!$B$11,応募者名簿!$D$11,応募者名簿!$E$11,応募者名簿!$I$11)","v":""},"半紙",{"$f":"CONCATENATE(応募者名簿!F946)","v":""},{"$f":"CONCATENATE(応募者名簿!G946)","v":""},{"$f":"CONCATENATE(応募者名簿!H946)","v":""},{"$f":"CONCATENATE(応募者名簿!I946)","v":""}]
[{"$f":"応募者名簿!$B$8","v":0},{"$f":"CONCATENATE(応募者名簿!$B$11,応募者名簿!$D$11,応募者名簿!$E$11,応募者名簿!$I$11)","v":""},"半紙",{"$f":"CONCATENATE(応募者名簿!F947)","v":""},{"$f":"CONCATENATE(応募者名簿!G947)","v":""},{"$f":"CONCATENATE(応募者名簿!H947)","v":""},{"$f":"CONCATENATE(応募者名簿!I947)","v":""}]
[{"$f":"応募者名簿!$B$8","v":0},{"$f":"CONCATENATE(応募者名簿!$B$11,応募者名簿!$D$11,応募者名簿!$E$11,応募者名簿!$I$11)","v":""},"半紙",{"$f":"CONCATENATE(応募者名簿!F948)","v":""},{"$f":"CONCATENATE(応募者名簿!G948)","v":""},{"$f":"CONCATENATE(応募者名簿!H948)","v":""},{"$f":"CONCATENATE(応募者名簿!I948)","v":""}]
[{"$f":"応募者名簿!$B$8","v":0},{"$f":"CONCATENATE(応募者名簿!$B$11,応募者名簿!$D$11,応募者名簿!$E$11,応募者名簿!$I$11)","v":""},"半紙",{"$f":"CONCATENATE(応募者名簿!F949)","v":""},{"$f":"CONCATENATE(応募者名簿!G949)","v":""},{"$f":"CONCATENATE(応募者名簿!H949)","v":""},{"$f":"CONCATENATE(応募者名簿!I949)","v":""}]
[{"$f":"応募者名簿!$B$8","v":0},{"$f":"CONCATENATE(応募者名簿!$B$11,応募者名簿!$D$11,応募者名簿!$E$11,応募者名簿!$I$11)","v":""},"半紙",{"$f":"CONCATENATE(応募者名簿!F950)","v":""},{"$f":"CONCATENATE(応募者名簿!G950)","v":""},{"$f":"CONCATENATE(応募者名簿!H950)","v":""},{"$f":"CONCATENATE(応募者名簿!I950)","v":""}]
[{"$f":"応募者名簿!$B$8","v":0},{"$f":"CONCATENATE(応募者名簿!$B$11,応募者名簿!$D$11,応募者名簿!$E$11,応募者名簿!$I$11)","v":""},"半紙",{"$f":"CONCATENATE(応募者名簿!F951)","v":""},{"$f":"CONCATENATE(応募者名簿!G951)","v":""},{"$f":"CONCATENATE(応募者名簿!H951)","v":""},{"$f":"CONCATENATE(応募者名簿!I951)","v":""}]
[{"$f":"応募者名簿!$B$8","v":0},{"$f":"CONCATENATE(応募者名簿!$B$11,応募者名簿!$D$11,応募者名簿!$E$11,応募者名簿!$I$11)","v":""},"半紙",{"$f":"CONCATENATE(応募者名簿!F952)","v":""},{"$f":"CONCATENATE(応募者名簿!G952)","v":""},{"$f":"CONCATENATE(応募者名簿!H952)","v":""},{"$f":"CONCATENATE(応募者名簿!I952)","v":""}]
[{"$f":"応募者名簿!$B$8","v":0},{"$f":"CONCATENATE(応募者名簿!$B$11,応募者名簿!$D$11,応募者名簿!$E$11,応募者名簿!$I$11)","v":""},"半紙",{"$f":"CONCATENATE(応募者名簿!F953)","v":""},{"$f":"CONCATENATE(応募者名簿!G953)","v":""},{"$f":"CONCATENATE(応募者名簿!H953)","v":""},{"$f":"CONCATENATE(応募者名簿!I953)","v":""}]
[{"$f":"応募者名簿!$B$8","v":0},{"$f":"CONCATENATE(応募者名簿!$B$11,応募者名簿!$D$11,応募者名簿!$E$11,応募者名簿!$I$11)","v":""},"半紙",{"$f":"CONCATENATE(応募者名簿!F954)","v":""},{"$f":"CONCATENATE(応募者名簿!G954)","v":""},{"$f":"CONCATENATE(応募者名簿!H954)","v":""},{"$f":"CONCATENATE(応募者名簿!I954)","v":""}]
[{"$f":"応募者名簿!$B$8","v":0},{"$f":"CONCATENATE(応募者名簿!$B$11,応募者名簿!$D$11,応募者名簿!$E$11,応募者名簿!$I$11)","v":""},"半紙",{"$f":"CONCATENATE(応募者名簿!F955)","v":""},{"$f":"CONCATENATE(応募者名簿!G955)","v":""},{"$f":"CONCATENATE(応募者名簿!H955)","v":""},{"$f":"CONCATENATE(応募者名簿!I955)","v":""}]
[{"$f":"応募者名簿!$B$8","v":0},{"$f":"CONCATENATE(応募者名簿!$B$11,応募者名簿!$D$11,応募者名簿!$E$11,応募者名簿!$I$11)","v":""},"半紙",{"$f":"CONCATENATE(応募者名簿!F956)","v":""},{"$f":"CONCATENATE(応募者名簿!G956)","v":""},{"$f":"CONCATENATE(応募者名簿!H956)","v":""},{"$f":"CONCATENATE(応募者名簿!I956)","v":""}]
[{"$f":"応募者名簿!$B$8","v":0},{"$f":"CONCATENATE(応募者名簿!$B$11,応募者名簿!$D$11,応募者名簿!$E$11,応募者名簿!$I$11)","v":""},"半紙",{"$f":"CONCATENATE(応募者名簿!F957)","v":""},{"$f":"CONCATENATE(応募者名簿!G957)","v":""},{"$f":"CONCATENATE(応募者名簿!H957)","v":""},{"$f":"CONCATENATE(応募者名簿!I957)","v":""}]
[{"$f":"応募者名簿!$B$8","v":0},{"$f":"CONCATENATE(応募者名簿!$B$11,応募者名簿!$D$11,応募者名簿!$E$11,応募者名簿!$I$11)","v":""},"半紙",{"$f":"CONCATENATE(応募者名簿!F958)","v":""},{"$f":"CONCATENATE(応募者名簿!G958)","v":""},{"$f":"CONCATENATE(応募者名簿!H958)","v":""},{"$f":"CONCATENATE(応募者名簿!I958)","v":""}]
[{"$f":"応募者名簿!$B$8","v":0},{"$f":"CONCATENATE(応募者名簿!$B$11,応募者名簿!$D$11,応募者名簿!$E$11,応募者名簿!$I$11)","v":""},"半紙",{"$f":"CONCATENATE(応募者名簿!F959)","v":""},{"$f":"CONCATENATE(応募者名簿!G959)","v":""},{"$f":"CONCATENATE(応募者名簿!H959)","v":""},{"$f":"CONCATENATE(応募者名簿!I959)","v":""}]
[{"$f":"応募者名簿!$B$8","v":0},{"$f":"CONCATENATE(応募者名簿!$B$11,応募者名簿!$D$11,応募者名簿!$E$11,応募者名簿!$I$11)","v":""},"半紙",{"$f":"CONCATENATE(応募者名簿!F960)","v":""},{"$f":"CONCATENATE(応募者名簿!G960)","v":""},{"$f":"CONCATENATE(応募者名簿!H960)","v":""},{"$f":"CONCATENATE(応募者名簿!I960)","v":""}]
[{"$f":"応募者名簿!$B$8","v":0},{"$f":"CONCATENATE(応募者名簿!$B$11,応募者名簿!$D$11,応募者名簿!$E$11,応募者名簿!$I$11)","v":""},"半紙",{"$f":"CONCATENATE(応募者名簿!F961)","v":""},{"$f":"CONCATENATE(応募者名簿!G961)","v":""},{"$f":"CONCATENATE(応募者名簿!H961)","v":""},{"$f":"CONCATENATE(応募者名簿!I961)","v":""}]
[{"$f":"応募者名簿!$B$8","v":0},{"$f":"CONCATENATE(応募者名簿!$B$11,応募者名簿!$D$11,応募者名簿!$E$11,応募者名簿!$I$11)","v":""},"半紙",{"$f":"CONCATENATE(応募者名簿!F962)","v":""},{"$f":"CONCATENATE(応募者名簿!G962)","v":""},{"$f":"CONCATENATE(応募者名簿!H962)","v":""},{"$f":"CONCATENATE(応募者名簿!I962)","v":""}]
[{"$f":"応募者名簿!$B$8","v":0},{"$f":"CONCATENATE(応募者名簿!$B$11,応募者名簿!$D$11,応募者名簿!$E$11,応募者名簿!$I$11)","v":""},"半紙",{"$f":"CONCATENATE(応募者名簿!F963)","v":""},{"$f":"CONCATENATE(応募者名簿!G963)","v":""},{"$f":"CONCATENATE(応募者名簿!H963)","v":""},{"$f":"CONCATENATE(応募者名簿!I963)","v":""}]
[{"$f":"応募者名簿!$B$8","v":0},{"$f":"CONCATENATE(応募者名簿!$B$11,応募者名簿!$D$11,応募者名簿!$E$11,応募者名簿!$I$11)","v":""},"半紙",{"$f":"CONCATENATE(応募者名簿!F964)","v":""},{"$f":"CONCATENATE(応募者名簿!G964)","v":""},{"$f":"CONCATENATE(応募者名簿!H964)","v":""},{"$f":"CONCATENATE(応募者名簿!I964)","v":""}]
[{"$f":"応募者名簿!$B$8","v":0},{"$f":"CONCATENATE(応募者名簿!$B$11,応募者名簿!$D$11,応募者名簿!$E$11,応募者名簿!$I$11)","v":""},"半紙",{"$f":"CONCATENATE(応募者名簿!F965)","v":""},{"$f":"CONCATENATE(応募者名簿!G965)","v":""},{"$f":"CONCATENATE(応募者名簿!H965)","v":""},{"$f":"CONCATENATE(応募者名簿!I965)","v":""}]
[{"$f":"応募者名簿!$B$8","v":0},{"$f":"CONCATENATE(応募者名簿!$B$11,応募者名簿!$D$11,応募者名簿!$E$11,応募者名簿!$I$11)","v":""},"半紙",{"$f":"CONCATENATE(応募者名簿!F966)","v":""},{"$f":"CONCATENATE(応募者名簿!G966)","v":""},{"$f":"CONCATENATE(応募者名簿!H966)","v":""},{"$f":"CONCATENATE(応募者名簿!I966)","v":""}]
[{"$f":"応募者名簿!$B$8","v":0},{"$f":"CONCATENATE(応募者名簿!$B$11,応募者名簿!$D$11,応募者名簿!$E$11,応募者名簿!$I$11)","v":""},"半紙",{"$f":"CONCATENATE(応募者名簿!F967)","v":""},{"$f":"CONCATENATE(応募者名簿!G967)","v":""},{"$f":"CONCATENATE(応募者名簿!H967)","v":""},{"$f":"CONCATENATE(応募者名簿!I967)","v":""}]
[{"$f":"応募者名簿!$B$8","v":0},{"$f":"CONCATENATE(応募者名簿!$B$11,応募者名簿!$D$11,応募者名簿!$E$11,応募者名簿!$I$11)","v":""},"半紙",{"$f":"CONCATENATE(応募者名簿!F968)","v":""},{"$f":"CONCATENATE(応募者名簿!G968)","v":""},{"$f":"CONCATENATE(応募者名簿!H968)","v":""},{"$f":"CONCATENATE(応募者名簿!I968)","v":""}]
[{"$f":"応募者名簿!$B$8","v":0},{"$f":"CONCATENATE(応募者名簿!$B$11,応募者名簿!$D$11,応募者名簿!$E$11,応募者名簿!$I$11)","v":""},"半紙",{"$f":"CONCATENATE(応募者名簿!F969)","v":""},{"$f":"CONCATENATE(応募者名簿!G969)","v":""},{"$f":"CONCATENATE(応募者名簿!H969)","v":""},{"$f":"CONCATENATE(応募者名簿!I969)","v":""}]
[{"$f":"応募者名簿!$B$8","v":0},{"$f":"CONCATENATE(応募者名簿!$B$11,応募者名簿!$D$11,応募者名簿!$E$11,応募者名簿!$I$11)","v":""},"半紙",{"$f":"CONCATENATE(応募者名簿!F970)","v":""},{"$f":"CONCATENATE(応募者名簿!G970)","v":""},{"$f":"CONCATENATE(応募者名簿!H970)","v":""},{"$f":"CONCATENATE(応募者名簿!I970)","v":""}]
[{"$f":"応募者名簿!$B$8","v":0},{"$f":"CONCATENATE(応募者名簿!$B$11,応募者名簿!$D$11,応募者名簿!$E$11,応募者名簿!$I$11)","v":""},"半紙",{"$f":"CONCATENATE(応募者名簿!F971)","v":""},{"$f":"CONCATENATE(応募者名簿!G971)","v":""},{"$f":"CONCATENATE(応募者名簿!H971)","v":""},{"$f":"CONCATENATE(応募者名簿!I971)","v":""}]
[{"$f":"応募者名簿!$B$8","v":0},{"$f":"CONCATENATE(応募者名簿!$B$11,応募者名簿!$D$11,応募者名簿!$E$11,応募者名簿!$I$11)","v":""},"半紙",{"$f":"CONCATENATE(応募者名簿!F972)","v":""},{"$f":"CONCATENATE(応募者名簿!G972)","v":""},{"$f":"CONCATENATE(応募者名簿!H972)","v":""},{"$f":"CONCATENATE(応募者名簿!I972)","v":""}]
[{"$f":"応募者名簿!$B$8","v":0},{"$f":"CONCATENATE(応募者名簿!$B$11,応募者名簿!$D$11,応募者名簿!$E$11,応募者名簿!$I$11)","v":""},"半紙",{"$f":"CONCATENATE(応募者名簿!F973)","v":""},{"$f":"CONCATENATE(応募者名簿!G973)","v":""},{"$f":"CONCATENATE(応募者名簿!H973)","v":""},{"$f":"CONCATENATE(応募者名簿!I973)","v":""}]
[{"$f":"応募者名簿!$B$8","v":0},{"$f":"CONCATENATE(応募者名簿!$B$11,応募者名簿!$D$11,応募者名簿!$E$11,応募者名簿!$I$11)","v":""},"半紙",{"$f":"CONCATENATE(応募者名簿!F974)","v":""},{"$f":"CONCATENATE(応募者名簿!G974)","v":""},{"$f":"CONCATENATE(応募者名簿!H974)","v":""},{"$f":"CONCATENATE(応募者名簿!I974)","v":""}]
[{"$f":"応募者名簿!$B$8","v":0},{"$f":"CONCATENATE(応募者名簿!$B$11,応募者名簿!$D$11,応募者名簿!$E$11,応募者名簿!$I$11)","v":""},"半紙",{"$f":"CONCATENATE(応募者名簿!F975)","v":""},{"$f":"CONCATENATE(応募者名簿!G975)","v":""},{"$f":"CONCATENATE(応募者名簿!H975)","v":""},{"$f":"CONCATENATE(応募者名簿!I975)","v":""}]
[{"$f":"応募者名簿!$B$8","v":0},{"$f":"CONCATENATE(応募者名簿!$B$11,応募者名簿!$D$11,応募者名簿!$E$11,応募者名簿!$I$11)","v":""},"半紙",{"$f":"CONCATENATE(応募者名簿!F976)","v":""},{"$f":"CONCATENATE(応募者名簿!G976)","v":""},{"$f":"CONCATENATE(応募者名簿!H976)","v":""},{"$f":"CONCATENATE(応募者名簿!I976)","v":""}]
[{"$f":"応募者名簿!$B$8","v":0},{"$f":"CONCATENATE(応募者名簿!$B$11,応募者名簿!$D$11,応募者名簿!$E$11,応募者名簿!$I$11)","v":""},"半紙",{"$f":"CONCATENATE(応募者名簿!F977)","v":""},{"$f":"CONCATENATE(応募者名簿!G977)","v":""},{"$f":"CONCATENATE(応募者名簿!H977)","v":""},{"$f":"CONCATENATE(応募者名簿!I977)","v":""}]
[{"$f":"応募者名簿!$B$8","v":0},{"$f":"CONCATENATE(応募者名簿!$B$11,応募者名簿!$D$11,応募者名簿!$E$11,応募者名簿!$I$11)","v":""},"半紙",{"$f":"CONCATENATE(応募者名簿!F978)","v":""},{"$f":"CONCATENATE(応募者名簿!G978)","v":""},{"$f":"CONCATENATE(応募者名簿!H978)","v":""},{"$f":"CONCATENATE(応募者名簿!I978)","v":""}]
[{"$f":"応募者名簿!$B$8","v":0},{"$f":"CONCATENATE(応募者名簿!$B$11,応募者名簿!$D$11,応募者名簿!$E$11,応募者名簿!$I$11)","v":""},"半紙",{"$f":"CONCATENATE(応募者名簿!F979)","v":""},{"$f":"CONCATENATE(応募者名簿!G979)","v":""},{"$f":"CONCATENATE(応募者名簿!H979)","v":""},{"$f":"CONCATENATE(応募者名簿!I979)","v":""}]
[{"$f":"応募者名簿!$B$8","v":0},{"$f":"CONCATENATE(応募者名簿!$B$11,応募者名簿!$D$11,応募者名簿!$E$11,応募者名簿!$I$11)","v":""},"半紙",{"$f":"CONCATENATE(応募者名簿!F980)","v":""},{"$f":"CONCATENATE(応募者名簿!G980)","v":""},{"$f":"CONCATENATE(応募者名簿!H980)","v":""},{"$f":"CONCATENATE(応募者名簿!I980)","v":""}]
[{"$f":"応募者名簿!$B$8","v":0},{"$f":"CONCATENATE(応募者名簿!$B$11,応募者名簿!$D$11,応募者名簿!$E$11,応募者名簿!$I$11)","v":""},"半紙",{"$f":"CONCATENATE(応募者名簿!F981)","v":""},{"$f":"CONCATENATE(応募者名簿!G981)","v":""},{"$f":"CONCATENATE(応募者名簿!H981)","v":""},{"$f":"CONCATENATE(応募者名簿!I981)","v":""}]
[{"$f":"応募者名簿!$B$8","v":0},{"$f":"CONCATENATE(応募者名簿!$B$11,応募者名簿!$D$11,応募者名簿!$E$11,応募者名簿!$I$11)","v":""},"半紙",{"$f":"CONCATENATE(応募者名簿!F982)","v":""},{"$f":"CONCATENATE(応募者名簿!G982)","v":""},{"$f":"CONCATENATE(応募者名簿!H982)","v":""},{"$f":"CONCATENATE(応募者名簿!I982)","v":""}]
[{"$f":"応募者名簿!$B$8","v":0},{"$f":"CONCATENATE(応募者名簿!$B$11,応募者名簿!$D$11,応募者名簿!$E$11,応募者名簿!$I$11)","v":""},"半紙",{"$f":"CONCATENATE(応募者名簿!F983)","v":""},{"$f":"CONCATENATE(応募者名簿!G983)","v":""},{"$f":"CONCATENATE(応募者名簿!H983)","v":""},{"$f":"CONCATENATE(応募者名簿!I983)","v":""}]
[{"$f":"応募者名簿!$B$8","v":0},{"$f":"CONCATENATE(応募者名簿!$B$11,応募者名簿!$D$11,応募者名簿!$E$11,応募者名簿!$I$11)","v":""},"半紙",{"$f":"CONCATENATE(応募者名簿!F984)","v":""},{"$f":"CONCATENATE(応募者名簿!G984)","v":""},{"$f":"CONCATENATE(応募者名簿!H984)","v":""},{"$f":"CONCATENATE(応募者名簿!I984)","v":""}]
[{"$f":"応募者名簿!$B$8","v":0},{"$f":"CONCATENATE(応募者名簿!$B$11,応募者名簿!$D$11,応募者名簿!$E$11,応募者名簿!$I$11)","v":""},"半紙",{"$f":"CONCATENATE(応募者名簿!F985)","v":""},{"$f":"CONCATENATE(応募者名簿!G985)","v":""},{"$f":"CONCATENATE(応募者名簿!H985)","v":""},{"$f":"CONCATENATE(応募者名簿!I985)","v":""}]
[{"$f":"応募者名簿!$B$8","v":0},{"$f":"CONCATENATE(応募者名簿!$B$11,応募者名簿!$D$11,応募者名簿!$E$11,応募者名簿!$I$11)","v":""},"半紙",{"$f":"CONCATENATE(応募者名簿!F986)","v":""},{"$f":"CONCATENATE(応募者名簿!G986)","v":""},{"$f":"CONCATENATE(応募者名簿!H986)","v":""},{"$f":"CONCATENATE(応募者名簿!I986)","v":""}]
[{"$f":"応募者名簿!$B$8","v":0},{"$f":"CONCATENATE(応募者名簿!$B$11,応募者名簿!$D$11,応募者名簿!$E$11,応募者名簿!$I$11)","v":""},"半紙",{"$f":"CONCATENATE(応募者名簿!F987)","v":""},{"$f":"CONCATENATE(応募者名簿!G987)","v":""},{"$f":"CONCATENATE(応募者名簿!H987)","v":""},{"$f":"CONCATENATE(応募者名簿!I987)","v":""}]
[{"$f":"応募者名簿!$B$8","v":0},{"$f":"CONCATENATE(応募者名簿!$B$11,応募者名簿!$D$11,応募者名簿!$E$11,応募者名簿!$I$11)","v":""},"半紙",{"$f":"CONCATENATE(応募者名簿!F988)","v":""},{"$f":"CONCATENATE(応募者名簿!G988)","v":""},{"$f":"CONCATENATE(応募者名簿!H988)","v":""},{"$f":"CONCATENATE(応募者名簿!I988)","v":""}]
[{"$f":"応募者名簿!$B$8","v":0},{"$f":"CONCATENATE(応募者名簿!$B$11,応募者名簿!$D$11,応募者名簿!$E$11,応募者名簿!$I$11)","v":""},"半紙",{"$f":"CONCATENATE(応募者名簿!F989)","v":""},{"$f":"CONCATENATE(応募者名簿!G989)","v":""},{"$f":"CONCATENATE(応募者名簿!H989)","v":""},{"$f":"CONCATENATE(応募者名簿!I989)","v":""}]
[{"$f":"応募者名簿!$B$8","v":0},{"$f":"CONCATENATE(応募者名簿!$B$11,応募者名簿!$D$11,応募者名簿!$E$11,応募者名簿!$I$11)","v":""},"半紙",{"$f":"CONCATENATE(応募者名簿!F990)","v":""},{"$f":"CONCATENATE(応募者名簿!G990)","v":""},{"$f":"CONCATENATE(応募者名簿!H990)","v":""},{"$f":"CONCATENATE(応募者名簿!I990)","v":""}]
[{"$f":"応募者名簿!$B$8","v":0},{"$f":"CONCATENATE(応募者名簿!$B$11,応募者名簿!$D$11,応募者名簿!$E$11,応募者名簿!$I$11)","v":""},"半紙",{"$f":"CONCATENATE(応募者名簿!F991)","v":""},{"$f":"CONCATENATE(応募者名簿!G991)","v":""},{"$f":"CONCATENATE(応募者名簿!H991)","v":""},{"$f":"CONCATENATE(応募者名簿!I991)","v":""}]
[{"$f":"応募者名簿!$B$8","v":0},{"$f":"CONCATENATE(応募者名簿!$B$11,応募者名簿!$D$11,応募者名簿!$E$11,応募者名簿!$I$11)","v":""},"半紙",{"$f":"CONCATENATE(応募者名簿!F992)","v":""},{"$f":"CONCATENATE(応募者名簿!G992)","v":""},{"$f":"CONCATENATE(応募者名簿!H992)","v":""},{"$f":"CONCATENATE(応募者名簿!I992)","v":""}]
[{"$f":"応募者名簿!$B$8","v":0},{"$f":"CONCATENATE(応募者名簿!$B$11,応募者名簿!$D$11,応募者名簿!$E$11,応募者名簿!$I$11)","v":""},"半紙",{"$f":"CONCATENATE(応募者名簿!F993)","v":""},{"$f":"CONCATENATE(応募者名簿!G993)","v":""},{"$f":"CONCATENATE(応募者名簿!H993)","v":""},{"$f":"CONCATENATE(応募者名簿!I993)","v":""}]
[{"$f":"応募者名簿!$B$8","v":0},{"$f":"CONCATENATE(応募者名簿!$B$11,応募者名簿!$D$11,応募者名簿!$E$11,応募者名簿!$I$11)","v":""},"半紙",{"$f":"CONCATENATE(応募者名簿!F994)","v":""},{"$f":"CONCATENATE(応募者名簿!G994)","v":""},{"$f":"CONCATENATE(応募者名簿!H994)","v":""},{"$f":"CONCATENATE(応募者名簿!I994)","v":""}]
[{"$f":"応募者名簿!$B$8","v":0},{"$f":"CONCATENATE(応募者名簿!$B$11,応募者名簿!$D$11,応募者名簿!$E$11,応募者名簿!$I$11)","v":""},"半紙",{"$f":"CONCATENATE(応募者名簿!F995)","v":""},{"$f":"CONCATENATE(応募者名簿!G995)","v":""},{"$f":"CONCATENATE(応募者名簿!H995)","v":""},{"$f":"CONCATENATE(応募者名簿!I995)","v":""}]
[{"$f":"応募者名簿!$B$8","v":0},{"$f":"CONCATENATE(応募者名簿!$B$11,応募者名簿!$D$11,応募者名簿!$E$11,応募者名簿!$I$11)","v":""},"半紙",{"$f":"CONCATENATE(応募者名簿!F996)","v":""},{"$f":"CONCATENATE(応募者名簿!G996)","v":""},{"$f":"CONCATENATE(応募者名簿!H996)","v":""},{"$f":"CONCATENATE(応募者名簿!I996)","v":""}]
[{"$f":"応募者名簿!$B$8","v":0},{"$f":"CONCATENATE(応募者名簿!$B$11,応募者名簿!$D$11,応募者名簿!$E$11,応募者名簿!$I$11)","v":""},"半紙",{"$f":"CONCATENATE(応募者名簿!F997)","v":""},{"$f":"CONCATENATE(応募者名簿!G997)","v":""},{"$f":"CONCATENATE(応募者名簿!H997)","v":""},{"$f":"CONCATENATE(応募者名簿!I997)","v":""}]
[{"$f":"応募者名簿!$B$8","v":0},{"$f":"CONCATENATE(応募者名簿!$B$11,応募者名簿!$D$11,応募者名簿!$E$11,応募者名簿!$I$11)","v":""},"半紙",{"$f":"CONCATENATE(応募者名簿!F998)","v":""},{"$f":"CONCATENATE(応募者名簿!G998)","v":""},{"$f":"CONCATENATE(応募者名簿!H998)","v":""},{"$f":"CONCATENATE(応募者名簿!I998)","v":""}]
[{"$f":"応募者名簿!$B$8","v":0},{"$f":"CONCATENATE(応募者名簿!$B$11,応募者名簿!$D$11,応募者名簿!$E$11,応募者名簿!$I$11)","v":""},"半紙",{"$f":"CONCATENATE(応募者名簿!F999)","v":""},{"$f":"CONCATENATE(応募者名簿!G999)","v":""},{"$f":"CONCATENATE(応募者名簿!H999)","v":""},{"$f":"CONCATENATE(応募者名簿!I999)","v":""}]
[{"$f":"応募者名簿!$B$8","v":0},{"$f":"CONCATENATE(応募者名簿!$B$11,応募者名簿!$D$11,応募者名簿!$E$11,応募者名簿!$I$11)","v":""},"半紙",{"$f":"CONCATENATE(応募者名簿!F1000)","v":""},{"$f":"CONCATENATE(応募者名簿!G1000)","v":""},{"$f":"CONCATENATE(応募者名簿!H1000)","v":""},{"$f":"CONCATENATE(応募者名簿!I1000)","v":""}]
[{"$f":"応募者名簿!$B$8","v":0},{"$f":"CONCATENATE(応募者名簿!$B$11,応募者名簿!$D$11,応募者名簿!$E$11,応募者名簿!$I$11)","v":""},"半紙",{"$f":"CONCATENATE(応募者名簿!F1001)","v":""},{"$f":"CONCATENATE(応募者名簿!G1001)","v":""},{"$f":"CONCATENATE(応募者名簿!H1001)","v":""},{"$f":"CONCATENATE(応募者名簿!I1001)","v":""}]
[{"$f":"応募者名簿!$B$8","v":0},{"$f":"CONCATENATE(応募者名簿!$B$11,応募者名簿!$D$11,応募者名簿!$E$11,応募者名簿!$I$11)","v":""},"半紙",{"$f":"CONCATENATE(応募者名簿!F1002)","v":""},{"$f":"CONCATENATE(応募者名簿!G1002)","v":""},{"$f":"CONCATENATE(応募者名簿!H1002)","v":""},{"$f":"CONCATENATE(応募者名簿!I1002)","v":""}]
[{"$f":"応募者名簿!$B$8","v":0},{"$f":"CONCATENATE(応募者名簿!$B$11,応募者名簿!$D$11,応募者名簿!$E$11,応募者名簿!$I$11)","v":""},"半紙",{"$f":"CONCATENATE(応募者名簿!F1003)","v":""},{"$f":"CONCATENATE(応募者名簿!G1003)","v":""},{"$f":"CONCATENATE(応募者名簿!H1003)","v":""},{"$f":"CONCATENATE(応募者名簿!I1003)","v":""}]
[{"$f":"応募者名簿!$B$8","v":0},{"$f":"CONCATENATE(応募者名簿!$B$11,応募者名簿!$D$11,応募者名簿!$E$11,応募者名簿!$I$11)","v":""},"半紙",{"$f":"CONCATENATE(応募者名簿!F1004)","v":""},{"$f":"CONCATENATE(応募者名簿!G1004)","v":""},{"$f":"CONCATENATE(応募者名簿!H1004)","v":""},{"$f":"CONCATENATE(応募者名簿!I1004)","v":""}]
[{"$f":"応募者名簿!$B$8","v":0},{"$f":"CONCATENATE(応募者名簿!$B$11,応募者名簿!$D$11,応募者名簿!$E$11,応募者名簿!$I$11)","v":""},"半紙",{"$f":"CONCATENATE(応募者名簿!F1005)","v":""},{"$f":"CONCATENATE(応募者名簿!G1005)","v":""},{"$f":"CONCATENATE(応募者名簿!H1005)","v":""},{"$f":"CONCATENATE(応募者名簿!I1005)","v":""}]
[{"$f":"応募者名簿!$B$8","v":0},{"$f":"CONCATENATE(応募者名簿!$B$11,応募者名簿!$D$11,応募者名簿!$E$11,応募者名簿!$I$11)","v":""},"半紙",{"$f":"CONCATENATE(応募者名簿!F1006)","v":""},{"$f":"CONCATENATE(応募者名簿!G1006)","v":""},{"$f":"CONCATENATE(応募者名簿!H1006)","v":""},{"$f":"CONCATENATE(応募者名簿!I1006)","v":""}]
[{"$f":"応募者名簿!$B$8","v":0},{"$f":"CONCATENATE(応募者名簿!$B$11,応募者名簿!$D$11,応募者名簿!$E$11,応募者名簿!$I$11)","v":""},"半紙",{"$f":"CONCATENATE(応募者名簿!F1007)","v":""},{"$f":"CONCATENATE(応募者名簿!G1007)","v":""},{"$f":"CONCATENATE(応募者名簿!H1007)","v":""},{"$f":"CONCATENATE(応募者名簿!I1007)","v":""}]
[{"$f":"応募者名簿!$B$8","v":0},{"$f":"CONCATENATE(応募者名簿!$B$11,応募者名簿!$D$11,応募者名簿!$E$11,応募者名簿!$I$11)","v":""},"半紙",{"$f":"CONCATENATE(応募者名簿!F1008)","v":""},{"$f":"CONCATENATE(応募者名簿!G1008)","v":""},{"$f":"CONCATENATE(応募者名簿!H1008)","v":""},{"$f":"CONCATENATE(応募者名簿!I1008)","v":""}]
[{"$f":"応募者名簿!$B$8","v":0},{"$f":"CONCATENATE(応募者名簿!$B$11,応募者名簿!$D$11,応募者名簿!$E$11,応募者名簿!$I$11)","v":""},"半紙",{"$f":"CONCATENATE(応募者名簿!F1009)","v":""},{"$f":"CONCATENATE(応募者名簿!G1009)","v":""},{"$f":"CONCATENATE(応募者名簿!H1009)","v":""},{"$f":"CONCATENATE(応募者名簿!I1009)","v":""}]
[{"$f":"応募者名簿!$B$8","v":0},{"$f":"CONCATENATE(応募者名簿!$B$11,応募者名簿!$D$11,応募者名簿!$E$11,応募者名簿!$I$11)","v":""},"半紙",{"$f":"CONCATENATE(応募者名簿!F1010)","v":""},{"$f":"CONCATENATE(応募者名簿!G1010)","v":""},{"$f":"CONCATENATE(応募者名簿!H1010)","v":""},{"$f":"CONCATENATE(応募者名簿!I1010)","v":""}]
[{"$f":"応募者名簿!$B$8","v":0},{"$f":"CONCATENATE(応募者名簿!$B$11,応募者名簿!$D$11,応募者名簿!$E$11,応募者名簿!$I$11)","v":""},"半紙",{"$f":"CONCATENATE(応募者名簿!F1011)","v":""},{"$f":"CONCATENATE(応募者名簿!G1011)","v":""},{"$f":"CONCATENATE(応募者名簿!H1011)","v":""},{"$f":"CONCATENATE(応募者名簿!I1011)","v":""}]
[{"$f":"応募者名簿!$B$8","v":0},{"$f":"CONCATENATE(応募者名簿!$B$11,応募者名簿!$D$11,応募者名簿!$E$11,応募者名簿!$I$11)","v":""},"半紙",{"$f":"CONCATENATE(応募者名簿!F1012)","v":""},{"$f":"CONCATENATE(応募者名簿!G1012)","v":""},{"$f":"CONCATENATE(応募者名簿!H1012)","v":""},{"$f":"CONCATENATE(応募者名簿!I1012)","v":""}]
[{"$f":"応募者名簿!$B$8","v":0},{"$f":"CONCATENATE(応募者名簿!$B$11,応募者名簿!$D$11,応募者名簿!$E$11,応募者名簿!$I$11)","v":""},"半紙",{"$f":"CONCATENATE(応募者名簿!F1013)","v":""},{"$f":"CONCATENATE(応募者名簿!G1013)","v":""},{"$f":"CONCATENATE(応募者名簿!H1013)","v":""},{"$f":"CONCATENATE(応募者名簿!I1013)","v":""}]
[{"$f":"応募者名簿!$B$8","v":0},{"$f":"CONCATENATE(応募者名簿!$B$11,応募者名簿!$D$11,応募者名簿!$E$11,応募者名簿!$I$11)","v":""},"半紙",{"$f":"CONCATENATE(応募者名簿!F1014)","v":""},{"$f":"CONCATENATE(応募者名簿!G1014)","v":""},{"$f":"CONCATENATE(応募者名簿!H1014)","v":""},{"$f":"CONCATENATE(応募者名簿!I1014)","v":""}]
[{"$f":"応募者名簿!$B$8","v":0},{"$f":"CONCATENATE(応募者名簿!$B$11,応募者名簿!$D$11,応募者名簿!$E$11,応募者名簿!$I$11)","v":""},"半紙",{"$f":"CONCATENATE(応募者名簿!F1015)","v":""},{"$f":"CONCATENATE(応募者名簿!G1015)","v":""},{"$f":"CONCATENATE(応募者名簿!H1015)","v":""},{"$f":"CONCATENATE(応募者名簿!I1015)","v":""}]
[{"$f":"応募者名簿!$B$8","v":0},{"$f":"CONCATENATE(応募者名簿!$B$11,応募者名簿!$D$11,応募者名簿!$E$11,応募者名簿!$I$11)","v":""},"半紙",{"$f":"CONCATENATE(応募者名簿!F1016)","v":""},{"$f":"CONCATENATE(応募者名簿!G1016)","v":""},{"$f":"CONCATENATE(応募者名簿!H1016)","v":""},{"$f":"CONCATENATE(応募者名簿!I1016)","v":""}]
[{"$f":"応募者名簿!$B$8","v":0},{"$f":"CONCATENATE(応募者名簿!$B$11,応募者名簿!$D$11,応募者名簿!$E$11,応募者名簿!$I$11)","v":""},"半紙",{"$f":"CONCATENATE(応募者名簿!F1017)","v":""},{"$f":"CONCATENATE(応募者名簿!G1017)","v":""},{"$f":"CONCATENATE(応募者名簿!H1017)","v":""},{"$f":"CONCATENATE(応募者名簿!I1017)","v":""}]
[{"$f":"応募者名簿!$B$8","v":0},{"$f":"CONCATENATE(応募者名簿!$B$11,応募者名簿!$D$11,応募者名簿!$E$11,応募者名簿!$I$11)","v":""},"半紙",{"$f":"CONCATENATE(応募者名簿!#REF!)","v":{"$error":"#REF!"}},{"$f":"CONCATENATE(応募者名簿!#REF!)","v":{"$error":"#REF!"}},{"$f":"CONCATENATE(応募者名簿!#REF!)","v":{"$error":"#REF!"}},{"$f":"CONCATENATE(応募者名簿!#REF!)","v":{"$error":"#REF!"}}]
[{"$f":"応募者名簿!$B$8","v":0},{"$f":"CONCATENATE(応募者名簿!$B$11,応募者名簿!$D$11,応募者名簿!$E$11,応募者名簿!$I$11)","v":""},"交通安全ポスター",{"$f":"CONCATENATE(応募者名簿!K18)","v":""},{"$f":"CONCATENATE(応募者名簿!L18)","v":""},{"$f":"CONCATENATE(応募者名簿!M18)","v":""},{"$f":"CONCATENATE(応募者名簿!N18)","v":""}]
[{"$f":"応募者名簿!$B$8","v":0},{"$f":"CONCATENATE(応募者名簿!$B$11,応募者名簿!$D$11,応募者名簿!$E$11,応募者名簿!$I$11)","v":""},"交通安全ポスター",{"$f":"CONCATENATE(応募者名簿!K19)","v":""},{"$f":"CONCATENATE(応募者名簿!L19)","v":""},{"$f":"CONCATENATE(応募者名簿!M19)","v":""},{"$f":"CONCATENATE(応募者名簿!N19)","v":""}]
[{"$f":"応募者名簿!$B$8","v":0},{"$f":"CONCATENATE(応募者名簿!$B$11,応募者名簿!$D$11,応募者名簿!$E$11,応募者名簿!$I$11)","v":""},"交通安全ポスター",{"$f":"CONCATENATE(応募者名簿!K20)","v":""},{"$f":"CONCATENATE(応募者名簿!L20)","v":""},{"$f":"CONCATENATE(応募者名簿!M20)","v":""},{"$f":"CONCATENATE(応募者名簿!N20)","v":""}]
[{"$f":"応募者名簿!$B$8","v":0},{"$f":"CONCATENATE(応募者名簿!$B$11,応募者名簿!$D$11,応募者名簿!$E$11,応募者名簿!$I$11)","v":""},"交通安全ポスター",{"$f":"CONCATENATE(応募者名簿!K21)","v":""},{"$f":"CONCATENATE(応募者名簿!L21)","v":""},{"$f":"CONCATENATE(応募者名簿!M21)","v":""},{"$f":"CONCATENATE(応募者名簿!N21)","v":""}]
[{"$f":"応募者名簿!$B$8","v":0},{"$f":"CONCATENATE(応募者名簿!$B$11,応募者名簿!$D$11,応募者名簿!$E$11,応募者名簿!$I$11)","v":""},"交通安全ポスター",{"$f":"CONCATENATE(応募者名簿!K22)","v":""},{"$f":"CONCATENATE(応募者名簿!L22)","v":""},{"$f":"CONCATENATE(応募者名簿!M22)","v":""},{"$f":"CONCATENATE(応募者名簿!N22)","v":""}]
[{"$f":"応募者名簿!$B$8","v":0},{"$f":"CONCATENATE(応募者名簿!$B$11,応募者名簿!$D$11,応募者名簿!$E$11,応募者名簿!$I$11)","v":""},"交通安全ポスター",{"$f":"CONCATENATE(応募者名簿!K23)","v":""},{"$f":"CONCATENATE(応募者名簿!L23)","v":""},{"$f":"CONCATENATE(応募者名簿!M23)","v":""},{"$f":"CONCATENATE(応募者名簿!N23)","v":""}]
[{"$f":"応募者名簿!$B$8","v":0},{"$f":"CONCATENATE(応募者名簿!$B$11,応募者名簿!$D$11,応募者名簿!$E$11,応募者名簿!$I$11)","v":""},"交通安全ポスター",{"$f":"CONCATENATE(応募者名簿!K24)","v":""},{"$f":"CONCATENATE(応募者名簿!L24)","v":""},{"$f":"CONCATENATE(応募者名簿!M24)","v":""},{"$f":"CONCATENATE(応募者名簿!N24)","v":""}]
[{"$f":"応募者名簿!$B$8","v":0},{"$f":"CONCATENATE(応募者名簿!$B$11,応募者名簿!$D$11,応募者名簿!$E$11,応募者名簿!$I$11)","v":""},"交通安全ポスター",{"$f":"CONCATENATE(応募者名簿!K25)","v":""},{"$f":"CONCATENATE(応募者名簿!L25)","v":""},{"$f":"CONCATENATE(応募者名簿!M25)","v":""},{"$f":"CONCATENATE(応募者名簿!N25)","v":""}]
[{"$f":"応募者名簿!$B$8","v":0},{"$f":"CONCATENATE(応募者名簿!$B$11,応募者名簿!$D$11,応募者名簿!$E$11,応募者名簿!$I$11)","v":""},"交通安全ポスター",{"$f":"CONCATENATE(応募者名簿!K26)","v":""},{"$f":"CONCATENATE(応募者名簿!L26)","v":""},{"$f":"CONCATENATE(応募者名簿!M26)","v":""},{"$f":"CONCATENATE(応募者名簿!N26)","v":""}]
[{"$f":"応募者名簿!$B$8","v":0},{"$f":"CONCATENATE(応募者名簿!$B$11,応募者名簿!$D$11,応募者名簿!$E$11,応募者名簿!$I$11)","v":""},"交通安全ポスター",{"$f":"CONCATENATE(応募者名簿!K27)","v":""},{"$f":"CONCATENATE(応募者名簿!L27)","v":""},{"$f":"CONCATENATE(応募者名簿!M27)","v":""},{"$f":"CONCATENATE(応募者名簿!N27)","v":""}]
[{"$f":"応募者名簿!$B$8","v":0},{"$f":"CONCATENATE(応募者名簿!$B$11,応募者名簿!$D$11,応募者名簿!$E$11,応募者名簿!$I$11)","v":""},"交通安全ポスター",{"$f":"CONCATENATE(応募者名簿!K28)","v":""},{"$f":"CONCATENATE(応募者名簿!L28)","v":""},{"$f":"CONCATENATE(応募者名簿!M28)","v":""},{"$f":"CONCATENATE(応募者名簿!N28)","v":""}]
[{"$f":"応募者名簿!$B$8","v":0},{"$f":"CONCATENATE(応募者名簿!$B$11,応募者名簿!$D$11,応募者名簿!$E$11,応募者名簿!$I$11)","v":""},"交通安全ポスター",{"$f":"CONCATENATE(応募者名簿!K29)","v":""},{"$f":"CONCATENATE(応募者名簿!L29)","v":""},{"$f":"CONCATENATE(応募者名簿!M29)","v":""},{"$f":"CONCATENATE(応募者名簿!N29)","v":""}]
[{"$f":"応募者名簿!$B$8","v":0},{"$f":"CONCATENATE(応募者名簿!$B$11,応募者名簿!$D$11,応募者名簿!$E$11,応募者名簿!$I$11)","v":""},"交通安全ポスター",{"$f":"CONCATENATE(応募者名簿!K30)","v":""},{"$f":"CONCATENATE(応募者名簿!L30)","v":""},{"$f":"CONCATENATE(応募者名簿!M30)","v":""},{"$f":"CONCATENATE(応募者名簿!N30)","v":""}]
[{"$f":"応募者名簿!$B$8","v":0},{"$f":"CONCATENATE(応募者名簿!$B$11,応募者名簿!$D$11,応募者名簿!$E$11,応募者名簿!$I$11)","v":""},"交通安全ポスター",{"$f":"CONCATENATE(応募者名簿!K31)","v":""},{"$f":"CONCATENATE(応募者名簿!L31)","v":""},{"$f":"CONCATENATE(応募者名簿!M31)","v":""},{"$f":"CONCATENATE(応募者名簿!N31)","v":""}]
[{"$f":"応募者名簿!$B$8","v":0},{"$f":"CONCATENATE(応募者名簿!$B$11,応募者名簿!$D$11,応募者名簿!$E$11,応募者名簿!$I$11)","v":""},"交通安全ポスター",{"$f":"CONCATENATE(応募者名簿!K32)","v":""},{"$f":"CONCATENATE(応募者名簿!L32)","v":""},{"$f":"CONCATENATE(応募者名簿!M32)","v":""},{"$f":"CONCATENATE(応募者名簿!N32)","v":""}]
[{"$f":"応募者名簿!$B$8","v":0},{"$f":"CONCATENATE(応募者名簿!$B$11,応募者名簿!$D$11,応募者名簿!$E$11,応募者名簿!$I$11)","v":""},"交通安全ポスター",{"$f":"CONCATENATE(応募者名簿!K33)","v":""},{"$f":"CONCATENATE(応募者名簿!L33)","v":""},{"$f":"CONCATENATE(応募者名簿!M33)","v":""},{"$f":"CONCATENATE(応募者名簿!N33)","v":""}]
[{"$f":"応募者名簿!$B$8","v":0},{"$f":"CONCATENATE(応募者名簿!$B$11,応募者名簿!$D$11,応募者名簿!$E$11,応募者名簿!$I$11)","v":""},"交通安全ポスター",{"$f":"CONCATENATE(応募者名簿!K34)","v":""},{"$f":"CONCATENATE(応募者名簿!L34)","v":""},{"$f":"CONCATENATE(応募者名簿!M34)","v":""},{"$f":"CONCATENATE(応募者名簿!N34)","v":""}]
[{"$f":"応募者名簿!$B$8","v":0},{"$f":"CONCATENATE(応募者名簿!$B$11,応募者名簿!$D$11,応募者名簿!$E$11,応募者名簿!$I$11)","v":""},"交通安全ポスター",{"$f":"CONCATENATE(応募者名簿!K35)","v":""},{"$f":"CONCATENATE(応募者名簿!L35)","v":""},{"$f":"CONCATENATE(応募者名簿!M35)","v":""},{"$f":"CONCATENATE(応募者名簿!N35)","v":""}]
[{"$f":"応募者名簿!$B$8","v":0},{"$f":"CONCATENATE(応募者名簿!$B$11,応募者名簿!$D$11,応募者名簿!$E$11,応募者名簿!$I$11)","v":""},"交通安全ポスター",{"$f":"CONCATENATE(応募者名簿!K36)","v":""},{"$f":"CONCATENATE(応募者名簿!L36)","v":""},{"$f":"CONCATENATE(応募者名簿!M36)","v":""},{"$f":"CONCATENATE(応募者名簿!N36)","v":""}]
[{"$f":"応募者名簿!$B$8","v":0},{"$f":"CONCATENATE(応募者名簿!$B$11,応募者名簿!$D$11,応募者名簿!$E$11,応募者名簿!$I$11)","v":""},"交通安全ポスター",{"$f":"CONCATENATE(応募者名簿!K37)","v":""},{"$f":"CONCATENATE(応募者名簿!L37)","v":""},{"$f":"CONCATENATE(応募者名簿!M37)","v":""},{"$f":"CONCATENATE(応募者名簿!N37)","v":""}]
[{"$f":"応募者名簿!$B$8","v":0},{"$f":"CONCATENATE(応募者名簿!$B$11,応募者名簿!$D$11,応募者名簿!$E$11,応募者名簿!$I$11)","v":""},"交通安全ポスター",{"$f":"CONCATENATE(応募者名簿!K38)","v":""},{"$f":"CONCATENATE(応募者名簿!L38)","v":""},{"$f":"CONCATENATE(応募者名簿!M38)","v":""},{"$f":"CONCATENATE(応募者名簿!N38)","v":""}]
[{"$f":"応募者名簿!$B$8","v":0},{"$f":"CONCATENATE(応募者名簿!$B$11,応募者名簿!$D$11,応募者名簿!$E$11,応募者名簿!$I$11)","v":""},"交通安全ポスター",{"$f":"CONCATENATE(応募者名簿!K39)","v":""},{"$f":"CONCATENATE(応募者名簿!L39)","v":""},{"$f":"CONCATENATE(応募者名簿!M39)","v":""},{"$f":"CONCATENATE(応募者名簿!N39)","v":""}]
[{"$f":"応募者名簿!$B$8","v":0},{"$f":"CONCATENATE(応募者名簿!$B$11,応募者名簿!$D$11,応募者名簿!$E$11,応募者名簿!$I$11)","v":""},"交通安全ポスター",{"$f":"CONCATENATE(応募者名簿!K40)","v":""},{"$f":"CONCATENATE(応募者名簿!L40)","v":""},{"$f":"CONCATENATE(応募者名簿!M40)","v":""},{"$f":"CONCATENATE(応募者名簿!N40)","v":""}]
[{"$f":"応募者名簿!$B$8","v":0},{"$f":"CONCATENATE(応募者名簿!$B$11,応募者名簿!$D$11,応募者名簿!$E$11,応募者名簿!$I$11)","v":""},"交通安全ポスター",{"$f":"CONCATENATE(応募者名簿!K41)","v":""},{"$f":"CONCATENATE(応募者名簿!L41)","v":""},{"$f":"CONCATENATE(応募者名簿!M41)","v":""},{"$f":"CONCATENATE(応募者名簿!N41)","v":""}]
[{"$f":"応募者名簿!$B$8","v":0},{"$f":"CONCATENATE(応募者名簿!$B$11,応募者名簿!$D$11,応募者名簿!$E$11,応募者名簿!$I$11)","v":""},"交通安全ポスター",{"$f":"CONCATENATE(応募者名簿!K42)","v":""},{"$f":"CONCATENATE(応募者名簿!L42)","v":""},{"$f":"CONCATENATE(応募者名簿!M42)","v":""},{"$f":"CONCATENATE(応募者名簿!N42)","v":""}]
[{"$f":"応募者名簿!$B$8","v":0},{"$f":"CONCATENATE(応募者名簿!$B$11,応募者名簿!$D$11,応募者名簿!$E$11,応募者名簿!$I$11)","v":""},"交通安全ポスター",{"$f":"CONCATENATE(応募者名簿!K43)","v":""},{"$f":"CONCATENATE(応募者名簿!L43)","v":""},{"$f":"CONCATENATE(応募者名簿!M43)","v":""},{"$f":"CONCATENATE(応募者名簿!N43)","v":""}]
[{"$f":"応募者名簿!$B$8","v":0},{"$f":"CONCATENATE(応募者名簿!$B$11,応募者名簿!$D$11,応募者名簿!$E$11,応募者名簿!$I$11)","v":""},"交通安全ポスター",{"$f":"CONCATENATE(応募者名簿!K44)","v":""},{"$f":"CONCATENATE(応募者名簿!L44)","v":""},{"$f":"CONCATENATE(応募者名簿!M44)","v":""},{"$f":"CONCATENATE(応募者名簿!N44)","v":""}]
[{"$f":"応募者名簿!$B$8","v":0},{"$f":"CONCATENATE(応募者名簿!$B$11,応募者名簿!$D$11,応募者名簿!$E$11,応募者名簿!$I$11)","v":""},"交通安全ポスター",{"$f":"CONCATENATE(応募者名簿!K45)","v":""},{"$f":"CONCATENATE(応募者名簿!L45)","v":""},{"$f":"CONCATENATE(応募者名簿!M45)","v":""},{"$f":"CONCATENATE(応募者名簿!N45)","v":""}]
[{"$f":"応募者名簿!$B$8","v":0},{"$f":"CONCATENATE(応募者名簿!$B$11,応募者名簿!$D$11,応募者名簿!$E$11,応募者名簿!$I$11)","v":""},"交通安全ポスター",{"$f":"CONCATENATE(応募者名簿!K46)","v":""},{"$f":"CONCATENATE(応募者名簿!L46)","v":""},{"$f":"CONCATENATE(応募者名簿!M46)","v":""},{"$f":"CONCATENATE(応募者名簿!N46)","v":""}]
[{"$f":"応募者名簿!$B$8","v":0},{"$f":"CONCATENATE(応募者名簿!$B$11,応募者名簿!$D$11,応募者名簿!$E$11,応募者名簿!$I$11)","v":""},"交通安全ポスター",{"$f":"CONCATENATE(応募者名簿!K47)","v":""},{"$f":"CONCATENATE(応募者名簿!L47)","v":""},{"$f":"CONCATENATE(応募者名簿!M47)","v":""},{"$f":"CONCATENATE(応募者名簿!N47)","v":""}]
[{"$f":"応募者名簿!$B$8","v":0},{"$f":"CONCATENATE(応募者名簿!$B$11,応募者名簿!$D$11,応募者名簿!$E$11,応募者名簿!$I$11)","v":""},"交通安全ポスター",{"$f":"CONCATENATE(応募者名簿!K48)","v":""},{"$f":"CONCATENATE(応募者名簿!L48)","v":""},{"$f":"CONCATENATE(応募者名簿!M48)","v":""},{"$f":"CONCATENATE(応募者名簿!N48)","v":""}]
[{"$f":"応募者名簿!$B$8","v":0},{"$f":"CONCATENATE(応募者名簿!$B$11,応募者名簿!$D$11,応募者名簿!$E$11,応募者名簿!$I$11)","v":""},"交通安全ポスター",{"$f":"CONCATENATE(応募者名簿!K49)","v":""},{"$f":"CONCATENATE(応募者名簿!L49)","v":""},{"$f":"CONCATENATE(応募者名簿!M49)","v":""},{"$f":"CONCATENATE(応募者名簿!N49)","v":""}]
[{"$f":"応募者名簿!$B$8","v":0},{"$f":"CONCATENATE(応募者名簿!$B$11,応募者名簿!$D$11,応募者名簿!$E$11,応募者名簿!$I$11)","v":""},"交通安全ポスター",{"$f":"CONCATENATE(応募者名簿!K50)","v":""},{"$f":"CONCATENATE(応募者名簿!L50)","v":""},{"$f":"CONCATENATE(応募者名簿!M50)","v":""},{"$f":"CONCATENATE(応募者名簿!N50)","v":""}]
[{"$f":"応募者名簿!$B$8","v":0},{"$f":"CONCATENATE(応募者名簿!$B$11,応募者名簿!$D$11,応募者名簿!$E$11,応募者名簿!$I$11)","v":""},"交通安全ポスター",{"$f":"CONCATENATE(応募者名簿!K51)","v":""},{"$f":"CONCATENATE(応募者名簿!L51)","v":""},{"$f":"CONCATENATE(応募者名簿!M51)","v":""},{"$f":"CONCATENATE(応募者名簿!N51)","v":""}]
[{"$f":"応募者名簿!$B$8","v":0},{"$f":"CONCATENATE(応募者名簿!$B$11,応募者名簿!$D$11,応募者名簿!$E$11,応募者名簿!$I$11)","v":""},"交通安全ポスター",{"$f":"CONCATENATE(応募者名簿!K52)","v":""},{"$f":"CONCATENATE(応募者名簿!L52)","v":""},{"$f":"CONCATENATE(応募者名簿!M52)","v":""},{"$f":"CONCATENATE(応募者名簿!N52)","v":""}]
[{"$f":"応募者名簿!$B$8","v":0},{"$f":"CONCATENATE(応募者名簿!$B$11,応募者名簿!$D$11,応募者名簿!$E$11,応募者名簿!$I$11)","v":""},"交通安全ポスター",{"$f":"CONCATENATE(応募者名簿!K53)","v":""},{"$f":"CONCATENATE(応募者名簿!L53)","v":""},{"$f":"CONCATENATE(応募者名簿!M53)","v":""},{"$f":"CONCATENATE(応募者名簿!N53)","v":""}]
[{"$f":"応募者名簿!$B$8","v":0},{"$f":"CONCATENATE(応募者名簿!$B$11,応募者名簿!$D$11,応募者名簿!$E$11,応募者名簿!$I$11)","v":""},"交通安全ポスター",{"$f":"CONCATENATE(応募者名簿!K54)","v":""},{"$f":"CONCATENATE(応募者名簿!L54)","v":""},{"$f":"CONCATENATE(応募者名簿!M54)","v":""},{"$f":"CONCATENATE(応募者名簿!N54)","v":""}]
[{"$f":"応募者名簿!$B$8","v":0},{"$f":"CONCATENATE(応募者名簿!$B$11,応募者名簿!$D$11,応募者名簿!$E$11,応募者名簿!$I$11)","v":""},"交通安全ポスター",{"$f":"CONCATENATE(応募者名簿!K55)","v":""},{"$f":"CONCATENATE(応募者名簿!L55)","v":""},{"$f":"CONCATENATE(応募者名簿!M55)","v":""},{"$f":"CONCATENATE(応募者名簿!N55)","v":""}]
[{"$f":"応募者名簿!$B$8","v":0},{"$f":"CONCATENATE(応募者名簿!$B$11,応募者名簿!$D$11,応募者名簿!$E$11,応募者名簿!$I$11)","v":""},"交通安全ポスター",{"$f":"CONCATENATE(応募者名簿!K56)","v":""},{"$f":"CONCATENATE(応募者名簿!L56)","v":""},{"$f":"CONCATENATE(応募者名簿!M56)","v":""},{"$f":"CONCATENATE(応募者名簿!N56)","v":""}]
[{"$f":"応募者名簿!$B$8","v":0},{"$f":"CONCATENATE(応募者名簿!$B$11,応募者名簿!$D$11,応募者名簿!$E$11,応募者名簿!$I$11)","v":""},"交通安全ポスター",{"$f":"CONCATENATE(応募者名簿!K57)","v":""},{"$f":"CONCATENATE(応募者名簿!L57)","v":""},{"$f":"CONCATENATE(応募者名簿!M57)","v":""},{"$f":"CONCATENATE(応募者名簿!N57)","v":""}]
[{"$f":"応募者名簿!$B$8","v":0},{"$f":"CONCATENATE(応募者名簿!$B$11,応募者名簿!$D$11,応募者名簿!$E$11,応募者名簿!$I$11)","v":""},"交通安全ポスター",{"$f":"CONCATENATE(応募者名簿!K58)","v":""},{"$f":"CONCATENATE(応募者名簿!L58)","v":""},{"$f":"CONCATENATE(応募者名簿!M58)","v":""},{"$f":"CONCATENATE(応募者名簿!N58)","v":""}]
[{"$f":"応募者名簿!$B$8","v":0},{"$f":"CONCATENATE(応募者名簿!$B$11,応募者名簿!$D$11,応募者名簿!$E$11,応募者名簿!$I$11)","v":""},"交通安全ポスター",{"$f":"CONCATENATE(応募者名簿!K59)","v":""},{"$f":"CONCATENATE(応募者名簿!L59)","v":""},{"$f":"CONCATENATE(応募者名簿!M59)","v":""},{"$f":"CONCATENATE(応募者名簿!N59)","v":""}]
[{"$f":"応募者名簿!$B$8","v":0},{"$f":"CONCATENATE(応募者名簿!$B$11,応募者名簿!$D$11,応募者名簿!$E$11,応募者名簿!$I$11)","v":""},"交通安全ポスター",{"$f":"CONCATENATE(応募者名簿!K60)","v":""},{"$f":"CONCATENATE(応募者名簿!L60)","v":""},{"$f":"CONCATENATE(応募者名簿!M60)","v":""},{"$f":"CONCATENATE(応募者名簿!N60)","v":""}]
[{"$f":"応募者名簿!$B$8","v":0},{"$f":"CONCATENATE(応募者名簿!$B$11,応募者名簿!$D$11,応募者名簿!$E$11,応募者名簿!$I$11)","v":""},"交通安全ポスター",{"$f":"CONCATENATE(応募者名簿!K61)","v":""},{"$f":"CONCATENATE(応募者名簿!L61)","v":""},{"$f":"CONCATENATE(応募者名簿!M61)","v":""},{"$f":"CONCATENATE(応募者名簿!N61)","v":""}]
[{"$f":"応募者名簿!$B$8","v":0},{"$f":"CONCATENATE(応募者名簿!$B$11,応募者名簿!$D$11,応募者名簿!$E$11,応募者名簿!$I$11)","v":""},"交通安全ポスター",{"$f":"CONCATENATE(応募者名簿!K62)","v":""},{"$f":"CONCATENATE(応募者名簿!L62)","v":""},{"$f":"CONCATENATE(応募者名簿!M62)","v":""},{"$f":"CONCATENATE(応募者名簿!N62)","v":""}]
[{"$f":"応募者名簿!$B$8","v":0},{"$f":"CONCATENATE(応募者名簿!$B$11,応募者名簿!$D$11,応募者名簿!$E$11,応募者名簿!$I$11)","v":""},"交通安全ポスター",{"$f":"CONCATENATE(応募者名簿!K63)","v":""},{"$f":"CONCATENATE(応募者名簿!L63)","v":""},{"$f":"CONCATENATE(応募者名簿!M63)","v":""},{"$f":"CONCATENATE(応募者名簿!N63)","v":""}]
[{"$f":"応募者名簿!$B$8","v":0},{"$f":"CONCATENATE(応募者名簿!$B$11,応募者名簿!$D$11,応募者名簿!$E$11,応募者名簿!$I$11)","v":""},"交通安全ポスター",{"$f":"CONCATENATE(応募者名簿!K64)","v":""},{"$f":"CONCATENATE(応募者名簿!L64)","v":""},{"$f":"CONCATENATE(応募者名簿!M64)","v":""},{"$f":"CONCATENATE(応募者名簿!N64)","v":""}]
[{"$f":"応募者名簿!$B$8","v":0},{"$f":"CONCATENATE(応募者名簿!$B$11,応募者名簿!$D$11,応募者名簿!$E$11,応募者名簿!$I$11)","v":""},"交通安全ポスター",{"$f":"CONCATENATE(応募者名簿!K65)","v":""},{"$f":"CONCATENATE(応募者名簿!L65)","v":""},{"$f":"CONCATENATE(応募者名簿!M65)","v":""},{"$f":"CONCATENATE(応募者名簿!N65)","v":""}]
[{"$f":"応募者名簿!$B$8","v":0},{"$f":"CONCATENATE(応募者名簿!$B$11,応募者名簿!$D$11,応募者名簿!$E$11,応募者名簿!$I$11)","v":""},"交通安全ポスター",{"$f":"CONCATENATE(応募者名簿!K66)","v":""},{"$f":"CONCATENATE(応募者名簿!L66)","v":""},{"$f":"CONCATENATE(応募者名簿!M66)","v":""},{"$f":"CONCATENATE(応募者名簿!N66)","v":""}]
[{"$f":"応募者名簿!$B$8","v":0},{"$f":"CONCATENATE(応募者名簿!$B$11,応募者名簿!$D$11,応募者名簿!$E$11,応募者名簿!$I$11)","v":""},"交通安全ポスター",{"$f":"CONCATENATE(応募者名簿!K67)","v":""},{"$f":"CONCATENATE(応募者名簿!L67)","v":""},{"$f":"CONCATENATE(応募者名簿!M67)","v":""},{"$f":"CONCATENATE(応募者名簿!N67)","v":""}]
[{"$f":"応募者名簿!$B$8","v":0},{"$f":"CONCATENATE(応募者名簿!$B$11,応募者名簿!$D$11,応募者名簿!$E$11,応募者名簿!$I$11)","v":""},"交通安全ポスター",{"$f":"CONCATENATE(応募者名簿!K68)","v":""},{"$f":"CONCATENATE(応募者名簿!L68)","v":""},{"$f":"CONCATENATE(応募者名簿!M68)","v":""},{"$f":"CONCATENATE(応募者名簿!N68)","v":""}]
[{"$f":"応募者名簿!$B$8","v":0},{"$f":"CONCATENATE(応募者名簿!$B$11,応募者名簿!$D$11,応募者名簿!$E$11,応募者名簿!$I$11)","v":""},"交通安全ポスター",{"$f":"CONCATENATE(応募者名簿!K69)","v":""},{"$f":"CONCATENATE(応募者名簿!L69)","v":""},{"$f":"CONCATENATE(応募者名簿!M69)","v":""},{"$f":"CONCATENATE(応募者名簿!N69)","v":""}]
[{"$f":"応募者名簿!$B$8","v":0},{"$f":"CONCATENATE(応募者名簿!$B$11,応募者名簿!$D$11,応募者名簿!$E$11,応募者名簿!$I$11)","v":""},"交通安全ポスター",{"$f":"CONCATENATE(応募者名簿!K70)","v":""},{"$f":"CONCATENATE(応募者名簿!L70)","v":""},{"$f":"CONCATENATE(応募者名簿!M70)","v":""},{"$f":"CONCATENATE(応募者名簿!N70)","v":""}]
[{"$f":"応募者名簿!$B$8","v":0},{"$f":"CONCATENATE(応募者名簿!$B$11,応募者名簿!$D$11,応募者名簿!$E$11,応募者名簿!$I$11)","v":""},"交通安全ポスター",{"$f":"CONCATENATE(応募者名簿!K71)","v":""},{"$f":"CONCATENATE(応募者名簿!L71)","v":""},{"$f":"CONCATENATE(応募者名簿!M71)","v":""},{"$f":"CONCATENATE(応募者名簿!N71)","v":""}]
[{"$f":"応募者名簿!$B$8","v":0},{"$f":"CONCATENATE(応募者名簿!$B$11,応募者名簿!$D$11,応募者名簿!$E$11,応募者名簿!$I$11)","v":""},"交通安全ポスター",{"$f":"CONCATENATE(応募者名簿!K72)","v":""},{"$f":"CONCATENATE(応募者名簿!L72)","v":""},{"$f":"CONCATENATE(応募者名簿!M72)","v":""},{"$f":"CONCATENATE(応募者名簿!N72)","v":""}]
[{"$f":"応募者名簿!$B$8","v":0},{"$f":"CONCATENATE(応募者名簿!$B$11,応募者名簿!$D$11,応募者名簿!$E$11,応募者名簿!$I$11)","v":""},"交通安全ポスター",{"$f":"CONCATENATE(応募者名簿!K73)","v":""},{"$f":"CONCATENATE(応募者名簿!L73)","v":""},{"$f":"CONCATENATE(応募者名簿!M73)","v":""},{"$f":"CONCATENATE(応募者名簿!N73)","v":""}]
[{"$f":"応募者名簿!$B$8","v":0},{"$f":"CONCATENATE(応募者名簿!$B$11,応募者名簿!$D$11,応募者名簿!$E$11,応募者名簿!$I$11)","v":""},"交通安全ポスター",{"$f":"CONCATENATE(応募者名簿!K74)","v":""},{"$f":"CONCATENATE(応募者名簿!L74)","v":""},{"$f":"CONCATENATE(応募者名簿!M74)","v":""},{"$f":"CONCATENATE(応募者名簿!N74)","v":""}]
[{"$f":"応募者名簿!$B$8","v":0},{"$f":"CONCATENATE(応募者名簿!$B$11,応募者名簿!$D$11,応募者名簿!$E$11,応募者名簿!$I$11)","v":""},"交通安全ポスター",{"$f":"CONCATENATE(応募者名簿!K75)","v":""},{"$f":"CONCATENATE(応募者名簿!L75)","v":""},{"$f":"CONCATENATE(応募者名簿!M75)","v":""},{"$f":"CONCATENATE(応募者名簿!N75)","v":""}]
[{"$f":"応募者名簿!$B$8","v":0},{"$f":"CONCATENATE(応募者名簿!$B$11,応募者名簿!$D$11,応募者名簿!$E$11,応募者名簿!$I$11)","v":""},"交通安全ポスター",{"$f":"CONCATENATE(応募者名簿!K76)","v":""},{"$f":"CONCATENATE(応募者名簿!L76)","v":""},{"$f":"CONCATENATE(応募者名簿!M76)","v":""},{"$f":"CONCATENATE(応募者名簿!N76)","v":""}]
[{"$f":"応募者名簿!$B$8","v":0},{"$f":"CONCATENATE(応募者名簿!$B$11,応募者名簿!$D$11,応募者名簿!$E$11,応募者名簿!$I$11)","v":""},"交通安全ポスター",{"$f":"CONCATENATE(応募者名簿!K77)","v":""},{"$f":"CONCATENATE(応募者名簿!L77)","v":""},{"$f":"CONCATENATE(応募者名簿!M77)","v":""},{"$f":"CONCATENATE(応募者名簿!N77)","v":""}]
[{"$f":"応募者名簿!$B$8","v":0},{"$f":"CONCATENATE(応募者名簿!$B$11,応募者名簿!$D$11,応募者名簿!$E$11,応募者名簿!$I$11)","v":""},"交通安全ポスター",{"$f":"CONCATENATE(応募者名簿!K78)","v":""},{"$f":"CONCATENATE(応募者名簿!L78)","v":""},{"$f":"CONCATENATE(応募者名簿!M78)","v":""},{"$f":"CONCATENATE(応募者名簿!N78)","v":""}]
[{"$f":"応募者名簿!$B$8","v":0},{"$f":"CONCATENATE(応募者名簿!$B$11,応募者名簿!$D$11,応募者名簿!$E$11,応募者名簿!$I$11)","v":""},"交通安全ポスター",{"$f":"CONCATENATE(応募者名簿!K79)","v":""},{"$f":"CONCATENATE(応募者名簿!L79)","v":""},{"$f":"CONCATENATE(応募者名簿!M79)","v":""},{"$f":"CONCATENATE(応募者名簿!N79)","v":""}]
[{"$f":"応募者名簿!$B$8","v":0},{"$f":"CONCATENATE(応募者名簿!$B$11,応募者名簿!$D$11,応募者名簿!$E$11,応募者名簿!$I$11)","v":""},"交通安全ポスター",{"$f":"CONCATENATE(応募者名簿!K80)","v":""},{"$f":"CONCATENATE(応募者名簿!L80)","v":""},{"$f":"CONCATENATE(応募者名簿!M80)","v":""},{"$f":"CONCATENATE(応募者名簿!N80)","v":""}]
[{"$f":"応募者名簿!$B$8","v":0},{"$f":"CONCATENATE(応募者名簿!$B$11,応募者名簿!$D$11,応募者名簿!$E$11,応募者名簿!$I$11)","v":""},"交通安全ポスター",{"$f":"CONCATENATE(応募者名簿!K81)","v":""},{"$f":"CONCATENATE(応募者名簿!L81)","v":""},{"$f":"CONCATENATE(応募者名簿!M81)","v":""},{"$f":"CONCATENATE(応募者名簿!N81)","v":""}]
[{"$f":"応募者名簿!$B$8","v":0},{"$f":"CONCATENATE(応募者名簿!$B$11,応募者名簿!$D$11,応募者名簿!$E$11,応募者名簿!$I$11)","v":""},"交通安全ポスター",{"$f":"CONCATENATE(応募者名簿!K82)","v":""},{"$f":"CONCATENATE(応募者名簿!L82)","v":""},{"$f":"CONCATENATE(応募者名簿!M82)","v":""},{"$f":"CONCATENATE(応募者名簿!N82)","v":""}]
[{"$f":"応募者名簿!$B$8","v":0},{"$f":"CONCATENATE(応募者名簿!$B$11,応募者名簿!$D$11,応募者名簿!$E$11,応募者名簿!$I$11)","v":""},"交通安全ポスター",{"$f":"CONCATENATE(応募者名簿!K83)","v":""},{"$f":"CONCATENATE(応募者名簿!L83)","v":""},{"$f":"CONCATENATE(応募者名簿!M83)","v":""},{"$f":"CONCATENATE(応募者名簿!N83)","v":""}]
[{"$f":"応募者名簿!$B$8","v":0},{"$f":"CONCATENATE(応募者名簿!$B$11,応募者名簿!$D$11,応募者名簿!$E$11,応募者名簿!$I$11)","v":""},"交通安全ポスター",{"$f":"CONCATENATE(応募者名簿!K84)","v":""},{"$f":"CONCATENATE(応募者名簿!L84)","v":""},{"$f":"CONCATENATE(応募者名簿!M84)","v":""},{"$f":"CONCATENATE(応募者名簿!N84)","v":""}]
[{"$f":"応募者名簿!$B$8","v":0},{"$f":"CONCATENATE(応募者名簿!$B$11,応募者名簿!$D$11,応募者名簿!$E$11,応募者名簿!$I$11)","v":""},"交通安全ポスター",{"$f":"CONCATENATE(応募者名簿!K85)","v":""},{"$f":"CONCATENATE(応募者名簿!L85)","v":""},{"$f":"CONCATENATE(応募者名簿!M85)","v":""},{"$f":"CONCATENATE(応募者名簿!N85)","v":""}]
[{"$f":"応募者名簿!$B$8","v":0},{"$f":"CONCATENATE(応募者名簿!$B$11,応募者名簿!$D$11,応募者名簿!$E$11,応募者名簿!$I$11)","v":""},"交通安全ポスター",{"$f":"CONCATENATE(応募者名簿!K86)","v":""},{"$f":"CONCATENATE(応募者名簿!L86)","v":""},{"$f":"CONCATENATE(応募者名簿!M86)","v":""},{"$f":"CONCATENATE(応募者名簿!N86)","v":""}]
[{"$f":"応募者名簿!$B$8","v":0},{"$f":"CONCATENATE(応募者名簿!$B$11,応募者名簿!$D$11,応募者名簿!$E$11,応募者名簿!$I$11)","v":""},"交通安全ポスター",{"$f":"CONCATENATE(応募者名簿!K87)","v":""},{"$f":"CONCATENATE(応募者名簿!L87)","v":""},{"$f":"CONCATENATE(応募者名簿!M87)","v":""},{"$f":"CONCATENATE(応募者名簿!N87)","v":""}]
[{"$f":"応募者名簿!$B$8","v":0},{"$f":"CONCATENATE(応募者名簿!$B$11,応募者名簿!$D$11,応募者名簿!$E$11,応募者名簿!$I$11)","v":""},"交通安全ポスター",{"$f":"CONCATENATE(応募者名簿!K88)","v":""},{"$f":"CONCATENATE(応募者名簿!L88)","v":""},{"$f":"CONCATENATE(応募者名簿!M88)","v":""},{"$f":"CONCATENATE(応募者名簿!N88)","v":""}]
[{"$f":"応募者名簿!$B$8","v":0},{"$f":"CONCATENATE(応募者名簿!$B$11,応募者名簿!$D$11,応募者名簿!$E$11,応募者名簿!$I$11)","v":""},"交通安全ポスター",{"$f":"CONCATENATE(応募者名簿!K89)","v":""},{"$f":"CONCATENATE(応募者名簿!L89)","v":""},{"$f":"CONCATENATE(応募者名簿!M89)","v":""},{"$f":"CONCATENATE(応募者名簿!N89)","v":""}]
[{"$f":"応募者名簿!$B$8","v":0},{"$f":"CONCATENATE(応募者名簿!$B$11,応募者名簿!$D$11,応募者名簿!$E$11,応募者名簿!$I$11)","v":""},"交通安全ポスター",{"$f":"CONCATENATE(応募者名簿!K90)","v":""},{"$f":"CONCATENATE(応募者名簿!L90)","v":""},{"$f":"CONCATENATE(応募者名簿!M90)","v":""},{"$f":"CONCATENATE(応募者名簿!N90)","v":""}]
[{"$f":"応募者名簿!$B$8","v":0},{"$f":"CONCATENATE(応募者名簿!$B$11,応募者名簿!$D$11,応募者名簿!$E$11,応募者名簿!$I$11)","v":""},"交通安全ポスター",{"$f":"CONCATENATE(応募者名簿!K91)","v":""},{"$f":"CONCATENATE(応募者名簿!L91)","v":""},{"$f":"CONCATENATE(応募者名簿!M91)","v":""},{"$f":"CONCATENATE(応募者名簿!N91)","v":""}]
[{"$f":"応募者名簿!$B$8","v":0},{"$f":"CONCATENATE(応募者名簿!$B$11,応募者名簿!$D$11,応募者名簿!$E$11,応募者名簿!$I$11)","v":""},"交通安全ポスター",{"$f":"CONCATENATE(応募者名簿!K92)","v":""},{"$f":"CONCATENATE(応募者名簿!L92)","v":""},{"$f":"CONCATENATE(応募者名簿!M92)","v":""},{"$f":"CONCATENATE(応募者名簿!N92)","v":""}]
[{"$f":"応募者名簿!$B$8","v":0},{"$f":"CONCATENATE(応募者名簿!$B$11,応募者名簿!$D$11,応募者名簿!$E$11,応募者名簿!$I$11)","v":""},"交通安全ポスター",{"$f":"CONCATENATE(応募者名簿!K93)","v":""},{"$f":"CONCATENATE(応募者名簿!L93)","v":""},{"$f":"CONCATENATE(応募者名簿!M93)","v":""},{"$f":"CONCATENATE(応募者名簿!N93)","v":""}]
[{"$f":"応募者名簿!$B$8","v":0},{"$f":"CONCATENATE(応募者名簿!$B$11,応募者名簿!$D$11,応募者名簿!$E$11,応募者名簿!$I$11)","v":""},"交通安全ポスター",{"$f":"CONCATENATE(応募者名簿!K94)","v":""},{"$f":"CONCATENATE(応募者名簿!L94)","v":""},{"$f":"CONCATENATE(応募者名簿!M94)","v":""},{"$f":"CONCATENATE(応募者名簿!N94)","v":""}]
[{"$f":"応募者名簿!$B$8","v":0},{"$f":"CONCATENATE(応募者名簿!$B$11,応募者名簿!$D$11,応募者名簿!$E$11,応募者名簿!$I$11)","v":""},"交通安全ポスター",{"$f":"CONCATENATE(応募者名簿!K95)","v":""},{"$f":"CONCATENATE(応募者名簿!L95)","v":""},{"$f":"CONCATENATE(応募者名簿!M95)","v":""},{"$f":"CONCATENATE(応募者名簿!N95)","v":""}]
[{"$f":"応募者名簿!$B$8","v":0},{"$f":"CONCATENATE(応募者名簿!$B$11,応募者名簿!$D$11,応募者名簿!$E$11,応募者名簿!$I$11)","v":""},"交通安全ポスター",{"$f":"CONCATENATE(応募者名簿!K96)","v":""},{"$f":"CONCATENATE(応募者名簿!L96)","v":""},{"$f":"CONCATENATE(応募者名簿!M96)","v":""},{"$f":"CONCATENATE(応募者名簿!N96)","v":""}]
[{"$f":"応募者名簿!$B$8","v":0},{"$f":"CONCATENATE(応募者名簿!$B$11,応募者名簿!$D$11,応募者名簿!$E$11,応募者名簿!$I$11)","v":""},"交通安全ポスター",{"$f":"CONCATENATE(応募者名簿!K97)","v":""},{"$f":"CONCATENATE(応募者名簿!L97)","v":""},{"$f":"CONCATENATE(応募者名簿!M97)","v":""},{"$f":"CONCATENATE(応募者名簿!N97)","v":""}]
[{"$f":"応募者名簿!$B$8","v":0},{"$f":"CONCATENATE(応募者名簿!$B$11,応募者名簿!$D$11,応募者名簿!$E$11,応募者名簿!$I$11)","v":""},"交通安全ポスター",{"$f":"CONCATENATE(応募者名簿!K98)","v":""},{"$f":"CONCATENATE(応募者名簿!L98)","v":""},{"$f":"CONCATENATE(応募者名簿!M98)","v":""},{"$f":"CONCATENATE(応募者名簿!N98)","v":""}]
[{"$f":"応募者名簿!$B$8","v":0},{"$f":"CONCATENATE(応募者名簿!$B$11,応募者名簿!$D$11,応募者名簿!$E$11,応募者名簿!$I$11)","v":""},"交通安全ポスター",{"$f":"CONCATENATE(応募者名簿!K99)","v":""},{"$f":"CONCATENATE(応募者名簿!L99)","v":""},{"$f":"CONCATENATE(応募者名簿!M99)","v":""},{"$f":"CONCATENATE(応募者名簿!N99)","v":""}]
[{"$f":"応募者名簿!$B$8","v":0},{"$f":"CONCATENATE(応募者名簿!$B$11,応募者名簿!$D$11,応募者名簿!$E$11,応募者名簿!$I$11)","v":""},"交通安全ポスター",{"$f":"CONCATENATE(応募者名簿!K100)","v":""},{"$f":"CONCATENATE(応募者名簿!L100)","v":""},{"$f":"CONCATENATE(応募者名簿!M100)","v":""},{"$f":"CONCATENATE(応募者名簿!N100)","v":""}]
[{"$f":"応募者名簿!$B$8","v":0},{"$f":"CONCATENATE(応募者名簿!$B$11,応募者名簿!$D$11,応募者名簿!$E$11,応募者名簿!$I$11)","v":""},"交通安全ポスター",{"$f":"CONCATENATE(応募者名簿!K101)","v":""},{"$f":"CONCATENATE(応募者名簿!L101)","v":""},{"$f":"CONCATENATE(応募者名簿!M101)","v":""},{"$f":"CONCATENATE(応募者名簿!N101)","v":""}]
[{"$f":"応募者名簿!$B$8","v":0},{"$f":"CONCATENATE(応募者名簿!$B$11,応募者名簿!$D$11,応募者名簿!$E$11,応募者名簿!$I$11)","v":""},"交通安全ポスター",{"$f":"CONCATENATE(応募者名簿!K102)","v":""},{"$f":"CONCATENATE(応募者名簿!L102)","v":""},{"$f":"CONCATENATE(応募者名簿!M102)","v":""},{"$f":"CONCATENATE(応募者名簿!N102)","v":""}]
[{"$f":"応募者名簿!$B$8","v":0},{"$f":"CONCATENATE(応募者名簿!$B$11,応募者名簿!$D$11,応募者名簿!$E$11,応募者名簿!$I$11)","v":""},"交通安全ポスター",{"$f":"CONCATENATE(応募者名簿!K103)","v":""},{"$f":"CONCATENATE(応募者名簿!L103)","v":""},{"$f":"CONCATENATE(応募者名簿!M103)","v":""},{"$f":"CONCATENATE(応募者名簿!N103)","v":""}]
[{"$f":"応募者名簿!$B$8","v":0},{"$f":"CONCATENATE(応募者名簿!$B$11,応募者名簿!$D$11,応募者名簿!$E$11,応募者名簿!$I$11)","v":""},"交通安全ポスター",{"$f":"CONCATENATE(応募者名簿!K104)","v":""},{"$f":"CONCATENATE(応募者名簿!L104)","v":""},{"$f":"CONCATENATE(応募者名簿!M104)","v":""},{"$f":"CONCATENATE(応募者名簿!N104)","v":""}]
[{"$f":"応募者名簿!$B$8","v":0},{"$f":"CONCATENATE(応募者名簿!$B$11,応募者名簿!$D$11,応募者名簿!$E$11,応募者名簿!$I$11)","v":""},"交通安全ポスター",{"$f":"CONCATENATE(応募者名簿!K105)","v":""},{"$f":"CONCATENATE(応募者名簿!L105)","v":""},{"$f":"CONCATENATE(応募者名簿!M105)","v":""},{"$f":"CONCATENATE(応募者名簿!N105)","v":""}]
[{"$f":"応募者名簿!$B$8","v":0},{"$f":"CONCATENATE(応募者名簿!$B$11,応募者名簿!$D$11,応募者名簿!$E$11,応募者名簿!$I$11)","v":""},"交通安全ポスター",{"$f":"CONCATENATE(応募者名簿!K106)","v":""},{"$f":"CONCATENATE(応募者名簿!L106)","v":""},{"$f":"CONCATENATE(応募者名簿!M106)","v":""},{"$f":"CONCATENATE(応募者名簿!N106)","v":""}]
[{"$f":"応募者名簿!$B$8","v":0},{"$f":"CONCATENATE(応募者名簿!$B$11,応募者名簿!$D$11,応募者名簿!$E$11,応募者名簿!$I$11)","v":""},"交通安全ポスター",{"$f":"CONCATENATE(応募者名簿!K107)","v":""},{"$f":"CONCATENATE(応募者名簿!L107)","v":""},{"$f":"CONCATENATE(応募者名簿!M107)","v":""},{"$f":"CONCATENATE(応募者名簿!N107)","v":""}]
[{"$f":"応募者名簿!$B$8","v":0},{"$f":"CONCATENATE(応募者名簿!$B$11,応募者名簿!$D$11,応募者名簿!$E$11,応募者名簿!$I$11)","v":""},"交通安全ポスター",{"$f":"CONCATENATE(応募者名簿!K108)","v":""},{"$f":"CONCATENATE(応募者名簿!L108)","v":""},{"$f":"CONCATENATE(応募者名簿!M108)","v":""},{"$f":"CONCATENATE(応募者名簿!N108)","v":""}]
[{"$f":"応募者名簿!$B$8","v":0},{"$f":"CONCATENATE(応募者名簿!$B$11,応募者名簿!$D$11,応募者名簿!$E$11,応募者名簿!$I$11)","v":""},"交通安全ポスター",{"$f":"CONCATENATE(応募者名簿!K109)","v":""},{"$f":"CONCATENATE(応募者名簿!L109)","v":""},{"$f":"CONCATENATE(応募者名簿!M109)","v":""},{"$f":"CONCATENATE(応募者名簿!N109)","v":""}]
[{"$f":"応募者名簿!$B$8","v":0},{"$f":"CONCATENATE(応募者名簿!$B$11,応募者名簿!$D$11,応募者名簿!$E$11,応募者名簿!$I$11)","v":""},"交通安全ポスター",{"$f":"CONCATENATE(応募者名簿!K110)","v":""},{"$f":"CONCATENATE(応募者名簿!L110)","v":""},{"$f":"CONCATENATE(応募者名簿!M110)","v":""},{"$f":"CONCATENATE(応募者名簿!N110)","v":""}]
[{"$f":"応募者名簿!$B$8","v":0},{"$f":"CONCATENATE(応募者名簿!$B$11,応募者名簿!$D$11,応募者名簿!$E$11,応募者名簿!$I$11)","v":""},"交通安全ポスター",{"$f":"CONCATENATE(応募者名簿!K111)","v":""},{"$f":"CONCATENATE(応募者名簿!L111)","v":""},{"$f":"CONCATENATE(応募者名簿!M111)","v":""},{"$f":"CONCATENATE(応募者名簿!N111)","v":""}]
[{"$f":"応募者名簿!$B$8","v":0},{"$f":"CONCATENATE(応募者名簿!$B$11,応募者名簿!$D$11,応募者名簿!$E$11,応募者名簿!$I$11)","v":""},"交通安全ポスター",{"$f":"CONCATENATE(応募者名簿!K112)","v":""},{"$f":"CONCATENATE(応募者名簿!L112)","v":""},{"$f":"CONCATENATE(応募者名簿!M112)","v":""},{"$f":"CONCATENATE(応募者名簿!N112)","v":""}]
[{"$f":"応募者名簿!$B$8","v":0},{"$f":"CONCATENATE(応募者名簿!$B$11,応募者名簿!$D$11,応募者名簿!$E$11,応募者名簿!$I$11)","v":""},"交通安全ポスター",{"$f":"CONCATENATE(応募者名簿!K113)","v":""},{"$f":"CONCATENATE(応募者名簿!L113)","v":""},{"$f":"CONCATENATE(応募者名簿!M113)","v":""},{"$f":"CONCATENATE(応募者名簿!N113)","v":""}]
[{"$f":"応募者名簿!$B$8","v":0},{"$f":"CONCATENATE(応募者名簿!$B$11,応募者名簿!$D$11,応募者名簿!$E$11,応募者名簿!$I$11)","v":""},"交通安全ポスター",{"$f":"CONCATENATE(応募者名簿!K114)","v":""},{"$f":"CONCATENATE(応募者名簿!L114)","v":""},{"$f":"CONCATENATE(応募者名簿!M114)","v":""},{"$f":"CONCATENATE(応募者名簿!N114)","v":""}]
[{"$f":"応募者名簿!$B$8","v":0},{"$f":"CONCATENATE(応募者名簿!$B$11,応募者名簿!$D$11,応募者名簿!$E$11,応募者名簿!$I$11)","v":""},"交通安全ポスター",{"$f":"CONCATENATE(応募者名簿!K115)","v":""},{"$f":"CONCATENATE(応募者名簿!L115)","v":""},{"$f":"CONCATENATE(応募者名簿!M115)","v":""},{"$f":"CONCATENATE(応募者名簿!N115)","v":""}]
[{"$f":"応募者名簿!$B$8","v":0},{"$f":"CONCATENATE(応募者名簿!$B$11,応募者名簿!$D$11,応募者名簿!$E$11,応募者名簿!$I$11)","v":""},"交通安全ポスター",{"$f":"CONCATENATE(応募者名簿!K116)","v":""},{"$f":"CONCATENATE(応募者名簿!L116)","v":""},{"$f":"CONCATENATE(応募者名簿!M116)","v":""},{"$f":"CONCATENATE(応募者名簿!N116)","v":""}]
[{"$f":"応募者名簿!$B$8","v":0},{"$f":"CONCATENATE(応募者名簿!$B$11,応募者名簿!$D$11,応募者名簿!$E$11,応募者名簿!$I$11)","v":""},"交通安全ポスター",{"$f":"CONCATENATE(応募者名簿!K117)","v":""},{"$f":"CONCATENATE(応募者名簿!L117)","v":""},{"$f":"CONCATENATE(応募者名簿!M117)","v":""},{"$f":"CONCATENATE(応募者名簿!N117)","v":""}]
[{"$f":"応募者名簿!$B$8","v":0},{"$f":"CONCATENATE(応募者名簿!$B$11,応募者名簿!$D$11,応募者名簿!$E$11,応募者名簿!$I$11)","v":""},"交通安全ポスター",{"$f":"CONCATENATE(応募者名簿!K118)","v":""},{"$f":"CONCATENATE(応募者名簿!L118)","v":""},{"$f":"CONCATENATE(応募者名簿!M118)","v":""},{"$f":"CONCATENATE(応募者名簿!N118)","v":""}]
[{"$f":"応募者名簿!$B$8","v":0},{"$f":"CONCATENATE(応募者名簿!$B$11,応募者名簿!$D$11,応募者名簿!$E$11,応募者名簿!$I$11)","v":""},"交通安全ポスター",{"$f":"CONCATENATE(応募者名簿!K119)","v":""},{"$f":"CONCATENATE(応募者名簿!L119)","v":""},{"$f":"CONCATENATE(応募者名簿!M119)","v":""},{"$f":"CONCATENATE(応募者名簿!N119)","v":""}]
[{"$f":"応募者名簿!$B$8","v":0},{"$f":"CONCATENATE(応募者名簿!$B$11,応募者名簿!$D$11,応募者名簿!$E$11,応募者名簿!$I$11)","v":""},"交通安全ポスター",{"$f":"CONCATENATE(応募者名簿!K120)","v":""},{"$f":"CONCATENATE(応募者名簿!L120)","v":""},{"$f":"CONCATENATE(応募者名簿!M120)","v":""},{"$f":"CONCATENATE(応募者名簿!N120)","v":""}]
[{"$f":"応募者名簿!$B$8","v":0},{"$f":"CONCATENATE(応募者名簿!$B$11,応募者名簿!$D$11,応募者名簿!$E$11,応募者名簿!$I$11)","v":""},"交通安全ポスター",{"$f":"CONCATENATE(応募者名簿!K121)","v":""},{"$f":"CONCATENATE(応募者名簿!L121)","v":""},{"$f":"CONCATENATE(応募者名簿!M121)","v":""},{"$f":"CONCATENATE(応募者名簿!N121)","v":""}]
[{"$f":"応募者名簿!$B$8","v":0},{"$f":"CONCATENATE(応募者名簿!$B$11,応募者名簿!$D$11,応募者名簿!$E$11,応募者名簿!$I$11)","v":""},"交通安全ポスター",{"$f":"CONCATENATE(応募者名簿!K122)","v":""},{"$f":"CONCATENATE(応募者名簿!L122)","v":""},{"$f":"CONCATENATE(応募者名簿!M122)","v":""},{"$f":"CONCATENATE(応募者名簿!N122)","v":""}]
[{"$f":"応募者名簿!$B$8","v":0},{"$f":"CONCATENATE(応募者名簿!$B$11,応募者名簿!$D$11,応募者名簿!$E$11,応募者名簿!$I$11)","v":""},"交通安全ポスター",{"$f":"CONCATENATE(応募者名簿!K123)","v":""},{"$f":"CONCATENATE(応募者名簿!L123)","v":""},{"$f":"CONCATENATE(応募者名簿!M123)","v":""},{"$f":"CONCATENATE(応募者名簿!N123)","v":""}]
[{"$f":"応募者名簿!$B$8","v":0},{"$f":"CONCATENATE(応募者名簿!$B$11,応募者名簿!$D$11,応募者名簿!$E$11,応募者名簿!$I$11)","v":""},"交通安全ポスター",{"$f":"CONCATENATE(応募者名簿!K124)","v":""},{"$f":"CONCATENATE(応募者名簿!L124)","v":""},{"$f":"CONCATENATE(応募者名簿!M124)","v":""},{"$f":"CONCATENATE(応募者名簿!N124)","v":""}]
[{"$f":"応募者名簿!$B$8","v":0},{"$f":"CONCATENATE(応募者名簿!$B$11,応募者名簿!$D$11,応募者名簿!$E$11,応募者名簿!$I$11)","v":""},"交通安全ポスター",{"$f":"CONCATENATE(応募者名簿!K125)","v":""},{"$f":"CONCATENATE(応募者名簿!L125)","v":""},{"$f":"CONCATENATE(応募者名簿!M125)","v":""},{"$f":"CONCATENATE(応募者名簿!N125)","v":""}]
[{"$f":"応募者名簿!$B$8","v":0},{"$f":"CONCATENATE(応募者名簿!$B$11,応募者名簿!$D$11,応募者名簿!$E$11,応募者名簿!$I$11)","v":""},"交通安全ポスター",{"$f":"CONCATENATE(応募者名簿!K126)","v":""},{"$f":"CONCATENATE(応募者名簿!L126)","v":""},{"$f":"CONCATENATE(応募者名簿!M126)","v":""},{"$f":"CONCATENATE(応募者名簿!N126)","v":""}]
[{"$f":"応募者名簿!$B$8","v":0},{"$f":"CONCATENATE(応募者名簿!$B$11,応募者名簿!$D$11,応募者名簿!$E$11,応募者名簿!$I$11)","v":""},"交通安全ポスター",{"$f":"CONCATENATE(応募者名簿!K127)","v":""},{"$f":"CONCATENATE(応募者名簿!L127)","v":""},{"$f":"CONCATENATE(応募者名簿!M127)","v":""},{"$f":"CONCATENATE(応募者名簿!N127)","v":""}]
[{"$f":"応募者名簿!$B$8","v":0},{"$f":"CONCATENATE(応募者名簿!$B$11,応募者名簿!$D$11,応募者名簿!$E$11,応募者名簿!$I$11)","v":""},"交通安全ポスター",{"$f":"CONCATENATE(応募者名簿!K128)","v":""},{"$f":"CONCATENATE(応募者名簿!L128)","v":""},{"$f":"CONCATENATE(応募者名簿!M128)","v":""},{"$f":"CONCATENATE(応募者名簿!N128)","v":""}]
[{"$f":"応募者名簿!$B$8","v":0},{"$f":"CONCATENATE(応募者名簿!$B$11,応募者名簿!$D$11,応募者名簿!$E$11,応募者名簿!$I$11)","v":""},"交通安全ポスター",{"$f":"CONCATENATE(応募者名簿!K129)","v":""},{"$f":"CONCATENATE(応募者名簿!L129)","v":""},{"$f":"CONCATENATE(応募者名簿!M129)","v":""},{"$f":"CONCATENATE(応募者名簿!N129)","v":""}]
[{"$f":"応募者名簿!$B$8","v":0},{"$f":"CONCATENATE(応募者名簿!$B$11,応募者名簿!$D$11,応募者名簿!$E$11,応募者名簿!$I$11)","v":""},"交通安全ポスター",{"$f":"CONCATENATE(応募者名簿!K130)","v":""},{"$f":"CONCATENATE(応募者名簿!L130)","v":""},{"$f":"CONCATENATE(応募者名簿!M130)","v":""},{"$f":"CONCATENATE(応募者名簿!N130)","v":""}]
[{"$f":"応募者名簿!$B$8","v":0},{"$f":"CONCATENATE(応募者名簿!$B$11,応募者名簿!$D$11,応募者名簿!$E$11,応募者名簿!$I$11)","v":""},"交通安全ポスター",{"$f":"CONCATENATE(応募者名簿!K131)","v":""},{"$f":"CONCATENATE(応募者名簿!L131)","v":""},{"$f":"CONCATENATE(応募者名簿!M131)","v":""},{"$f":"CONCATENATE(応募者名簿!N131)","v":""}]
[{"$f":"応募者名簿!$B$8","v":0},{"$f":"CONCATENATE(応募者名簿!$B$11,応募者名簿!$D$11,応募者名簿!$E$11,応募者名簿!$I$11)","v":""},"交通安全ポスター",{"$f":"CONCATENATE(応募者名簿!K132)","v":""},{"$f":"CONCATENATE(応募者名簿!L132)","v":""},{"$f":"CONCATENATE(応募者名簿!M132)","v":""},{"$f":"CONCATENATE(応募者名簿!N132)","v":""}]
[{"$f":"応募者名簿!$B$8","v":0},{"$f":"CONCATENATE(応募者名簿!$B$11,応募者名簿!$D$11,応募者名簿!$E$11,応募者名簿!$I$11)","v":""},"交通安全ポスター",{"$f":"CONCATENATE(応募者名簿!K133)","v":""},{"$f":"CONCATENATE(応募者名簿!L133)","v":""},{"$f":"CONCATENATE(応募者名簿!M133)","v":""},{"$f":"CONCATENATE(応募者名簿!N133)","v":""}]
[{"$f":"応募者名簿!$B$8","v":0},{"$f":"CONCATENATE(応募者名簿!$B$11,応募者名簿!$D$11,応募者名簿!$E$11,応募者名簿!$I$11)","v":""},"交通安全ポスター",{"$f":"CONCATENATE(応募者名簿!K134)","v":""},{"$f":"CONCATENATE(応募者名簿!L134)","v":""},{"$f":"CONCATENATE(応募者名簿!M134)","v":""},{"$f":"CONCATENATE(応募者名簿!N134)","v":""}]
[{"$f":"応募者名簿!$B$8","v":0},{"$f":"CONCATENATE(応募者名簿!$B$11,応募者名簿!$D$11,応募者名簿!$E$11,応募者名簿!$I$11)","v":""},"交通安全ポスター",{"$f":"CONCATENATE(応募者名簿!K135)","v":""},{"$f":"CONCATENATE(応募者名簿!L135)","v":""},{"$f":"CONCATENATE(応募者名簿!M135)","v":""},{"$f":"CONCATENATE(応募者名簿!N135)","v":""}]
[{"$f":"応募者名簿!$B$8","v":0},{"$f":"CONCATENATE(応募者名簿!$B$11,応募者名簿!$D$11,応募者名簿!$E$11,応募者名簿!$I$11)","v":""},"交通安全ポスター",{"$f":"CONCATENATE(応募者名簿!K136)","v":""},{"$f":"CONCATENATE(応募者名簿!L136)","v":""},{"$f":"CONCATENATE(応募者名簿!M136)","v":""},{"$f":"CONCATENATE(応募者名簿!N136)","v":""}]
[{"$f":"応募者名簿!$B$8","v":0},{"$f":"CONCATENATE(応募者名簿!$B$11,応募者名簿!$D$11,応募者名簿!$E$11,応募者名簿!$I$11)","v":""},"交通安全ポスター",{"$f":"CONCATENATE(応募者名簿!K137)","v":""},{"$f":"CONCATENATE(応募者名簿!L137)","v":""},{"$f":"CONCATENATE(応募者名簿!M137)","v":""},{"$f":"CONCATENATE(応募者名簿!N137)","v":""}]
[{"$f":"応募者名簿!$B$8","v":0},{"$f":"CONCATENATE(応募者名簿!$B$11,応募者名簿!$D$11,応募者名簿!$E$11,応募者名簿!$I$11)","v":""},"交通安全ポスター",{"$f":"CONCATENATE(応募者名簿!K138)","v":""},{"$f":"CONCATENATE(応募者名簿!L138)","v":""},{"$f":"CONCATENATE(応募者名簿!M138)","v":""},{"$f":"CONCATENATE(応募者名簿!N138)","v":""}]
[{"$f":"応募者名簿!$B$8","v":0},{"$f":"CONCATENATE(応募者名簿!$B$11,応募者名簿!$D$11,応募者名簿!$E$11,応募者名簿!$I$11)","v":""},"交通安全ポスター",{"$f":"CONCATENATE(応募者名簿!K139)","v":""},{"$f":"CONCATENATE(応募者名簿!L139)","v":""},{"$f":"CONCATENATE(応募者名簿!M139)","v":""},{"$f":"CONCATENATE(応募者名簿!N139)","v":""}]
[{"$f":"応募者名簿!$B$8","v":0},{"$f":"CONCATENATE(応募者名簿!$B$11,応募者名簿!$D$11,応募者名簿!$E$11,応募者名簿!$I$11)","v":""},"交通安全ポスター",{"$f":"CONCATENATE(応募者名簿!K140)","v":""},{"$f":"CONCATENATE(応募者名簿!L140)","v":""},{"$f":"CONCATENATE(応募者名簿!M140)","v":""},{"$f":"CONCATENATE(応募者名簿!N140)","v":""}]
[{"$f":"応募者名簿!$B$8","v":0},{"$f":"CONCATENATE(応募者名簿!$B$11,応募者名簿!$D$11,応募者名簿!$E$11,応募者名簿!$I$11)","v":""},"交通安全ポスター",{"$f":"CONCATENATE(応募者名簿!K141)","v":""},{"$f":"CONCATENATE(応募者名簿!L141)","v":""},{"$f":"CONCATENATE(応募者名簿!M141)","v":""},{"$f":"CONCATENATE(応募者名簿!N141)","v":""}]
[{"$f":"応募者名簿!$B$8","v":0},{"$f":"CONCATENATE(応募者名簿!$B$11,応募者名簿!$D$11,応募者名簿!$E$11,応募者名簿!$I$11)","v":""},"交通安全ポスター",{"$f":"CONCATENATE(応募者名簿!K142)","v":""},{"$f":"CONCATENATE(応募者名簿!L142)","v":""},{"$f":"CONCATENATE(応募者名簿!M142)","v":""},{"$f":"CONCATENATE(応募者名簿!N142)","v":""}]
[{"$f":"応募者名簿!$B$8","v":0},{"$f":"CONCATENATE(応募者名簿!$B$11,応募者名簿!$D$11,応募者名簿!$E$11,応募者名簿!$I$11)","v":""},"交通安全ポスター",{"$f":"CONCATENATE(応募者名簿!K143)","v":""},{"$f":"CONCATENATE(応募者名簿!L143)","v":""},{"$f":"CONCATENATE(応募者名簿!M143)","v":""},{"$f":"CONCATENATE(応募者名簿!N143)","v":""}]
[{"$f":"応募者名簿!$B$8","v":0},{"$f":"CONCATENATE(応募者名簿!$B$11,応募者名簿!$D$11,応募者名簿!$E$11,応募者名簿!$I$11)","v":""},"交通安全ポスター",{"$f":"CONCATENATE(応募者名簿!K144)","v":""},{"$f":"CONCATENATE(応募者名簿!L144)","v":""},{"$f":"CONCATENATE(応募者名簿!M144)","v":""},{"$f":"CONCATENATE(応募者名簿!N144)","v":""}]
[{"$f":"応募者名簿!$B$8","v":0},{"$f":"CONCATENATE(応募者名簿!$B$11,応募者名簿!$D$11,応募者名簿!$E$11,応募者名簿!$I$11)","v":""},"交通安全ポスター",{"$f":"CONCATENATE(応募者名簿!K145)","v":""},{"$f":"CONCATENATE(応募者名簿!L145)","v":""},{"$f":"CONCATENATE(応募者名簿!M145)","v":""},{"$f":"CONCATENATE(応募者名簿!N145)","v":""}]
[{"$f":"応募者名簿!$B$8","v":0},{"$f":"CONCATENATE(応募者名簿!$B$11,応募者名簿!$D$11,応募者名簿!$E$11,応募者名簿!$I$11)","v":""},"交通安全ポスター",{"$f":"CONCATENATE(応募者名簿!K146)","v":""},{"$f":"CONCATENATE(応募者名簿!L146)","v":""},{"$f":"CONCATENATE(応募者名簿!M146)","v":""},{"$f":"CONCATENATE(応募者名簿!N146)","v":""}]
[{"$f":"応募者名簿!$B$8","v":0},{"$f":"CONCATENATE(応募者名簿!$B$11,応募者名簿!$D$11,応募者名簿!$E$11,応募者名簿!$I$11)","v":""},"交通安全ポスター",{"$f":"CONCATENATE(応募者名簿!K147)","v":""},{"$f":"CONCATENATE(応募者名簿!L147)","v":""},{"$f":"CONCATENATE(応募者名簿!M147)","v":""},{"$f":"CONCATENATE(応募者名簿!N147)","v":""}]
[{"$f":"応募者名簿!$B$8","v":0},{"$f":"CONCATENATE(応募者名簿!$B$11,応募者名簿!$D$11,応募者名簿!$E$11,応募者名簿!$I$11)","v":""},"交通安全ポスター",{"$f":"CONCATENATE(応募者名簿!K148)","v":""},{"$f":"CONCATENATE(応募者名簿!L148)","v":""},{"$f":"CONCATENATE(応募者名簿!M148)","v":""},{"$f":"CONCATENATE(応募者名簿!N148)","v":""}]
[{"$f":"応募者名簿!$B$8","v":0},{"$f":"CONCATENATE(応募者名簿!$B$11,応募者名簿!$D$11,応募者名簿!$E$11,応募者名簿!$I$11)","v":""},"交通安全ポスター",{"$f":"CONCATENATE(応募者名簿!K149)","v":""},{"$f":"CONCATENATE(応募者名簿!L149)","v":""},{"$f":"CONCATENATE(応募者名簿!M149)","v":""},{"$f":"CONCATENATE(応募者名簿!N149)","v":""}]
[{"$f":"応募者名簿!$B$8","v":0},{"$f":"CONCATENATE(応募者名簿!$B$11,応募者名簿!$D$11,応募者名簿!$E$11,応募者名簿!$I$11)","v":""},"交通安全ポスター",{"$f":"CONCATENATE(応募者名簿!K150)","v":""},{"$f":"CONCATENATE(応募者名簿!L150)","v":""},{"$f":"CONCATENATE(応募者名簿!M150)","v":""},{"$f":"CONCATENATE(応募者名簿!N150)","v":""}]
[{"$f":"応募者名簿!$B$8","v":0},{"$f":"CONCATENATE(応募者名簿!$B$11,応募者名簿!$D$11,応募者名簿!$E$11,応募者名簿!$I$11)","v":""},"交通安全ポスター",{"$f":"CONCATENATE(応募者名簿!K151)","v":""},{"$f":"CONCATENATE(応募者名簿!L151)","v":""},{"$f":"CONCATENATE(応募者名簿!M151)","v":""},{"$f":"CONCATENATE(応募者名簿!N151)","v":""}]
[{"$f":"応募者名簿!$B$8","v":0},{"$f":"CONCATENATE(応募者名簿!$B$11,応募者名簿!$D$11,応募者名簿!$E$11,応募者名簿!$I$11)","v":""},"交通安全ポスター",{"$f":"CONCATENATE(応募者名簿!K152)","v":""},{"$f":"CONCATENATE(応募者名簿!L152)","v":""},{"$f":"CONCATENATE(応募者名簿!M152)","v":""},{"$f":"CONCATENATE(応募者名簿!N152)","v":""}]
[{"$f":"応募者名簿!$B$8","v":0},{"$f":"CONCATENATE(応募者名簿!$B$11,応募者名簿!$D$11,応募者名簿!$E$11,応募者名簿!$I$11)","v":""},"交通安全ポスター",{"$f":"CONCATENATE(応募者名簿!K153)","v":""},{"$f":"CONCATENATE(応募者名簿!L153)","v":""},{"$f":"CONCATENATE(応募者名簿!M153)","v":""},{"$f":"CONCATENATE(応募者名簿!N153)","v":""}]
[{"$f":"応募者名簿!$B$8","v":0},{"$f":"CONCATENATE(応募者名簿!$B$11,応募者名簿!$D$11,応募者名簿!$E$11,応募者名簿!$I$11)","v":""},"交通安全ポスター",{"$f":"CONCATENATE(応募者名簿!K154)","v":""},{"$f":"CONCATENATE(応募者名簿!L154)","v":""},{"$f":"CONCATENATE(応募者名簿!M154)","v":""},{"$f":"CONCATENATE(応募者名簿!N154)","v":""}]
[{"$f":"応募者名簿!$B$8","v":0},{"$f":"CONCATENATE(応募者名簿!$B$11,応募者名簿!$D$11,応募者名簿!$E$11,応募者名簿!$I$11)","v":""},"交通安全ポスター",{"$f":"CONCATENATE(応募者名簿!K155)","v":""},{"$f":"CONCATENATE(応募者名簿!L155)","v":""},{"$f":"CONCATENATE(応募者名簿!M155)","v":""},{"$f":"CONCATENATE(応募者名簿!N155)","v":""}]
[{"$f":"応募者名簿!$B$8","v":0},{"$f":"CONCATENATE(応募者名簿!$B$11,応募者名簿!$D$11,応募者名簿!$E$11,応募者名簿!$I$11)","v":""},"交通安全ポスター",{"$f":"CONCATENATE(応募者名簿!K156)","v":""},{"$f":"CONCATENATE(応募者名簿!L156)","v":""},{"$f":"CONCATENATE(応募者名簿!M156)","v":""},{"$f":"CONCATENATE(応募者名簿!N156)","v":""}]
[{"$f":"応募者名簿!$B$8","v":0},{"$f":"CONCATENATE(応募者名簿!$B$11,応募者名簿!$D$11,応募者名簿!$E$11,応募者名簿!$I$11)","v":""},"交通安全ポスター",{"$f":"CONCATENATE(応募者名簿!K157)","v":""},{"$f":"CONCATENATE(応募者名簿!L157)","v":""},{"$f":"CONCATENATE(応募者名簿!M157)","v":""},{"$f":"CONCATENATE(応募者名簿!N157)","v":""}]
[{"$f":"応募者名簿!$B$8","v":0},{"$f":"CONCATENATE(応募者名簿!$B$11,応募者名簿!$D$11,応募者名簿!$E$11,応募者名簿!$I$11)","v":""},"交通安全ポスター",{"$f":"CONCATENATE(応募者名簿!K158)","v":""},{"$f":"CONCATENATE(応募者名簿!L158)","v":""},{"$f":"CONCATENATE(応募者名簿!M158)","v":""},{"$f":"CONCATENATE(応募者名簿!N158)","v":""}]
[{"$f":"応募者名簿!$B$8","v":0},{"$f":"CONCATENATE(応募者名簿!$B$11,応募者名簿!$D$11,応募者名簿!$E$11,応募者名簿!$I$11)","v":""},"交通安全ポスター",{"$f":"CONCATENATE(応募者名簿!K159)","v":""},{"$f":"CONCATENATE(応募者名簿!L159)","v":""},{"$f":"CONCATENATE(応募者名簿!M159)","v":""},{"$f":"CONCATENATE(応募者名簿!N159)","v":""}]
[{"$f":"応募者名簿!$B$8","v":0},{"$f":"CONCATENATE(応募者名簿!$B$11,応募者名簿!$D$11,応募者名簿!$E$11,応募者名簿!$I$11)","v":""},"交通安全ポスター",{"$f":"CONCATENATE(応募者名簿!K160)","v":""},{"$f":"CONCATENATE(応募者名簿!L160)","v":""},{"$f":"CONCATENATE(応募者名簿!M160)","v":""},{"$f":"CONCATENATE(応募者名簿!N160)","v":""}]
[{"$f":"応募者名簿!$B$8","v":0},{"$f":"CONCATENATE(応募者名簿!$B$11,応募者名簿!$D$11,応募者名簿!$E$11,応募者名簿!$I$11)","v":""},"交通安全ポスター",{"$f":"CONCATENATE(応募者名簿!K161)","v":""},{"$f":"CONCATENATE(応募者名簿!L161)","v":""},{"$f":"CONCATENATE(応募者名簿!M161)","v":""},{"$f":"CONCATENATE(応募者名簿!N161)","v":""}]
[{"$f":"応募者名簿!$B$8","v":0},{"$f":"CONCATENATE(応募者名簿!$B$11,応募者名簿!$D$11,応募者名簿!$E$11,応募者名簿!$I$11)","v":""},"交通安全ポスター",{"$f":"CONCATENATE(応募者名簿!K162)","v":""},{"$f":"CONCATENATE(応募者名簿!L162)","v":""},{"$f":"CONCATENATE(応募者名簿!M162)","v":""},{"$f":"CONCATENATE(応募者名簿!N162)","v":""}]
[{"$f":"応募者名簿!$B$8","v":0},{"$f":"CONCATENATE(応募者名簿!$B$11,応募者名簿!$D$11,応募者名簿!$E$11,応募者名簿!$I$11)","v":""},"交通安全ポスター",{"$f":"CONCATENATE(応募者名簿!K163)","v":""},{"$f":"CONCATENATE(応募者名簿!L163)","v":""},{"$f":"CONCATENATE(応募者名簿!M163)","v":""},{"$f":"CONCATENATE(応募者名簿!N163)","v":""}]
[{"$f":"応募者名簿!$B$8","v":0},{"$f":"CONCATENATE(応募者名簿!$B$11,応募者名簿!$D$11,応募者名簿!$E$11,応募者名簿!$I$11)","v":""},"交通安全ポスター",{"$f":"CONCATENATE(応募者名簿!K164)","v":""},{"$f":"CONCATENATE(応募者名簿!L164)","v":""},{"$f":"CONCATENATE(応募者名簿!M164)","v":""},{"$f":"CONCATENATE(応募者名簿!N164)","v":""}]
[{"$f":"応募者名簿!$B$8","v":0},{"$f":"CONCATENATE(応募者名簿!$B$11,応募者名簿!$D$11,応募者名簿!$E$11,応募者名簿!$I$11)","v":""},"交通安全ポスター",{"$f":"CONCATENATE(応募者名簿!K165)","v":""},{"$f":"CONCATENATE(応募者名簿!L165)","v":""},{"$f":"CONCATENATE(応募者名簿!M165)","v":""},{"$f":"CONCATENATE(応募者名簿!N165)","v":""}]
[{"$f":"応募者名簿!$B$8","v":0},{"$f":"CONCATENATE(応募者名簿!$B$11,応募者名簿!$D$11,応募者名簿!$E$11,応募者名簿!$I$11)","v":""},"交通安全ポスター",{"$f":"CONCATENATE(応募者名簿!K166)","v":""},{"$f":"CONCATENATE(応募者名簿!L166)","v":""},{"$f":"CONCATENATE(応募者名簿!M166)","v":""},{"$f":"CONCATENATE(応募者名簿!N166)","v":""}]
[{"$f":"応募者名簿!$B$8","v":0},{"$f":"CONCATENATE(応募者名簿!$B$11,応募者名簿!$D$11,応募者名簿!$E$11,応募者名簿!$I$11)","v":""},"交通安全ポスター",{"$f":"CONCATENATE(応募者名簿!K167)","v":""},{"$f":"CONCATENATE(応募者名簿!L167)","v":""},{"$f":"CONCATENATE(応募者名簿!M167)","v":""},{"$f":"CONCATENATE(応募者名簿!N167)","v":""}]
[{"$f":"応募者名簿!$B$8","v":0},{"$f":"CONCATENATE(応募者名簿!$B$11,応募者名簿!$D$11,応募者名簿!$E$11,応募者名簿!$I$11)","v":""},"交通安全ポスター",{"$f":"CONCATENATE(応募者名簿!K168)","v":""},{"$f":"CONCATENATE(応募者名簿!L168)","v":""},{"$f":"CONCATENATE(応募者名簿!M168)","v":""},{"$f":"CONCATENATE(応募者名簿!N168)","v":""}]
[{"$f":"応募者名簿!$B$8","v":0},{"$f":"CONCATENATE(応募者名簿!$B$11,応募者名簿!$D$11,応募者名簿!$E$11,応募者名簿!$I$11)","v":""},"交通安全ポスター",{"$f":"CONCATENATE(応募者名簿!K169)","v":""},{"$f":"CONCATENATE(応募者名簿!L169)","v":""},{"$f":"CONCATENATE(応募者名簿!M169)","v":""},{"$f":"CONCATENATE(応募者名簿!N169)","v":""}]
[{"$f":"応募者名簿!$B$8","v":0},{"$f":"CONCATENATE(応募者名簿!$B$11,応募者名簿!$D$11,応募者名簿!$E$11,応募者名簿!$I$11)","v":""},"交通安全ポスター",{"$f":"CONCATENATE(応募者名簿!K170)","v":""},{"$f":"CONCATENATE(応募者名簿!L170)","v":""},{"$f":"CONCATENATE(応募者名簿!M170)","v":""},{"$f":"CONCATENATE(応募者名簿!N170)","v":""}]
[{"$f":"応募者名簿!$B$8","v":0},{"$f":"CONCATENATE(応募者名簿!$B$11,応募者名簿!$D$11,応募者名簿!$E$11,応募者名簿!$I$11)","v":""},"交通安全ポスター",{"$f":"CONCATENATE(応募者名簿!K171)","v":""},{"$f":"CONCATENATE(応募者名簿!L171)","v":""},{"$f":"CONCATENATE(応募者名簿!M171)","v":""},{"$f":"CONCATENATE(応募者名簿!N171)","v":""}]
[{"$f":"応募者名簿!$B$8","v":0},{"$f":"CONCATENATE(応募者名簿!$B$11,応募者名簿!$D$11,応募者名簿!$E$11,応募者名簿!$I$11)","v":""},"交通安全ポスター",{"$f":"CONCATENATE(応募者名簿!K172)","v":""},{"$f":"CONCATENATE(応募者名簿!L172)","v":""},{"$f":"CONCATENATE(応募者名簿!M172)","v":""},{"$f":"CONCATENATE(応募者名簿!N172)","v":""}]
[{"$f":"応募者名簿!$B$8","v":0},{"$f":"CONCATENATE(応募者名簿!$B$11,応募者名簿!$D$11,応募者名簿!$E$11,応募者名簿!$I$11)","v":""},"交通安全ポスター",{"$f":"CONCATENATE(応募者名簿!K173)","v":""},{"$f":"CONCATENATE(応募者名簿!L173)","v":""},{"$f":"CONCATENATE(応募者名簿!M173)","v":""},{"$f":"CONCATENATE(応募者名簿!N173)","v":""}]
[{"$f":"応募者名簿!$B$8","v":0},{"$f":"CONCATENATE(応募者名簿!$B$11,応募者名簿!$D$11,応募者名簿!$E$11,応募者名簿!$I$11)","v":""},"交通安全ポスター",{"$f":"CONCATENATE(応募者名簿!K174)","v":""},{"$f":"CONCATENATE(応募者名簿!L174)","v":""},{"$f":"CONCATENATE(応募者名簿!M174)","v":""},{"$f":"CONCATENATE(応募者名簿!N174)","v":""}]
[{"$f":"応募者名簿!$B$8","v":0},{"$f":"CONCATENATE(応募者名簿!$B$11,応募者名簿!$D$11,応募者名簿!$E$11,応募者名簿!$I$11)","v":""},"交通安全ポスター",{"$f":"CONCATENATE(応募者名簿!K175)","v":""},{"$f":"CONCATENATE(応募者名簿!L175)","v":""},{"$f":"CONCATENATE(応募者名簿!M175)","v":""},{"$f":"CONCATENATE(応募者名簿!N175)","v":""}]
[{"$f":"応募者名簿!$B$8","v":0},{"$f":"CONCATENATE(応募者名簿!$B$11,応募者名簿!$D$11,応募者名簿!$E$11,応募者名簿!$I$11)","v":""},"交通安全ポスター",{"$f":"CONCATENATE(応募者名簿!K176)","v":""},{"$f":"CONCATENATE(応募者名簿!L176)","v":""},{"$f":"CONCATENATE(応募者名簿!M176)","v":""},{"$f":"CONCATENATE(応募者名簿!N176)","v":""}]
[{"$f":"応募者名簿!$B$8","v":0},{"$f":"CONCATENATE(応募者名簿!$B$11,応募者名簿!$D$11,応募者名簿!$E$11,応募者名簿!$I$11)","v":""},"交通安全ポスター",{"$f":"CONCATENATE(応募者名簿!K177)","v":""},{"$f":"CONCATENATE(応募者名簿!L177)","v":""},{"$f":"CONCATENATE(応募者名簿!M177)","v":""},{"$f":"CONCATENATE(応募者名簿!N177)","v":""}]
[{"$f":"応募者名簿!$B$8","v":0},{"$f":"CONCATENATE(応募者名簿!$B$11,応募者名簿!$D$11,応募者名簿!$E$11,応募者名簿!$I$11)","v":""},"交通安全ポスター",{"$f":"CONCATENATE(応募者名簿!K178)","v":""},{"$f":"CONCATENATE(応募者名簿!L178)","v":""},{"$f":"CONCATENATE(応募者名簿!M178)","v":""},{"$f":"CONCATENATE(応募者名簿!N178)","v":""}]
[{"$f":"応募者名簿!$B$8","v":0},{"$f":"CONCATENATE(応募者名簿!$B$11,応募者名簿!$D$11,応募者名簿!$E$11,応募者名簿!$I$11)","v":""},"交通安全ポスター",{"$f":"CONCATENATE(応募者名簿!K179)","v":""},{"$f":"CONCATENATE(応募者名簿!L179)","v":""},{"$f":"CONCATENATE(応募者名簿!M179)","v":""},{"$f":"CONCATENATE(応募者名簿!N179)","v":""}]
[{"$f":"応募者名簿!$B$8","v":0},{"$f":"CONCATENATE(応募者名簿!$B$11,応募者名簿!$D$11,応募者名簿!$E$11,応募者名簿!$I$11)","v":""},"交通安全ポスター",{"$f":"CONCATENATE(応募者名簿!K180)","v":""},{"$f":"CONCATENATE(応募者名簿!L180)","v":""},{"$f":"CONCATENATE(応募者名簿!M180)","v":""},{"$f":"CONCATENATE(応募者名簿!N180)","v":""}]
[{"$f":"応募者名簿!$B$8","v":0},{"$f":"CONCATENATE(応募者名簿!$B$11,応募者名簿!$D$11,応募者名簿!$E$11,応募者名簿!$I$11)","v":""},"交通安全ポスター",{"$f":"CONCATENATE(応募者名簿!K181)","v":""},{"$f":"CONCATENATE(応募者名簿!L181)","v":""},{"$f":"CONCATENATE(応募者名簿!M181)","v":""},{"$f":"CONCATENATE(応募者名簿!N181)","v":""}]
[{"$f":"応募者名簿!$B$8","v":0},{"$f":"CONCATENATE(応募者名簿!$B$11,応募者名簿!$D$11,応募者名簿!$E$11,応募者名簿!$I$11)","v":""},"交通安全ポスター",{"$f":"CONCATENATE(応募者名簿!K182)","v":""},{"$f":"CONCATENATE(応募者名簿!L182)","v":""},{"$f":"CONCATENATE(応募者名簿!M182)","v":""},{"$f":"CONCATENATE(応募者名簿!N182)","v":""}]
[{"$f":"応募者名簿!$B$8","v":0},{"$f":"CONCATENATE(応募者名簿!$B$11,応募者名簿!$D$11,応募者名簿!$E$11,応募者名簿!$I$11)","v":""},"交通安全ポスター",{"$f":"CONCATENATE(応募者名簿!K183)","v":""},{"$f":"CONCATENATE(応募者名簿!L183)","v":""},{"$f":"CONCATENATE(応募者名簿!M183)","v":""},{"$f":"CONCATENATE(応募者名簿!N183)","v":""}]
[{"$f":"応募者名簿!$B$8","v":0},{"$f":"CONCATENATE(応募者名簿!$B$11,応募者名簿!$D$11,応募者名簿!$E$11,応募者名簿!$I$11)","v":""},"交通安全ポスター",{"$f":"CONCATENATE(応募者名簿!K184)","v":""},{"$f":"CONCATENATE(応募者名簿!L184)","v":""},{"$f":"CONCATENATE(応募者名簿!M184)","v":""},{"$f":"CONCATENATE(応募者名簿!N184)","v":""}]
[{"$f":"応募者名簿!$B$8","v":0},{"$f":"CONCATENATE(応募者名簿!$B$11,応募者名簿!$D$11,応募者名簿!$E$11,応募者名簿!$I$11)","v":""},"交通安全ポスター",{"$f":"CONCATENATE(応募者名簿!K185)","v":""},{"$f":"CONCATENATE(応募者名簿!L185)","v":""},{"$f":"CONCATENATE(応募者名簿!M185)","v":""},{"$f":"CONCATENATE(応募者名簿!N185)","v":""}]
[{"$f":"応募者名簿!$B$8","v":0},{"$f":"CONCATENATE(応募者名簿!$B$11,応募者名簿!$D$11,応募者名簿!$E$11,応募者名簿!$I$11)","v":""},"交通安全ポスター",{"$f":"CONCATENATE(応募者名簿!K186)","v":""},{"$f":"CONCATENATE(応募者名簿!L186)","v":""},{"$f":"CONCATENATE(応募者名簿!M186)","v":""},{"$f":"CONCATENATE(応募者名簿!N186)","v":""}]
[{"$f":"応募者名簿!$B$8","v":0},{"$f":"CONCATENATE(応募者名簿!$B$11,応募者名簿!$D$11,応募者名簿!$E$11,応募者名簿!$I$11)","v":""},"交通安全ポスター",{"$f":"CONCATENATE(応募者名簿!K187)","v":""},{"$f":"CONCATENATE(応募者名簿!L187)","v":""},{"$f":"CONCATENATE(応募者名簿!M187)","v":""},{"$f":"CONCATENATE(応募者名簿!N187)","v":""}]
[{"$f":"応募者名簿!$B$8","v":0},{"$f":"CONCATENATE(応募者名簿!$B$11,応募者名簿!$D$11,応募者名簿!$E$11,応募者名簿!$I$11)","v":""},"交通安全ポスター",{"$f":"CONCATENATE(応募者名簿!K188)","v":""},{"$f":"CONCATENATE(応募者名簿!L188)","v":""},{"$f":"CONCATENATE(応募者名簿!M188)","v":""},{"$f":"CONCATENATE(応募者名簿!N188)","v":""}]
[{"$f":"応募者名簿!$B$8","v":0},{"$f":"CONCATENATE(応募者名簿!$B$11,応募者名簿!$D$11,応募者名簿!$E$11,応募者名簿!$I$11)","v":""},"交通安全ポスター",{"$f":"CONCATENATE(応募者名簿!K189)","v":""},{"$f":"CONCATENATE(応募者名簿!L189)","v":""},{"$f":"CONCATENATE(応募者名簿!M189)","v":""},{"$f":"CONCATENATE(応募者名簿!N189)","v":""}]
[{"$f":"応募者名簿!$B$8","v":0},{"$f":"CONCATENATE(応募者名簿!$B$11,応募者名簿!$D$11,応募者名簿!$E$11,応募者名簿!$I$11)","v":""},"交通安全ポスター",{"$f":"CONCATENATE(応募者名簿!K190)","v":""},{"$f":"CONCATENATE(応募者名簿!L190)","v":""},{"$f":"CONCATENATE(応募者名簿!M190)","v":""},{"$f":"CONCATENATE(応募者名簿!N190)","v":""}]
[{"$f":"応募者名簿!$B$8","v":0},{"$f":"CONCATENATE(応募者名簿!$B$11,応募者名簿!$D$11,応募者名簿!$E$11,応募者名簿!$I$11)","v":""},"交通安全ポスター",{"$f":"CONCATENATE(応募者名簿!K191)","v":""},{"$f":"CONCATENATE(応募者名簿!L191)","v":""},{"$f":"CONCATENATE(応募者名簿!M191)","v":""},{"$f":"CONCATENATE(応募者名簿!N191)","v":""}]
[{"$f":"応募者名簿!$B$8","v":0},{"$f":"CONCATENATE(応募者名簿!$B$11,応募者名簿!$D$11,応募者名簿!$E$11,応募者名簿!$I$11)","v":""},"交通安全ポスター",{"$f":"CONCATENATE(応募者名簿!K192)","v":""},{"$f":"CONCATENATE(応募者名簿!L192)","v":""},{"$f":"CONCATENATE(応募者名簿!M192)","v":""},{"$f":"CONCATENATE(応募者名簿!N192)","v":""}]
[{"$f":"応募者名簿!$B$8","v":0},{"$f":"CONCATENATE(応募者名簿!$B$11,応募者名簿!$D$11,応募者名簿!$E$11,応募者名簿!$I$11)","v":""},"交通安全ポスター",{"$f":"CONCATENATE(応募者名簿!K193)","v":""},{"$f":"CONCATENATE(応募者名簿!L193)","v":""},{"$f":"CONCATENATE(応募者名簿!M193)","v":""},{"$f":"CONCATENATE(応募者名簿!N193)","v":""}]
[{"$f":"応募者名簿!$B$8","v":0},{"$f":"CONCATENATE(応募者名簿!$B$11,応募者名簿!$D$11,応募者名簿!$E$11,応募者名簿!$I$11)","v":""},"交通安全ポスター",{"$f":"CONCATENATE(応募者名簿!K194)","v":""},{"$f":"CONCATENATE(応募者名簿!L194)","v":""},{"$f":"CONCATENATE(応募者名簿!M194)","v":""},{"$f":"CONCATENATE(応募者名簿!N194)","v":""}]
[{"$f":"応募者名簿!$B$8","v":0},{"$f":"CONCATENATE(応募者名簿!$B$11,応募者名簿!$D$11,応募者名簿!$E$11,応募者名簿!$I$11)","v":""},"交通安全ポスター",{"$f":"CONCATENATE(応募者名簿!K195)","v":""},{"$f":"CONCATENATE(応募者名簿!L195)","v":""},{"$f":"CONCATENATE(応募者名簿!M195)","v":""},{"$f":"CONCATENATE(応募者名簿!N195)","v":""}]
[{"$f":"応募者名簿!$B$8","v":0},{"$f":"CONCATENATE(応募者名簿!$B$11,応募者名簿!$D$11,応募者名簿!$E$11,応募者名簿!$I$11)","v":""},"交通安全ポスター",{"$f":"CONCATENATE(応募者名簿!K196)","v":""},{"$f":"CONCATENATE(応募者名簿!L196)","v":""},{"$f":"CONCATENATE(応募者名簿!M196)","v":""},{"$f":"CONCATENATE(応募者名簿!N196)","v":""}]
[{"$f":"応募者名簿!$B$8","v":0},{"$f":"CONCATENATE(応募者名簿!$B$11,応募者名簿!$D$11,応募者名簿!$E$11,応募者名簿!$I$11)","v":""},"交通安全ポスター",{"$f":"CONCATENATE(応募者名簿!K197)","v":""},{"$f":"CONCATENATE(応募者名簿!L197)","v":""},{"$f":"CONCATENATE(応募者名簿!M197)","v":""},{"$f":"CONCATENATE(応募者名簿!N197)","v":""}]
[{"$f":"応募者名簿!$B$8","v":0},{"$f":"CONCATENATE(応募者名簿!$B$11,応募者名簿!$D$11,応募者名簿!$E$11,応募者名簿!$I$11)","v":""},"交通安全ポスター",{"$f":"CONCATENATE(応募者名簿!K198)","v":""},{"$f":"CONCATENATE(応募者名簿!L198)","v":""},{"$f":"CONCATENATE(応募者名簿!M198)","v":""},{"$f":"CONCATENATE(応募者名簿!N198)","v":""}]
[{"$f":"応募者名簿!$B$8","v":0},{"$f":"CONCATENATE(応募者名簿!$B$11,応募者名簿!$D$11,応募者名簿!$E$11,応募者名簿!$I$11)","v":""},"交通安全ポスター",{"$f":"CONCATENATE(応募者名簿!K199)","v":""},{"$f":"CONCATENATE(応募者名簿!L199)","v":""},{"$f":"CONCATENATE(応募者名簿!M199)","v":""},{"$f":"CONCATENATE(応募者名簿!N199)","v":""}]
[{"$f":"応募者名簿!$B$8","v":0},{"$f":"CONCATENATE(応募者名簿!$B$11,応募者名簿!$D$11,応募者名簿!$E$11,応募者名簿!$I$11)","v":""},"交通安全ポスター",{"$f":"CONCATENATE(応募者名簿!K200)","v":""},{"$f":"CONCATENATE(応募者名簿!L200)","v":""},{"$f":"CONCATENATE(応募者名簿!M200)","v":""},{"$f":"CONCATENATE(応募者名簿!N200)","v":""}]
[{"$f":"応募者名簿!$B$8","v":0},{"$f":"CONCATENATE(応募者名簿!$B$11,応募者名簿!$D$11,応募者名簿!$E$11,応募者名簿!$I$11)","v":""},"交通安全ポスター",{"$f":"CONCATENATE(応募者名簿!K201)","v":""},{"$f":"CONCATENATE(応募者名簿!L201)","v":""},{"$f":"CONCATENATE(応募者名簿!M201)","v":""},{"$f":"CONCATENATE(応募者名簿!N201)","v":""}]
[{"$f":"応募者名簿!$B$8","v":0},{"$f":"CONCATENATE(応募者名簿!$B$11,応募者名簿!$D$11,応募者名簿!$E$11,応募者名簿!$I$11)","v":""},"交通安全ポスター",{"$f":"CONCATENATE(応募者名簿!K202)","v":""},{"$f":"CONCATENATE(応募者名簿!L202)","v":""},{"$f":"CONCATENATE(応募者名簿!M202)","v":""},{"$f":"CONCATENATE(応募者名簿!N202)","v":""}]
[{"$f":"応募者名簿!$B$8","v":0},{"$f":"CONCATENATE(応募者名簿!$B$11,応募者名簿!$D$11,応募者名簿!$E$11,応募者名簿!$I$11)","v":""},"交通安全ポスター",{"$f":"CONCATENATE(応募者名簿!K203)","v":""},{"$f":"CONCATENATE(応募者名簿!L203)","v":""},{"$f":"CONCATENATE(応募者名簿!M203)","v":""},{"$f":"CONCATENATE(応募者名簿!N203)","v":""}]
[{"$f":"応募者名簿!$B$8","v":0},{"$f":"CONCATENATE(応募者名簿!$B$11,応募者名簿!$D$11,応募者名簿!$E$11,応募者名簿!$I$11)","v":""},"交通安全ポスター",{"$f":"CONCATENATE(応募者名簿!K204)","v":""},{"$f":"CONCATENATE(応募者名簿!L204)","v":""},{"$f":"CONCATENATE(応募者名簿!M204)","v":""},{"$f":"CONCATENATE(応募者名簿!N204)","v":""}]
[{"$f":"応募者名簿!$B$8","v":0},{"$f":"CONCATENATE(応募者名簿!$B$11,応募者名簿!$D$11,応募者名簿!$E$11,応募者名簿!$I$11)","v":""},"交通安全ポスター",{"$f":"CONCATENATE(応募者名簿!K205)","v":""},{"$f":"CONCATENATE(応募者名簿!L205)","v":""},{"$f":"CONCATENATE(応募者名簿!M205)","v":""},{"$f":"CONCATENATE(応募者名簿!N205)","v":""}]
[{"$f":"応募者名簿!$B$8","v":0},{"$f":"CONCATENATE(応募者名簿!$B$11,応募者名簿!$D$11,応募者名簿!$E$11,応募者名簿!$I$11)","v":""},"交通安全ポスター",{"$f":"CONCATENATE(応募者名簿!K206)","v":""},{"$f":"CONCATENATE(応募者名簿!L206)","v":""},{"$f":"CONCATENATE(応募者名簿!M206)","v":""},{"$f":"CONCATENATE(応募者名簿!N206)","v":""}]
[{"$f":"応募者名簿!$B$8","v":0},{"$f":"CONCATENATE(応募者名簿!$B$11,応募者名簿!$D$11,応募者名簿!$E$11,応募者名簿!$I$11)","v":""},"交通安全ポスター",{"$f":"CONCATENATE(応募者名簿!K207)","v":""},{"$f":"CONCATENATE(応募者名簿!L207)","v":""},{"$f":"CONCATENATE(応募者名簿!M207)","v":""},{"$f":"CONCATENATE(応募者名簿!N207)","v":""}]
[{"$f":"応募者名簿!$B$8","v":0},{"$f":"CONCATENATE(応募者名簿!$B$11,応募者名簿!$D$11,応募者名簿!$E$11,応募者名簿!$I$11)","v":""},"交通安全ポスター",{"$f":"CONCATENATE(応募者名簿!K208)","v":""},{"$f":"CONCATENATE(応募者名簿!L208)","v":""},{"$f":"CONCATENATE(応募者名簿!M208)","v":""},{"$f":"CONCATENATE(応募者名簿!N208)","v":""}]
[{"$f":"応募者名簿!$B$8","v":0},{"$f":"CONCATENATE(応募者名簿!$B$11,応募者名簿!$D$11,応募者名簿!$E$11,応募者名簿!$I$11)","v":""},"交通安全ポスター",{"$f":"CONCATENATE(応募者名簿!K209)","v":""},{"$f":"CONCATENATE(応募者名簿!L209)","v":""},{"$f":"CONCATENATE(応募者名簿!M209)","v":""},{"$f":"CONCATENATE(応募者名簿!N209)","v":""}]
[{"$f":"応募者名簿!$B$8","v":0},{"$f":"CONCATENATE(応募者名簿!$B$11,応募者名簿!$D$11,応募者名簿!$E$11,応募者名簿!$I$11)","v":""},"交通安全ポスター",{"$f":"CONCATENATE(応募者名簿!K210)","v":""},{"$f":"CONCATENATE(応募者名簿!L210)","v":""},{"$f":"CONCATENATE(応募者名簿!M210)","v":""},{"$f":"CONCATENATE(応募者名簿!N210)","v":""}]
[{"$f":"応募者名簿!$B$8","v":0},{"$f":"CONCATENATE(応募者名簿!$B$11,応募者名簿!$D$11,応募者名簿!$E$11,応募者名簿!$I$11)","v":""},"交通安全ポスター",{"$f":"CONCATENATE(応募者名簿!K211)","v":""},{"$f":"CONCATENATE(応募者名簿!L211)","v":""},{"$f":"CONCATENATE(応募者名簿!M211)","v":""},{"$f":"CONCATENATE(応募者名簿!N211)","v":""}]
[{"$f":"応募者名簿!$B$8","v":0},{"$f":"CONCATENATE(応募者名簿!$B$11,応募者名簿!$D$11,応募者名簿!$E$11,応募者名簿!$I$11)","v":""},"交通安全ポスター",{"$f":"CONCATENATE(応募者名簿!K212)","v":""},{"$f":"CONCATENATE(応募者名簿!L212)","v":""},{"$f":"CONCATENATE(応募者名簿!M212)","v":""},{"$f":"CONCATENATE(応募者名簿!N212)","v":""}]
[{"$f":"応募者名簿!$B$8","v":0},{"$f":"CONCATENATE(応募者名簿!$B$11,応募者名簿!$D$11,応募者名簿!$E$11,応募者名簿!$I$11)","v":""},"交通安全ポスター",{"$f":"CONCATENATE(応募者名簿!K213)","v":""},{"$f":"CONCATENATE(応募者名簿!L213)","v":""},{"$f":"CONCATENATE(応募者名簿!M213)","v":""},{"$f":"CONCATENATE(応募者名簿!N213)","v":""}]
[{"$f":"応募者名簿!$B$8","v":0},{"$f":"CONCATENATE(応募者名簿!$B$11,応募者名簿!$D$11,応募者名簿!$E$11,応募者名簿!$I$11)","v":""},"交通安全ポスター",{"$f":"CONCATENATE(応募者名簿!K214)","v":""},{"$f":"CONCATENATE(応募者名簿!L214)","v":""},{"$f":"CONCATENATE(応募者名簿!M214)","v":""},{"$f":"CONCATENATE(応募者名簿!N214)","v":""}]
[{"$f":"応募者名簿!$B$8","v":0},{"$f":"CONCATENATE(応募者名簿!$B$11,応募者名簿!$D$11,応募者名簿!$E$11,応募者名簿!$I$11)","v":""},"交通安全ポスター",{"$f":"CONCATENATE(応募者名簿!K215)","v":""},{"$f":"CONCATENATE(応募者名簿!L215)","v":""},{"$f":"CONCATENATE(応募者名簿!M215)","v":""},{"$f":"CONCATENATE(応募者名簿!N215)","v":""}]
[{"$f":"応募者名簿!$B$8","v":0},{"$f":"CONCATENATE(応募者名簿!$B$11,応募者名簿!$D$11,応募者名簿!$E$11,応募者名簿!$I$11)","v":""},"交通安全ポスター",{"$f":"CONCATENATE(応募者名簿!K216)","v":""},{"$f":"CONCATENATE(応募者名簿!L216)","v":""},{"$f":"CONCATENATE(応募者名簿!M216)","v":""},{"$f":"CONCATENATE(応募者名簿!N216)","v":""}]
[{"$f":"応募者名簿!$B$8","v":0},{"$f":"CONCATENATE(応募者名簿!$B$11,応募者名簿!$D$11,応募者名簿!$E$11,応募者名簿!$I$11)","v":""},"交通安全ポスター",{"$f":"CONCATENATE(応募者名簿!K217)","v":""},{"$f":"CONCATENATE(応募者名簿!L217)","v":""},{"$f":"CONCATENATE(応募者名簿!M217)","v":""},{"$f":"CONCATENATE(応募者名簿!N217)","v":""}]
[{"$f":"応募者名簿!$B$8","v":0},{"$f":"CONCATENATE(応募者名簿!$B$11,応募者名簿!$D$11,応募者名簿!$E$11,応募者名簿!$I$11)","v":""},"交通安全ポスター",{"$f":"CONCATENATE(応募者名簿!K218)","v":""},{"$f":"CONCATENATE(応募者名簿!L218)","v":""},{"$f":"CONCATENATE(応募者名簿!M218)","v":""},{"$f":"CONCATENATE(応募者名簿!N218)","v":""}]
[{"$f":"応募者名簿!$B$8","v":0},{"$f":"CONCATENATE(応募者名簿!$B$11,応募者名簿!$D$11,応募者名簿!$E$11,応募者名簿!$I$11)","v":""},"交通安全ポスター",{"$f":"CONCATENATE(応募者名簿!K219)","v":""},{"$f":"CONCATENATE(応募者名簿!L219)","v":""},{"$f":"CONCATENATE(応募者名簿!M219)","v":""},{"$f":"CONCATENATE(応募者名簿!N219)","v":""}]
[{"$f":"応募者名簿!$B$8","v":0},{"$f":"CONCATENATE(応募者名簿!$B$11,応募者名簿!$D$11,応募者名簿!$E$11,応募者名簿!$I$11)","v":""},"交通安全ポスター",{"$f":"CONCATENATE(応募者名簿!K220)","v":""},{"$f":"CONCATENATE(応募者名簿!L220)","v":""},{"$f":"CONCATENATE(応募者名簿!M220)","v":""},{"$f":"CONCATENATE(応募者名簿!N220)","v":""}]
[{"$f":"応募者名簿!$B$8","v":0},{"$f":"CONCATENATE(応募者名簿!$B$11,応募者名簿!$D$11,応募者名簿!$E$11,応募者名簿!$I$11)","v":""},"交通安全ポスター",{"$f":"CONCATENATE(応募者名簿!K221)","v":""},{"$f":"CONCATENATE(応募者名簿!L221)","v":""},{"$f":"CONCATENATE(応募者名簿!M221)","v":""},{"$f":"CONCATENATE(応募者名簿!N221)","v":""}]
[{"$f":"応募者名簿!$B$8","v":0},{"$f":"CONCATENATE(応募者名簿!$B$11,応募者名簿!$D$11,応募者名簿!$E$11,応募者名簿!$I$11)","v":""},"交通安全ポスター",{"$f":"CONCATENATE(応募者名簿!K222)","v":""},{"$f":"CONCATENATE(応募者名簿!L222)","v":""},{"$f":"CONCATENATE(応募者名簿!M222)","v":""},{"$f":"CONCATENATE(応募者名簿!N222)","v":""}]
[{"$f":"応募者名簿!$B$8","v":0},{"$f":"CONCATENATE(応募者名簿!$B$11,応募者名簿!$D$11,応募者名簿!$E$11,応募者名簿!$I$11)","v":""},"交通安全ポスター",{"$f":"CONCATENATE(応募者名簿!K223)","v":""},{"$f":"CONCATENATE(応募者名簿!L223)","v":""},{"$f":"CONCATENATE(応募者名簿!M223)","v":""},{"$f":"CONCATENATE(応募者名簿!N223)","v":""}]
[{"$f":"応募者名簿!$B$8","v":0},{"$f":"CONCATENATE(応募者名簿!$B$11,応募者名簿!$D$11,応募者名簿!$E$11,応募者名簿!$I$11)","v":""},"交通安全ポスター",{"$f":"CONCATENATE(応募者名簿!K224)","v":""},{"$f":"CONCATENATE(応募者名簿!L224)","v":""},{"$f":"CONCATENATE(応募者名簿!M224)","v":""},{"$f":"CONCATENATE(応募者名簿!N224)","v":""}]
[{"$f":"応募者名簿!$B$8","v":0},{"$f":"CONCATENATE(応募者名簿!$B$11,応募者名簿!$D$11,応募者名簿!$E$11,応募者名簿!$I$11)","v":""},"交通安全ポスター",{"$f":"CONCATENATE(応募者名簿!K225)","v":""},{"$f":"CONCATENATE(応募者名簿!L225)","v":""},{"$f":"CONCATENATE(応募者名簿!M225)","v":""},{"$f":"CONCATENATE(応募者名簿!N225)","v":""}]
[{"$f":"応募者名簿!$B$8","v":0},{"$f":"CONCATENATE(応募者名簿!$B$11,応募者名簿!$D$11,応募者名簿!$E$11,応募者名簿!$I$11)","v":""},"交通安全ポスター",{"$f":"CONCATENATE(応募者名簿!K226)","v":""},{"$f":"CONCATENATE(応募者名簿!L226)","v":""},{"$f":"CONCATENATE(応募者名簿!M226)","v":""},{"$f":"CONCATENATE(応募者名簿!N226)","v":""}]
[{"$f":"応募者名簿!$B$8","v":0},{"$f":"CONCATENATE(応募者名簿!$B$11,応募者名簿!$D$11,応募者名簿!$E$11,応募者名簿!$I$11)","v":""},"交通安全ポスター",{"$f":"CONCATENATE(応募者名簿!K227)","v":""},{"$f":"CONCATENATE(応募者名簿!L227)","v":""},{"$f":"CONCATENATE(応募者名簿!M227)","v":""},{"$f":"CONCATENATE(応募者名簿!N227)","v":""}]
[{"$f":"応募者名簿!$B$8","v":0},{"$f":"CONCATENATE(応募者名簿!$B$11,応募者名簿!$D$11,応募者名簿!$E$11,応募者名簿!$I$11)","v":""},"交通安全ポスター",{"$f":"CONCATENATE(応募者名簿!K228)","v":""},{"$f":"CONCATENATE(応募者名簿!L228)","v":""},{"$f":"CONCATENATE(応募者名簿!M228)","v":""},{"$f":"CONCATENATE(応募者名簿!N228)","v":""}]
[{"$f":"応募者名簿!$B$8","v":0},{"$f":"CONCATENATE(応募者名簿!$B$11,応募者名簿!$D$11,応募者名簿!$E$11,応募者名簿!$I$11)","v":""},"交通安全ポスター",{"$f":"CONCATENATE(応募者名簿!K229)","v":""},{"$f":"CONCATENATE(応募者名簿!L229)","v":""},{"$f":"CONCATENATE(応募者名簿!M229)","v":""},{"$f":"CONCATENATE(応募者名簿!N229)","v":""}]
[{"$f":"応募者名簿!$B$8","v":0},{"$f":"CONCATENATE(応募者名簿!$B$11,応募者名簿!$D$11,応募者名簿!$E$11,応募者名簿!$I$11)","v":""},"交通安全ポスター",{"$f":"CONCATENATE(応募者名簿!K230)","v":""},{"$f":"CONCATENATE(応募者名簿!L230)","v":""},{"$f":"CONCATENATE(応募者名簿!M230)","v":""},{"$f":"CONCATENATE(応募者名簿!N230)","v":""}]
[{"$f":"応募者名簿!$B$8","v":0},{"$f":"CONCATENATE(応募者名簿!$B$11,応募者名簿!$D$11,応募者名簿!$E$11,応募者名簿!$I$11)","v":""},"交通安全ポスター",{"$f":"CONCATENATE(応募者名簿!K231)","v":""},{"$f":"CONCATENATE(応募者名簿!L231)","v":""},{"$f":"CONCATENATE(応募者名簿!M231)","v":""},{"$f":"CONCATENATE(応募者名簿!N231)","v":""}]
[{"$f":"応募者名簿!$B$8","v":0},{"$f":"CONCATENATE(応募者名簿!$B$11,応募者名簿!$D$11,応募者名簿!$E$11,応募者名簿!$I$11)","v":""},"交通安全ポスター",{"$f":"CONCATENATE(応募者名簿!K232)","v":""},{"$f":"CONCATENATE(応募者名簿!L232)","v":""},{"$f":"CONCATENATE(応募者名簿!M232)","v":""},{"$f":"CONCATENATE(応募者名簿!N232)","v":""}]
[{"$f":"応募者名簿!$B$8","v":0},{"$f":"CONCATENATE(応募者名簿!$B$11,応募者名簿!$D$11,応募者名簿!$E$11,応募者名簿!$I$11)","v":""},"交通安全ポスター",{"$f":"CONCATENATE(応募者名簿!K233)","v":""},{"$f":"CONCATENATE(応募者名簿!L233)","v":""},{"$f":"CONCATENATE(応募者名簿!M233)","v":""},{"$f":"CONCATENATE(応募者名簿!N233)","v":""}]
[{"$f":"応募者名簿!$B$8","v":0},{"$f":"CONCATENATE(応募者名簿!$B$11,応募者名簿!$D$11,応募者名簿!$E$11,応募者名簿!$I$11)","v":""},"交通安全ポスター",{"$f":"CONCATENATE(応募者名簿!K234)","v":""},{"$f":"CONCATENATE(応募者名簿!L234)","v":""},{"$f":"CONCATENATE(応募者名簿!M234)","v":""},{"$f":"CONCATENATE(応募者名簿!N234)","v":""}]
[{"$f":"応募者名簿!$B$8","v":0},{"$f":"CONCATENATE(応募者名簿!$B$11,応募者名簿!$D$11,応募者名簿!$E$11,応募者名簿!$I$11)","v":""},"交通安全ポスター",{"$f":"CONCATENATE(応募者名簿!K235)","v":""},{"$f":"CONCATENATE(応募者名簿!L235)","v":""},{"$f":"CONCATENATE(応募者名簿!M235)","v":""},{"$f":"CONCATENATE(応募者名簿!N235)","v":""}]
[{"$f":"応募者名簿!$B$8","v":0},{"$f":"CONCATENATE(応募者名簿!$B$11,応募者名簿!$D$11,応募者名簿!$E$11,応募者名簿!$I$11)","v":""},"交通安全ポスター",{"$f":"CONCATENATE(応募者名簿!K236)","v":""},{"$f":"CONCATENATE(応募者名簿!L236)","v":""},{"$f":"CONCATENATE(応募者名簿!M236)","v":""},{"$f":"CONCATENATE(応募者名簿!N236)","v":""}]
[{"$f":"応募者名簿!$B$8","v":0},{"$f":"CONCATENATE(応募者名簿!$B$11,応募者名簿!$D$11,応募者名簿!$E$11,応募者名簿!$I$11)","v":""},"交通安全ポスター",{"$f":"CONCATENATE(応募者名簿!K237)","v":""},{"$f":"CONCATENATE(応募者名簿!L237)","v":""},{"$f":"CONCATENATE(応募者名簿!M237)","v":""},{"$f":"CONCATENATE(応募者名簿!N237)","v":""}]
[{"$f":"応募者名簿!$B$8","v":0},{"$f":"CONCATENATE(応募者名簿!$B$11,応募者名簿!$D$11,応募者名簿!$E$11,応募者名簿!$I$11)","v":""},"交通安全ポスター",{"$f":"CONCATENATE(応募者名簿!K238)","v":""},{"$f":"CONCATENATE(応募者名簿!L238)","v":""},{"$f":"CONCATENATE(応募者名簿!M238)","v":""},{"$f":"CONCATENATE(応募者名簿!N238)","v":""}]
[{"$f":"応募者名簿!$B$8","v":0},{"$f":"CONCATENATE(応募者名簿!$B$11,応募者名簿!$D$11,応募者名簿!$E$11,応募者名簿!$I$11)","v":""},"交通安全ポスター",{"$f":"CONCATENATE(応募者名簿!K239)","v":""},{"$f":"CONCATENATE(応募者名簿!L239)","v":""},{"$f":"CONCATENATE(応募者名簿!M239)","v":""},{"$f":"CONCATENATE(応募者名簿!N239)","v":""}]
[{"$f":"応募者名簿!$B$8","v":0},{"$f":"CONCATENATE(応募者名簿!$B$11,応募者名簿!$D$11,応募者名簿!$E$11,応募者名簿!$I$11)","v":""},"交通安全ポスター",{"$f":"CONCATENATE(応募者名簿!K240)","v":""},{"$f":"CONCATENATE(応募者名簿!L240)","v":""},{"$f":"CONCATENATE(応募者名簿!M240)","v":""},{"$f":"CONCATENATE(応募者名簿!N240)","v":""}]
[{"$f":"応募者名簿!$B$8","v":0},{"$f":"CONCATENATE(応募者名簿!$B$11,応募者名簿!$D$11,応募者名簿!$E$11,応募者名簿!$I$11)","v":""},"交通安全ポスター",{"$f":"CONCATENATE(応募者名簿!K241)","v":""},{"$f":"CONCATENATE(応募者名簿!L241)","v":""},{"$f":"CONCATENATE(応募者名簿!M241)","v":""},{"$f":"CONCATENATE(応募者名簿!N241)","v":""}]
[{"$f":"応募者名簿!$B$8","v":0},{"$f":"CONCATENATE(応募者名簿!$B$11,応募者名簿!$D$11,応募者名簿!$E$11,応募者名簿!$I$11)","v":""},"交通安全ポスター",{"$f":"CONCATENATE(応募者名簿!K242)","v":""},{"$f":"CONCATENATE(応募者名簿!L242)","v":""},{"$f":"CONCATENATE(応募者名簿!M242)","v":""},{"$f":"CONCATENATE(応募者名簿!N242)","v":""}]
[{"$f":"応募者名簿!$B$8","v":0},{"$f":"CONCATENATE(応募者名簿!$B$11,応募者名簿!$D$11,応募者名簿!$E$11,応募者名簿!$I$11)","v":""},"交通安全ポスター",{"$f":"CONCATENATE(応募者名簿!K243)","v":""},{"$f":"CONCATENATE(応募者名簿!L243)","v":""},{"$f":"CONCATENATE(応募者名簿!M243)","v":""},{"$f":"CONCATENATE(応募者名簿!N243)","v":""}]
[{"$f":"応募者名簿!$B$8","v":0},{"$f":"CONCATENATE(応募者名簿!$B$11,応募者名簿!$D$11,応募者名簿!$E$11,応募者名簿!$I$11)","v":""},"交通安全ポスター",{"$f":"CONCATENATE(応募者名簿!K244)","v":""},{"$f":"CONCATENATE(応募者名簿!L244)","v":""},{"$f":"CONCATENATE(応募者名簿!M244)","v":""},{"$f":"CONCATENATE(応募者名簿!N244)","v":""}]
[{"$f":"応募者名簿!$B$8","v":0},{"$f":"CONCATENATE(応募者名簿!$B$11,応募者名簿!$D$11,応募者名簿!$E$11,応募者名簿!$I$11)","v":""},"交通安全ポスター",{"$f":"CONCATENATE(応募者名簿!K245)","v":""},{"$f":"CONCATENATE(応募者名簿!L245)","v":""},{"$f":"CONCATENATE(応募者名簿!M245)","v":""},{"$f":"CONCATENATE(応募者名簿!N245)","v":""}]
[{"$f":"応募者名簿!$B$8","v":0},{"$f":"CONCATENATE(応募者名簿!$B$11,応募者名簿!$D$11,応募者名簿!$E$11,応募者名簿!$I$11)","v":""},"交通安全ポスター",{"$f":"CONCATENATE(応募者名簿!K246)","v":""},{"$f":"CONCATENATE(応募者名簿!L246)","v":""},{"$f":"CONCATENATE(応募者名簿!M246)","v":""},{"$f":"CONCATENATE(応募者名簿!N246)","v":""}]
[{"$f":"応募者名簿!$B$8","v":0},{"$f":"CONCATENATE(応募者名簿!$B$11,応募者名簿!$D$11,応募者名簿!$E$11,応募者名簿!$I$11)","v":""},"交通安全ポスター",{"$f":"CONCATENATE(応募者名簿!K247)","v":""},{"$f":"CONCATENATE(応募者名簿!L247)","v":""},{"$f":"CONCATENATE(応募者名簿!M247)","v":""},{"$f":"CONCATENATE(応募者名簿!N247)","v":""}]
[{"$f":"応募者名簿!$B$8","v":0},{"$f":"CONCATENATE(応募者名簿!$B$11,応募者名簿!$D$11,応募者名簿!$E$11,応募者名簿!$I$11)","v":""},"交通安全ポスター",{"$f":"CONCATENATE(応募者名簿!K248)","v":""},{"$f":"CONCATENATE(応募者名簿!L248)","v":""},{"$f":"CONCATENATE(応募者名簿!M248)","v":""},{"$f":"CONCATENATE(応募者名簿!N248)","v":""}]
[{"$f":"応募者名簿!$B$8","v":0},{"$f":"CONCATENATE(応募者名簿!$B$11,応募者名簿!$D$11,応募者名簿!$E$11,応募者名簿!$I$11)","v":""},"交通安全ポスター",{"$f":"CONCATENATE(応募者名簿!K249)","v":""},{"$f":"CONCATENATE(応募者名簿!L249)","v":""},{"$f":"CONCATENATE(応募者名簿!M249)","v":""},{"$f":"CONCATENATE(応募者名簿!N249)","v":""}]
[{"$f":"応募者名簿!$B$8","v":0},{"$f":"CONCATENATE(応募者名簿!$B$11,応募者名簿!$D$11,応募者名簿!$E$11,応募者名簿!$I$11)","v":""},"交通安全ポスター",{"$f":"CONCATENATE(応募者名簿!K250)","v":""},{"$f":"CONCATENATE(応募者名簿!L250)","v":""},{"$f":"CONCATENATE(応募者名簿!M250)","v":""},{"$f":"CONCATENATE(応募者名簿!N250)","v":""}]
[{"$f":"応募者名簿!$B$8","v":0},{"$f":"CONCATENATE(応募者名簿!$B$11,応募者名簿!$D$11,応募者名簿!$E$11,応募者名簿!$I$11)","v":""},"交通安全ポスター",{"$f":"CONCATENATE(応募者名簿!K251)","v":""},{"$f":"CONCATENATE(応募者名簿!L251)","v":""},{"$f":"CONCATENATE(応募者名簿!M251)","v":""},{"$f":"CONCATENATE(応募者名簿!N251)","v":""}]
[{"$f":"応募者名簿!$B$8","v":0},{"$f":"CONCATENATE(応募者名簿!$B$11,応募者名簿!$D$11,応募者名簿!$E$11,応募者名簿!$I$11)","v":""},"交通安全ポスター",{"$f":"CONCATENATE(応募者名簿!K252)","v":""},{"$f":"CONCATENATE(応募者名簿!L252)","v":""},{"$f":"CONCATENATE(応募者名簿!M252)","v":""},{"$f":"CONCATENATE(応募者名簿!N252)","v":""}]
[{"$f":"応募者名簿!$B$8","v":0},{"$f":"CONCATENATE(応募者名簿!$B$11,応募者名簿!$D$11,応募者名簿!$E$11,応募者名簿!$I$11)","v":""},"交通安全ポスター",{"$f":"CONCATENATE(応募者名簿!K253)","v":""},{"$f":"CONCATENATE(応募者名簿!L253)","v":""},{"$f":"CONCATENATE(応募者名簿!M253)","v":""},{"$f":"CONCATENATE(応募者名簿!N253)","v":""}]
[{"$f":"応募者名簿!$B$8","v":0},{"$f":"CONCATENATE(応募者名簿!$B$11,応募者名簿!$D$11,応募者名簿!$E$11,応募者名簿!$I$11)","v":""},"交通安全ポスター",{"$f":"CONCATENATE(応募者名簿!K254)","v":""},{"$f":"CONCATENATE(応募者名簿!L254)","v":""},{"$f":"CONCATENATE(応募者名簿!M254)","v":""},{"$f":"CONCATENATE(応募者名簿!N254)","v":""}]
[{"$f":"応募者名簿!$B$8","v":0},{"$f":"CONCATENATE(応募者名簿!$B$11,応募者名簿!$D$11,応募者名簿!$E$11,応募者名簿!$I$11)","v":""},"交通安全ポスター",{"$f":"CONCATENATE(応募者名簿!K255)","v":""},{"$f":"CONCATENATE(応募者名簿!L255)","v":""},{"$f":"CONCATENATE(応募者名簿!M255)","v":""},{"$f":"CONCATENATE(応募者名簿!N255)","v":""}]
[{"$f":"応募者名簿!$B$8","v":0},{"$f":"CONCATENATE(応募者名簿!$B$11,応募者名簿!$D$11,応募者名簿!$E$11,応募者名簿!$I$11)","v":""},"交通安全ポスター",{"$f":"CONCATENATE(応募者名簿!K256)","v":""},{"$f":"CONCATENATE(応募者名簿!L256)","v":""},{"$f":"CONCATENATE(応募者名簿!M256)","v":""},{"$f":"CONCATENATE(応募者名簿!N256)","v":""}]
[{"$f":"応募者名簿!$B$8","v":0},{"$f":"CONCATENATE(応募者名簿!$B$11,応募者名簿!$D$11,応募者名簿!$E$11,応募者名簿!$I$11)","v":""},"交通安全ポスター",{"$f":"CONCATENATE(応募者名簿!K257)","v":""},{"$f":"CONCATENATE(応募者名簿!L257)","v":""},{"$f":"CONCATENATE(応募者名簿!M257)","v":""},{"$f":"CONCATENATE(応募者名簿!N257)","v":""}]
[{"$f":"応募者名簿!$B$8","v":0},{"$f":"CONCATENATE(応募者名簿!$B$11,応募者名簿!$D$11,応募者名簿!$E$11,応募者名簿!$I$11)","v":""},"交通安全ポスター",{"$f":"CONCATENATE(応募者名簿!K258)","v":""},{"$f":"CONCATENATE(応募者名簿!L258)","v":""},{"$f":"CONCATENATE(応募者名簿!M258)","v":""},{"$f":"CONCATENATE(応募者名簿!N258)","v":""}]
[{"$f":"応募者名簿!$B$8","v":0},{"$f":"CONCATENATE(応募者名簿!$B$11,応募者名簿!$D$11,応募者名簿!$E$11,応募者名簿!$I$11)","v":""},"交通安全ポスター",{"$f":"CONCATENATE(応募者名簿!K259)","v":""},{"$f":"CONCATENATE(応募者名簿!L259)","v":""},{"$f":"CONCATENATE(応募者名簿!M259)","v":""},{"$f":"CONCATENATE(応募者名簿!N259)","v":""}]
[{"$f":"応募者名簿!$B$8","v":0},{"$f":"CONCATENATE(応募者名簿!$B$11,応募者名簿!$D$11,応募者名簿!$E$11,応募者名簿!$I$11)","v":""},"交通安全ポスター",{"$f":"CONCATENATE(応募者名簿!K260)","v":""},{"$f":"CONCATENATE(応募者名簿!L260)","v":""},{"$f":"CONCATENATE(応募者名簿!M260)","v":""},{"$f":"CONCATENATE(応募者名簿!N260)","v":""}]
[{"$f":"応募者名簿!$B$8","v":0},{"$f":"CONCATENATE(応募者名簿!$B$11,応募者名簿!$D$11,応募者名簿!$E$11,応募者名簿!$I$11)","v":""},"交通安全ポスター",{"$f":"CONCATENATE(応募者名簿!K261)","v":""},{"$f":"CONCATENATE(応募者名簿!L261)","v":""},{"$f":"CONCATENATE(応募者名簿!M261)","v":""},{"$f":"CONCATENATE(応募者名簿!N261)","v":""}]
[{"$f":"応募者名簿!$B$8","v":0},{"$f":"CONCATENATE(応募者名簿!$B$11,応募者名簿!$D$11,応募者名簿!$E$11,応募者名簿!$I$11)","v":""},"交通安全ポスター",{"$f":"CONCATENATE(応募者名簿!K262)","v":""},{"$f":"CONCATENATE(応募者名簿!L262)","v":""},{"$f":"CONCATENATE(応募者名簿!M262)","v":""},{"$f":"CONCATENATE(応募者名簿!N262)","v":""}]
[{"$f":"応募者名簿!$B$8","v":0},{"$f":"CONCATENATE(応募者名簿!$B$11,応募者名簿!$D$11,応募者名簿!$E$11,応募者名簿!$I$11)","v":""},"交通安全ポスター",{"$f":"CONCATENATE(応募者名簿!K263)","v":""},{"$f":"CONCATENATE(応募者名簿!L263)","v":""},{"$f":"CONCATENATE(応募者名簿!M263)","v":""},{"$f":"CONCATENATE(応募者名簿!N263)","v":""}]
[{"$f":"応募者名簿!$B$8","v":0},{"$f":"CONCATENATE(応募者名簿!$B$11,応募者名簿!$D$11,応募者名簿!$E$11,応募者名簿!$I$11)","v":""},"交通安全ポスター",{"$f":"CONCATENATE(応募者名簿!K264)","v":""},{"$f":"CONCATENATE(応募者名簿!L264)","v":""},{"$f":"CONCATENATE(応募者名簿!M264)","v":""},{"$f":"CONCATENATE(応募者名簿!N264)","v":""}]
[{"$f":"応募者名簿!$B$8","v":0},{"$f":"CONCATENATE(応募者名簿!$B$11,応募者名簿!$D$11,応募者名簿!$E$11,応募者名簿!$I$11)","v":""},"交通安全ポスター",{"$f":"CONCATENATE(応募者名簿!K265)","v":""},{"$f":"CONCATENATE(応募者名簿!L265)","v":""},{"$f":"CONCATENATE(応募者名簿!M265)","v":""},{"$f":"CONCATENATE(応募者名簿!N265)","v":""}]
[{"$f":"応募者名簿!$B$8","v":0},{"$f":"CONCATENATE(応募者名簿!$B$11,応募者名簿!$D$11,応募者名簿!$E$11,応募者名簿!$I$11)","v":""},"交通安全ポスター",{"$f":"CONCATENATE(応募者名簿!K266)","v":""},{"$f":"CONCATENATE(応募者名簿!L266)","v":""},{"$f":"CONCATENATE(応募者名簿!M266)","v":""},{"$f":"CONCATENATE(応募者名簿!N266)","v":""}]
[{"$f":"応募者名簿!$B$8","v":0},{"$f":"CONCATENATE(応募者名簿!$B$11,応募者名簿!$D$11,応募者名簿!$E$11,応募者名簿!$I$11)","v":""},"交通安全ポスター",{"$f":"CONCATENATE(応募者名簿!K267)","v":""},{"$f":"CONCATENATE(応募者名簿!L267)","v":""},{"$f":"CONCATENATE(応募者名簿!M267)","v":""},{"$f":"CONCATENATE(応募者名簿!N267)","v":""}]
[{"$f":"応募者名簿!$B$8","v":0},{"$f":"CONCATENATE(応募者名簿!$B$11,応募者名簿!$D$11,応募者名簿!$E$11,応募者名簿!$I$11)","v":""},"交通安全ポスター",{"$f":"CONCATENATE(応募者名簿!K268)","v":""},{"$f":"CONCATENATE(応募者名簿!L268)","v":""},{"$f":"CONCATENATE(応募者名簿!M268)","v":""},{"$f":"CONCATENATE(応募者名簿!N268)","v":""}]
[{"$f":"応募者名簿!$B$8","v":0},{"$f":"CONCATENATE(応募者名簿!$B$11,応募者名簿!$D$11,応募者名簿!$E$11,応募者名簿!$I$11)","v":""},"交通安全ポスター",{"$f":"CONCATENATE(応募者名簿!K269)","v":""},{"$f":"CONCATENATE(応募者名簿!L269)","v":""},{"$f":"CONCATENATE(応募者名簿!M269)","v":""},{"$f":"CONCATENATE(応募者名簿!N269)","v":""}]
[{"$f":"応募者名簿!$B$8","v":0},{"$f":"CONCATENATE(応募者名簿!$B$11,応募者名簿!$D$11,応募者名簿!$E$11,応募者名簿!$I$11)","v":""},"交通安全ポスター",{"$f":"CONCATENATE(応募者名簿!K270)","v":""},{"$f":"CONCATENATE(応募者名簿!L270)","v":""},{"$f":"CONCATENATE(応募者名簿!M270)","v":""},{"$f":"CONCATENATE(応募者名簿!N270)","v":""}]
[{"$f":"応募者名簿!$B$8","v":0},{"$f":"CONCATENATE(応募者名簿!$B$11,応募者名簿!$D$11,応募者名簿!$E$11,応募者名簿!$I$11)","v":""},"交通安全ポスター",{"$f":"CONCATENATE(応募者名簿!K271)","v":""},{"$f":"CONCATENATE(応募者名簿!L271)","v":""},{"$f":"CONCATENATE(応募者名簿!M271)","v":""},{"$f":"CONCATENATE(応募者名簿!N271)","v":""}]
[{"$f":"応募者名簿!$B$8","v":0},{"$f":"CONCATENATE(応募者名簿!$B$11,応募者名簿!$D$11,応募者名簿!$E$11,応募者名簿!$I$11)","v":""},"交通安全ポスター",{"$f":"CONCATENATE(応募者名簿!K272)","v":""},{"$f":"CONCATENATE(応募者名簿!L272)","v":""},{"$f":"CONCATENATE(応募者名簿!M272)","v":""},{"$f":"CONCATENATE(応募者名簿!N272)","v":""}]
[{"$f":"応募者名簿!$B$8","v":0},{"$f":"CONCATENATE(応募者名簿!$B$11,応募者名簿!$D$11,応募者名簿!$E$11,応募者名簿!$I$11)","v":""},"交通安全ポスター",{"$f":"CONCATENATE(応募者名簿!K273)","v":""},{"$f":"CONCATENATE(応募者名簿!L273)","v":""},{"$f":"CONCATENATE(応募者名簿!M273)","v":""},{"$f":"CONCATENATE(応募者名簿!N273)","v":""}]
[{"$f":"応募者名簿!$B$8","v":0},{"$f":"CONCATENATE(応募者名簿!$B$11,応募者名簿!$D$11,応募者名簿!$E$11,応募者名簿!$I$11)","v":""},"交通安全ポスター",{"$f":"CONCATENATE(応募者名簿!K274)","v":""},{"$f":"CONCATENATE(応募者名簿!L274)","v":""},{"$f":"CONCATENATE(応募者名簿!M274)","v":""},{"$f":"CONCATENATE(応募者名簿!N274)","v":""}]
[{"$f":"応募者名簿!$B$8","v":0},{"$f":"CONCATENATE(応募者名簿!$B$11,応募者名簿!$D$11,応募者名簿!$E$11,応募者名簿!$I$11)","v":""},"交通安全ポスター",{"$f":"CONCATENATE(応募者名簿!K275)","v":""},{"$f":"CONCATENATE(応募者名簿!L275)","v":""},{"$f":"CONCATENATE(応募者名簿!M275)","v":""},{"$f":"CONCATENATE(応募者名簿!N275)","v":""}]
[{"$f":"応募者名簿!$B$8","v":0},{"$f":"CONCATENATE(応募者名簿!$B$11,応募者名簿!$D$11,応募者名簿!$E$11,応募者名簿!$I$11)","v":""},"交通安全ポスター",{"$f":"CONCATENATE(応募者名簿!K276)","v":""},{"$f":"CONCATENATE(応募者名簿!L276)","v":""},{"$f":"CONCATENATE(応募者名簿!M276)","v":""},{"$f":"CONCATENATE(応募者名簿!N276)","v":""}]
[{"$f":"応募者名簿!$B$8","v":0},{"$f":"CONCATENATE(応募者名簿!$B$11,応募者名簿!$D$11,応募者名簿!$E$11,応募者名簿!$I$11)","v":""},"交通安全ポスター",{"$f":"CONCATENATE(応募者名簿!K277)","v":""},{"$f":"CONCATENATE(応募者名簿!L277)","v":""},{"$f":"CONCATENATE(応募者名簿!M277)","v":""},{"$f":"CONCATENATE(応募者名簿!N277)","v":""}]
[{"$f":"応募者名簿!$B$8","v":0},{"$f":"CONCATENATE(応募者名簿!$B$11,応募者名簿!$D$11,応募者名簿!$E$11,応募者名簿!$I$11)","v":""},"交通安全ポスター",{"$f":"CONCATENATE(応募者名簿!K278)","v":""},{"$f":"CONCATENATE(応募者名簿!L278)","v":""},{"$f":"CONCATENATE(応募者名簿!M278)","v":""},{"$f":"CONCATENATE(応募者名簿!N278)","v":""}]
[{"$f":"応募者名簿!$B$8","v":0},{"$f":"CONCATENATE(応募者名簿!$B$11,応募者名簿!$D$11,応募者名簿!$E$11,応募者名簿!$I$11)","v":""},"交通安全ポスター",{"$f":"CONCATENATE(応募者名簿!K279)","v":""},{"$f":"CONCATENATE(応募者名簿!L279)","v":""},{"$f":"CONCATENATE(応募者名簿!M279)","v":""},{"$f":"CONCATENATE(応募者名簿!N279)","v":""}]
[{"$f":"応募者名簿!$B$8","v":0},{"$f":"CONCATENATE(応募者名簿!$B$11,応募者名簿!$D$11,応募者名簿!$E$11,応募者名簿!$I$11)","v":""},"交通安全ポスター",{"$f":"CONCATENATE(応募者名簿!K280)","v":""},{"$f":"CONCATENATE(応募者名簿!L280)","v":""},{"$f":"CONCATENATE(応募者名簿!M280)","v":""},{"$f":"CONCATENATE(応募者名簿!N280)","v":""}]
[{"$f":"応募者名簿!$B$8","v":0},{"$f":"CONCATENATE(応募者名簿!$B$11,応募者名簿!$D$11,応募者名簿!$E$11,応募者名簿!$I$11)","v":""},"交通安全ポスター",{"$f":"CONCATENATE(応募者名簿!K281)","v":""},{"$f":"CONCATENATE(応募者名簿!L281)","v":""},{"$f":"CONCATENATE(応募者名簿!M281)","v":""},{"$f":"CONCATENATE(応募者名簿!N281)","v":""}]
[{"$f":"応募者名簿!$B$8","v":0},{"$f":"CONCATENATE(応募者名簿!$B$11,応募者名簿!$D$11,応募者名簿!$E$11,応募者名簿!$I$11)","v":""},"交通安全ポスター",{"$f":"CONCATENATE(応募者名簿!K282)","v":""},{"$f":"CONCATENATE(応募者名簿!L282)","v":""},{"$f":"CONCATENATE(応募者名簿!M282)","v":""},{"$f":"CONCATENATE(応募者名簿!N282)","v":""}]
[{"$f":"応募者名簿!$B$8","v":0},{"$f":"CONCATENATE(応募者名簿!$B$11,応募者名簿!$D$11,応募者名簿!$E$11,応募者名簿!$I$11)","v":""},"交通安全ポスター",{"$f":"CONCATENATE(応募者名簿!K283)","v":""},{"$f":"CONCATENATE(応募者名簿!L283)","v":""},{"$f":"CONCATENATE(応募者名簿!M283)","v":""},{"$f":"CONCATENATE(応募者名簿!N283)","v":""}]
[{"$f":"応募者名簿!$B$8","v":0},{"$f":"CONCATENATE(応募者名簿!$B$11,応募者名簿!$D$11,応募者名簿!$E$11,応募者名簿!$I$11)","v":""},"交通安全ポスター",{"$f":"CONCATENATE(応募者名簿!K284)","v":""},{"$f":"CONCATENATE(応募者名簿!L284)","v":""},{"$f":"CONCATENATE(応募者名簿!M284)","v":""},{"$f":"CONCATENATE(応募者名簿!N284)","v":""}]
[{"$f":"応募者名簿!$B$8","v":0},{"$f":"CONCATENATE(応募者名簿!$B$11,応募者名簿!$D$11,応募者名簿!$E$11,応募者名簿!$I$11)","v":""},"交通安全ポスター",{"$f":"CONCATENATE(応募者名簿!K285)","v":""},{"$f":"CONCATENATE(応募者名簿!L285)","v":""},{"$f":"CONCATENATE(応募者名簿!M285)","v":""},{"$f":"CONCATENATE(応募者名簿!N285)","v":""}]
[{"$f":"応募者名簿!$B$8","v":0},{"$f":"CONCATENATE(応募者名簿!$B$11,応募者名簿!$D$11,応募者名簿!$E$11,応募者名簿!$I$11)","v":""},"交通安全ポスター",{"$f":"CONCATENATE(応募者名簿!K286)","v":""},{"$f":"CONCATENATE(応募者名簿!L286)","v":""},{"$f":"CONCATENATE(応募者名簿!M286)","v":""},{"$f":"CONCATENATE(応募者名簿!N286)","v":""}]
[{"$f":"応募者名簿!$B$8","v":0},{"$f":"CONCATENATE(応募者名簿!$B$11,応募者名簿!$D$11,応募者名簿!$E$11,応募者名簿!$I$11)","v":""},"交通安全ポスター",{"$f":"CONCATENATE(応募者名簿!K287)","v":""},{"$f":"CONCATENATE(応募者名簿!L287)","v":""},{"$f":"CONCATENATE(応募者名簿!M287)","v":""},{"$f":"CONCATENATE(応募者名簿!N287)","v":""}]
[{"$f":"応募者名簿!$B$8","v":0},{"$f":"CONCATENATE(応募者名簿!$B$11,応募者名簿!$D$11,応募者名簿!$E$11,応募者名簿!$I$11)","v":""},"交通安全ポスター",{"$f":"CONCATENATE(応募者名簿!K288)","v":""},{"$f":"CONCATENATE(応募者名簿!L288)","v":""},{"$f":"CONCATENATE(応募者名簿!M288)","v":""},{"$f":"CONCATENATE(応募者名簿!N288)","v":""}]
[{"$f":"応募者名簿!$B$8","v":0},{"$f":"CONCATENATE(応募者名簿!$B$11,応募者名簿!$D$11,応募者名簿!$E$11,応募者名簿!$I$11)","v":""},"交通安全ポスター",{"$f":"CONCATENATE(応募者名簿!K289)","v":""},{"$f":"CONCATENATE(応募者名簿!L289)","v":""},{"$f":"CONCATENATE(応募者名簿!M289)","v":""},{"$f":"CONCATENATE(応募者名簿!N289)","v":""}]
[{"$f":"応募者名簿!$B$8","v":0},{"$f":"CONCATENATE(応募者名簿!$B$11,応募者名簿!$D$11,応募者名簿!$E$11,応募者名簿!$I$11)","v":""},"交通安全ポスター",{"$f":"CONCATENATE(応募者名簿!K290)","v":""},{"$f":"CONCATENATE(応募者名簿!L290)","v":""},{"$f":"CONCATENATE(応募者名簿!M290)","v":""},{"$f":"CONCATENATE(応募者名簿!N290)","v":""}]
[{"$f":"応募者名簿!$B$8","v":0},{"$f":"CONCATENATE(応募者名簿!$B$11,応募者名簿!$D$11,応募者名簿!$E$11,応募者名簿!$I$11)","v":""},"交通安全ポスター",{"$f":"CONCATENATE(応募者名簿!K291)","v":""},{"$f":"CONCATENATE(応募者名簿!L291)","v":""},{"$f":"CONCATENATE(応募者名簿!M291)","v":""},{"$f":"CONCATENATE(応募者名簿!N291)","v":""}]
[{"$f":"応募者名簿!$B$8","v":0},{"$f":"CONCATENATE(応募者名簿!$B$11,応募者名簿!$D$11,応募者名簿!$E$11,応募者名簿!$I$11)","v":""},"交通安全ポスター",{"$f":"CONCATENATE(応募者名簿!K292)","v":""},{"$f":"CONCATENATE(応募者名簿!L292)","v":""},{"$f":"CONCATENATE(応募者名簿!M292)","v":""},{"$f":"CONCATENATE(応募者名簿!N292)","v":""}]
[{"$f":"応募者名簿!$B$8","v":0},{"$f":"CONCATENATE(応募者名簿!$B$11,応募者名簿!$D$11,応募者名簿!$E$11,応募者名簿!$I$11)","v":""},"交通安全ポスター",{"$f":"CONCATENATE(応募者名簿!K293)","v":""},{"$f":"CONCATENATE(応募者名簿!L293)","v":""},{"$f":"CONCATENATE(応募者名簿!M293)","v":""},{"$f":"CONCATENATE(応募者名簿!N293)","v":""}]
[{"$f":"応募者名簿!$B$8","v":0},{"$f":"CONCATENATE(応募者名簿!$B$11,応募者名簿!$D$11,応募者名簿!$E$11,応募者名簿!$I$11)","v":""},"交通安全ポスター",{"$f":"CONCATENATE(応募者名簿!K294)","v":""},{"$f":"CONCATENATE(応募者名簿!L294)","v":""},{"$f":"CONCATENATE(応募者名簿!M294)","v":""},{"$f":"CONCATENATE(応募者名簿!N294)","v":""}]
[{"$f":"応募者名簿!$B$8","v":0},{"$f":"CONCATENATE(応募者名簿!$B$11,応募者名簿!$D$11,応募者名簿!$E$11,応募者名簿!$I$11)","v":""},"交通安全ポスター",{"$f":"CONCATENATE(応募者名簿!K295)","v":""},{"$f":"CONCATENATE(応募者名簿!L295)","v":""},{"$f":"CONCATENATE(応募者名簿!M295)","v":""},{"$f":"CONCATENATE(応募者名簿!N295)","v":""}]
[{"$f":"応募者名簿!$B$8","v":0},{"$f":"CONCATENATE(応募者名簿!$B$11,応募者名簿!$D$11,応募者名簿!$E$11,応募者名簿!$I$11)","v":""},"交通安全ポスター",{"$f":"CONCATENATE(応募者名簿!K296)","v":""},{"$f":"CONCATENATE(応募者名簿!L296)","v":""},{"$f":"CONCATENATE(応募者名簿!M296)","v":""},{"$f":"CONCATENATE(応募者名簿!N296)","v":""}]
[{"$f":"応募者名簿!$B$8","v":0},{"$f":"CONCATENATE(応募者名簿!$B$11,応募者名簿!$D$11,応募者名簿!$E$11,応募者名簿!$I$11)","v":""},"交通安全ポスター",{"$f":"CONCATENATE(応募者名簿!K297)","v":""},{"$f":"CONCATENATE(応募者名簿!L297)","v":""},{"$f":"CONCATENATE(応募者名簿!M297)","v":""},{"$f":"CONCATENATE(応募者名簿!N297)","v":""}]
[{"$f":"応募者名簿!$B$8","v":0},{"$f":"CONCATENATE(応募者名簿!$B$11,応募者名簿!$D$11,応募者名簿!$E$11,応募者名簿!$I$11)","v":""},"交通安全ポスター",{"$f":"CONCATENATE(応募者名簿!K298)","v":""},{"$f":"CONCATENATE(応募者名簿!L298)","v":""},{"$f":"CONCATENATE(応募者名簿!M298)","v":""},{"$f":"CONCATENATE(応募者名簿!N298)","v":""}]
[{"$f":"応募者名簿!$B$8","v":0},{"$f":"CONCATENATE(応募者名簿!$B$11,応募者名簿!$D$11,応募者名簿!$E$11,応募者名簿!$I$11)","v":""},"交通安全ポスター",{"$f":"CONCATENATE(応募者名簿!K299)","v":""},{"$f":"CONCATENATE(応募者名簿!L299)","v":""},{"$f":"CONCATENATE(応募者名簿!M299)","v":""},{"$f":"CONCATENATE(応募者名簿!N299)","v":""}]
[{"$f":"応募者名簿!$B$8","v":0},{"$f":"CONCATENATE(応募者名簿!$B$11,応募者名簿!$D$11,応募者名簿!$E$11,応募者名簿!$I$11)","v":""},"交通安全ポスター",{"$f":"CONCATENATE(応募者名簿!K300)","v":""},{"$f":"CONCATENATE(応募者名簿!L300)","v":""},{"$f":"CONCATENATE(応募者名簿!M300)","v":""},{"$f":"CONCATENATE(応募者名簿!N300)","v":""}]
[{"$f":"応募者名簿!$B$8","v":0},{"$f":"CONCATENATE(応募者名簿!$B$11,応募者名簿!$D$11,応募者名簿!$E$11,応募者名簿!$I$11)","v":""},"交通安全ポスター",{"$f":"CONCATENATE(応募者名簿!K301)","v":""},{"$f":"CONCATENATE(応募者名簿!L301)","v":""},{"$f":"CONCATENATE(応募者名簿!M301)","v":""},{"$f":"CONCATENATE(応募者名簿!N301)","v":""}]
[{"$f":"応募者名簿!$B$8","v":0},{"$f":"CONCATENATE(応募者名簿!$B$11,応募者名簿!$D$11,応募者名簿!$E$11,応募者名簿!$I$11)","v":""},"交通安全ポスター",{"$f":"CONCATENATE(応募者名簿!K302)","v":""},{"$f":"CONCATENATE(応募者名簿!L302)","v":""},{"$f":"CONCATENATE(応募者名簿!M302)","v":""},{"$f":"CONCATENATE(応募者名簿!N302)","v":""}]
[{"$f":"応募者名簿!$B$8","v":0},{"$f":"CONCATENATE(応募者名簿!$B$11,応募者名簿!$D$11,応募者名簿!$E$11,応募者名簿!$I$11)","v":""},"交通安全ポスター",{"$f":"CONCATENATE(応募者名簿!K303)","v":""},{"$f":"CONCATENATE(応募者名簿!L303)","v":""},{"$f":"CONCATENATE(応募者名簿!M303)","v":""},{"$f":"CONCATENATE(応募者名簿!N303)","v":""}]
[{"$f":"応募者名簿!$B$8","v":0},{"$f":"CONCATENATE(応募者名簿!$B$11,応募者名簿!$D$11,応募者名簿!$E$11,応募者名簿!$I$11)","v":""},"交通安全ポスター",{"$f":"CONCATENATE(応募者名簿!K304)","v":""},{"$f":"CONCATENATE(応募者名簿!L304)","v":""},{"$f":"CONCATENATE(応募者名簿!M304)","v":""},{"$f":"CONCATENATE(応募者名簿!N304)","v":""}]
[{"$f":"応募者名簿!$B$8","v":0},{"$f":"CONCATENATE(応募者名簿!$B$11,応募者名簿!$D$11,応募者名簿!$E$11,応募者名簿!$I$11)","v":""},"交通安全ポスター",{"$f":"CONCATENATE(応募者名簿!K305)","v":""},{"$f":"CONCATENATE(応募者名簿!L305)","v":""},{"$f":"CONCATENATE(応募者名簿!M305)","v":""},{"$f":"CONCATENATE(応募者名簿!N305)","v":""}]
[{"$f":"応募者名簿!$B$8","v":0},{"$f":"CONCATENATE(応募者名簿!$B$11,応募者名簿!$D$11,応募者名簿!$E$11,応募者名簿!$I$11)","v":""},"交通安全ポスター",{"$f":"CONCATENATE(応募者名簿!K306)","v":""},{"$f":"CONCATENATE(応募者名簿!L306)","v":""},{"$f":"CONCATENATE(応募者名簿!M306)","v":""},{"$f":"CONCATENATE(応募者名簿!N306)","v":""}]
[{"$f":"応募者名簿!$B$8","v":0},{"$f":"CONCATENATE(応募者名簿!$B$11,応募者名簿!$D$11,応募者名簿!$E$11,応募者名簿!$I$11)","v":""},"交通安全ポスター",{"$f":"CONCATENATE(応募者名簿!K307)","v":""},{"$f":"CONCATENATE(応募者名簿!L307)","v":""},{"$f":"CONCATENATE(応募者名簿!M307)","v":""},{"$f":"CONCATENATE(応募者名簿!N307)","v":""}]
[{"$f":"応募者名簿!$B$8","v":0},{"$f":"CONCATENATE(応募者名簿!$B$11,応募者名簿!$D$11,応募者名簿!$E$11,応募者名簿!$I$11)","v":""},"交通安全ポスター",{"$f":"CONCATENATE(応募者名簿!K308)","v":""},{"$f":"CONCATENATE(応募者名簿!L308)","v":""},{"$f":"CONCATENATE(応募者名簿!M308)","v":""},{"$f":"CONCATENATE(応募者名簿!N308)","v":""}]
[{"$f":"応募者名簿!$B$8","v":0},{"$f":"CONCATENATE(応募者名簿!$B$11,応募者名簿!$D$11,応募者名簿!$E$11,応募者名簿!$I$11)","v":""},"交通安全ポスター",{"$f":"CONCATENATE(応募者名簿!K309)","v":""},{"$f":"CONCATENATE(応募者名簿!L309)","v":""},{"$f":"CONCATENATE(応募者名簿!M309)","v":""},{"$f":"CONCATENATE(応募者名簿!N309)","v":""}]
[{"$f":"応募者名簿!$B$8","v":0},{"$f":"CONCATENATE(応募者名簿!$B$11,応募者名簿!$D$11,応募者名簿!$E$11,応募者名簿!$I$11)","v":""},"交通安全ポスター",{"$f":"CONCATENATE(応募者名簿!K310)","v":""},{"$f":"CONCATENATE(応募者名簿!L310)","v":""},{"$f":"CONCATENATE(応募者名簿!M310)","v":""},{"$f":"CONCATENATE(応募者名簿!N310)","v":""}]
[{"$f":"応募者名簿!$B$8","v":0},{"$f":"CONCATENATE(応募者名簿!$B$11,応募者名簿!$D$11,応募者名簿!$E$11,応募者名簿!$I$11)","v":""},"交通安全ポスター",{"$f":"CONCATENATE(応募者名簿!K311)","v":""},{"$f":"CONCATENATE(応募者名簿!L311)","v":""},{"$f":"CONCATENATE(応募者名簿!M311)","v":""},{"$f":"CONCATENATE(応募者名簿!N311)","v":""}]
[{"$f":"応募者名簿!$B$8","v":0},{"$f":"CONCATENATE(応募者名簿!$B$11,応募者名簿!$D$11,応募者名簿!$E$11,応募者名簿!$I$11)","v":""},"交通安全ポスター",{"$f":"CONCATENATE(応募者名簿!K312)","v":""},{"$f":"CONCATENATE(応募者名簿!L312)","v":""},{"$f":"CONCATENATE(応募者名簿!M312)","v":""},{"$f":"CONCATENATE(応募者名簿!N312)","v":""}]
[{"$f":"応募者名簿!$B$8","v":0},{"$f":"CONCATENATE(応募者名簿!$B$11,応募者名簿!$D$11,応募者名簿!$E$11,応募者名簿!$I$11)","v":""},"交通安全ポスター",{"$f":"CONCATENATE(応募者名簿!K313)","v":""},{"$f":"CONCATENATE(応募者名簿!L313)","v":""},{"$f":"CONCATENATE(応募者名簿!M313)","v":""},{"$f":"CONCATENATE(応募者名簿!N313)","v":""}]
[{"$f":"応募者名簿!$B$8","v":0},{"$f":"CONCATENATE(応募者名簿!$B$11,応募者名簿!$D$11,応募者名簿!$E$11,応募者名簿!$I$11)","v":""},"交通安全ポスター",{"$f":"CONCATENATE(応募者名簿!K314)","v":""},{"$f":"CONCATENATE(応募者名簿!L314)","v":""},{"$f":"CONCATENATE(応募者名簿!M314)","v":""},{"$f":"CONCATENATE(応募者名簿!N314)","v":""}]
[{"$f":"応募者名簿!$B$8","v":0},{"$f":"CONCATENATE(応募者名簿!$B$11,応募者名簿!$D$11,応募者名簿!$E$11,応募者名簿!$I$11)","v":""},"交通安全ポスター",{"$f":"CONCATENATE(応募者名簿!K315)","v":""},{"$f":"CONCATENATE(応募者名簿!L315)","v":""},{"$f":"CONCATENATE(応募者名簿!M315)","v":""},{"$f":"CONCATENATE(応募者名簿!N315)","v":""}]
[{"$f":"応募者名簿!$B$8","v":0},{"$f":"CONCATENATE(応募者名簿!$B$11,応募者名簿!$D$11,応募者名簿!$E$11,応募者名簿!$I$11)","v":""},"交通安全ポスター",{"$f":"CONCATENATE(応募者名簿!K316)","v":""},{"$f":"CONCATENATE(応募者名簿!L316)","v":""},{"$f":"CONCATENATE(応募者名簿!M316)","v":""},{"$f":"CONCATENATE(応募者名簿!N316)","v":""}]
[{"$f":"応募者名簿!$B$8","v":0},{"$f":"CONCATENATE(応募者名簿!$B$11,応募者名簿!$D$11,応募者名簿!$E$11,応募者名簿!$I$11)","v":""},"交通安全ポスター",{"$f":"CONCATENATE(応募者名簿!K317)","v":""},{"$f":"CONCATENATE(応募者名簿!L317)","v":""},{"$f":"CONCATENATE(応募者名簿!M317)","v":""},{"$f":"CONCATENATE(応募者名簿!N317)","v":""}]
[{"$f":"応募者名簿!$B$8","v":0},{"$f":"CONCATENATE(応募者名簿!$B$11,応募者名簿!$D$11,応募者名簿!$E$11,応募者名簿!$I$11)","v":""},"交通安全ポスター",{"$f":"CONCATENATE(応募者名簿!K318)","v":""},{"$f":"CONCATENATE(応募者名簿!L318)","v":""},{"$f":"CONCATENATE(応募者名簿!M318)","v":""},{"$f":"CONCATENATE(応募者名簿!N318)","v":""}]
[{"$f":"応募者名簿!$B$8","v":0},{"$f":"CONCATENATE(応募者名簿!$B$11,応募者名簿!$D$11,応募者名簿!$E$11,応募者名簿!$I$11)","v":""},"交通安全ポスター",{"$f":"CONCATENATE(応募者名簿!K319)","v":""},{"$f":"CONCATENATE(応募者名簿!L319)","v":""},{"$f":"CONCATENATE(応募者名簿!M319)","v":""},{"$f":"CONCATENATE(応募者名簿!N319)","v":""}]
[{"$f":"応募者名簿!$B$8","v":0},{"$f":"CONCATENATE(応募者名簿!$B$11,応募者名簿!$D$11,応募者名簿!$E$11,応募者名簿!$I$11)","v":""},"交通安全ポスター",{"$f":"CONCATENATE(応募者名簿!K320)","v":""},{"$f":"CONCATENATE(応募者名簿!L320)","v":""},{"$f":"CONCATENATE(応募者名簿!M320)","v":""},{"$f":"CONCATENATE(応募者名簿!N320)","v":""}]
[{"$f":"応募者名簿!$B$8","v":0},{"$f":"CONCATENATE(応募者名簿!$B$11,応募者名簿!$D$11,応募者名簿!$E$11,応募者名簿!$I$11)","v":""},"交通安全ポスター",{"$f":"CONCATENATE(応募者名簿!K321)","v":""},{"$f":"CONCATENATE(応募者名簿!L321)","v":""},{"$f":"CONCATENATE(応募者名簿!M321)","v":""},{"$f":"CONCATENATE(応募者名簿!N321)","v":""}]
[{"$f":"応募者名簿!$B$8","v":0},{"$f":"CONCATENATE(応募者名簿!$B$11,応募者名簿!$D$11,応募者名簿!$E$11,応募者名簿!$I$11)","v":""},"交通安全ポスター",{"$f":"CONCATENATE(応募者名簿!K322)","v":""},{"$f":"CONCATENATE(応募者名簿!L322)","v":""},{"$f":"CONCATENATE(応募者名簿!M322)","v":""},{"$f":"CONCATENATE(応募者名簿!N322)","v":""}]
[{"$f":"応募者名簿!$B$8","v":0},{"$f":"CONCATENATE(応募者名簿!$B$11,応募者名簿!$D$11,応募者名簿!$E$11,応募者名簿!$I$11)","v":""},"交通安全ポスター",{"$f":"CONCATENATE(応募者名簿!K323)","v":""},{"$f":"CONCATENATE(応募者名簿!L323)","v":""},{"$f":"CONCATENATE(応募者名簿!M323)","v":""},{"$f":"CONCATENATE(応募者名簿!N323)","v":""}]
[{"$f":"応募者名簿!$B$8","v":0},{"$f":"CONCATENATE(応募者名簿!$B$11,応募者名簿!$D$11,応募者名簿!$E$11,応募者名簿!$I$11)","v":""},"交通安全ポスター",{"$f":"CONCATENATE(応募者名簿!K324)","v":""},{"$f":"CONCATENATE(応募者名簿!L324)","v":""},{"$f":"CONCATENATE(応募者名簿!M324)","v":""},{"$f":"CONCATENATE(応募者名簿!N324)","v":""}]
[{"$f":"応募者名簿!$B$8","v":0},{"$f":"CONCATENATE(応募者名簿!$B$11,応募者名簿!$D$11,応募者名簿!$E$11,応募者名簿!$I$11)","v":""},"交通安全ポスター",{"$f":"CONCATENATE(応募者名簿!K325)","v":""},{"$f":"CONCATENATE(応募者名簿!L325)","v":""},{"$f":"CONCATENATE(応募者名簿!M325)","v":""},{"$f":"CONCATENATE(応募者名簿!N325)","v":""}]
[{"$f":"応募者名簿!$B$8","v":0},{"$f":"CONCATENATE(応募者名簿!$B$11,応募者名簿!$D$11,応募者名簿!$E$11,応募者名簿!$I$11)","v":""},"交通安全ポスター",{"$f":"CONCATENATE(応募者名簿!K326)","v":""},{"$f":"CONCATENATE(応募者名簿!L326)","v":""},{"$f":"CONCATENATE(応募者名簿!M326)","v":""},{"$f":"CONCATENATE(応募者名簿!N326)","v":""}]
[{"$f":"応募者名簿!$B$8","v":0},{"$f":"CONCATENATE(応募者名簿!$B$11,応募者名簿!$D$11,応募者名簿!$E$11,応募者名簿!$I$11)","v":""},"交通安全ポスター",{"$f":"CONCATENATE(応募者名簿!K327)","v":""},{"$f":"CONCATENATE(応募者名簿!L327)","v":""},{"$f":"CONCATENATE(応募者名簿!M327)","v":""},{"$f":"CONCATENATE(応募者名簿!N327)","v":""}]
[{"$f":"応募者名簿!$B$8","v":0},{"$f":"CONCATENATE(応募者名簿!$B$11,応募者名簿!$D$11,応募者名簿!$E$11,応募者名簿!$I$11)","v":""},"交通安全ポスター",{"$f":"CONCATENATE(応募者名簿!K328)","v":""},{"$f":"CONCATENATE(応募者名簿!L328)","v":""},{"$f":"CONCATENATE(応募者名簿!M328)","v":""},{"$f":"CONCATENATE(応募者名簿!N328)","v":""}]
[{"$f":"応募者名簿!$B$8","v":0},{"$f":"CONCATENATE(応募者名簿!$B$11,応募者名簿!$D$11,応募者名簿!$E$11,応募者名簿!$I$11)","v":""},"交通安全ポスター",{"$f":"CONCATENATE(応募者名簿!K329)","v":""},{"$f":"CONCATENATE(応募者名簿!L329)","v":""},{"$f":"CONCATENATE(応募者名簿!M329)","v":""},{"$f":"CONCATENATE(応募者名簿!N329)","v":""}]
[{"$f":"応募者名簿!$B$8","v":0},{"$f":"CONCATENATE(応募者名簿!$B$11,応募者名簿!$D$11,応募者名簿!$E$11,応募者名簿!$I$11)","v":""},"交通安全ポスター",{"$f":"CONCATENATE(応募者名簿!K330)","v":""},{"$f":"CONCATENATE(応募者名簿!L330)","v":""},{"$f":"CONCATENATE(応募者名簿!M330)","v":""},{"$f":"CONCATENATE(応募者名簿!N330)","v":""}]
[{"$f":"応募者名簿!$B$8","v":0},{"$f":"CONCATENATE(応募者名簿!$B$11,応募者名簿!$D$11,応募者名簿!$E$11,応募者名簿!$I$11)","v":""},"交通安全ポスター",{"$f":"CONCATENATE(応募者名簿!K331)","v":""},{"$f":"CONCATENATE(応募者名簿!L331)","v":""},{"$f":"CONCATENATE(応募者名簿!M331)","v":""},{"$f":"CONCATENATE(応募者名簿!N331)","v":""}]
[{"$f":"応募者名簿!$B$8","v":0},{"$f":"CONCATENATE(応募者名簿!$B$11,応募者名簿!$D$11,応募者名簿!$E$11,応募者名簿!$I$11)","v":""},"交通安全ポスター",{"$f":"CONCATENATE(応募者名簿!K332)","v":""},{"$f":"CONCATENATE(応募者名簿!L332)","v":""},{"$f":"CONCATENATE(応募者名簿!M332)","v":""},{"$f":"CONCATENATE(応募者名簿!N332)","v":""}]
[{"$f":"応募者名簿!$B$8","v":0},{"$f":"CONCATENATE(応募者名簿!$B$11,応募者名簿!$D$11,応募者名簿!$E$11,応募者名簿!$I$11)","v":""},"交通安全ポスター",{"$f":"CONCATENATE(応募者名簿!K333)","v":""},{"$f":"CONCATENATE(応募者名簿!L333)","v":""},{"$f":"CONCATENATE(応募者名簿!M333)","v":""},{"$f":"CONCATENATE(応募者名簿!N333)","v":""}]
[{"$f":"応募者名簿!$B$8","v":0},{"$f":"CONCATENATE(応募者名簿!$B$11,応募者名簿!$D$11,応募者名簿!$E$11,応募者名簿!$I$11)","v":""},"交通安全ポスター",{"$f":"CONCATENATE(応募者名簿!K334)","v":""},{"$f":"CONCATENATE(応募者名簿!L334)","v":""},{"$f":"CONCATENATE(応募者名簿!M334)","v":""},{"$f":"CONCATENATE(応募者名簿!N334)","v":""}]
[{"$f":"応募者名簿!$B$8","v":0},{"$f":"CONCATENATE(応募者名簿!$B$11,応募者名簿!$D$11,応募者名簿!$E$11,応募者名簿!$I$11)","v":""},"交通安全ポスター",{"$f":"CONCATENATE(応募者名簿!K335)","v":""},{"$f":"CONCATENATE(応募者名簿!L335)","v":""},{"$f":"CONCATENATE(応募者名簿!M335)","v":""},{"$f":"CONCATENATE(応募者名簿!N335)","v":""}]
[{"$f":"応募者名簿!$B$8","v":0},{"$f":"CONCATENATE(応募者名簿!$B$11,応募者名簿!$D$11,応募者名簿!$E$11,応募者名簿!$I$11)","v":""},"交通安全ポスター",{"$f":"CONCATENATE(応募者名簿!K336)","v":""},{"$f":"CONCATENATE(応募者名簿!L336)","v":""},{"$f":"CONCATENATE(応募者名簿!M336)","v":""},{"$f":"CONCATENATE(応募者名簿!N336)","v":""}]
[{"$f":"応募者名簿!$B$8","v":0},{"$f":"CONCATENATE(応募者名簿!$B$11,応募者名簿!$D$11,応募者名簿!$E$11,応募者名簿!$I$11)","v":""},"交通安全ポスター",{"$f":"CONCATENATE(応募者名簿!K337)","v":""},{"$f":"CONCATENATE(応募者名簿!L337)","v":""},{"$f":"CONCATENATE(応募者名簿!M337)","v":""},{"$f":"CONCATENATE(応募者名簿!N337)","v":""}]
[{"$f":"応募者名簿!$B$8","v":0},{"$f":"CONCATENATE(応募者名簿!$B$11,応募者名簿!$D$11,応募者名簿!$E$11,応募者名簿!$I$11)","v":""},"交通安全ポスター",{"$f":"CONCATENATE(応募者名簿!K338)","v":""},{"$f":"CONCATENATE(応募者名簿!L338)","v":""},{"$f":"CONCATENATE(応募者名簿!M338)","v":""},{"$f":"CONCATENATE(応募者名簿!N338)","v":""}]
[{"$f":"応募者名簿!$B$8","v":0},{"$f":"CONCATENATE(応募者名簿!$B$11,応募者名簿!$D$11,応募者名簿!$E$11,応募者名簿!$I$11)","v":""},"交通安全ポスター",{"$f":"CONCATENATE(応募者名簿!K339)","v":""},{"$f":"CONCATENATE(応募者名簿!L339)","v":""},{"$f":"CONCATENATE(応募者名簿!M339)","v":""},{"$f":"CONCATENATE(応募者名簿!N339)","v":""}]
[{"$f":"応募者名簿!$B$8","v":0},{"$f":"CONCATENATE(応募者名簿!$B$11,応募者名簿!$D$11,応募者名簿!$E$11,応募者名簿!$I$11)","v":""},"交通安全ポスター",{"$f":"CONCATENATE(応募者名簿!K340)","v":""},{"$f":"CONCATENATE(応募者名簿!L340)","v":""},{"$f":"CONCATENATE(応募者名簿!M340)","v":""},{"$f":"CONCATENATE(応募者名簿!N340)","v":""}]
[{"$f":"応募者名簿!$B$8","v":0},{"$f":"CONCATENATE(応募者名簿!$B$11,応募者名簿!$D$11,応募者名簿!$E$11,応募者名簿!$I$11)","v":""},"交通安全ポスター",{"$f":"CONCATENATE(応募者名簿!K341)","v":""},{"$f":"CONCATENATE(応募者名簿!L341)","v":""},{"$f":"CONCATENATE(応募者名簿!M341)","v":""},{"$f":"CONCATENATE(応募者名簿!N341)","v":""}]
[{"$f":"応募者名簿!$B$8","v":0},{"$f":"CONCATENATE(応募者名簿!$B$11,応募者名簿!$D$11,応募者名簿!$E$11,応募者名簿!$I$11)","v":""},"交通安全ポスター",{"$f":"CONCATENATE(応募者名簿!K342)","v":""},{"$f":"CONCATENATE(応募者名簿!L342)","v":""},{"$f":"CONCATENATE(応募者名簿!M342)","v":""},{"$f":"CONCATENATE(応募者名簿!N342)","v":""}]
[{"$f":"応募者名簿!$B$8","v":0},{"$f":"CONCATENATE(応募者名簿!$B$11,応募者名簿!$D$11,応募者名簿!$E$11,応募者名簿!$I$11)","v":""},"交通安全ポスター",{"$f":"CONCATENATE(応募者名簿!K343)","v":""},{"$f":"CONCATENATE(応募者名簿!L343)","v":""},{"$f":"CONCATENATE(応募者名簿!M343)","v":""},{"$f":"CONCATENATE(応募者名簿!N343)","v":""}]
[{"$f":"応募者名簿!$B$8","v":0},{"$f":"CONCATENATE(応募者名簿!$B$11,応募者名簿!$D$11,応募者名簿!$E$11,応募者名簿!$I$11)","v":""},"交通安全ポスター",{"$f":"CONCATENATE(応募者名簿!K344)","v":""},{"$f":"CONCATENATE(応募者名簿!L344)","v":""},{"$f":"CONCATENATE(応募者名簿!M344)","v":""},{"$f":"CONCATENATE(応募者名簿!N344)","v":""}]
[{"$f":"応募者名簿!$B$8","v":0},{"$f":"CONCATENATE(応募者名簿!$B$11,応募者名簿!$D$11,応募者名簿!$E$11,応募者名簿!$I$11)","v":""},"交通安全ポスター",{"$f":"CONCATENATE(応募者名簿!K345)","v":""},{"$f":"CONCATENATE(応募者名簿!L345)","v":""},{"$f":"CONCATENATE(応募者名簿!M345)","v":""},{"$f":"CONCATENATE(応募者名簿!N345)","v":""}]
[{"$f":"応募者名簿!$B$8","v":0},{"$f":"CONCATENATE(応募者名簿!$B$11,応募者名簿!$D$11,応募者名簿!$E$11,応募者名簿!$I$11)","v":""},"交通安全ポスター",{"$f":"CONCATENATE(応募者名簿!K346)","v":""},{"$f":"CONCATENATE(応募者名簿!L346)","v":""},{"$f":"CONCATENATE(応募者名簿!M346)","v":""},{"$f":"CONCATENATE(応募者名簿!N346)","v":""}]
[{"$f":"応募者名簿!$B$8","v":0},{"$f":"CONCATENATE(応募者名簿!$B$11,応募者名簿!$D$11,応募者名簿!$E$11,応募者名簿!$I$11)","v":""},"交通安全ポスター",{"$f":"CONCATENATE(応募者名簿!K347)","v":""},{"$f":"CONCATENATE(応募者名簿!L347)","v":""},{"$f":"CONCATENATE(応募者名簿!M347)","v":""},{"$f":"CONCATENATE(応募者名簿!N347)","v":""}]
[{"$f":"応募者名簿!$B$8","v":0},{"$f":"CONCATENATE(応募者名簿!$B$11,応募者名簿!$D$11,応募者名簿!$E$11,応募者名簿!$I$11)","v":""},"交通安全ポスター",{"$f":"CONCATENATE(応募者名簿!K348)","v":""},{"$f":"CONCATENATE(応募者名簿!L348)","v":""},{"$f":"CONCATENATE(応募者名簿!M348)","v":""},{"$f":"CONCATENATE(応募者名簿!N348)","v":""}]
[{"$f":"応募者名簿!$B$8","v":0},{"$f":"CONCATENATE(応募者名簿!$B$11,応募者名簿!$D$11,応募者名簿!$E$11,応募者名簿!$I$11)","v":""},"交通安全ポスター",{"$f":"CONCATENATE(応募者名簿!K349)","v":""},{"$f":"CONCATENATE(応募者名簿!L349)","v":""},{"$f":"CONCATENATE(応募者名簿!M349)","v":""},{"$f":"CONCATENATE(応募者名簿!N349)","v":""}]
[{"$f":"応募者名簿!$B$8","v":0},{"$f":"CONCATENATE(応募者名簿!$B$11,応募者名簿!$D$11,応募者名簿!$E$11,応募者名簿!$I$11)","v":""},"交通安全ポスター",{"$f":"CONCATENATE(応募者名簿!K350)","v":""},{"$f":"CONCATENATE(応募者名簿!L350)","v":""},{"$f":"CONCATENATE(応募者名簿!M350)","v":""},{"$f":"CONCATENATE(応募者名簿!N350)","v":""}]
[{"$f":"応募者名簿!$B$8","v":0},{"$f":"CONCATENATE(応募者名簿!$B$11,応募者名簿!$D$11,応募者名簿!$E$11,応募者名簿!$I$11)","v":""},"交通安全ポスター",{"$f":"CONCATENATE(応募者名簿!K351)","v":""},{"$f":"CONCATENATE(応募者名簿!L351)","v":""},{"$f":"CONCATENATE(応募者名簿!M351)","v":""},{"$f":"CONCATENATE(応募者名簿!N351)","v":""}]
[{"$f":"応募者名簿!$B$8","v":0},{"$f":"CONCATENATE(応募者名簿!$B$11,応募者名簿!$D$11,応募者名簿!$E$11,応募者名簿!$I$11)","v":""},"交通安全ポスター",{"$f":"CONCATENATE(応募者名簿!K352)","v":""},{"$f":"CONCATENATE(応募者名簿!L352)","v":""},{"$f":"CONCATENATE(応募者名簿!M352)","v":""},{"$f":"CONCATENATE(応募者名簿!N352)","v":""}]
[{"$f":"応募者名簿!$B$8","v":0},{"$f":"CONCATENATE(応募者名簿!$B$11,応募者名簿!$D$11,応募者名簿!$E$11,応募者名簿!$I$11)","v":""},"交通安全ポスター",{"$f":"CONCATENATE(応募者名簿!K353)","v":""},{"$f":"CONCATENATE(応募者名簿!L353)","v":""},{"$f":"CONCATENATE(応募者名簿!M353)","v":""},{"$f":"CONCATENATE(応募者名簿!N353)","v":""}]
[{"$f":"応募者名簿!$B$8","v":0},{"$f":"CONCATENATE(応募者名簿!$B$11,応募者名簿!$D$11,応募者名簿!$E$11,応募者名簿!$I$11)","v":""},"交通安全ポスター",{"$f":"CONCATENATE(応募者名簿!K354)","v":""},{"$f":"CONCATENATE(応募者名簿!L354)","v":""},{"$f":"CONCATENATE(応募者名簿!M354)","v":""},{"$f":"CONCATENATE(応募者名簿!N354)","v":""}]
[{"$f":"応募者名簿!$B$8","v":0},{"$f":"CONCATENATE(応募者名簿!$B$11,応募者名簿!$D$11,応募者名簿!$E$11,応募者名簿!$I$11)","v":""},"交通安全ポスター",{"$f":"CONCATENATE(応募者名簿!K355)","v":""},{"$f":"CONCATENATE(応募者名簿!L355)","v":""},{"$f":"CONCATENATE(応募者名簿!M355)","v":""},{"$f":"CONCATENATE(応募者名簿!N355)","v":""}]
[{"$f":"応募者名簿!$B$8","v":0},{"$f":"CONCATENATE(応募者名簿!$B$11,応募者名簿!$D$11,応募者名簿!$E$11,応募者名簿!$I$11)","v":""},"交通安全ポスター",{"$f":"CONCATENATE(応募者名簿!K356)","v":""},{"$f":"CONCATENATE(応募者名簿!L356)","v":""},{"$f":"CONCATENATE(応募者名簿!M356)","v":""},{"$f":"CONCATENATE(応募者名簿!N356)","v":""}]
[{"$f":"応募者名簿!$B$8","v":0},{"$f":"CONCATENATE(応募者名簿!$B$11,応募者名簿!$D$11,応募者名簿!$E$11,応募者名簿!$I$11)","v":""},"交通安全ポスター",{"$f":"CONCATENATE(応募者名簿!K357)","v":""},{"$f":"CONCATENATE(応募者名簿!L357)","v":""},{"$f":"CONCATENATE(応募者名簿!M357)","v":""},{"$f":"CONCATENATE(応募者名簿!N357)","v":""}]
[{"$f":"応募者名簿!$B$8","v":0},{"$f":"CONCATENATE(応募者名簿!$B$11,応募者名簿!$D$11,応募者名簿!$E$11,応募者名簿!$I$11)","v":""},"交通安全ポスター",{"$f":"CONCATENATE(応募者名簿!K358)","v":""},{"$f":"CONCATENATE(応募者名簿!L358)","v":""},{"$f":"CONCATENATE(応募者名簿!M358)","v":""},{"$f":"CONCATENATE(応募者名簿!N358)","v":""}]
[{"$f":"応募者名簿!$B$8","v":0},{"$f":"CONCATENATE(応募者名簿!$B$11,応募者名簿!$D$11,応募者名簿!$E$11,応募者名簿!$I$11)","v":""},"交通安全ポスター",{"$f":"CONCATENATE(応募者名簿!K359)","v":""},{"$f":"CONCATENATE(応募者名簿!L359)","v":""},{"$f":"CONCATENATE(応募者名簿!M359)","v":""},{"$f":"CONCATENATE(応募者名簿!N359)","v":""}]
[{"$f":"応募者名簿!$B$8","v":0},{"$f":"CONCATENATE(応募者名簿!$B$11,応募者名簿!$D$11,応募者名簿!$E$11,応募者名簿!$I$11)","v":""},"交通安全ポスター",{"$f":"CONCATENATE(応募者名簿!K360)","v":""},{"$f":"CONCATENATE(応募者名簿!L360)","v":""},{"$f":"CONCATENATE(応募者名簿!M360)","v":""},{"$f":"CONCATENATE(応募者名簿!N360)","v":""}]
[{"$f":"応募者名簿!$B$8","v":0},{"$f":"CONCATENATE(応募者名簿!$B$11,応募者名簿!$D$11,応募者名簿!$E$11,応募者名簿!$I$11)","v":""},"交通安全ポスター",{"$f":"CONCATENATE(応募者名簿!K361)","v":""},{"$f":"CONCATENATE(応募者名簿!L361)","v":""},{"$f":"CONCATENATE(応募者名簿!M361)","v":""},{"$f":"CONCATENATE(応募者名簿!N361)","v":""}]
[{"$f":"応募者名簿!$B$8","v":0},{"$f":"CONCATENATE(応募者名簿!$B$11,応募者名簿!$D$11,応募者名簿!$E$11,応募者名簿!$I$11)","v":""},"交通安全ポスター",{"$f":"CONCATENATE(応募者名簿!K362)","v":""},{"$f":"CONCATENATE(応募者名簿!L362)","v":""},{"$f":"CONCATENATE(応募者名簿!M362)","v":""},{"$f":"CONCATENATE(応募者名簿!N362)","v":""}]
[{"$f":"応募者名簿!$B$8","v":0},{"$f":"CONCATENATE(応募者名簿!$B$11,応募者名簿!$D$11,応募者名簿!$E$11,応募者名簿!$I$11)","v":""},"交通安全ポスター",{"$f":"CONCATENATE(応募者名簿!K363)","v":""},{"$f":"CONCATENATE(応募者名簿!L363)","v":""},{"$f":"CONCATENATE(応募者名簿!M363)","v":""},{"$f":"CONCATENATE(応募者名簿!N363)","v":""}]
[{"$f":"応募者名簿!$B$8","v":0},{"$f":"CONCATENATE(応募者名簿!$B$11,応募者名簿!$D$11,応募者名簿!$E$11,応募者名簿!$I$11)","v":""},"交通安全ポスター",{"$f":"CONCATENATE(応募者名簿!K364)","v":""},{"$f":"CONCATENATE(応募者名簿!L364)","v":""},{"$f":"CONCATENATE(応募者名簿!M364)","v":""},{"$f":"CONCATENATE(応募者名簿!N364)","v":""}]
[{"$f":"応募者名簿!$B$8","v":0},{"$f":"CONCATENATE(応募者名簿!$B$11,応募者名簿!$D$11,応募者名簿!$E$11,応募者名簿!$I$11)","v":""},"交通安全ポスター",{"$f":"CONCATENATE(応募者名簿!K365)","v":""},{"$f":"CONCATENATE(応募者名簿!L365)","v":""},{"$f":"CONCATENATE(応募者名簿!M365)","v":""},{"$f":"CONCATENATE(応募者名簿!N365)","v":""}]
[{"$f":"応募者名簿!$B$8","v":0},{"$f":"CONCATENATE(応募者名簿!$B$11,応募者名簿!$D$11,応募者名簿!$E$11,応募者名簿!$I$11)","v":""},"交通安全ポスター",{"$f":"CONCATENATE(応募者名簿!K366)","v":""},{"$f":"CONCATENATE(応募者名簿!L366)","v":""},{"$f":"CONCATENATE(応募者名簿!M366)","v":""},{"$f":"CONCATENATE(応募者名簿!N366)","v":""}]
[{"$f":"応募者名簿!$B$8","v":0},{"$f":"CONCATENATE(応募者名簿!$B$11,応募者名簿!$D$11,応募者名簿!$E$11,応募者名簿!$I$11)","v":""},"交通安全ポスター",{"$f":"CONCATENATE(応募者名簿!K367)","v":""},{"$f":"CONCATENATE(応募者名簿!L367)","v":""},{"$f":"CONCATENATE(応募者名簿!M367)","v":""},{"$f":"CONCATENATE(応募者名簿!N367)","v":""}]
[{"$f":"応募者名簿!$B$8","v":0},{"$f":"CONCATENATE(応募者名簿!$B$11,応募者名簿!$D$11,応募者名簿!$E$11,応募者名簿!$I$11)","v":""},"交通安全ポスター",{"$f":"CONCATENATE(応募者名簿!K368)","v":""},{"$f":"CONCATENATE(応募者名簿!L368)","v":""},{"$f":"CONCATENATE(応募者名簿!M368)","v":""},{"$f":"CONCATENATE(応募者名簿!N368)","v":""}]
[{"$f":"応募者名簿!$B$8","v":0},{"$f":"CONCATENATE(応募者名簿!$B$11,応募者名簿!$D$11,応募者名簿!$E$11,応募者名簿!$I$11)","v":""},"交通安全ポスター",{"$f":"CONCATENATE(応募者名簿!K369)","v":""},{"$f":"CONCATENATE(応募者名簿!L369)","v":""},{"$f":"CONCATENATE(応募者名簿!M369)","v":""},{"$f":"CONCATENATE(応募者名簿!N369)","v":""}]
[{"$f":"応募者名簿!$B$8","v":0},{"$f":"CONCATENATE(応募者名簿!$B$11,応募者名簿!$D$11,応募者名簿!$E$11,応募者名簿!$I$11)","v":""},"交通安全ポスター",{"$f":"CONCATENATE(応募者名簿!K370)","v":""},{"$f":"CONCATENATE(応募者名簿!L370)","v":""},{"$f":"CONCATENATE(応募者名簿!M370)","v":""},{"$f":"CONCATENATE(応募者名簿!N370)","v":""}]
[{"$f":"応募者名簿!$B$8","v":0},{"$f":"CONCATENATE(応募者名簿!$B$11,応募者名簿!$D$11,応募者名簿!$E$11,応募者名簿!$I$11)","v":""},"交通安全ポスター",{"$f":"CONCATENATE(応募者名簿!K371)","v":""},{"$f":"CONCATENATE(応募者名簿!L371)","v":""},{"$f":"CONCATENATE(応募者名簿!M371)","v":""},{"$f":"CONCATENATE(応募者名簿!N371)","v":""}]
[{"$f":"応募者名簿!$B$8","v":0},{"$f":"CONCATENATE(応募者名簿!$B$11,応募者名簿!$D$11,応募者名簿!$E$11,応募者名簿!$I$11)","v":""},"交通安全ポスター",{"$f":"CONCATENATE(応募者名簿!K372)","v":""},{"$f":"CONCATENATE(応募者名簿!L372)","v":""},{"$f":"CONCATENATE(応募者名簿!M372)","v":""},{"$f":"CONCATENATE(応募者名簿!N372)","v":""}]
[{"$f":"応募者名簿!$B$8","v":0},{"$f":"CONCATENATE(応募者名簿!$B$11,応募者名簿!$D$11,応募者名簿!$E$11,応募者名簿!$I$11)","v":""},"交通安全ポスター",{"$f":"CONCATENATE(応募者名簿!K373)","v":""},{"$f":"CONCATENATE(応募者名簿!L373)","v":""},{"$f":"CONCATENATE(応募者名簿!M373)","v":""},{"$f":"CONCATENATE(応募者名簿!N373)","v":""}]
[{"$f":"応募者名簿!$B$8","v":0},{"$f":"CONCATENATE(応募者名簿!$B$11,応募者名簿!$D$11,応募者名簿!$E$11,応募者名簿!$I$11)","v":""},"交通安全ポスター",{"$f":"CONCATENATE(応募者名簿!K374)","v":""},{"$f":"CONCATENATE(応募者名簿!L374)","v":""},{"$f":"CONCATENATE(応募者名簿!M374)","v":""},{"$f":"CONCATENATE(応募者名簿!N374)","v":""}]
[{"$f":"応募者名簿!$B$8","v":0},{"$f":"CONCATENATE(応募者名簿!$B$11,応募者名簿!$D$11,応募者名簿!$E$11,応募者名簿!$I$11)","v":""},"交通安全ポスター",{"$f":"CONCATENATE(応募者名簿!K375)","v":""},{"$f":"CONCATENATE(応募者名簿!L375)","v":""},{"$f":"CONCATENATE(応募者名簿!M375)","v":""},{"$f":"CONCATENATE(応募者名簿!N375)","v":""}]
[{"$f":"応募者名簿!$B$8","v":0},{"$f":"CONCATENATE(応募者名簿!$B$11,応募者名簿!$D$11,応募者名簿!$E$11,応募者名簿!$I$11)","v":""},"交通安全ポスター",{"$f":"CONCATENATE(応募者名簿!K376)","v":""},{"$f":"CONCATENATE(応募者名簿!L376)","v":""},{"$f":"CONCATENATE(応募者名簿!M376)","v":""},{"$f":"CONCATENATE(応募者名簿!N376)","v":""}]
[{"$f":"応募者名簿!$B$8","v":0},{"$f":"CONCATENATE(応募者名簿!$B$11,応募者名簿!$D$11,応募者名簿!$E$11,応募者名簿!$I$11)","v":""},"交通安全ポスター",{"$f":"CONCATENATE(応募者名簿!K377)","v":""},{"$f":"CONCATENATE(応募者名簿!L377)","v":""},{"$f":"CONCATENATE(応募者名簿!M377)","v":""},{"$f":"CONCATENATE(応募者名簿!N377)","v":""}]
[{"$f":"応募者名簿!$B$8","v":0},{"$f":"CONCATENATE(応募者名簿!$B$11,応募者名簿!$D$11,応募者名簿!$E$11,応募者名簿!$I$11)","v":""},"交通安全ポスター",{"$f":"CONCATENATE(応募者名簿!K378)","v":""},{"$f":"CONCATENATE(応募者名簿!L378)","v":""},{"$f":"CONCATENATE(応募者名簿!M378)","v":""},{"$f":"CONCATENATE(応募者名簿!N378)","v":""}]
[{"$f":"応募者名簿!$B$8","v":0},{"$f":"CONCATENATE(応募者名簿!$B$11,応募者名簿!$D$11,応募者名簿!$E$11,応募者名簿!$I$11)","v":""},"交通安全ポスター",{"$f":"CONCATENATE(応募者名簿!K379)","v":""},{"$f":"CONCATENATE(応募者名簿!L379)","v":""},{"$f":"CONCATENATE(応募者名簿!M379)","v":""},{"$f":"CONCATENATE(応募者名簿!N379)","v":""}]
[{"$f":"応募者名簿!$B$8","v":0},{"$f":"CONCATENATE(応募者名簿!$B$11,応募者名簿!$D$11,応募者名簿!$E$11,応募者名簿!$I$11)","v":""},"交通安全ポスター",{"$f":"CONCATENATE(応募者名簿!K380)","v":""},{"$f":"CONCATENATE(応募者名簿!L380)","v":""},{"$f":"CONCATENATE(応募者名簿!M380)","v":""},{"$f":"CONCATENATE(応募者名簿!N380)","v":""}]
[{"$f":"応募者名簿!$B$8","v":0},{"$f":"CONCATENATE(応募者名簿!$B$11,応募者名簿!$D$11,応募者名簿!$E$11,応募者名簿!$I$11)","v":""},"交通安全ポスター",{"$f":"CONCATENATE(応募者名簿!K381)","v":""},{"$f":"CONCATENATE(応募者名簿!L381)","v":""},{"$f":"CONCATENATE(応募者名簿!M381)","v":""},{"$f":"CONCATENATE(応募者名簿!N381)","v":""}]
[{"$f":"応募者名簿!$B$8","v":0},{"$f":"CONCATENATE(応募者名簿!$B$11,応募者名簿!$D$11,応募者名簿!$E$11,応募者名簿!$I$11)","v":""},"交通安全ポスター",{"$f":"CONCATENATE(応募者名簿!K382)","v":""},{"$f":"CONCATENATE(応募者名簿!L382)","v":""},{"$f":"CONCATENATE(応募者名簿!M382)","v":""},{"$f":"CONCATENATE(応募者名簿!N382)","v":""}]
[{"$f":"応募者名簿!$B$8","v":0},{"$f":"CONCATENATE(応募者名簿!$B$11,応募者名簿!$D$11,応募者名簿!$E$11,応募者名簿!$I$11)","v":""},"交通安全ポスター",{"$f":"CONCATENATE(応募者名簿!K383)","v":""},{"$f":"CONCATENATE(応募者名簿!L383)","v":""},{"$f":"CONCATENATE(応募者名簿!M383)","v":""},{"$f":"CONCATENATE(応募者名簿!N383)","v":""}]
[{"$f":"応募者名簿!$B$8","v":0},{"$f":"CONCATENATE(応募者名簿!$B$11,応募者名簿!$D$11,応募者名簿!$E$11,応募者名簿!$I$11)","v":""},"交通安全ポスター",{"$f":"CONCATENATE(応募者名簿!K384)","v":""},{"$f":"CONCATENATE(応募者名簿!L384)","v":""},{"$f":"CONCATENATE(応募者名簿!M384)","v":""},{"$f":"CONCATENATE(応募者名簿!N384)","v":""}]
[{"$f":"応募者名簿!$B$8","v":0},{"$f":"CONCATENATE(応募者名簿!$B$11,応募者名簿!$D$11,応募者名簿!$E$11,応募者名簿!$I$11)","v":""},"交通安全ポスター",{"$f":"CONCATENATE(応募者名簿!K385)","v":""},{"$f":"CONCATENATE(応募者名簿!L385)","v":""},{"$f":"CONCATENATE(応募者名簿!M385)","v":""},{"$f":"CONCATENATE(応募者名簿!N385)","v":""}]
[{"$f":"応募者名簿!$B$8","v":0},{"$f":"CONCATENATE(応募者名簿!$B$11,応募者名簿!$D$11,応募者名簿!$E$11,応募者名簿!$I$11)","v":""},"交通安全ポスター",{"$f":"CONCATENATE(応募者名簿!K386)","v":""},{"$f":"CONCATENATE(応募者名簿!L386)","v":""},{"$f":"CONCATENATE(応募者名簿!M386)","v":""},{"$f":"CONCATENATE(応募者名簿!N386)","v":""}]
[{"$f":"応募者名簿!$B$8","v":0},{"$f":"CONCATENATE(応募者名簿!$B$11,応募者名簿!$D$11,応募者名簿!$E$11,応募者名簿!$I$11)","v":""},"交通安全ポスター",{"$f":"CONCATENATE(応募者名簿!K387)","v":""},{"$f":"CONCATENATE(応募者名簿!L387)","v":""},{"$f":"CONCATENATE(応募者名簿!M387)","v":""},{"$f":"CONCATENATE(応募者名簿!N387)","v":""}]
[{"$f":"応募者名簿!$B$8","v":0},{"$f":"CONCATENATE(応募者名簿!$B$11,応募者名簿!$D$11,応募者名簿!$E$11,応募者名簿!$I$11)","v":""},"交通安全ポスター",{"$f":"CONCATENATE(応募者名簿!K388)","v":""},{"$f":"CONCATENATE(応募者名簿!L388)","v":""},{"$f":"CONCATENATE(応募者名簿!M388)","v":""},{"$f":"CONCATENATE(応募者名簿!N388)","v":""}]
[{"$f":"応募者名簿!$B$8","v":0},{"$f":"CONCATENATE(応募者名簿!$B$11,応募者名簿!$D$11,応募者名簿!$E$11,応募者名簿!$I$11)","v":""},"交通安全ポスター",{"$f":"CONCATENATE(応募者名簿!K389)","v":""},{"$f":"CONCATENATE(応募者名簿!L389)","v":""},{"$f":"CONCATENATE(応募者名簿!M389)","v":""},{"$f":"CONCATENATE(応募者名簿!N389)","v":""}]
[{"$f":"応募者名簿!$B$8","v":0},{"$f":"CONCATENATE(応募者名簿!$B$11,応募者名簿!$D$11,応募者名簿!$E$11,応募者名簿!$I$11)","v":""},"交通安全ポスター",{"$f":"CONCATENATE(応募者名簿!K390)","v":""},{"$f":"CONCATENATE(応募者名簿!L390)","v":""},{"$f":"CONCATENATE(応募者名簿!M390)","v":""},{"$f":"CONCATENATE(応募者名簿!N390)","v":""}]
[{"$f":"応募者名簿!$B$8","v":0},{"$f":"CONCATENATE(応募者名簿!$B$11,応募者名簿!$D$11,応募者名簿!$E$11,応募者名簿!$I$11)","v":""},"交通安全ポスター",{"$f":"CONCATENATE(応募者名簿!K391)","v":""},{"$f":"CONCATENATE(応募者名簿!L391)","v":""},{"$f":"CONCATENATE(応募者名簿!M391)","v":""},{"$f":"CONCATENATE(応募者名簿!N391)","v":""}]
[{"$f":"応募者名簿!$B$8","v":0},{"$f":"CONCATENATE(応募者名簿!$B$11,応募者名簿!$D$11,応募者名簿!$E$11,応募者名簿!$I$11)","v":""},"交通安全ポスター",{"$f":"CONCATENATE(応募者名簿!K392)","v":""},{"$f":"CONCATENATE(応募者名簿!L392)","v":""},{"$f":"CONCATENATE(応募者名簿!M392)","v":""},{"$f":"CONCATENATE(応募者名簿!N392)","v":""}]
[{"$f":"応募者名簿!$B$8","v":0},{"$f":"CONCATENATE(応募者名簿!$B$11,応募者名簿!$D$11,応募者名簿!$E$11,応募者名簿!$I$11)","v":""},"交通安全ポスター",{"$f":"CONCATENATE(応募者名簿!K393)","v":""},{"$f":"CONCATENATE(応募者名簿!L393)","v":""},{"$f":"CONCATENATE(応募者名簿!M393)","v":""},{"$f":"CONCATENATE(応募者名簿!N393)","v":""}]
[{"$f":"応募者名簿!$B$8","v":0},{"$f":"CONCATENATE(応募者名簿!$B$11,応募者名簿!$D$11,応募者名簿!$E$11,応募者名簿!$I$11)","v":""},"交通安全ポスター",{"$f":"CONCATENATE(応募者名簿!K394)","v":""},{"$f":"CONCATENATE(応募者名簿!L394)","v":""},{"$f":"CONCATENATE(応募者名簿!M394)","v":""},{"$f":"CONCATENATE(応募者名簿!N394)","v":""}]
[{"$f":"応募者名簿!$B$8","v":0},{"$f":"CONCATENATE(応募者名簿!$B$11,応募者名簿!$D$11,応募者名簿!$E$11,応募者名簿!$I$11)","v":""},"交通安全ポスター",{"$f":"CONCATENATE(応募者名簿!K395)","v":""},{"$f":"CONCATENATE(応募者名簿!L395)","v":""},{"$f":"CONCATENATE(応募者名簿!M395)","v":""},{"$f":"CONCATENATE(応募者名簿!N395)","v":""}]
[{"$f":"応募者名簿!$B$8","v":0},{"$f":"CONCATENATE(応募者名簿!$B$11,応募者名簿!$D$11,応募者名簿!$E$11,応募者名簿!$I$11)","v":""},"交通安全ポスター",{"$f":"CONCATENATE(応募者名簿!K396)","v":""},{"$f":"CONCATENATE(応募者名簿!L396)","v":""},{"$f":"CONCATENATE(応募者名簿!M396)","v":""},{"$f":"CONCATENATE(応募者名簿!N396)","v":""}]
[{"$f":"応募者名簿!$B$8","v":0},{"$f":"CONCATENATE(応募者名簿!$B$11,応募者名簿!$D$11,応募者名簿!$E$11,応募者名簿!$I$11)","v":""},"交通安全ポスター",{"$f":"CONCATENATE(応募者名簿!K397)","v":""},{"$f":"CONCATENATE(応募者名簿!L397)","v":""},{"$f":"CONCATENATE(応募者名簿!M397)","v":""},{"$f":"CONCATENATE(応募者名簿!N397)","v":""}]
[{"$f":"応募者名簿!$B$8","v":0},{"$f":"CONCATENATE(応募者名簿!$B$11,応募者名簿!$D$11,応募者名簿!$E$11,応募者名簿!$I$11)","v":""},"交通安全ポスター",{"$f":"CONCATENATE(応募者名簿!K398)","v":""},{"$f":"CONCATENATE(応募者名簿!L398)","v":""},{"$f":"CONCATENATE(応募者名簿!M398)","v":""},{"$f":"CONCATENATE(応募者名簿!N398)","v":""}]
[{"$f":"応募者名簿!$B$8","v":0},{"$f":"CONCATENATE(応募者名簿!$B$11,応募者名簿!$D$11,応募者名簿!$E$11,応募者名簿!$I$11)","v":""},"交通安全ポスター",{"$f":"CONCATENATE(応募者名簿!K399)","v":""},{"$f":"CONCATENATE(応募者名簿!L399)","v":""},{"$f":"CONCATENATE(応募者名簿!M399)","v":""},{"$f":"CONCATENATE(応募者名簿!N399)","v":""}]
[{"$f":"応募者名簿!$B$8","v":0},{"$f":"CONCATENATE(応募者名簿!$B$11,応募者名簿!$D$11,応募者名簿!$E$11,応募者名簿!$I$11)","v":""},"交通安全ポスター",{"$f":"CONCATENATE(応募者名簿!K400)","v":""},{"$f":"CONCATENATE(応募者名簿!L400)","v":""},{"$f":"CONCATENATE(応募者名簿!M400)","v":""},{"$f":"CONCATENATE(応募者名簿!N400)","v":""}]
[{"$f":"応募者名簿!$B$8","v":0},{"$f":"CONCATENATE(応募者名簿!$B$11,応募者名簿!$D$11,応募者名簿!$E$11,応募者名簿!$I$11)","v":""},"交通安全ポスター",{"$f":"CONCATENATE(応募者名簿!K401)","v":""},{"$f":"CONCATENATE(応募者名簿!L401)","v":""},{"$f":"CONCATENATE(応募者名簿!M401)","v":""},{"$f":"CONCATENATE(応募者名簿!N401)","v":""}]
[{"$f":"応募者名簿!$B$8","v":0},{"$f":"CONCATENATE(応募者名簿!$B$11,応募者名簿!$D$11,応募者名簿!$E$11,応募者名簿!$I$11)","v":""},"交通安全ポスター",{"$f":"CONCATENATE(応募者名簿!K402)","v":""},{"$f":"CONCATENATE(応募者名簿!L402)","v":""},{"$f":"CONCATENATE(応募者名簿!M402)","v":""},{"$f":"CONCATENATE(応募者名簿!N402)","v":""}]
[{"$f":"応募者名簿!$B$8","v":0},{"$f":"CONCATENATE(応募者名簿!$B$11,応募者名簿!$D$11,応募者名簿!$E$11,応募者名簿!$I$11)","v":""},"交通安全ポスター",{"$f":"CONCATENATE(応募者名簿!K403)","v":""},{"$f":"CONCATENATE(応募者名簿!L403)","v":""},{"$f":"CONCATENATE(応募者名簿!M403)","v":""},{"$f":"CONCATENATE(応募者名簿!N403)","v":""}]
[{"$f":"応募者名簿!$B$8","v":0},{"$f":"CONCATENATE(応募者名簿!$B$11,応募者名簿!$D$11,応募者名簿!$E$11,応募者名簿!$I$11)","v":""},"交通安全ポスター",{"$f":"CONCATENATE(応募者名簿!K404)","v":""},{"$f":"CONCATENATE(応募者名簿!L404)","v":""},{"$f":"CONCATENATE(応募者名簿!M404)","v":""},{"$f":"CONCATENATE(応募者名簿!N404)","v":""}]
[{"$f":"応募者名簿!$B$8","v":0},{"$f":"CONCATENATE(応募者名簿!$B$11,応募者名簿!$D$11,応募者名簿!$E$11,応募者名簿!$I$11)","v":""},"交通安全ポスター",{"$f":"CONCATENATE(応募者名簿!K405)","v":""},{"$f":"CONCATENATE(応募者名簿!L405)","v":""},{"$f":"CONCATENATE(応募者名簿!M405)","v":""},{"$f":"CONCATENATE(応募者名簿!N405)","v":""}]
[{"$f":"応募者名簿!$B$8","v":0},{"$f":"CONCATENATE(応募者名簿!$B$11,応募者名簿!$D$11,応募者名簿!$E$11,応募者名簿!$I$11)","v":""},"交通安全ポスター",{"$f":"CONCATENATE(応募者名簿!K406)","v":""},{"$f":"CONCATENATE(応募者名簿!L406)","v":""},{"$f":"CONCATENATE(応募者名簿!M406)","v":""},{"$f":"CONCATENATE(応募者名簿!N406)","v":""}]
[{"$f":"応募者名簿!$B$8","v":0},{"$f":"CONCATENATE(応募者名簿!$B$11,応募者名簿!$D$11,応募者名簿!$E$11,応募者名簿!$I$11)","v":""},"交通安全ポスター",{"$f":"CONCATENATE(応募者名簿!K407)","v":""},{"$f":"CONCATENATE(応募者名簿!L407)","v":""},{"$f":"CONCATENATE(応募者名簿!M407)","v":""},{"$f":"CONCATENATE(応募者名簿!N407)","v":""}]
[{"$f":"応募者名簿!$B$8","v":0},{"$f":"CONCATENATE(応募者名簿!$B$11,応募者名簿!$D$11,応募者名簿!$E$11,応募者名簿!$I$11)","v":""},"交通安全ポスター",{"$f":"CONCATENATE(応募者名簿!K408)","v":""},{"$f":"CONCATENATE(応募者名簿!L408)","v":""},{"$f":"CONCATENATE(応募者名簿!M408)","v":""},{"$f":"CONCATENATE(応募者名簿!N408)","v":""}]
[{"$f":"応募者名簿!$B$8","v":0},{"$f":"CONCATENATE(応募者名簿!$B$11,応募者名簿!$D$11,応募者名簿!$E$11,応募者名簿!$I$11)","v":""},"交通安全ポスター",{"$f":"CONCATENATE(応募者名簿!K409)","v":""},{"$f":"CONCATENATE(応募者名簿!L409)","v":""},{"$f":"CONCATENATE(応募者名簿!M409)","v":""},{"$f":"CONCATENATE(応募者名簿!N409)","v":""}]
[{"$f":"応募者名簿!$B$8","v":0},{"$f":"CONCATENATE(応募者名簿!$B$11,応募者名簿!$D$11,応募者名簿!$E$11,応募者名簿!$I$11)","v":""},"交通安全ポスター",{"$f":"CONCATENATE(応募者名簿!K410)","v":""},{"$f":"CONCATENATE(応募者名簿!L410)","v":""},{"$f":"CONCATENATE(応募者名簿!M410)","v":""},{"$f":"CONCATENATE(応募者名簿!N410)","v":""}]
[{"$f":"応募者名簿!$B$8","v":0},{"$f":"CONCATENATE(応募者名簿!$B$11,応募者名簿!$D$11,応募者名簿!$E$11,応募者名簿!$I$11)","v":""},"交通安全ポスター",{"$f":"CONCATENATE(応募者名簿!K411)","v":""},{"$f":"CONCATENATE(応募者名簿!L411)","v":""},{"$f":"CONCATENATE(応募者名簿!M411)","v":""},{"$f":"CONCATENATE(応募者名簿!N411)","v":""}]
[{"$f":"応募者名簿!$B$8","v":0},{"$f":"CONCATENATE(応募者名簿!$B$11,応募者名簿!$D$11,応募者名簿!$E$11,応募者名簿!$I$11)","v":""},"交通安全ポスター",{"$f":"CONCATENATE(応募者名簿!K412)","v":""},{"$f":"CONCATENATE(応募者名簿!L412)","v":""},{"$f":"CONCATENATE(応募者名簿!M412)","v":""},{"$f":"CONCATENATE(応募者名簿!N412)","v":""}]
[{"$f":"応募者名簿!$B$8","v":0},{"$f":"CONCATENATE(応募者名簿!$B$11,応募者名簿!$D$11,応募者名簿!$E$11,応募者名簿!$I$11)","v":""},"交通安全ポスター",{"$f":"CONCATENATE(応募者名簿!K413)","v":""},{"$f":"CONCATENATE(応募者名簿!L413)","v":""},{"$f":"CONCATENATE(応募者名簿!M413)","v":""},{"$f":"CONCATENATE(応募者名簿!N413)","v":""}]
[{"$f":"応募者名簿!$B$8","v":0},{"$f":"CONCATENATE(応募者名簿!$B$11,応募者名簿!$D$11,応募者名簿!$E$11,応募者名簿!$I$11)","v":""},"交通安全ポスター",{"$f":"CONCATENATE(応募者名簿!K414)","v":""},{"$f":"CONCATENATE(応募者名簿!L414)","v":""},{"$f":"CONCATENATE(応募者名簿!M414)","v":""},{"$f":"CONCATENATE(応募者名簿!N414)","v":""}]
[{"$f":"応募者名簿!$B$8","v":0},{"$f":"CONCATENATE(応募者名簿!$B$11,応募者名簿!$D$11,応募者名簿!$E$11,応募者名簿!$I$11)","v":""},"交通安全ポスター",{"$f":"CONCATENATE(応募者名簿!K415)","v":""},{"$f":"CONCATENATE(応募者名簿!L415)","v":""},{"$f":"CONCATENATE(応募者名簿!M415)","v":""},{"$f":"CONCATENATE(応募者名簿!N415)","v":""}]
[{"$f":"応募者名簿!$B$8","v":0},{"$f":"CONCATENATE(応募者名簿!$B$11,応募者名簿!$D$11,応募者名簿!$E$11,応募者名簿!$I$11)","v":""},"交通安全ポスター",{"$f":"CONCATENATE(応募者名簿!K416)","v":""},{"$f":"CONCATENATE(応募者名簿!L416)","v":""},{"$f":"CONCATENATE(応募者名簿!M416)","v":""},{"$f":"CONCATENATE(応募者名簿!N416)","v":""}]
[{"$f":"応募者名簿!$B$8","v":0},{"$f":"CONCATENATE(応募者名簿!$B$11,応募者名簿!$D$11,応募者名簿!$E$11,応募者名簿!$I$11)","v":""},"交通安全ポスター",{"$f":"CONCATENATE(応募者名簿!K417)","v":""},{"$f":"CONCATENATE(応募者名簿!L417)","v":""},{"$f":"CONCATENATE(応募者名簿!M417)","v":""},{"$f":"CONCATENATE(応募者名簿!N417)","v":""}]
[{"$f":"応募者名簿!$B$8","v":0},{"$f":"CONCATENATE(応募者名簿!$B$11,応募者名簿!$D$11,応募者名簿!$E$11,応募者名簿!$I$11)","v":""},"交通安全ポスター",{"$f":"CONCATENATE(応募者名簿!K418)","v":""},{"$f":"CONCATENATE(応募者名簿!L418)","v":""},{"$f":"CONCATENATE(応募者名簿!M418)","v":""},{"$f":"CONCATENATE(応募者名簿!N418)","v":""}]
[{"$f":"応募者名簿!$B$8","v":0},{"$f":"CONCATENATE(応募者名簿!$B$11,応募者名簿!$D$11,応募者名簿!$E$11,応募者名簿!$I$11)","v":""},"交通安全ポスター",{"$f":"CONCATENATE(応募者名簿!K419)","v":""},{"$f":"CONCATENATE(応募者名簿!L419)","v":""},{"$f":"CONCATENATE(応募者名簿!M419)","v":""},{"$f":"CONCATENATE(応募者名簿!N419)","v":""}]
[{"$f":"応募者名簿!$B$8","v":0},{"$f":"CONCATENATE(応募者名簿!$B$11,応募者名簿!$D$11,応募者名簿!$E$11,応募者名簿!$I$11)","v":""},"交通安全ポスター",{"$f":"CONCATENATE(応募者名簿!K420)","v":""},{"$f":"CONCATENATE(応募者名簿!L420)","v":""},{"$f":"CONCATENATE(応募者名簿!M420)","v":""},{"$f":"CONCATENATE(応募者名簿!N420)","v":""}]
[{"$f":"応募者名簿!$B$8","v":0},{"$f":"CONCATENATE(応募者名簿!$B$11,応募者名簿!$D$11,応募者名簿!$E$11,応募者名簿!$I$11)","v":""},"交通安全ポスター",{"$f":"CONCATENATE(応募者名簿!K421)","v":""},{"$f":"CONCATENATE(応募者名簿!L421)","v":""},{"$f":"CONCATENATE(応募者名簿!M421)","v":""},{"$f":"CONCATENATE(応募者名簿!N421)","v":""}]
[{"$f":"応募者名簿!$B$8","v":0},{"$f":"CONCATENATE(応募者名簿!$B$11,応募者名簿!$D$11,応募者名簿!$E$11,応募者名簿!$I$11)","v":""},"交通安全ポスター",{"$f":"CONCATENATE(応募者名簿!K422)","v":""},{"$f":"CONCATENATE(応募者名簿!L422)","v":""},{"$f":"CONCATENATE(応募者名簿!M422)","v":""},{"$f":"CONCATENATE(応募者名簿!N422)","v":""}]
[{"$f":"応募者名簿!$B$8","v":0},{"$f":"CONCATENATE(応募者名簿!$B$11,応募者名簿!$D$11,応募者名簿!$E$11,応募者名簿!$I$11)","v":""},"交通安全ポスター",{"$f":"CONCATENATE(応募者名簿!K423)","v":""},{"$f":"CONCATENATE(応募者名簿!L423)","v":""},{"$f":"CONCATENATE(応募者名簿!M423)","v":""},{"$f":"CONCATENATE(応募者名簿!N423)","v":""}]
[{"$f":"応募者名簿!$B$8","v":0},{"$f":"CONCATENATE(応募者名簿!$B$11,応募者名簿!$D$11,応募者名簿!$E$11,応募者名簿!$I$11)","v":""},"交通安全ポスター",{"$f":"CONCATENATE(応募者名簿!K424)","v":""},{"$f":"CONCATENATE(応募者名簿!L424)","v":""},{"$f":"CONCATENATE(応募者名簿!M424)","v":""},{"$f":"CONCATENATE(応募者名簿!N424)","v":""}]
[{"$f":"応募者名簿!$B$8","v":0},{"$f":"CONCATENATE(応募者名簿!$B$11,応募者名簿!$D$11,応募者名簿!$E$11,応募者名簿!$I$11)","v":""},"交通安全ポスター",{"$f":"CONCATENATE(応募者名簿!K425)","v":""},{"$f":"CONCATENATE(応募者名簿!L425)","v":""},{"$f":"CONCATENATE(応募者名簿!M425)","v":""},{"$f":"CONCATENATE(応募者名簿!N425)","v":""}]
[{"$f":"応募者名簿!$B$8","v":0},{"$f":"CONCATENATE(応募者名簿!$B$11,応募者名簿!$D$11,応募者名簿!$E$11,応募者名簿!$I$11)","v":""},"交通安全ポスター",{"$f":"CONCATENATE(応募者名簿!K426)","v":""},{"$f":"CONCATENATE(応募者名簿!L426)","v":""},{"$f":"CONCATENATE(応募者名簿!M426)","v":""},{"$f":"CONCATENATE(応募者名簿!N426)","v":""}]
[{"$f":"応募者名簿!$B$8","v":0},{"$f":"CONCATENATE(応募者名簿!$B$11,応募者名簿!$D$11,応募者名簿!$E$11,応募者名簿!$I$11)","v":""},"交通安全ポスター",{"$f":"CONCATENATE(応募者名簿!K427)","v":""},{"$f":"CONCATENATE(応募者名簿!L427)","v":""},{"$f":"CONCATENATE(応募者名簿!M427)","v":""},{"$f":"CONCATENATE(応募者名簿!N427)","v":""}]
[{"$f":"応募者名簿!$B$8","v":0},{"$f":"CONCATENATE(応募者名簿!$B$11,応募者名簿!$D$11,応募者名簿!$E$11,応募者名簿!$I$11)","v":""},"交通安全ポスター",{"$f":"CONCATENATE(応募者名簿!K428)","v":""},{"$f":"CONCATENATE(応募者名簿!L428)","v":""},{"$f":"CONCATENATE(応募者名簿!M428)","v":""},{"$f":"CONCATENATE(応募者名簿!N428)","v":""}]
[{"$f":"応募者名簿!$B$8","v":0},{"$f":"CONCATENATE(応募者名簿!$B$11,応募者名簿!$D$11,応募者名簿!$E$11,応募者名簿!$I$11)","v":""},"交通安全ポスター",{"$f":"CONCATENATE(応募者名簿!K429)","v":""},{"$f":"CONCATENATE(応募者名簿!L429)","v":""},{"$f":"CONCATENATE(応募者名簿!M429)","v":""},{"$f":"CONCATENATE(応募者名簿!N429)","v":""}]
[{"$f":"応募者名簿!$B$8","v":0},{"$f":"CONCATENATE(応募者名簿!$B$11,応募者名簿!$D$11,応募者名簿!$E$11,応募者名簿!$I$11)","v":""},"交通安全ポスター",{"$f":"CONCATENATE(応募者名簿!K430)","v":""},{"$f":"CONCATENATE(応募者名簿!L430)","v":""},{"$f":"CONCATENATE(応募者名簿!M430)","v":""},{"$f":"CONCATENATE(応募者名簿!N430)","v":""}]
[{"$f":"応募者名簿!$B$8","v":0},{"$f":"CONCATENATE(応募者名簿!$B$11,応募者名簿!$D$11,応募者名簿!$E$11,応募者名簿!$I$11)","v":""},"交通安全ポスター",{"$f":"CONCATENATE(応募者名簿!K431)","v":""},{"$f":"CONCATENATE(応募者名簿!L431)","v":""},{"$f":"CONCATENATE(応募者名簿!M431)","v":""},{"$f":"CONCATENATE(応募者名簿!N431)","v":""}]
[{"$f":"応募者名簿!$B$8","v":0},{"$f":"CONCATENATE(応募者名簿!$B$11,応募者名簿!$D$11,応募者名簿!$E$11,応募者名簿!$I$11)","v":""},"交通安全ポスター",{"$f":"CONCATENATE(応募者名簿!K432)","v":""},{"$f":"CONCATENATE(応募者名簿!L432)","v":""},{"$f":"CONCATENATE(応募者名簿!M432)","v":""},{"$f":"CONCATENATE(応募者名簿!N432)","v":""}]
[{"$f":"応募者名簿!$B$8","v":0},{"$f":"CONCATENATE(応募者名簿!$B$11,応募者名簿!$D$11,応募者名簿!$E$11,応募者名簿!$I$11)","v":""},"交通安全ポスター",{"$f":"CONCATENATE(応募者名簿!K433)","v":""},{"$f":"CONCATENATE(応募者名簿!L433)","v":""},{"$f":"CONCATENATE(応募者名簿!M433)","v":""},{"$f":"CONCATENATE(応募者名簿!N433)","v":""}]
[{"$f":"応募者名簿!$B$8","v":0},{"$f":"CONCATENATE(応募者名簿!$B$11,応募者名簿!$D$11,応募者名簿!$E$11,応募者名簿!$I$11)","v":""},"交通安全ポスター",{"$f":"CONCATENATE(応募者名簿!K434)","v":""},{"$f":"CONCATENATE(応募者名簿!L434)","v":""},{"$f":"CONCATENATE(応募者名簿!M434)","v":""},{"$f":"CONCATENATE(応募者名簿!N434)","v":""}]
[{"$f":"応募者名簿!$B$8","v":0},{"$f":"CONCATENATE(応募者名簿!$B$11,応募者名簿!$D$11,応募者名簿!$E$11,応募者名簿!$I$11)","v":""},"交通安全ポスター",{"$f":"CONCATENATE(応募者名簿!K435)","v":""},{"$f":"CONCATENATE(応募者名簿!L435)","v":""},{"$f":"CONCATENATE(応募者名簿!M435)","v":""},{"$f":"CONCATENATE(応募者名簿!N435)","v":""}]
[{"$f":"応募者名簿!$B$8","v":0},{"$f":"CONCATENATE(応募者名簿!$B$11,応募者名簿!$D$11,応募者名簿!$E$11,応募者名簿!$I$11)","v":""},"交通安全ポスター",{"$f":"CONCATENATE(応募者名簿!K436)","v":""},{"$f":"CONCATENATE(応募者名簿!L436)","v":""},{"$f":"CONCATENATE(応募者名簿!M436)","v":""},{"$f":"CONCATENATE(応募者名簿!N436)","v":""}]
[{"$f":"応募者名簿!$B$8","v":0},{"$f":"CONCATENATE(応募者名簿!$B$11,応募者名簿!$D$11,応募者名簿!$E$11,応募者名簿!$I$11)","v":""},"交通安全ポスター",{"$f":"CONCATENATE(応募者名簿!K437)","v":""},{"$f":"CONCATENATE(応募者名簿!L437)","v":""},{"$f":"CONCATENATE(応募者名簿!M437)","v":""},{"$f":"CONCATENATE(応募者名簿!N437)","v":""}]
[{"$f":"応募者名簿!$B$8","v":0},{"$f":"CONCATENATE(応募者名簿!$B$11,応募者名簿!$D$11,応募者名簿!$E$11,応募者名簿!$I$11)","v":""},"交通安全ポスター",{"$f":"CONCATENATE(応募者名簿!K438)","v":""},{"$f":"CONCATENATE(応募者名簿!L438)","v":""},{"$f":"CONCATENATE(応募者名簿!M438)","v":""},{"$f":"CONCATENATE(応募者名簿!N438)","v":""}]
[{"$f":"応募者名簿!$B$8","v":0},{"$f":"CONCATENATE(応募者名簿!$B$11,応募者名簿!$D$11,応募者名簿!$E$11,応募者名簿!$I$11)","v":""},"交通安全ポスター",{"$f":"CONCATENATE(応募者名簿!K439)","v":""},{"$f":"CONCATENATE(応募者名簿!L439)","v":""},{"$f":"CONCATENATE(応募者名簿!M439)","v":""},{"$f":"CONCATENATE(応募者名簿!N439)","v":""}]
[{"$f":"応募者名簿!$B$8","v":0},{"$f":"CONCATENATE(応募者名簿!$B$11,応募者名簿!$D$11,応募者名簿!$E$11,応募者名簿!$I$11)","v":""},"交通安全ポスター",{"$f":"CONCATENATE(応募者名簿!K440)","v":""},{"$f":"CONCATENATE(応募者名簿!L440)","v":""},{"$f":"CONCATENATE(応募者名簿!M440)","v":""},{"$f":"CONCATENATE(応募者名簿!N440)","v":""}]
[{"$f":"応募者名簿!$B$8","v":0},{"$f":"CONCATENATE(応募者名簿!$B$11,応募者名簿!$D$11,応募者名簿!$E$11,応募者名簿!$I$11)","v":""},"交通安全ポスター",{"$f":"CONCATENATE(応募者名簿!K441)","v":""},{"$f":"CONCATENATE(応募者名簿!L441)","v":""},{"$f":"CONCATENATE(応募者名簿!M441)","v":""},{"$f":"CONCATENATE(応募者名簿!N441)","v":""}]
[{"$f":"応募者名簿!$B$8","v":0},{"$f":"CONCATENATE(応募者名簿!$B$11,応募者名簿!$D$11,応募者名簿!$E$11,応募者名簿!$I$11)","v":""},"交通安全ポスター",{"$f":"CONCATENATE(応募者名簿!K442)","v":""},{"$f":"CONCATENATE(応募者名簿!L442)","v":""},{"$f":"CONCATENATE(応募者名簿!M442)","v":""},{"$f":"CONCATENATE(応募者名簿!N442)","v":""}]
[{"$f":"応募者名簿!$B$8","v":0},{"$f":"CONCATENATE(応募者名簿!$B$11,応募者名簿!$D$11,応募者名簿!$E$11,応募者名簿!$I$11)","v":""},"交通安全ポスター",{"$f":"CONCATENATE(応募者名簿!K443)","v":""},{"$f":"CONCATENATE(応募者名簿!L443)","v":""},{"$f":"CONCATENATE(応募者名簿!M443)","v":""},{"$f":"CONCATENATE(応募者名簿!N443)","v":""}]
[{"$f":"応募者名簿!$B$8","v":0},{"$f":"CONCATENATE(応募者名簿!$B$11,応募者名簿!$D$11,応募者名簿!$E$11,応募者名簿!$I$11)","v":""},"交通安全ポスター",{"$f":"CONCATENATE(応募者名簿!K444)","v":""},{"$f":"CONCATENATE(応募者名簿!L444)","v":""},{"$f":"CONCATENATE(応募者名簿!M444)","v":""},{"$f":"CONCATENATE(応募者名簿!N444)","v":""}]
[{"$f":"応募者名簿!$B$8","v":0},{"$f":"CONCATENATE(応募者名簿!$B$11,応募者名簿!$D$11,応募者名簿!$E$11,応募者名簿!$I$11)","v":""},"交通安全ポスター",{"$f":"CONCATENATE(応募者名簿!K445)","v":""},{"$f":"CONCATENATE(応募者名簿!L445)","v":""},{"$f":"CONCATENATE(応募者名簿!M445)","v":""},{"$f":"CONCATENATE(応募者名簿!N445)","v":""}]
[{"$f":"応募者名簿!$B$8","v":0},{"$f":"CONCATENATE(応募者名簿!$B$11,応募者名簿!$D$11,応募者名簿!$E$11,応募者名簿!$I$11)","v":""},"交通安全ポスター",{"$f":"CONCATENATE(応募者名簿!K446)","v":""},{"$f":"CONCATENATE(応募者名簿!L446)","v":""},{"$f":"CONCATENATE(応募者名簿!M446)","v":""},{"$f":"CONCATENATE(応募者名簿!N446)","v":""}]
[{"$f":"応募者名簿!$B$8","v":0},{"$f":"CONCATENATE(応募者名簿!$B$11,応募者名簿!$D$11,応募者名簿!$E$11,応募者名簿!$I$11)","v":""},"交通安全ポスター",{"$f":"CONCATENATE(応募者名簿!K447)","v":""},{"$f":"CONCATENATE(応募者名簿!L447)","v":""},{"$f":"CONCATENATE(応募者名簿!M447)","v":""},{"$f":"CONCATENATE(応募者名簿!N447)","v":""}]
[{"$f":"応募者名簿!$B$8","v":0},{"$f":"CONCATENATE(応募者名簿!$B$11,応募者名簿!$D$11,応募者名簿!$E$11,応募者名簿!$I$11)","v":""},"交通安全ポスター",{"$f":"CONCATENATE(応募者名簿!K448)","v":""},{"$f":"CONCATENATE(応募者名簿!L448)","v":""},{"$f":"CONCATENATE(応募者名簿!M448)","v":""},{"$f":"CONCATENATE(応募者名簿!N448)","v":""}]
[{"$f":"応募者名簿!$B$8","v":0},{"$f":"CONCATENATE(応募者名簿!$B$11,応募者名簿!$D$11,応募者名簿!$E$11,応募者名簿!$I$11)","v":""},"交通安全ポスター",{"$f":"CONCATENATE(応募者名簿!K449)","v":""},{"$f":"CONCATENATE(応募者名簿!L449)","v":""},{"$f":"CONCATENATE(応募者名簿!M449)","v":""},{"$f":"CONCATENATE(応募者名簿!N449)","v":""}]
[{"$f":"応募者名簿!$B$8","v":0},{"$f":"CONCATENATE(応募者名簿!$B$11,応募者名簿!$D$11,応募者名簿!$E$11,応募者名簿!$I$11)","v":""},"交通安全ポスター",{"$f":"CONCATENATE(応募者名簿!K450)","v":""},{"$f":"CONCATENATE(応募者名簿!L450)","v":""},{"$f":"CONCATENATE(応募者名簿!M450)","v":""},{"$f":"CONCATENATE(応募者名簿!N450)","v":""}]
[{"$f":"応募者名簿!$B$8","v":0},{"$f":"CONCATENATE(応募者名簿!$B$11,応募者名簿!$D$11,応募者名簿!$E$11,応募者名簿!$I$11)","v":""},"交通安全ポスター",{"$f":"CONCATENATE(応募者名簿!K451)","v":""},{"$f":"CONCATENATE(応募者名簿!L451)","v":""},{"$f":"CONCATENATE(応募者名簿!M451)","v":""},{"$f":"CONCATENATE(応募者名簿!N451)","v":""}]
[{"$f":"応募者名簿!$B$8","v":0},{"$f":"CONCATENATE(応募者名簿!$B$11,応募者名簿!$D$11,応募者名簿!$E$11,応募者名簿!$I$11)","v":""},"交通安全ポスター",{"$f":"CONCATENATE(応募者名簿!K452)","v":""},{"$f":"CONCATENATE(応募者名簿!L452)","v":""},{"$f":"CONCATENATE(応募者名簿!M452)","v":""},{"$f":"CONCATENATE(応募者名簿!N452)","v":""}]
[{"$f":"応募者名簿!$B$8","v":0},{"$f":"CONCATENATE(応募者名簿!$B$11,応募者名簿!$D$11,応募者名簿!$E$11,応募者名簿!$I$11)","v":""},"交通安全ポスター",{"$f":"CONCATENATE(応募者名簿!K453)","v":""},{"$f":"CONCATENATE(応募者名簿!L453)","v":""},{"$f":"CONCATENATE(応募者名簿!M453)","v":""},{"$f":"CONCATENATE(応募者名簿!N453)","v":""}]
[{"$f":"応募者名簿!$B$8","v":0},{"$f":"CONCATENATE(応募者名簿!$B$11,応募者名簿!$D$11,応募者名簿!$E$11,応募者名簿!$I$11)","v":""},"交通安全ポスター",{"$f":"CONCATENATE(応募者名簿!K454)","v":""},{"$f":"CONCATENATE(応募者名簿!L454)","v":""},{"$f":"CONCATENATE(応募者名簿!M454)","v":""},{"$f":"CONCATENATE(応募者名簿!N454)","v":""}]
[{"$f":"応募者名簿!$B$8","v":0},{"$f":"CONCATENATE(応募者名簿!$B$11,応募者名簿!$D$11,応募者名簿!$E$11,応募者名簿!$I$11)","v":""},"交通安全ポスター",{"$f":"CONCATENATE(応募者名簿!K455)","v":""},{"$f":"CONCATENATE(応募者名簿!L455)","v":""},{"$f":"CONCATENATE(応募者名簿!M455)","v":""},{"$f":"CONCATENATE(応募者名簿!N455)","v":""}]
[{"$f":"応募者名簿!$B$8","v":0},{"$f":"CONCATENATE(応募者名簿!$B$11,応募者名簿!$D$11,応募者名簿!$E$11,応募者名簿!$I$11)","v":""},"交通安全ポスター",{"$f":"CONCATENATE(応募者名簿!K456)","v":""},{"$f":"CONCATENATE(応募者名簿!L456)","v":""},{"$f":"CONCATENATE(応募者名簿!M456)","v":""},{"$f":"CONCATENATE(応募者名簿!N456)","v":""}]
[{"$f":"応募者名簿!$B$8","v":0},{"$f":"CONCATENATE(応募者名簿!$B$11,応募者名簿!$D$11,応募者名簿!$E$11,応募者名簿!$I$11)","v":""},"交通安全ポスター",{"$f":"CONCATENATE(応募者名簿!K457)","v":""},{"$f":"CONCATENATE(応募者名簿!L457)","v":""},{"$f":"CONCATENATE(応募者名簿!M457)","v":""},{"$f":"CONCATENATE(応募者名簿!N457)","v":""}]
[{"$f":"応募者名簿!$B$8","v":0},{"$f":"CONCATENATE(応募者名簿!$B$11,応募者名簿!$D$11,応募者名簿!$E$11,応募者名簿!$I$11)","v":""},"交通安全ポスター",{"$f":"CONCATENATE(応募者名簿!K458)","v":""},{"$f":"CONCATENATE(応募者名簿!L458)","v":""},{"$f":"CONCATENATE(応募者名簿!M458)","v":""},{"$f":"CONCATENATE(応募者名簿!N458)","v":""}]
[{"$f":"応募者名簿!$B$8","v":0},{"$f":"CONCATENATE(応募者名簿!$B$11,応募者名簿!$D$11,応募者名簿!$E$11,応募者名簿!$I$11)","v":""},"交通安全ポスター",{"$f":"CONCATENATE(応募者名簿!K459)","v":""},{"$f":"CONCATENATE(応募者名簿!L459)","v":""},{"$f":"CONCATENATE(応募者名簿!M459)","v":""},{"$f":"CONCATENATE(応募者名簿!N459)","v":""}]
[{"$f":"応募者名簿!$B$8","v":0},{"$f":"CONCATENATE(応募者名簿!$B$11,応募者名簿!$D$11,応募者名簿!$E$11,応募者名簿!$I$11)","v":""},"交通安全ポスター",{"$f":"CONCATENATE(応募者名簿!K460)","v":""},{"$f":"CONCATENATE(応募者名簿!L460)","v":""},{"$f":"CONCATENATE(応募者名簿!M460)","v":""},{"$f":"CONCATENATE(応募者名簿!N460)","v":""}]
[{"$f":"応募者名簿!$B$8","v":0},{"$f":"CONCATENATE(応募者名簿!$B$11,応募者名簿!$D$11,応募者名簿!$E$11,応募者名簿!$I$11)","v":""},"交通安全ポスター",{"$f":"CONCATENATE(応募者名簿!K461)","v":""},{"$f":"CONCATENATE(応募者名簿!L461)","v":""},{"$f":"CONCATENATE(応募者名簿!M461)","v":""},{"$f":"CONCATENATE(応募者名簿!N461)","v":""}]
[{"$f":"応募者名簿!$B$8","v":0},{"$f":"CONCATENATE(応募者名簿!$B$11,応募者名簿!$D$11,応募者名簿!$E$11,応募者名簿!$I$11)","v":""},"交通安全ポスター",{"$f":"CONCATENATE(応募者名簿!K462)","v":""},{"$f":"CONCATENATE(応募者名簿!L462)","v":""},{"$f":"CONCATENATE(応募者名簿!M462)","v":""},{"$f":"CONCATENATE(応募者名簿!N462)","v":""}]
[{"$f":"応募者名簿!$B$8","v":0},{"$f":"CONCATENATE(応募者名簿!$B$11,応募者名簿!$D$11,応募者名簿!$E$11,応募者名簿!$I$11)","v":""},"交通安全ポスター",{"$f":"CONCATENATE(応募者名簿!K463)","v":""},{"$f":"CONCATENATE(応募者名簿!L463)","v":""},{"$f":"CONCATENATE(応募者名簿!M463)","v":""},{"$f":"CONCATENATE(応募者名簿!N463)","v":""}]
[{"$f":"応募者名簿!$B$8","v":0},{"$f":"CONCATENATE(応募者名簿!$B$11,応募者名簿!$D$11,応募者名簿!$E$11,応募者名簿!$I$11)","v":""},"交通安全ポスター",{"$f":"CONCATENATE(応募者名簿!K464)","v":""},{"$f":"CONCATENATE(応募者名簿!L464)","v":""},{"$f":"CONCATENATE(応募者名簿!M464)","v":""},{"$f":"CONCATENATE(応募者名簿!N464)","v":""}]
[{"$f":"応募者名簿!$B$8","v":0},{"$f":"CONCATENATE(応募者名簿!$B$11,応募者名簿!$D$11,応募者名簿!$E$11,応募者名簿!$I$11)","v":""},"交通安全ポスター",{"$f":"CONCATENATE(応募者名簿!K465)","v":""},{"$f":"CONCATENATE(応募者名簿!L465)","v":""},{"$f":"CONCATENATE(応募者名簿!M465)","v":""},{"$f":"CONCATENATE(応募者名簿!N465)","v":""}]
[{"$f":"応募者名簿!$B$8","v":0},{"$f":"CONCATENATE(応募者名簿!$B$11,応募者名簿!$D$11,応募者名簿!$E$11,応募者名簿!$I$11)","v":""},"交通安全ポスター",{"$f":"CONCATENATE(応募者名簿!K466)","v":""},{"$f":"CONCATENATE(応募者名簿!L466)","v":""},{"$f":"CONCATENATE(応募者名簿!M466)","v":""},{"$f":"CONCATENATE(応募者名簿!N466)","v":""}]
[{"$f":"応募者名簿!$B$8","v":0},{"$f":"CONCATENATE(応募者名簿!$B$11,応募者名簿!$D$11,応募者名簿!$E$11,応募者名簿!$I$11)","v":""},"交通安全ポスター",{"$f":"CONCATENATE(応募者名簿!K467)","v":""},{"$f":"CONCATENATE(応募者名簿!L467)","v":""},{"$f":"CONCATENATE(応募者名簿!M467)","v":""},{"$f":"CONCATENATE(応募者名簿!N467)","v":""}]
[{"$f":"応募者名簿!$B$8","v":0},{"$f":"CONCATENATE(応募者名簿!$B$11,応募者名簿!$D$11,応募者名簿!$E$11,応募者名簿!$I$11)","v":""},"交通安全ポスター",{"$f":"CONCATENATE(応募者名簿!K468)","v":""},{"$f":"CONCATENATE(応募者名簿!L468)","v":""},{"$f":"CONCATENATE(応募者名簿!M468)","v":""},{"$f":"CONCATENATE(応募者名簿!N468)","v":""}]
[{"$f":"応募者名簿!$B$8","v":0},{"$f":"CONCATENATE(応募者名簿!$B$11,応募者名簿!$D$11,応募者名簿!$E$11,応募者名簿!$I$11)","v":""},"交通安全ポスター",{"$f":"CONCATENATE(応募者名簿!K469)","v":""},{"$f":"CONCATENATE(応募者名簿!L469)","v":""},{"$f":"CONCATENATE(応募者名簿!M469)","v":""},{"$f":"CONCATENATE(応募者名簿!N469)","v":""}]
[{"$f":"応募者名簿!$B$8","v":0},{"$f":"CONCATENATE(応募者名簿!$B$11,応募者名簿!$D$11,応募者名簿!$E$11,応募者名簿!$I$11)","v":""},"交通安全ポスター",{"$f":"CONCATENATE(応募者名簿!K470)","v":""},{"$f":"CONCATENATE(応募者名簿!L470)","v":""},{"$f":"CONCATENATE(応募者名簿!M470)","v":""},{"$f":"CONCATENATE(応募者名簿!N470)","v":""}]
[{"$f":"応募者名簿!$B$8","v":0},{"$f":"CONCATENATE(応募者名簿!$B$11,応募者名簿!$D$11,応募者名簿!$E$11,応募者名簿!$I$11)","v":""},"交通安全ポスター",{"$f":"CONCATENATE(応募者名簿!K471)","v":""},{"$f":"CONCATENATE(応募者名簿!L471)","v":""},{"$f":"CONCATENATE(応募者名簿!M471)","v":""},{"$f":"CONCATENATE(応募者名簿!N471)","v":""}]
[{"$f":"応募者名簿!$B$8","v":0},{"$f":"CONCATENATE(応募者名簿!$B$11,応募者名簿!$D$11,応募者名簿!$E$11,応募者名簿!$I$11)","v":""},"交通安全ポスター",{"$f":"CONCATENATE(応募者名簿!K472)","v":""},{"$f":"CONCATENATE(応募者名簿!L472)","v":""},{"$f":"CONCATENATE(応募者名簿!M472)","v":""},{"$f":"CONCATENATE(応募者名簿!N472)","v":""}]
[{"$f":"応募者名簿!$B$8","v":0},{"$f":"CONCATENATE(応募者名簿!$B$11,応募者名簿!$D$11,応募者名簿!$E$11,応募者名簿!$I$11)","v":""},"交通安全ポスター",{"$f":"CONCATENATE(応募者名簿!K473)","v":""},{"$f":"CONCATENATE(応募者名簿!L473)","v":""},{"$f":"CONCATENATE(応募者名簿!M473)","v":""},{"$f":"CONCATENATE(応募者名簿!N473)","v":""}]
[{"$f":"応募者名簿!$B$8","v":0},{"$f":"CONCATENATE(応募者名簿!$B$11,応募者名簿!$D$11,応募者名簿!$E$11,応募者名簿!$I$11)","v":""},"交通安全ポスター",{"$f":"CONCATENATE(応募者名簿!K474)","v":""},{"$f":"CONCATENATE(応募者名簿!L474)","v":""},{"$f":"CONCATENATE(応募者名簿!M474)","v":""},{"$f":"CONCATENATE(応募者名簿!N474)","v":""}]
[{"$f":"応募者名簿!$B$8","v":0},{"$f":"CONCATENATE(応募者名簿!$B$11,応募者名簿!$D$11,応募者名簿!$E$11,応募者名簿!$I$11)","v":""},"交通安全ポスター",{"$f":"CONCATENATE(応募者名簿!K475)","v":""},{"$f":"CONCATENATE(応募者名簿!L475)","v":""},{"$f":"CONCATENATE(応募者名簿!M475)","v":""},{"$f":"CONCATENATE(応募者名簿!N475)","v":""}]
[{"$f":"応募者名簿!$B$8","v":0},{"$f":"CONCATENATE(応募者名簿!$B$11,応募者名簿!$D$11,応募者名簿!$E$11,応募者名簿!$I$11)","v":""},"交通安全ポスター",{"$f":"CONCATENATE(応募者名簿!K476)","v":""},{"$f":"CONCATENATE(応募者名簿!L476)","v":""},{"$f":"CONCATENATE(応募者名簿!M476)","v":""},{"$f":"CONCATENATE(応募者名簿!N476)","v":""}]
[{"$f":"応募者名簿!$B$8","v":0},{"$f":"CONCATENATE(応募者名簿!$B$11,応募者名簿!$D$11,応募者名簿!$E$11,応募者名簿!$I$11)","v":""},"交通安全ポスター",{"$f":"CONCATENATE(応募者名簿!K477)","v":""},{"$f":"CONCATENATE(応募者名簿!L477)","v":""},{"$f":"CONCATENATE(応募者名簿!M477)","v":""},{"$f":"CONCATENATE(応募者名簿!N477)","v":""}]
[{"$f":"応募者名簿!$B$8","v":0},{"$f":"CONCATENATE(応募者名簿!$B$11,応募者名簿!$D$11,応募者名簿!$E$11,応募者名簿!$I$11)","v":""},"交通安全ポスター",{"$f":"CONCATENATE(応募者名簿!K478)","v":""},{"$f":"CONCATENATE(応募者名簿!L478)","v":""},{"$f":"CONCATENATE(応募者名簿!M478)","v":""},{"$f":"CONCATENATE(応募者名簿!N478)","v":""}]
[{"$f":"応募者名簿!$B$8","v":0},{"$f":"CONCATENATE(応募者名簿!$B$11,応募者名簿!$D$11,応募者名簿!$E$11,応募者名簿!$I$11)","v":""},"交通安全ポスター",{"$f":"CONCATENATE(応募者名簿!K479)","v":""},{"$f":"CONCATENATE(応募者名簿!L479)","v":""},{"$f":"CONCATENATE(応募者名簿!M479)","v":""},{"$f":"CONCATENATE(応募者名簿!N479)","v":""}]
[{"$f":"応募者名簿!$B$8","v":0},{"$f":"CONCATENATE(応募者名簿!$B$11,応募者名簿!$D$11,応募者名簿!$E$11,応募者名簿!$I$11)","v":""},"交通安全ポスター",{"$f":"CONCATENATE(応募者名簿!K480)","v":""},{"$f":"CONCATENATE(応募者名簿!L480)","v":""},{"$f":"CONCATENATE(応募者名簿!M480)","v":""},{"$f":"CONCATENATE(応募者名簿!N480)","v":""}]
[{"$f":"応募者名簿!$B$8","v":0},{"$f":"CONCATENATE(応募者名簿!$B$11,応募者名簿!$D$11,応募者名簿!$E$11,応募者名簿!$I$11)","v":""},"交通安全ポスター",{"$f":"CONCATENATE(応募者名簿!K481)","v":""},{"$f":"CONCATENATE(応募者名簿!L481)","v":""},{"$f":"CONCATENATE(応募者名簿!M481)","v":""},{"$f":"CONCATENATE(応募者名簿!N481)","v":""}]
[{"$f":"応募者名簿!$B$8","v":0},{"$f":"CONCATENATE(応募者名簿!$B$11,応募者名簿!$D$11,応募者名簿!$E$11,応募者名簿!$I$11)","v":""},"交通安全ポスター",{"$f":"CONCATENATE(応募者名簿!K482)","v":""},{"$f":"CONCATENATE(応募者名簿!L482)","v":""},{"$f":"CONCATENATE(応募者名簿!M482)","v":""},{"$f":"CONCATENATE(応募者名簿!N482)","v":""}]
[{"$f":"応募者名簿!$B$8","v":0},{"$f":"CONCATENATE(応募者名簿!$B$11,応募者名簿!$D$11,応募者名簿!$E$11,応募者名簿!$I$11)","v":""},"交通安全ポスター",{"$f":"CONCATENATE(応募者名簿!K483)","v":""},{"$f":"CONCATENATE(応募者名簿!L483)","v":""},{"$f":"CONCATENATE(応募者名簿!M483)","v":""},{"$f":"CONCATENATE(応募者名簿!N483)","v":""}]
[{"$f":"応募者名簿!$B$8","v":0},{"$f":"CONCATENATE(応募者名簿!$B$11,応募者名簿!$D$11,応募者名簿!$E$11,応募者名簿!$I$11)","v":""},"交通安全ポスター",{"$f":"CONCATENATE(応募者名簿!K484)","v":""},{"$f":"CONCATENATE(応募者名簿!L484)","v":""},{"$f":"CONCATENATE(応募者名簿!M484)","v":""},{"$f":"CONCATENATE(応募者名簿!N484)","v":""}]
[{"$f":"応募者名簿!$B$8","v":0},{"$f":"CONCATENATE(応募者名簿!$B$11,応募者名簿!$D$11,応募者名簿!$E$11,応募者名簿!$I$11)","v":""},"交通安全ポスター",{"$f":"CONCATENATE(応募者名簿!K485)","v":""},{"$f":"CONCATENATE(応募者名簿!L485)","v":""},{"$f":"CONCATENATE(応募者名簿!M485)","v":""},{"$f":"CONCATENATE(応募者名簿!N485)","v":""}]
[{"$f":"応募者名簿!$B$8","v":0},{"$f":"CONCATENATE(応募者名簿!$B$11,応募者名簿!$D$11,応募者名簿!$E$11,応募者名簿!$I$11)","v":""},"交通安全ポスター",{"$f":"CONCATENATE(応募者名簿!K486)","v":""},{"$f":"CONCATENATE(応募者名簿!L486)","v":""},{"$f":"CONCATENATE(応募者名簿!M486)","v":""},{"$f":"CONCATENATE(応募者名簿!N486)","v":""}]
[{"$f":"応募者名簿!$B$8","v":0},{"$f":"CONCATENATE(応募者名簿!$B$11,応募者名簿!$D$11,応募者名簿!$E$11,応募者名簿!$I$11)","v":""},"交通安全ポスター",{"$f":"CONCATENATE(応募者名簿!K487)","v":""},{"$f":"CONCATENATE(応募者名簿!L487)","v":""},{"$f":"CONCATENATE(応募者名簿!M487)","v":""},{"$f":"CONCATENATE(応募者名簿!N487)","v":""}]
[{"$f":"応募者名簿!$B$8","v":0},{"$f":"CONCATENATE(応募者名簿!$B$11,応募者名簿!$D$11,応募者名簿!$E$11,応募者名簿!$I$11)","v":""},"交通安全ポスター",{"$f":"CONCATENATE(応募者名簿!K488)","v":""},{"$f":"CONCATENATE(応募者名簿!L488)","v":""},{"$f":"CONCATENATE(応募者名簿!M488)","v":""},{"$f":"CONCATENATE(応募者名簿!N488)","v":""}]
[{"$f":"応募者名簿!$B$8","v":0},{"$f":"CONCATENATE(応募者名簿!$B$11,応募者名簿!$D$11,応募者名簿!$E$11,応募者名簿!$I$11)","v":""},"交通安全ポスター",{"$f":"CONCATENATE(応募者名簿!K489)","v":""},{"$f":"CONCATENATE(応募者名簿!L489)","v":""},{"$f":"CONCATENATE(応募者名簿!M489)","v":""},{"$f":"CONCATENATE(応募者名簿!N489)","v":""}]
[{"$f":"応募者名簿!$B$8","v":0},{"$f":"CONCATENATE(応募者名簿!$B$11,応募者名簿!$D$11,応募者名簿!$E$11,応募者名簿!$I$11)","v":""},"交通安全ポスター",{"$f":"CONCATENATE(応募者名簿!K490)","v":""},{"$f":"CONCATENATE(応募者名簿!L490)","v":""},{"$f":"CONCATENATE(応募者名簿!M490)","v":""},{"$f":"CONCATENATE(応募者名簿!N490)","v":""}]
[{"$f":"応募者名簿!$B$8","v":0},{"$f":"CONCATENATE(応募者名簿!$B$11,応募者名簿!$D$11,応募者名簿!$E$11,応募者名簿!$I$11)","v":""},"交通安全ポスター",{"$f":"CONCATENATE(応募者名簿!K491)","v":""},{"$f":"CONCATENATE(応募者名簿!L491)","v":""},{"$f":"CONCATENATE(応募者名簿!M491)","v":""},{"$f":"CONCATENATE(応募者名簿!N491)","v":""}]
[{"$f":"応募者名簿!$B$8","v":0},{"$f":"CONCATENATE(応募者名簿!$B$11,応募者名簿!$D$11,応募者名簿!$E$11,応募者名簿!$I$11)","v":""},"交通安全ポスター",{"$f":"CONCATENATE(応募者名簿!K492)","v":""},{"$f":"CONCATENATE(応募者名簿!L492)","v":""},{"$f":"CONCATENATE(応募者名簿!M492)","v":""},{"$f":"CONCATENATE(応募者名簿!N492)","v":""}]
[{"$f":"応募者名簿!$B$8","v":0},{"$f":"CONCATENATE(応募者名簿!$B$11,応募者名簿!$D$11,応募者名簿!$E$11,応募者名簿!$I$11)","v":""},"交通安全ポスター",{"$f":"CONCATENATE(応募者名簿!K493)","v":""},{"$f":"CONCATENATE(応募者名簿!L493)","v":""},{"$f":"CONCATENATE(応募者名簿!M493)","v":""},{"$f":"CONCATENATE(応募者名簿!N493)","v":""}]
[{"$f":"応募者名簿!$B$8","v":0},{"$f":"CONCATENATE(応募者名簿!$B$11,応募者名簿!$D$11,応募者名簿!$E$11,応募者名簿!$I$11)","v":""},"交通安全ポスター",{"$f":"CONCATENATE(応募者名簿!K494)","v":""},{"$f":"CONCATENATE(応募者名簿!L494)","v":""},{"$f":"CONCATENATE(応募者名簿!M494)","v":""},{"$f":"CONCATENATE(応募者名簿!N494)","v":""}]
[{"$f":"応募者名簿!$B$8","v":0},{"$f":"CONCATENATE(応募者名簿!$B$11,応募者名簿!$D$11,応募者名簿!$E$11,応募者名簿!$I$11)","v":""},"交通安全ポスター",{"$f":"CONCATENATE(応募者名簿!K495)","v":""},{"$f":"CONCATENATE(応募者名簿!L495)","v":""},{"$f":"CONCATENATE(応募者名簿!M495)","v":""},{"$f":"CONCATENATE(応募者名簿!N495)","v":""}]
[{"$f":"応募者名簿!$B$8","v":0},{"$f":"CONCATENATE(応募者名簿!$B$11,応募者名簿!$D$11,応募者名簿!$E$11,応募者名簿!$I$11)","v":""},"交通安全ポスター",{"$f":"CONCATENATE(応募者名簿!K496)","v":""},{"$f":"CONCATENATE(応募者名簿!L496)","v":""},{"$f":"CONCATENATE(応募者名簿!M496)","v":""},{"$f":"CONCATENATE(応募者名簿!N496)","v":""}]
[{"$f":"応募者名簿!$B$8","v":0},{"$f":"CONCATENATE(応募者名簿!$B$11,応募者名簿!$D$11,応募者名簿!$E$11,応募者名簿!$I$11)","v":""},"交通安全ポスター",{"$f":"CONCATENATE(応募者名簿!K497)","v":""},{"$f":"CONCATENATE(応募者名簿!L497)","v":""},{"$f":"CONCATENATE(応募者名簿!M497)","v":""},{"$f":"CONCATENATE(応募者名簿!N497)","v":""}]
[{"$f":"応募者名簿!$B$8","v":0},{"$f":"CONCATENATE(応募者名簿!$B$11,応募者名簿!$D$11,応募者名簿!$E$11,応募者名簿!$I$11)","v":""},"交通安全ポスター",{"$f":"CONCATENATE(応募者名簿!K498)","v":""},{"$f":"CONCATENATE(応募者名簿!L498)","v":""},{"$f":"CONCATENATE(応募者名簿!M498)","v":""},{"$f":"CONCATENATE(応募者名簿!N498)","v":""}]
[{"$f":"応募者名簿!$B$8","v":0},{"$f":"CONCATENATE(応募者名簿!$B$11,応募者名簿!$D$11,応募者名簿!$E$11,応募者名簿!$I$11)","v":""},"交通安全ポスター",{"$f":"CONCATENATE(応募者名簿!K499)","v":""},{"$f":"CONCATENATE(応募者名簿!L499)","v":""},{"$f":"CONCATENATE(応募者名簿!M499)","v":""},{"$f":"CONCATENATE(応募者名簿!N499)","v":""}]
[{"$f":"応募者名簿!$B$8","v":0},{"$f":"CONCATENATE(応募者名簿!$B$11,応募者名簿!$D$11,応募者名簿!$E$11,応募者名簿!$I$11)","v":""},"交通安全ポスター",{"$f":"CONCATENATE(応募者名簿!K500)","v":""},{"$f":"CONCATENATE(応募者名簿!L500)","v":""},{"$f":"CONCATENATE(応募者名簿!M500)","v":""},{"$f":"CONCATENATE(応募者名簿!N500)","v":""}]
[{"$f":"応募者名簿!$B$8","v":0},{"$f":"CONCATENATE(応募者名簿!$B$11,応募者名簿!$D$11,応募者名簿!$E$11,応募者名簿!$I$11)","v":""},"交通安全ポスター",{"$f":"CONCATENATE(応募者名簿!K501)","v":""},{"$f":"CONCATENATE(応募者名簿!L501)","v":""},{"$f":"CONCATENATE(応募者名簿!M501)","v":""},{"$f":"CONCATENATE(応募者名簿!N501)","v":""}]
[{"$f":"応募者名簿!$B$8","v":0},{"$f":"CONCATENATE(応募者名簿!$B$11,応募者名簿!$D$11,応募者名簿!$E$11,応募者名簿!$I$11)","v":""},"交通安全ポスター",{"$f":"CONCATENATE(応募者名簿!K502)","v":""},{"$f":"CONCATENATE(応募者名簿!L502)","v":""},{"$f":"CONCATENATE(応募者名簿!M502)","v":""},{"$f":"CONCATENATE(応募者名簿!N502)","v":""}]
[{"$f":"応募者名簿!$B$8","v":0},{"$f":"CONCATENATE(応募者名簿!$B$11,応募者名簿!$D$11,応募者名簿!$E$11,応募者名簿!$I$11)","v":""},"交通安全ポスター",{"$f":"CONCATENATE(応募者名簿!K503)","v":""},{"$f":"CONCATENATE(応募者名簿!L503)","v":""},{"$f":"CONCATENATE(応募者名簿!M503)","v":""},{"$f":"CONCATENATE(応募者名簿!N503)","v":""}]
[{"$f":"応募者名簿!$B$8","v":0},{"$f":"CONCATENATE(応募者名簿!$B$11,応募者名簿!$D$11,応募者名簿!$E$11,応募者名簿!$I$11)","v":""},"交通安全ポスター",{"$f":"CONCATENATE(応募者名簿!K504)","v":""},{"$f":"CONCATENATE(応募者名簿!L504)","v":""},{"$f":"CONCATENATE(応募者名簿!M504)","v":""},{"$f":"CONCATENATE(応募者名簿!N504)","v":""}]
[{"$f":"応募者名簿!$B$8","v":0},{"$f":"CONCATENATE(応募者名簿!$B$11,応募者名簿!$D$11,応募者名簿!$E$11,応募者名簿!$I$11)","v":""},"交通安全ポスター",{"$f":"CONCATENATE(応募者名簿!K505)","v":""},{"$f":"CONCATENATE(応募者名簿!L505)","v":""},{"$f":"CONCATENATE(応募者名簿!M505)","v":""},{"$f":"CONCATENATE(応募者名簿!N505)","v":""}]
[{"$f":"応募者名簿!$B$8","v":0},{"$f":"CONCATENATE(応募者名簿!$B$11,応募者名簿!$D$11,応募者名簿!$E$11,応募者名簿!$I$11)","v":""},"交通安全ポスター",{"$f":"CONCATENATE(応募者名簿!K506)","v":""},{"$f":"CONCATENATE(応募者名簿!L506)","v":""},{"$f":"CONCATENATE(応募者名簿!M506)","v":""},{"$f":"CONCATENATE(応募者名簿!N506)","v":""}]
[{"$f":"応募者名簿!$B$8","v":0},{"$f":"CONCATENATE(応募者名簿!$B$11,応募者名簿!$D$11,応募者名簿!$E$11,応募者名簿!$I$11)","v":""},"交通安全ポスター",{"$f":"CONCATENATE(応募者名簿!K507)","v":""},{"$f":"CONCATENATE(応募者名簿!L507)","v":""},{"$f":"CONCATENATE(応募者名簿!M507)","v":""},{"$f":"CONCATENATE(応募者名簿!N507)","v":""}]
[{"$f":"応募者名簿!$B$8","v":0},{"$f":"CONCATENATE(応募者名簿!$B$11,応募者名簿!$D$11,応募者名簿!$E$11,応募者名簿!$I$11)","v":""},"交通安全ポスター",{"$f":"CONCATENATE(応募者名簿!K508)","v":""},{"$f":"CONCATENATE(応募者名簿!L508)","v":""},{"$f":"CONCATENATE(応募者名簿!M508)","v":""},{"$f":"CONCATENATE(応募者名簿!N508)","v":""}]
[{"$f":"応募者名簿!$B$8","v":0},{"$f":"CONCATENATE(応募者名簿!$B$11,応募者名簿!$D$11,応募者名簿!$E$11,応募者名簿!$I$11)","v":""},"交通安全ポスター",{"$f":"CONCATENATE(応募者名簿!K509)","v":""},{"$f":"CONCATENATE(応募者名簿!L509)","v":""},{"$f":"CONCATENATE(応募者名簿!M509)","v":""},{"$f":"CONCATENATE(応募者名簿!N509)","v":""}]
[{"$f":"応募者名簿!$B$8","v":0},{"$f":"CONCATENATE(応募者名簿!$B$11,応募者名簿!$D$11,応募者名簿!$E$11,応募者名簿!$I$11)","v":""},"交通安全ポスター",{"$f":"CONCATENATE(応募者名簿!K510)","v":""},{"$f":"CONCATENATE(応募者名簿!L510)","v":""},{"$f":"CONCATENATE(応募者名簿!M510)","v":""},{"$f":"CONCATENATE(応募者名簿!N510)","v":""}]
[{"$f":"応募者名簿!$B$8","v":0},{"$f":"CONCATENATE(応募者名簿!$B$11,応募者名簿!$D$11,応募者名簿!$E$11,応募者名簿!$I$11)","v":""},"交通安全ポスター",{"$f":"CONCATENATE(応募者名簿!K511)","v":""},{"$f":"CONCATENATE(応募者名簿!L511)","v":""},{"$f":"CONCATENATE(応募者名簿!M511)","v":""},{"$f":"CONCATENATE(応募者名簿!N511)","v":""}]
[{"$f":"応募者名簿!$B$8","v":0},{"$f":"CONCATENATE(応募者名簿!$B$11,応募者名簿!$D$11,応募者名簿!$E$11,応募者名簿!$I$11)","v":""},"交通安全ポスター",{"$f":"CONCATENATE(応募者名簿!K512)","v":""},{"$f":"CONCATENATE(応募者名簿!L512)","v":""},{"$f":"CONCATENATE(応募者名簿!M512)","v":""},{"$f":"CONCATENATE(応募者名簿!N512)","v":""}]
[{"$f":"応募者名簿!$B$8","v":0},{"$f":"CONCATENATE(応募者名簿!$B$11,応募者名簿!$D$11,応募者名簿!$E$11,応募者名簿!$I$11)","v":""},"交通安全ポスター",{"$f":"CONCATENATE(応募者名簿!K513)","v":""},{"$f":"CONCATENATE(応募者名簿!L513)","v":""},{"$f":"CONCATENATE(応募者名簿!M513)","v":""},{"$f":"CONCATENATE(応募者名簿!N513)","v":""}]
[{"$f":"応募者名簿!$B$8","v":0},{"$f":"CONCATENATE(応募者名簿!$B$11,応募者名簿!$D$11,応募者名簿!$E$11,応募者名簿!$I$11)","v":""},"交通安全ポスター",{"$f":"CONCATENATE(応募者名簿!K514)","v":""},{"$f":"CONCATENATE(応募者名簿!L514)","v":""},{"$f":"CONCATENATE(応募者名簿!M514)","v":""},{"$f":"CONCATENATE(応募者名簿!N514)","v":""}]
[{"$f":"応募者名簿!$B$8","v":0},{"$f":"CONCATENATE(応募者名簿!$B$11,応募者名簿!$D$11,応募者名簿!$E$11,応募者名簿!$I$11)","v":""},"交通安全ポスター",{"$f":"CONCATENATE(応募者名簿!K515)","v":""},{"$f":"CONCATENATE(応募者名簿!L515)","v":""},{"$f":"CONCATENATE(応募者名簿!M515)","v":""},{"$f":"CONCATENATE(応募者名簿!N515)","v":""}]
[{"$f":"応募者名簿!$B$8","v":0},{"$f":"CONCATENATE(応募者名簿!$B$11,応募者名簿!$D$11,応募者名簿!$E$11,応募者名簿!$I$11)","v":""},"交通安全ポスター",{"$f":"CONCATENATE(応募者名簿!K516)","v":""},{"$f":"CONCATENATE(応募者名簿!L516)","v":""},{"$f":"CONCATENATE(応募者名簿!M516)","v":""},{"$f":"CONCATENATE(応募者名簿!N516)","v":""}]
[{"$f":"応募者名簿!$B$8","v":0},{"$f":"CONCATENATE(応募者名簿!$B$11,応募者名簿!$D$11,応募者名簿!$E$11,応募者名簿!$I$11)","v":""},"交通安全ポスター",{"$f":"CONCATENATE(応募者名簿!K517)","v":""},{"$f":"CONCATENATE(応募者名簿!L517)","v":""},{"$f":"CONCATENATE(応募者名簿!M517)","v":""},{"$f":"CONCATENATE(応募者名簿!N517)","v":""}]
[{"$f":"応募者名簿!$B$8","v":0},{"$f":"CONCATENATE(応募者名簿!$B$11,応募者名簿!$D$11,応募者名簿!$E$11,応募者名簿!$I$11)","v":""},"交通安全ポスター",{"$f":"CONCATENATE(応募者名簿!K518)","v":""},{"$f":"CONCATENATE(応募者名簿!L518)","v":""},{"$f":"CONCATENATE(応募者名簿!M518)","v":""},{"$f":"CONCATENATE(応募者名簿!N518)","v":""}]
[{"$f":"応募者名簿!$B$8","v":0},{"$f":"CONCATENATE(応募者名簿!$B$11,応募者名簿!$D$11,応募者名簿!$E$11,応募者名簿!$I$11)","v":""},"交通安全ポスター",{"$f":"CONCATENATE(応募者名簿!K519)","v":""},{"$f":"CONCATENATE(応募者名簿!L519)","v":""},{"$f":"CONCATENATE(応募者名簿!M519)","v":""},{"$f":"CONCATENATE(応募者名簿!N519)","v":""}]
[{"$f":"応募者名簿!$B$8","v":0},{"$f":"CONCATENATE(応募者名簿!$B$11,応募者名簿!$D$11,応募者名簿!$E$11,応募者名簿!$I$11)","v":""},"交通安全ポスター",{"$f":"CONCATENATE(応募者名簿!K520)","v":""},{"$f":"CONCATENATE(応募者名簿!L520)","v":""},{"$f":"CONCATENATE(応募者名簿!M520)","v":""},{"$f":"CONCATENATE(応募者名簿!N520)","v":""}]
[{"$f":"応募者名簿!$B$8","v":0},{"$f":"CONCATENATE(応募者名簿!$B$11,応募者名簿!$D$11,応募者名簿!$E$11,応募者名簿!$I$11)","v":""},"交通安全ポスター",{"$f":"CONCATENATE(応募者名簿!K521)","v":""},{"$f":"CONCATENATE(応募者名簿!L521)","v":""},{"$f":"CONCATENATE(応募者名簿!M521)","v":""},{"$f":"CONCATENATE(応募者名簿!N521)","v":""}]
[{"$f":"応募者名簿!$B$8","v":0},{"$f":"CONCATENATE(応募者名簿!$B$11,応募者名簿!$D$11,応募者名簿!$E$11,応募者名簿!$I$11)","v":""},"交通安全ポスター",{"$f":"CONCATENATE(応募者名簿!K522)","v":""},{"$f":"CONCATENATE(応募者名簿!L522)","v":""},{"$f":"CONCATENATE(応募者名簿!M522)","v":""},{"$f":"CONCATENATE(応募者名簿!N522)","v":""}]
[{"$f":"応募者名簿!$B$8","v":0},{"$f":"CONCATENATE(応募者名簿!$B$11,応募者名簿!$D$11,応募者名簿!$E$11,応募者名簿!$I$11)","v":""},"交通安全ポスター",{"$f":"CONCATENATE(応募者名簿!K523)","v":""},{"$f":"CONCATENATE(応募者名簿!L523)","v":""},{"$f":"CONCATENATE(応募者名簿!M523)","v":""},{"$f":"CONCATENATE(応募者名簿!N523)","v":""}]
[{"$f":"応募者名簿!$B$8","v":0},{"$f":"CONCATENATE(応募者名簿!$B$11,応募者名簿!$D$11,応募者名簿!$E$11,応募者名簿!$I$11)","v":""},"交通安全ポスター",{"$f":"CONCATENATE(応募者名簿!K524)","v":""},{"$f":"CONCATENATE(応募者名簿!L524)","v":""},{"$f":"CONCATENATE(応募者名簿!M524)","v":""},{"$f":"CONCATENATE(応募者名簿!N524)","v":""}]
[{"$f":"応募者名簿!$B$8","v":0},{"$f":"CONCATENATE(応募者名簿!$B$11,応募者名簿!$D$11,応募者名簿!$E$11,応募者名簿!$I$11)","v":""},"交通安全ポスター",{"$f":"CONCATENATE(応募者名簿!K525)","v":""},{"$f":"CONCATENATE(応募者名簿!L525)","v":""},{"$f":"CONCATENATE(応募者名簿!M525)","v":""},{"$f":"CONCATENATE(応募者名簿!N525)","v":""}]
[{"$f":"応募者名簿!$B$8","v":0},{"$f":"CONCATENATE(応募者名簿!$B$11,応募者名簿!$D$11,応募者名簿!$E$11,応募者名簿!$I$11)","v":""},"交通安全ポスター",{"$f":"CONCATENATE(応募者名簿!K526)","v":""},{"$f":"CONCATENATE(応募者名簿!L526)","v":""},{"$f":"CONCATENATE(応募者名簿!M526)","v":""},{"$f":"CONCATENATE(応募者名簿!N526)","v":""}]
[{"$f":"応募者名簿!$B$8","v":0},{"$f":"CONCATENATE(応募者名簿!$B$11,応募者名簿!$D$11,応募者名簿!$E$11,応募者名簿!$I$11)","v":""},"交通安全ポスター",{"$f":"CONCATENATE(応募者名簿!K527)","v":""},{"$f":"CONCATENATE(応募者名簿!L527)","v":""},{"$f":"CONCATENATE(応募者名簿!M527)","v":""},{"$f":"CONCATENATE(応募者名簿!N527)","v":""}]
[{"$f":"応募者名簿!$B$8","v":0},{"$f":"CONCATENATE(応募者名簿!$B$11,応募者名簿!$D$11,応募者名簿!$E$11,応募者名簿!$I$11)","v":""},"交通安全ポスター",{"$f":"CONCATENATE(応募者名簿!K528)","v":""},{"$f":"CONCATENATE(応募者名簿!L528)","v":""},{"$f":"CONCATENATE(応募者名簿!M528)","v":""},{"$f":"CONCATENATE(応募者名簿!N528)","v":""}]
[{"$f":"応募者名簿!$B$8","v":0},{"$f":"CONCATENATE(応募者名簿!$B$11,応募者名簿!$D$11,応募者名簿!$E$11,応募者名簿!$I$11)","v":""},"交通安全ポスター",{"$f":"CONCATENATE(応募者名簿!K529)","v":""},{"$f":"CONCATENATE(応募者名簿!L529)","v":""},{"$f":"CONCATENATE(応募者名簿!M529)","v":""},{"$f":"CONCATENATE(応募者名簿!N529)","v":""}]
[{"$f":"応募者名簿!$B$8","v":0},{"$f":"CONCATENATE(応募者名簿!$B$11,応募者名簿!$D$11,応募者名簿!$E$11,応募者名簿!$I$11)","v":""},"交通安全ポスター",{"$f":"CONCATENATE(応募者名簿!K530)","v":""},{"$f":"CONCATENATE(応募者名簿!L530)","v":""},{"$f":"CONCATENATE(応募者名簿!M530)","v":""},{"$f":"CONCATENATE(応募者名簿!N530)","v":""}]
[{"$f":"応募者名簿!$B$8","v":0},{"$f":"CONCATENATE(応募者名簿!$B$11,応募者名簿!$D$11,応募者名簿!$E$11,応募者名簿!$I$11)","v":""},"交通安全ポスター",{"$f":"CONCATENATE(応募者名簿!K531)","v":""},{"$f":"CONCATENATE(応募者名簿!L531)","v":""},{"$f":"CONCATENATE(応募者名簿!M531)","v":""},{"$f":"CONCATENATE(応募者名簿!N531)","v":""}]
[{"$f":"応募者名簿!$B$8","v":0},{"$f":"CONCATENATE(応募者名簿!$B$11,応募者名簿!$D$11,応募者名簿!$E$11,応募者名簿!$I$11)","v":""},"交通安全ポスター",{"$f":"CONCATENATE(応募者名簿!K532)","v":""},{"$f":"CONCATENATE(応募者名簿!L532)","v":""},{"$f":"CONCATENATE(応募者名簿!M532)","v":""},{"$f":"CONCATENATE(応募者名簿!N532)","v":""}]
[{"$f":"応募者名簿!$B$8","v":0},{"$f":"CONCATENATE(応募者名簿!$B$11,応募者名簿!$D$11,応募者名簿!$E$11,応募者名簿!$I$11)","v":""},"交通安全ポスター",{"$f":"CONCATENATE(応募者名簿!K533)","v":""},{"$f":"CONCATENATE(応募者名簿!L533)","v":""},{"$f":"CONCATENATE(応募者名簿!M533)","v":""},{"$f":"CONCATENATE(応募者名簿!N533)","v":""}]
[{"$f":"応募者名簿!$B$8","v":0},{"$f":"CONCATENATE(応募者名簿!$B$11,応募者名簿!$D$11,応募者名簿!$E$11,応募者名簿!$I$11)","v":""},"交通安全ポスター",{"$f":"CONCATENATE(応募者名簿!K534)","v":""},{"$f":"CONCATENATE(応募者名簿!L534)","v":""},{"$f":"CONCATENATE(応募者名簿!M534)","v":""},{"$f":"CONCATENATE(応募者名簿!N534)","v":""}]
[{"$f":"応募者名簿!$B$8","v":0},{"$f":"CONCATENATE(応募者名簿!$B$11,応募者名簿!$D$11,応募者名簿!$E$11,応募者名簿!$I$11)","v":""},"交通安全ポスター",{"$f":"CONCATENATE(応募者名簿!K535)","v":""},{"$f":"CONCATENATE(応募者名簿!L535)","v":""},{"$f":"CONCATENATE(応募者名簿!M535)","v":""},{"$f":"CONCATENATE(応募者名簿!N535)","v":""}]
[{"$f":"応募者名簿!$B$8","v":0},{"$f":"CONCATENATE(応募者名簿!$B$11,応募者名簿!$D$11,応募者名簿!$E$11,応募者名簿!$I$11)","v":""},"交通安全ポスター",{"$f":"CONCATENATE(応募者名簿!K536)","v":""},{"$f":"CONCATENATE(応募者名簿!L536)","v":""},{"$f":"CONCATENATE(応募者名簿!M536)","v":""},{"$f":"CONCATENATE(応募者名簿!N536)","v":""}]
[{"$f":"応募者名簿!$B$8","v":0},{"$f":"CONCATENATE(応募者名簿!$B$11,応募者名簿!$D$11,応募者名簿!$E$11,応募者名簿!$I$11)","v":""},"交通安全ポスター",{"$f":"CONCATENATE(応募者名簿!K537)","v":""},{"$f":"CONCATENATE(応募者名簿!L537)","v":""},{"$f":"CONCATENATE(応募者名簿!M537)","v":""},{"$f":"CONCATENATE(応募者名簿!N537)","v":""}]
[{"$f":"応募者名簿!$B$8","v":0},{"$f":"CONCATENATE(応募者名簿!$B$11,応募者名簿!$D$11,応募者名簿!$E$11,応募者名簿!$I$11)","v":""},"交通安全ポスター",{"$f":"CONCATENATE(応募者名簿!K538)","v":""},{"$f":"CONCATENATE(応募者名簿!L538)","v":""},{"$f":"CONCATENATE(応募者名簿!M538)","v":""},{"$f":"CONCATENATE(応募者名簿!N538)","v":""}]
[{"$f":"応募者名簿!$B$8","v":0},{"$f":"CONCATENATE(応募者名簿!$B$11,応募者名簿!$D$11,応募者名簿!$E$11,応募者名簿!$I$11)","v":""},"交通安全ポスター",{"$f":"CONCATENATE(応募者名簿!K539)","v":""},{"$f":"CONCATENATE(応募者名簿!L539)","v":""},{"$f":"CONCATENATE(応募者名簿!M539)","v":""},{"$f":"CONCATENATE(応募者名簿!N539)","v":""}]
[{"$f":"応募者名簿!$B$8","v":0},{"$f":"CONCATENATE(応募者名簿!$B$11,応募者名簿!$D$11,応募者名簿!$E$11,応募者名簿!$I$11)","v":""},"交通安全ポスター",{"$f":"CONCATENATE(応募者名簿!K540)","v":""},{"$f":"CONCATENATE(応募者名簿!L540)","v":""},{"$f":"CONCATENATE(応募者名簿!M540)","v":""},{"$f":"CONCATENATE(応募者名簿!N540)","v":""}]
[{"$f":"応募者名簿!$B$8","v":0},{"$f":"CONCATENATE(応募者名簿!$B$11,応募者名簿!$D$11,応募者名簿!$E$11,応募者名簿!$I$11)","v":""},"交通安全ポスター",{"$f":"CONCATENATE(応募者名簿!K541)","v":""},{"$f":"CONCATENATE(応募者名簿!L541)","v":""},{"$f":"CONCATENATE(応募者名簿!M541)","v":""},{"$f":"CONCATENATE(応募者名簿!N541)","v":""}]
[{"$f":"応募者名簿!$B$8","v":0},{"$f":"CONCATENATE(応募者名簿!$B$11,応募者名簿!$D$11,応募者名簿!$E$11,応募者名簿!$I$11)","v":""},"交通安全ポスター",{"$f":"CONCATENATE(応募者名簿!K542)","v":""},{"$f":"CONCATENATE(応募者名簿!L542)","v":""},{"$f":"CONCATENATE(応募者名簿!M542)","v":""},{"$f":"CONCATENATE(応募者名簿!N542)","v":""}]
[{"$f":"応募者名簿!$B$8","v":0},{"$f":"CONCATENATE(応募者名簿!$B$11,応募者名簿!$D$11,応募者名簿!$E$11,応募者名簿!$I$11)","v":""},"交通安全ポスター",{"$f":"CONCATENATE(応募者名簿!K543)","v":""},{"$f":"CONCATENATE(応募者名簿!L543)","v":""},{"$f":"CONCATENATE(応募者名簿!M543)","v":""},{"$f":"CONCATENATE(応募者名簿!N543)","v":""}]
[{"$f":"応募者名簿!$B$8","v":0},{"$f":"CONCATENATE(応募者名簿!$B$11,応募者名簿!$D$11,応募者名簿!$E$11,応募者名簿!$I$11)","v":""},"交通安全ポスター",{"$f":"CONCATENATE(応募者名簿!K544)","v":""},{"$f":"CONCATENATE(応募者名簿!L544)","v":""},{"$f":"CONCATENATE(応募者名簿!M544)","v":""},{"$f":"CONCATENATE(応募者名簿!N544)","v":""}]
[{"$f":"応募者名簿!$B$8","v":0},{"$f":"CONCATENATE(応募者名簿!$B$11,応募者名簿!$D$11,応募者名簿!$E$11,応募者名簿!$I$11)","v":""},"交通安全ポスター",{"$f":"CONCATENATE(応募者名簿!K545)","v":""},{"$f":"CONCATENATE(応募者名簿!L545)","v":""},{"$f":"CONCATENATE(応募者名簿!M545)","v":""},{"$f":"CONCATENATE(応募者名簿!N545)","v":""}]
[{"$f":"応募者名簿!$B$8","v":0},{"$f":"CONCATENATE(応募者名簿!$B$11,応募者名簿!$D$11,応募者名簿!$E$11,応募者名簿!$I$11)","v":""},"交通安全ポスター",{"$f":"CONCATENATE(応募者名簿!K546)","v":""},{"$f":"CONCATENATE(応募者名簿!L546)","v":""},{"$f":"CONCATENATE(応募者名簿!M546)","v":""},{"$f":"CONCATENATE(応募者名簿!N546)","v":""}]
[{"$f":"応募者名簿!$B$8","v":0},{"$f":"CONCATENATE(応募者名簿!$B$11,応募者名簿!$D$11,応募者名簿!$E$11,応募者名簿!$I$11)","v":""},"交通安全ポスター",{"$f":"CONCATENATE(応募者名簿!K547)","v":""},{"$f":"CONCATENATE(応募者名簿!L547)","v":""},{"$f":"CONCATENATE(応募者名簿!M547)","v":""},{"$f":"CONCATENATE(応募者名簿!N547)","v":""}]
[{"$f":"応募者名簿!$B$8","v":0},{"$f":"CONCATENATE(応募者名簿!$B$11,応募者名簿!$D$11,応募者名簿!$E$11,応募者名簿!$I$11)","v":""},"交通安全ポスター",{"$f":"CONCATENATE(応募者名簿!K548)","v":""},{"$f":"CONCATENATE(応募者名簿!L548)","v":""},{"$f":"CONCATENATE(応募者名簿!M548)","v":""},{"$f":"CONCATENATE(応募者名簿!N548)","v":""}]
[{"$f":"応募者名簿!$B$8","v":0},{"$f":"CONCATENATE(応募者名簿!$B$11,応募者名簿!$D$11,応募者名簿!$E$11,応募者名簿!$I$11)","v":""},"交通安全ポスター",{"$f":"CONCATENATE(応募者名簿!K549)","v":""},{"$f":"CONCATENATE(応募者名簿!L549)","v":""},{"$f":"CONCATENATE(応募者名簿!M549)","v":""},{"$f":"CONCATENATE(応募者名簿!N549)","v":""}]
[{"$f":"応募者名簿!$B$8","v":0},{"$f":"CONCATENATE(応募者名簿!$B$11,応募者名簿!$D$11,応募者名簿!$E$11,応募者名簿!$I$11)","v":""},"交通安全ポスター",{"$f":"CONCATENATE(応募者名簿!K550)","v":""},{"$f":"CONCATENATE(応募者名簿!L550)","v":""},{"$f":"CONCATENATE(応募者名簿!M550)","v":""},{"$f":"CONCATENATE(応募者名簿!N550)","v":""}]
[{"$f":"応募者名簿!$B$8","v":0},{"$f":"CONCATENATE(応募者名簿!$B$11,応募者名簿!$D$11,応募者名簿!$E$11,応募者名簿!$I$11)","v":""},"交通安全ポスター",{"$f":"CONCATENATE(応募者名簿!K551)","v":""},{"$f":"CONCATENATE(応募者名簿!L551)","v":""},{"$f":"CONCATENATE(応募者名簿!M551)","v":""},{"$f":"CONCATENATE(応募者名簿!N551)","v":""}]
[{"$f":"応募者名簿!$B$8","v":0},{"$f":"CONCATENATE(応募者名簿!$B$11,応募者名簿!$D$11,応募者名簿!$E$11,応募者名簿!$I$11)","v":""},"交通安全ポスター",{"$f":"CONCATENATE(応募者名簿!K552)","v":""},{"$f":"CONCATENATE(応募者名簿!L552)","v":""},{"$f":"CONCATENATE(応募者名簿!M552)","v":""},{"$f":"CONCATENATE(応募者名簿!N552)","v":""}]
[{"$f":"応募者名簿!$B$8","v":0},{"$f":"CONCATENATE(応募者名簿!$B$11,応募者名簿!$D$11,応募者名簿!$E$11,応募者名簿!$I$11)","v":""},"交通安全ポスター",{"$f":"CONCATENATE(応募者名簿!K553)","v":""},{"$f":"CONCATENATE(応募者名簿!L553)","v":""},{"$f":"CONCATENATE(応募者名簿!M553)","v":""},{"$f":"CONCATENATE(応募者名簿!N553)","v":""}]
[{"$f":"応募者名簿!$B$8","v":0},{"$f":"CONCATENATE(応募者名簿!$B$11,応募者名簿!$D$11,応募者名簿!$E$11,応募者名簿!$I$11)","v":""},"交通安全ポスター",{"$f":"CONCATENATE(応募者名簿!K554)","v":""},{"$f":"CONCATENATE(応募者名簿!L554)","v":""},{"$f":"CONCATENATE(応募者名簿!M554)","v":""},{"$f":"CONCATENATE(応募者名簿!N554)","v":""}]
[{"$f":"応募者名簿!$B$8","v":0},{"$f":"CONCATENATE(応募者名簿!$B$11,応募者名簿!$D$11,応募者名簿!$E$11,応募者名簿!$I$11)","v":""},"交通安全ポスター",{"$f":"CONCATENATE(応募者名簿!K555)","v":""},{"$f":"CONCATENATE(応募者名簿!L555)","v":""},{"$f":"CONCATENATE(応募者名簿!M555)","v":""},{"$f":"CONCATENATE(応募者名簿!N555)","v":""}]
[{"$f":"応募者名簿!$B$8","v":0},{"$f":"CONCATENATE(応募者名簿!$B$11,応募者名簿!$D$11,応募者名簿!$E$11,応募者名簿!$I$11)","v":""},"交通安全ポスター",{"$f":"CONCATENATE(応募者名簿!K556)","v":""},{"$f":"CONCATENATE(応募者名簿!L556)","v":""},{"$f":"CONCATENATE(応募者名簿!M556)","v":""},{"$f":"CONCATENATE(応募者名簿!N556)","v":""}]
[{"$f":"応募者名簿!$B$8","v":0},{"$f":"CONCATENATE(応募者名簿!$B$11,応募者名簿!$D$11,応募者名簿!$E$11,応募者名簿!$I$11)","v":""},"交通安全ポスター",{"$f":"CONCATENATE(応募者名簿!K557)","v":""},{"$f":"CONCATENATE(応募者名簿!L557)","v":""},{"$f":"CONCATENATE(応募者名簿!M557)","v":""},{"$f":"CONCATENATE(応募者名簿!N557)","v":""}]
[{"$f":"応募者名簿!$B$8","v":0},{"$f":"CONCATENATE(応募者名簿!$B$11,応募者名簿!$D$11,応募者名簿!$E$11,応募者名簿!$I$11)","v":""},"交通安全ポスター",{"$f":"CONCATENATE(応募者名簿!K558)","v":""},{"$f":"CONCATENATE(応募者名簿!L558)","v":""},{"$f":"CONCATENATE(応募者名簿!M558)","v":""},{"$f":"CONCATENATE(応募者名簿!N558)","v":""}]
[{"$f":"応募者名簿!$B$8","v":0},{"$f":"CONCATENATE(応募者名簿!$B$11,応募者名簿!$D$11,応募者名簿!$E$11,応募者名簿!$I$11)","v":""},"交通安全ポスター",{"$f":"CONCATENATE(応募者名簿!K559)","v":""},{"$f":"CONCATENATE(応募者名簿!L559)","v":""},{"$f":"CONCATENATE(応募者名簿!M559)","v":""},{"$f":"CONCATENATE(応募者名簿!N559)","v":""}]
[{"$f":"応募者名簿!$B$8","v":0},{"$f":"CONCATENATE(応募者名簿!$B$11,応募者名簿!$D$11,応募者名簿!$E$11,応募者名簿!$I$11)","v":""},"交通安全ポスター",{"$f":"CONCATENATE(応募者名簿!K560)","v":""},{"$f":"CONCATENATE(応募者名簿!L560)","v":""},{"$f":"CONCATENATE(応募者名簿!M560)","v":""},{"$f":"CONCATENATE(応募者名簿!N560)","v":""}]
[{"$f":"応募者名簿!$B$8","v":0},{"$f":"CONCATENATE(応募者名簿!$B$11,応募者名簿!$D$11,応募者名簿!$E$11,応募者名簿!$I$11)","v":""},"交通安全ポスター",{"$f":"CONCATENATE(応募者名簿!K561)","v":""},{"$f":"CONCATENATE(応募者名簿!L561)","v":""},{"$f":"CONCATENATE(応募者名簿!M561)","v":""},{"$f":"CONCATENATE(応募者名簿!N561)","v":""}]
[{"$f":"応募者名簿!$B$8","v":0},{"$f":"CONCATENATE(応募者名簿!$B$11,応募者名簿!$D$11,応募者名簿!$E$11,応募者名簿!$I$11)","v":""},"交通安全ポスター",{"$f":"CONCATENATE(応募者名簿!K562)","v":""},{"$f":"CONCATENATE(応募者名簿!L562)","v":""},{"$f":"CONCATENATE(応募者名簿!M562)","v":""},{"$f":"CONCATENATE(応募者名簿!N562)","v":""}]
[{"$f":"応募者名簿!$B$8","v":0},{"$f":"CONCATENATE(応募者名簿!$B$11,応募者名簿!$D$11,応募者名簿!$E$11,応募者名簿!$I$11)","v":""},"交通安全ポスター",{"$f":"CONCATENATE(応募者名簿!K563)","v":""},{"$f":"CONCATENATE(応募者名簿!L563)","v":""},{"$f":"CONCATENATE(応募者名簿!M563)","v":""},{"$f":"CONCATENATE(応募者名簿!N563)","v":""}]
[{"$f":"応募者名簿!$B$8","v":0},{"$f":"CONCATENATE(応募者名簿!$B$11,応募者名簿!$D$11,応募者名簿!$E$11,応募者名簿!$I$11)","v":""},"交通安全ポスター",{"$f":"CONCATENATE(応募者名簿!K564)","v":""},{"$f":"CONCATENATE(応募者名簿!L564)","v":""},{"$f":"CONCATENATE(応募者名簿!M564)","v":""},{"$f":"CONCATENATE(応募者名簿!N564)","v":""}]
[{"$f":"応募者名簿!$B$8","v":0},{"$f":"CONCATENATE(応募者名簿!$B$11,応募者名簿!$D$11,応募者名簿!$E$11,応募者名簿!$I$11)","v":""},"交通安全ポスター",{"$f":"CONCATENATE(応募者名簿!K565)","v":""},{"$f":"CONCATENATE(応募者名簿!L565)","v":""},{"$f":"CONCATENATE(応募者名簿!M565)","v":""},{"$f":"CONCATENATE(応募者名簿!N565)","v":""}]
[{"$f":"応募者名簿!$B$8","v":0},{"$f":"CONCATENATE(応募者名簿!$B$11,応募者名簿!$D$11,応募者名簿!$E$11,応募者名簿!$I$11)","v":""},"交通安全ポスター",{"$f":"CONCATENATE(応募者名簿!K566)","v":""},{"$f":"CONCATENATE(応募者名簿!L566)","v":""},{"$f":"CONCATENATE(応募者名簿!M566)","v":""},{"$f":"CONCATENATE(応募者名簿!N566)","v":""}]
[{"$f":"応募者名簿!$B$8","v":0},{"$f":"CONCATENATE(応募者名簿!$B$11,応募者名簿!$D$11,応募者名簿!$E$11,応募者名簿!$I$11)","v":""},"交通安全ポスター",{"$f":"CONCATENATE(応募者名簿!K567)","v":""},{"$f":"CONCATENATE(応募者名簿!L567)","v":""},{"$f":"CONCATENATE(応募者名簿!M567)","v":""},{"$f":"CONCATENATE(応募者名簿!N567)","v":""}]
[{"$f":"応募者名簿!$B$8","v":0},{"$f":"CONCATENATE(応募者名簿!$B$11,応募者名簿!$D$11,応募者名簿!$E$11,応募者名簿!$I$11)","v":""},"交通安全ポスター",{"$f":"CONCATENATE(応募者名簿!K568)","v":""},{"$f":"CONCATENATE(応募者名簿!L568)","v":""},{"$f":"CONCATENATE(応募者名簿!M568)","v":""},{"$f":"CONCATENATE(応募者名簿!N568)","v":""}]
[{"$f":"応募者名簿!$B$8","v":0},{"$f":"CONCATENATE(応募者名簿!$B$11,応募者名簿!$D$11,応募者名簿!$E$11,応募者名簿!$I$11)","v":""},"交通安全ポスター",{"$f":"CONCATENATE(応募者名簿!K569)","v":""},{"$f":"CONCATENATE(応募者名簿!L569)","v":""},{"$f":"CONCATENATE(応募者名簿!M569)","v":""},{"$f":"CONCATENATE(応募者名簿!N569)","v":""}]
[{"$f":"応募者名簿!$B$8","v":0},{"$f":"CONCATENATE(応募者名簿!$B$11,応募者名簿!$D$11,応募者名簿!$E$11,応募者名簿!$I$11)","v":""},"交通安全ポスター",{"$f":"CONCATENATE(応募者名簿!K570)","v":""},{"$f":"CONCATENATE(応募者名簿!L570)","v":""},{"$f":"CONCATENATE(応募者名簿!M570)","v":""},{"$f":"CONCATENATE(応募者名簿!N570)","v":""}]
[{"$f":"応募者名簿!$B$8","v":0},{"$f":"CONCATENATE(応募者名簿!$B$11,応募者名簿!$D$11,応募者名簿!$E$11,応募者名簿!$I$11)","v":""},"交通安全ポスター",{"$f":"CONCATENATE(応募者名簿!K571)","v":""},{"$f":"CONCATENATE(応募者名簿!L571)","v":""},{"$f":"CONCATENATE(応募者名簿!M571)","v":""},{"$f":"CONCATENATE(応募者名簿!N571)","v":""}]
[{"$f":"応募者名簿!$B$8","v":0},{"$f":"CONCATENATE(応募者名簿!$B$11,応募者名簿!$D$11,応募者名簿!$E$11,応募者名簿!$I$11)","v":""},"交通安全ポスター",{"$f":"CONCATENATE(応募者名簿!K572)","v":""},{"$f":"CONCATENATE(応募者名簿!L572)","v":""},{"$f":"CONCATENATE(応募者名簿!M572)","v":""},{"$f":"CONCATENATE(応募者名簿!N572)","v":""}]
[{"$f":"応募者名簿!$B$8","v":0},{"$f":"CONCATENATE(応募者名簿!$B$11,応募者名簿!$D$11,応募者名簿!$E$11,応募者名簿!$I$11)","v":""},"交通安全ポスター",{"$f":"CONCATENATE(応募者名簿!K573)","v":""},{"$f":"CONCATENATE(応募者名簿!L573)","v":""},{"$f":"CONCATENATE(応募者名簿!M573)","v":""},{"$f":"CONCATENATE(応募者名簿!N573)","v":""}]
[{"$f":"応募者名簿!$B$8","v":0},{"$f":"CONCATENATE(応募者名簿!$B$11,応募者名簿!$D$11,応募者名簿!$E$11,応募者名簿!$I$11)","v":""},"交通安全ポスター",{"$f":"CONCATENATE(応募者名簿!K574)","v":""},{"$f":"CONCATENATE(応募者名簿!L574)","v":""},{"$f":"CONCATENATE(応募者名簿!M574)","v":""},{"$f":"CONCATENATE(応募者名簿!N574)","v":""}]
[{"$f":"応募者名簿!$B$8","v":0},{"$f":"CONCATENATE(応募者名簿!$B$11,応募者名簿!$D$11,応募者名簿!$E$11,応募者名簿!$I$11)","v":""},"交通安全ポスター",{"$f":"CONCATENATE(応募者名簿!K575)","v":""},{"$f":"CONCATENATE(応募者名簿!L575)","v":""},{"$f":"CONCATENATE(応募者名簿!M575)","v":""},{"$f":"CONCATENATE(応募者名簿!N575)","v":""}]
[{"$f":"応募者名簿!$B$8","v":0},{"$f":"CONCATENATE(応募者名簿!$B$11,応募者名簿!$D$11,応募者名簿!$E$11,応募者名簿!$I$11)","v":""},"交通安全ポスター",{"$f":"CONCATENATE(応募者名簿!K576)","v":""},{"$f":"CONCATENATE(応募者名簿!L576)","v":""},{"$f":"CONCATENATE(応募者名簿!M576)","v":""},{"$f":"CONCATENATE(応募者名簿!N576)","v":""}]
[{"$f":"応募者名簿!$B$8","v":0},{"$f":"CONCATENATE(応募者名簿!$B$11,応募者名簿!$D$11,応募者名簿!$E$11,応募者名簿!$I$11)","v":""},"交通安全ポスター",{"$f":"CONCATENATE(応募者名簿!K577)","v":""},{"$f":"CONCATENATE(応募者名簿!L577)","v":""},{"$f":"CONCATENATE(応募者名簿!M577)","v":""},{"$f":"CONCATENATE(応募者名簿!N577)","v":""}]
[{"$f":"応募者名簿!$B$8","v":0},{"$f":"CONCATENATE(応募者名簿!$B$11,応募者名簿!$D$11,応募者名簿!$E$11,応募者名簿!$I$11)","v":""},"交通安全ポスター",{"$f":"CONCATENATE(応募者名簿!K578)","v":""},{"$f":"CONCATENATE(応募者名簿!L578)","v":""},{"$f":"CONCATENATE(応募者名簿!M578)","v":""},{"$f":"CONCATENATE(応募者名簿!N578)","v":""}]
[{"$f":"応募者名簿!$B$8","v":0},{"$f":"CONCATENATE(応募者名簿!$B$11,応募者名簿!$D$11,応募者名簿!$E$11,応募者名簿!$I$11)","v":""},"交通安全ポスター",{"$f":"CONCATENATE(応募者名簿!K579)","v":""},{"$f":"CONCATENATE(応募者名簿!L579)","v":""},{"$f":"CONCATENATE(応募者名簿!M579)","v":""},{"$f":"CONCATENATE(応募者名簿!N579)","v":""}]
[{"$f":"応募者名簿!$B$8","v":0},{"$f":"CONCATENATE(応募者名簿!$B$11,応募者名簿!$D$11,応募者名簿!$E$11,応募者名簿!$I$11)","v":""},"交通安全ポスター",{"$f":"CONCATENATE(応募者名簿!K580)","v":""},{"$f":"CONCATENATE(応募者名簿!L580)","v":""},{"$f":"CONCATENATE(応募者名簿!M580)","v":""},{"$f":"CONCATENATE(応募者名簿!N580)","v":""}]
[{"$f":"応募者名簿!$B$8","v":0},{"$f":"CONCATENATE(応募者名簿!$B$11,応募者名簿!$D$11,応募者名簿!$E$11,応募者名簿!$I$11)","v":""},"交通安全ポスター",{"$f":"CONCATENATE(応募者名簿!K581)","v":""},{"$f":"CONCATENATE(応募者名簿!L581)","v":""},{"$f":"CONCATENATE(応募者名簿!M581)","v":""},{"$f":"CONCATENATE(応募者名簿!N581)","v":""}]
[{"$f":"応募者名簿!$B$8","v":0},{"$f":"CONCATENATE(応募者名簿!$B$11,応募者名簿!$D$11,応募者名簿!$E$11,応募者名簿!$I$11)","v":""},"交通安全ポスター",{"$f":"CONCATENATE(応募者名簿!K582)","v":""},{"$f":"CONCATENATE(応募者名簿!L582)","v":""},{"$f":"CONCATENATE(応募者名簿!M582)","v":""},{"$f":"CONCATENATE(応募者名簿!N582)","v":""}]
[{"$f":"応募者名簿!$B$8","v":0},{"$f":"CONCATENATE(応募者名簿!$B$11,応募者名簿!$D$11,応募者名簿!$E$11,応募者名簿!$I$11)","v":""},"交通安全ポスター",{"$f":"CONCATENATE(応募者名簿!K583)","v":""},{"$f":"CONCATENATE(応募者名簿!L583)","v":""},{"$f":"CONCATENATE(応募者名簿!M583)","v":""},{"$f":"CONCATENATE(応募者名簿!N583)","v":""}]
[{"$f":"応募者名簿!$B$8","v":0},{"$f":"CONCATENATE(応募者名簿!$B$11,応募者名簿!$D$11,応募者名簿!$E$11,応募者名簿!$I$11)","v":""},"交通安全ポスター",{"$f":"CONCATENATE(応募者名簿!K584)","v":""},{"$f":"CONCATENATE(応募者名簿!L584)","v":""},{"$f":"CONCATENATE(応募者名簿!M584)","v":""},{"$f":"CONCATENATE(応募者名簿!N584)","v":""}]
[{"$f":"応募者名簿!$B$8","v":0},{"$f":"CONCATENATE(応募者名簿!$B$11,応募者名簿!$D$11,応募者名簿!$E$11,応募者名簿!$I$11)","v":""},"交通安全ポスター",{"$f":"CONCATENATE(応募者名簿!K585)","v":""},{"$f":"CONCATENATE(応募者名簿!L585)","v":""},{"$f":"CONCATENATE(応募者名簿!M585)","v":""},{"$f":"CONCATENATE(応募者名簿!N585)","v":""}]
[{"$f":"応募者名簿!$B$8","v":0},{"$f":"CONCATENATE(応募者名簿!$B$11,応募者名簿!$D$11,応募者名簿!$E$11,応募者名簿!$I$11)","v":""},"交通安全ポスター",{"$f":"CONCATENATE(応募者名簿!K586)","v":""},{"$f":"CONCATENATE(応募者名簿!L586)","v":""},{"$f":"CONCATENATE(応募者名簿!M586)","v":""},{"$f":"CONCATENATE(応募者名簿!N586)","v":""}]
[{"$f":"応募者名簿!$B$8","v":0},{"$f":"CONCATENATE(応募者名簿!$B$11,応募者名簿!$D$11,応募者名簿!$E$11,応募者名簿!$I$11)","v":""},"交通安全ポスター",{"$f":"CONCATENATE(応募者名簿!K587)","v":""},{"$f":"CONCATENATE(応募者名簿!L587)","v":""},{"$f":"CONCATENATE(応募者名簿!M587)","v":""},{"$f":"CONCATENATE(応募者名簿!N587)","v":""}]
[{"$f":"応募者名簿!$B$8","v":0},{"$f":"CONCATENATE(応募者名簿!$B$11,応募者名簿!$D$11,応募者名簿!$E$11,応募者名簿!$I$11)","v":""},"交通安全ポスター",{"$f":"CONCATENATE(応募者名簿!K588)","v":""},{"$f":"CONCATENATE(応募者名簿!L588)","v":""},{"$f":"CONCATENATE(応募者名簿!M588)","v":""},{"$f":"CONCATENATE(応募者名簿!N588)","v":""}]
[{"$f":"応募者名簿!$B$8","v":0},{"$f":"CONCATENATE(応募者名簿!$B$11,応募者名簿!$D$11,応募者名簿!$E$11,応募者名簿!$I$11)","v":""},"交通安全ポスター",{"$f":"CONCATENATE(応募者名簿!K589)","v":""},{"$f":"CONCATENATE(応募者名簿!L589)","v":""},{"$f":"CONCATENATE(応募者名簿!M589)","v":""},{"$f":"CONCATENATE(応募者名簿!N589)","v":""}]
[{"$f":"応募者名簿!$B$8","v":0},{"$f":"CONCATENATE(応募者名簿!$B$11,応募者名簿!$D$11,応募者名簿!$E$11,応募者名簿!$I$11)","v":""},"交通安全ポスター",{"$f":"CONCATENATE(応募者名簿!K590)","v":""},{"$f":"CONCATENATE(応募者名簿!L590)","v":""},{"$f":"CONCATENATE(応募者名簿!M590)","v":""},{"$f":"CONCATENATE(応募者名簿!N590)","v":""}]
[{"$f":"応募者名簿!$B$8","v":0},{"$f":"CONCATENATE(応募者名簿!$B$11,応募者名簿!$D$11,応募者名簿!$E$11,応募者名簿!$I$11)","v":""},"交通安全ポスター",{"$f":"CONCATENATE(応募者名簿!K591)","v":""},{"$f":"CONCATENATE(応募者名簿!L591)","v":""},{"$f":"CONCATENATE(応募者名簿!M591)","v":""},{"$f":"CONCATENATE(応募者名簿!N591)","v":""}]
[{"$f":"応募者名簿!$B$8","v":0},{"$f":"CONCATENATE(応募者名簿!$B$11,応募者名簿!$D$11,応募者名簿!$E$11,応募者名簿!$I$11)","v":""},"交通安全ポスター",{"$f":"CONCATENATE(応募者名簿!K592)","v":""},{"$f":"CONCATENATE(応募者名簿!L592)","v":""},{"$f":"CONCATENATE(応募者名簿!M592)","v":""},{"$f":"CONCATENATE(応募者名簿!N592)","v":""}]
[{"$f":"応募者名簿!$B$8","v":0},{"$f":"CONCATENATE(応募者名簿!$B$11,応募者名簿!$D$11,応募者名簿!$E$11,応募者名簿!$I$11)","v":""},"交通安全ポスター",{"$f":"CONCATENATE(応募者名簿!K593)","v":""},{"$f":"CONCATENATE(応募者名簿!L593)","v":""},{"$f":"CONCATENATE(応募者名簿!M593)","v":""},{"$f":"CONCATENATE(応募者名簿!N593)","v":""}]
[{"$f":"応募者名簿!$B$8","v":0},{"$f":"CONCATENATE(応募者名簿!$B$11,応募者名簿!$D$11,応募者名簿!$E$11,応募者名簿!$I$11)","v":""},"交通安全ポスター",{"$f":"CONCATENATE(応募者名簿!K594)","v":""},{"$f":"CONCATENATE(応募者名簿!L594)","v":""},{"$f":"CONCATENATE(応募者名簿!M594)","v":""},{"$f":"CONCATENATE(応募者名簿!N594)","v":""}]
[{"$f":"応募者名簿!$B$8","v":0},{"$f":"CONCATENATE(応募者名簿!$B$11,応募者名簿!$D$11,応募者名簿!$E$11,応募者名簿!$I$11)","v":""},"交通安全ポスター",{"$f":"CONCATENATE(応募者名簿!K595)","v":""},{"$f":"CONCATENATE(応募者名簿!L595)","v":""},{"$f":"CONCATENATE(応募者名簿!M595)","v":""},{"$f":"CONCATENATE(応募者名簿!N595)","v":""}]
[{"$f":"応募者名簿!$B$8","v":0},{"$f":"CONCATENATE(応募者名簿!$B$11,応募者名簿!$D$11,応募者名簿!$E$11,応募者名簿!$I$11)","v":""},"交通安全ポスター",{"$f":"CONCATENATE(応募者名簿!K596)","v":""},{"$f":"CONCATENATE(応募者名簿!L596)","v":""},{"$f":"CONCATENATE(応募者名簿!M596)","v":""},{"$f":"CONCATENATE(応募者名簿!N596)","v":""}]
[{"$f":"応募者名簿!$B$8","v":0},{"$f":"CONCATENATE(応募者名簿!$B$11,応募者名簿!$D$11,応募者名簿!$E$11,応募者名簿!$I$11)","v":""},"交通安全ポスター",{"$f":"CONCATENATE(応募者名簿!K597)","v":""},{"$f":"CONCATENATE(応募者名簿!L597)","v":""},{"$f":"CONCATENATE(応募者名簿!M597)","v":""},{"$f":"CONCATENATE(応募者名簿!N597)","v":""}]
[{"$f":"応募者名簿!$B$8","v":0},{"$f":"CONCATENATE(応募者名簿!$B$11,応募者名簿!$D$11,応募者名簿!$E$11,応募者名簿!$I$11)","v":""},"交通安全ポスター",{"$f":"CONCATENATE(応募者名簿!K598)","v":""},{"$f":"CONCATENATE(応募者名簿!L598)","v":""},{"$f":"CONCATENATE(応募者名簿!M598)","v":""},{"$f":"CONCATENATE(応募者名簿!N598)","v":""}]
[{"$f":"応募者名簿!$B$8","v":0},{"$f":"CONCATENATE(応募者名簿!$B$11,応募者名簿!$D$11,応募者名簿!$E$11,応募者名簿!$I$11)","v":""},"交通安全ポスター",{"$f":"CONCATENATE(応募者名簿!K599)","v":""},{"$f":"CONCATENATE(応募者名簿!L599)","v":""},{"$f":"CONCATENATE(応募者名簿!M599)","v":""},{"$f":"CONCATENATE(応募者名簿!N599)","v":""}]
[{"$f":"応募者名簿!$B$8","v":0},{"$f":"CONCATENATE(応募者名簿!$B$11,応募者名簿!$D$11,応募者名簿!$E$11,応募者名簿!$I$11)","v":""},"交通安全ポスター",{"$f":"CONCATENATE(応募者名簿!K600)","v":""},{"$f":"CONCATENATE(応募者名簿!L600)","v":""},{"$f":"CONCATENATE(応募者名簿!M600)","v":""},{"$f":"CONCATENATE(応募者名簿!N600)","v":""}]
[{"$f":"応募者名簿!$B$8","v":0},{"$f":"CONCATENATE(応募者名簿!$B$11,応募者名簿!$D$11,応募者名簿!$E$11,応募者名簿!$I$11)","v":""},"交通安全ポスター",{"$f":"CONCATENATE(応募者名簿!K601)","v":""},{"$f":"CONCATENATE(応募者名簿!L601)","v":""},{"$f":"CONCATENATE(応募者名簿!M601)","v":""},{"$f":"CONCATENATE(応募者名簿!N601)","v":""}]
[{"$f":"応募者名簿!$B$8","v":0},{"$f":"CONCATENATE(応募者名簿!$B$11,応募者名簿!$D$11,応募者名簿!$E$11,応募者名簿!$I$11)","v":""},"交通安全ポスター",{"$f":"CONCATENATE(応募者名簿!K602)","v":""},{"$f":"CONCATENATE(応募者名簿!L602)","v":""},{"$f":"CONCATENATE(応募者名簿!M602)","v":""},{"$f":"CONCATENATE(応募者名簿!N602)","v":""}]
[{"$f":"応募者名簿!$B$8","v":0},{"$f":"CONCATENATE(応募者名簿!$B$11,応募者名簿!$D$11,応募者名簿!$E$11,応募者名簿!$I$11)","v":""},"交通安全ポスター",{"$f":"CONCATENATE(応募者名簿!K603)","v":""},{"$f":"CONCATENATE(応募者名簿!L603)","v":""},{"$f":"CONCATENATE(応募者名簿!M603)","v":""},{"$f":"CONCATENATE(応募者名簿!N603)","v":""}]
[{"$f":"応募者名簿!$B$8","v":0},{"$f":"CONCATENATE(応募者名簿!$B$11,応募者名簿!$D$11,応募者名簿!$E$11,応募者名簿!$I$11)","v":""},"交通安全ポスター",{"$f":"CONCATENATE(応募者名簿!K604)","v":""},{"$f":"CONCATENATE(応募者名簿!L604)","v":""},{"$f":"CONCATENATE(応募者名簿!M604)","v":""},{"$f":"CONCATENATE(応募者名簿!N604)","v":""}]
[{"$f":"応募者名簿!$B$8","v":0},{"$f":"CONCATENATE(応募者名簿!$B$11,応募者名簿!$D$11,応募者名簿!$E$11,応募者名簿!$I$11)","v":""},"交通安全ポスター",{"$f":"CONCATENATE(応募者名簿!K605)","v":""},{"$f":"CONCATENATE(応募者名簿!L605)","v":""},{"$f":"CONCATENATE(応募者名簿!M605)","v":""},{"$f":"CONCATENATE(応募者名簿!N605)","v":""}]
[{"$f":"応募者名簿!$B$8","v":0},{"$f":"CONCATENATE(応募者名簿!$B$11,応募者名簿!$D$11,応募者名簿!$E$11,応募者名簿!$I$11)","v":""},"交通安全ポスター",{"$f":"CONCATENATE(応募者名簿!K606)","v":""},{"$f":"CONCATENATE(応募者名簿!L606)","v":""},{"$f":"CONCATENATE(応募者名簿!M606)","v":""},{"$f":"CONCATENATE(応募者名簿!N606)","v":""}]
[{"$f":"応募者名簿!$B$8","v":0},{"$f":"CONCATENATE(応募者名簿!$B$11,応募者名簿!$D$11,応募者名簿!$E$11,応募者名簿!$I$11)","v":""},"交通安全ポスター",{"$f":"CONCATENATE(応募者名簿!K607)","v":""},{"$f":"CONCATENATE(応募者名簿!L607)","v":""},{"$f":"CONCATENATE(応募者名簿!M607)","v":""},{"$f":"CONCATENATE(応募者名簿!N607)","v":""}]
[{"$f":"応募者名簿!$B$8","v":0},{"$f":"CONCATENATE(応募者名簿!$B$11,応募者名簿!$D$11,応募者名簿!$E$11,応募者名簿!$I$11)","v":""},"交通安全ポスター",{"$f":"CONCATENATE(応募者名簿!K608)","v":""},{"$f":"CONCATENATE(応募者名簿!L608)","v":""},{"$f":"CONCATENATE(応募者名簿!M608)","v":""},{"$f":"CONCATENATE(応募者名簿!N608)","v":""}]
[{"$f":"応募者名簿!$B$8","v":0},{"$f":"CONCATENATE(応募者名簿!$B$11,応募者名簿!$D$11,応募者名簿!$E$11,応募者名簿!$I$11)","v":""},"交通安全ポスター",{"$f":"CONCATENATE(応募者名簿!K609)","v":""},{"$f":"CONCATENATE(応募者名簿!L609)","v":""},{"$f":"CONCATENATE(応募者名簿!M609)","v":""},{"$f":"CONCATENATE(応募者名簿!N609)","v":""}]
[{"$f":"応募者名簿!$B$8","v":0},{"$f":"CONCATENATE(応募者名簿!$B$11,応募者名簿!$D$11,応募者名簿!$E$11,応募者名簿!$I$11)","v":""},"交通安全ポスター",{"$f":"CONCATENATE(応募者名簿!K610)","v":""},{"$f":"CONCATENATE(応募者名簿!L610)","v":""},{"$f":"CONCATENATE(応募者名簿!M610)","v":""},{"$f":"CONCATENATE(応募者名簿!N610)","v":""}]
[{"$f":"応募者名簿!$B$8","v":0},{"$f":"CONCATENATE(応募者名簿!$B$11,応募者名簿!$D$11,応募者名簿!$E$11,応募者名簿!$I$11)","v":""},"交通安全ポスター",{"$f":"CONCATENATE(応募者名簿!K611)","v":""},{"$f":"CONCATENATE(応募者名簿!L611)","v":""},{"$f":"CONCATENATE(応募者名簿!M611)","v":""},{"$f":"CONCATENATE(応募者名簿!N611)","v":""}]
[{"$f":"応募者名簿!$B$8","v":0},{"$f":"CONCATENATE(応募者名簿!$B$11,応募者名簿!$D$11,応募者名簿!$E$11,応募者名簿!$I$11)","v":""},"交通安全ポスター",{"$f":"CONCATENATE(応募者名簿!K612)","v":""},{"$f":"CONCATENATE(応募者名簿!L612)","v":""},{"$f":"CONCATENATE(応募者名簿!M612)","v":""},{"$f":"CONCATENATE(応募者名簿!N612)","v":""}]
[{"$f":"応募者名簿!$B$8","v":0},{"$f":"CONCATENATE(応募者名簿!$B$11,応募者名簿!$D$11,応募者名簿!$E$11,応募者名簿!$I$11)","v":""},"交通安全ポスター",{"$f":"CONCATENATE(応募者名簿!K613)","v":""},{"$f":"CONCATENATE(応募者名簿!L613)","v":""},{"$f":"CONCATENATE(応募者名簿!M613)","v":""},{"$f":"CONCATENATE(応募者名簿!N613)","v":""}]
[{"$f":"応募者名簿!$B$8","v":0},{"$f":"CONCATENATE(応募者名簿!$B$11,応募者名簿!$D$11,応募者名簿!$E$11,応募者名簿!$I$11)","v":""},"交通安全ポスター",{"$f":"CONCATENATE(応募者名簿!K614)","v":""},{"$f":"CONCATENATE(応募者名簿!L614)","v":""},{"$f":"CONCATENATE(応募者名簿!M614)","v":""},{"$f":"CONCATENATE(応募者名簿!N614)","v":""}]
[{"$f":"応募者名簿!$B$8","v":0},{"$f":"CONCATENATE(応募者名簿!$B$11,応募者名簿!$D$11,応募者名簿!$E$11,応募者名簿!$I$11)","v":""},"交通安全ポスター",{"$f":"CONCATENATE(応募者名簿!K615)","v":""},{"$f":"CONCATENATE(応募者名簿!L615)","v":""},{"$f":"CONCATENATE(応募者名簿!M615)","v":""},{"$f":"CONCATENATE(応募者名簿!N615)","v":""}]
[{"$f":"応募者名簿!$B$8","v":0},{"$f":"CONCATENATE(応募者名簿!$B$11,応募者名簿!$D$11,応募者名簿!$E$11,応募者名簿!$I$11)","v":""},"交通安全ポスター",{"$f":"CONCATENATE(応募者名簿!K616)","v":""},{"$f":"CONCATENATE(応募者名簿!L616)","v":""},{"$f":"CONCATENATE(応募者名簿!M616)","v":""},{"$f":"CONCATENATE(応募者名簿!N616)","v":""}]
[{"$f":"応募者名簿!$B$8","v":0},{"$f":"CONCATENATE(応募者名簿!$B$11,応募者名簿!$D$11,応募者名簿!$E$11,応募者名簿!$I$11)","v":""},"交通安全ポスター",{"$f":"CONCATENATE(応募者名簿!K617)","v":""},{"$f":"CONCATENATE(応募者名簿!L617)","v":""},{"$f":"CONCATENATE(応募者名簿!M617)","v":""},{"$f":"CONCATENATE(応募者名簿!N617)","v":""}]
[{"$f":"応募者名簿!$B$8","v":0},{"$f":"CONCATENATE(応募者名簿!$B$11,応募者名簿!$D$11,応募者名簿!$E$11,応募者名簿!$I$11)","v":""},"交通安全ポスター",{"$f":"CONCATENATE(応募者名簿!K618)","v":""},{"$f":"CONCATENATE(応募者名簿!L618)","v":""},{"$f":"CONCATENATE(応募者名簿!M618)","v":""},{"$f":"CONCATENATE(応募者名簿!N618)","v":""}]
[{"$f":"応募者名簿!$B$8","v":0},{"$f":"CONCATENATE(応募者名簿!$B$11,応募者名簿!$D$11,応募者名簿!$E$11,応募者名簿!$I$11)","v":""},"交通安全ポスター",{"$f":"CONCATENATE(応募者名簿!K619)","v":""},{"$f":"CONCATENATE(応募者名簿!L619)","v":""},{"$f":"CONCATENATE(応募者名簿!M619)","v":""},{"$f":"CONCATENATE(応募者名簿!N619)","v":""}]
[{"$f":"応募者名簿!$B$8","v":0},{"$f":"CONCATENATE(応募者名簿!$B$11,応募者名簿!$D$11,応募者名簿!$E$11,応募者名簿!$I$11)","v":""},"交通安全ポスター",{"$f":"CONCATENATE(応募者名簿!K620)","v":""},{"$f":"CONCATENATE(応募者名簿!L620)","v":""},{"$f":"CONCATENATE(応募者名簿!M620)","v":""},{"$f":"CONCATENATE(応募者名簿!N620)","v":""}]
[{"$f":"応募者名簿!$B$8","v":0},{"$f":"CONCATENATE(応募者名簿!$B$11,応募者名簿!$D$11,応募者名簿!$E$11,応募者名簿!$I$11)","v":""},"交通安全ポスター",{"$f":"CONCATENATE(応募者名簿!K621)","v":""},{"$f":"CONCATENATE(応募者名簿!L621)","v":""},{"$f":"CONCATENATE(応募者名簿!M621)","v":""},{"$f":"CONCATENATE(応募者名簿!N621)","v":""}]
[{"$f":"応募者名簿!$B$8","v":0},{"$f":"CONCATENATE(応募者名簿!$B$11,応募者名簿!$D$11,応募者名簿!$E$11,応募者名簿!$I$11)","v":""},"交通安全ポスター",{"$f":"CONCATENATE(応募者名簿!K622)","v":""},{"$f":"CONCATENATE(応募者名簿!L622)","v":""},{"$f":"CONCATENATE(応募者名簿!M622)","v":""},{"$f":"CONCATENATE(応募者名簿!N622)","v":""}]
[{"$f":"応募者名簿!$B$8","v":0},{"$f":"CONCATENATE(応募者名簿!$B$11,応募者名簿!$D$11,応募者名簿!$E$11,応募者名簿!$I$11)","v":""},"交通安全ポスター",{"$f":"CONCATENATE(応募者名簿!K623)","v":""},{"$f":"CONCATENATE(応募者名簿!L623)","v":""},{"$f":"CONCATENATE(応募者名簿!M623)","v":""},{"$f":"CONCATENATE(応募者名簿!N623)","v":""}]
[{"$f":"応募者名簿!$B$8","v":0},{"$f":"CONCATENATE(応募者名簿!$B$11,応募者名簿!$D$11,応募者名簿!$E$11,応募者名簿!$I$11)","v":""},"交通安全ポスター",{"$f":"CONCATENATE(応募者名簿!K624)","v":""},{"$f":"CONCATENATE(応募者名簿!L624)","v":""},{"$f":"CONCATENATE(応募者名簿!M624)","v":""},{"$f":"CONCATENATE(応募者名簿!N624)","v":""}]
[{"$f":"応募者名簿!$B$8","v":0},{"$f":"CONCATENATE(応募者名簿!$B$11,応募者名簿!$D$11,応募者名簿!$E$11,応募者名簿!$I$11)","v":""},"交通安全ポスター",{"$f":"CONCATENATE(応募者名簿!K625)","v":""},{"$f":"CONCATENATE(応募者名簿!L625)","v":""},{"$f":"CONCATENATE(応募者名簿!M625)","v":""},{"$f":"CONCATENATE(応募者名簿!N625)","v":""}]
[{"$f":"応募者名簿!$B$8","v":0},{"$f":"CONCATENATE(応募者名簿!$B$11,応募者名簿!$D$11,応募者名簿!$E$11,応募者名簿!$I$11)","v":""},"交通安全ポスター",{"$f":"CONCATENATE(応募者名簿!K626)","v":""},{"$f":"CONCATENATE(応募者名簿!L626)","v":""},{"$f":"CONCATENATE(応募者名簿!M626)","v":""},{"$f":"CONCATENATE(応募者名簿!N626)","v":""}]
[{"$f":"応募者名簿!$B$8","v":0},{"$f":"CONCATENATE(応募者名簿!$B$11,応募者名簿!$D$11,応募者名簿!$E$11,応募者名簿!$I$11)","v":""},"交通安全ポスター",{"$f":"CONCATENATE(応募者名簿!K627)","v":""},{"$f":"CONCATENATE(応募者名簿!L627)","v":""},{"$f":"CONCATENATE(応募者名簿!M627)","v":""},{"$f":"CONCATENATE(応募者名簿!N627)","v":""}]
[{"$f":"応募者名簿!$B$8","v":0},{"$f":"CONCATENATE(応募者名簿!$B$11,応募者名簿!$D$11,応募者名簿!$E$11,応募者名簿!$I$11)","v":""},"交通安全ポスター",{"$f":"CONCATENATE(応募者名簿!K628)","v":""},{"$f":"CONCATENATE(応募者名簿!L628)","v":""},{"$f":"CONCATENATE(応募者名簿!M628)","v":""},{"$f":"CONCATENATE(応募者名簿!N628)","v":""}]
[{"$f":"応募者名簿!$B$8","v":0},{"$f":"CONCATENATE(応募者名簿!$B$11,応募者名簿!$D$11,応募者名簿!$E$11,応募者名簿!$I$11)","v":""},"交通安全ポスター",{"$f":"CONCATENATE(応募者名簿!K629)","v":""},{"$f":"CONCATENATE(応募者名簿!L629)","v":""},{"$f":"CONCATENATE(応募者名簿!M629)","v":""},{"$f":"CONCATENATE(応募者名簿!N629)","v":""}]
[{"$f":"応募者名簿!$B$8","v":0},{"$f":"CONCATENATE(応募者名簿!$B$11,応募者名簿!$D$11,応募者名簿!$E$11,応募者名簿!$I$11)","v":""},"交通安全ポスター",{"$f":"CONCATENATE(応募者名簿!K630)","v":""},{"$f":"CONCATENATE(応募者名簿!L630)","v":""},{"$f":"CONCATENATE(応募者名簿!M630)","v":""},{"$f":"CONCATENATE(応募者名簿!N630)","v":""}]
[{"$f":"応募者名簿!$B$8","v":0},{"$f":"CONCATENATE(応募者名簿!$B$11,応募者名簿!$D$11,応募者名簿!$E$11,応募者名簿!$I$11)","v":""},"交通安全ポスター",{"$f":"CONCATENATE(応募者名簿!K631)","v":""},{"$f":"CONCATENATE(応募者名簿!L631)","v":""},{"$f":"CONCATENATE(応募者名簿!M631)","v":""},{"$f":"CONCATENATE(応募者名簿!N631)","v":""}]
[{"$f":"応募者名簿!$B$8","v":0},{"$f":"CONCATENATE(応募者名簿!$B$11,応募者名簿!$D$11,応募者名簿!$E$11,応募者名簿!$I$11)","v":""},"交通安全ポスター",{"$f":"CONCATENATE(応募者名簿!K632)","v":""},{"$f":"CONCATENATE(応募者名簿!L632)","v":""},{"$f":"CONCATENATE(応募者名簿!M632)","v":""},{"$f":"CONCATENATE(応募者名簿!N632)","v":""}]
[{"$f":"応募者名簿!$B$8","v":0},{"$f":"CONCATENATE(応募者名簿!$B$11,応募者名簿!$D$11,応募者名簿!$E$11,応募者名簿!$I$11)","v":""},"交通安全ポスター",{"$f":"CONCATENATE(応募者名簿!K633)","v":""},{"$f":"CONCATENATE(応募者名簿!L633)","v":""},{"$f":"CONCATENATE(応募者名簿!M633)","v":""},{"$f":"CONCATENATE(応募者名簿!N633)","v":""}]
[{"$f":"応募者名簿!$B$8","v":0},{"$f":"CONCATENATE(応募者名簿!$B$11,応募者名簿!$D$11,応募者名簿!$E$11,応募者名簿!$I$11)","v":""},"交通安全ポスター",{"$f":"CONCATENATE(応募者名簿!K634)","v":""},{"$f":"CONCATENATE(応募者名簿!L634)","v":""},{"$f":"CONCATENATE(応募者名簿!M634)","v":""},{"$f":"CONCATENATE(応募者名簿!N634)","v":""}]
[{"$f":"応募者名簿!$B$8","v":0},{"$f":"CONCATENATE(応募者名簿!$B$11,応募者名簿!$D$11,応募者名簿!$E$11,応募者名簿!$I$11)","v":""},"交通安全ポスター",{"$f":"CONCATENATE(応募者名簿!K635)","v":""},{"$f":"CONCATENATE(応募者名簿!L635)","v":""},{"$f":"CONCATENATE(応募者名簿!M635)","v":""},{"$f":"CONCATENATE(応募者名簿!N635)","v":""}]
[{"$f":"応募者名簿!$B$8","v":0},{"$f":"CONCATENATE(応募者名簿!$B$11,応募者名簿!$D$11,応募者名簿!$E$11,応募者名簿!$I$11)","v":""},"交通安全ポスター",{"$f":"CONCATENATE(応募者名簿!K636)","v":""},{"$f":"CONCATENATE(応募者名簿!L636)","v":""},{"$f":"CONCATENATE(応募者名簿!M636)","v":""},{"$f":"CONCATENATE(応募者名簿!N636)","v":""}]
[{"$f":"応募者名簿!$B$8","v":0},{"$f":"CONCATENATE(応募者名簿!$B$11,応募者名簿!$D$11,応募者名簿!$E$11,応募者名簿!$I$11)","v":""},"交通安全ポスター",{"$f":"CONCATENATE(応募者名簿!K637)","v":""},{"$f":"CONCATENATE(応募者名簿!L637)","v":""},{"$f":"CONCATENATE(応募者名簿!M637)","v":""},{"$f":"CONCATENATE(応募者名簿!N637)","v":""}]
[{"$f":"応募者名簿!$B$8","v":0},{"$f":"CONCATENATE(応募者名簿!$B$11,応募者名簿!$D$11,応募者名簿!$E$11,応募者名簿!$I$11)","v":""},"交通安全ポスター",{"$f":"CONCATENATE(応募者名簿!K638)","v":""},{"$f":"CONCATENATE(応募者名簿!L638)","v":""},{"$f":"CONCATENATE(応募者名簿!M638)","v":""},{"$f":"CONCATENATE(応募者名簿!N638)","v":""}]
[{"$f":"応募者名簿!$B$8","v":0},{"$f":"CONCATENATE(応募者名簿!$B$11,応募者名簿!$D$11,応募者名簿!$E$11,応募者名簿!$I$11)","v":""},"交通安全ポスター",{"$f":"CONCATENATE(応募者名簿!K639)","v":""},{"$f":"CONCATENATE(応募者名簿!L639)","v":""},{"$f":"CONCATENATE(応募者名簿!M639)","v":""},{"$f":"CONCATENATE(応募者名簿!N639)","v":""}]
[{"$f":"応募者名簿!$B$8","v":0},{"$f":"CONCATENATE(応募者名簿!$B$11,応募者名簿!$D$11,応募者名簿!$E$11,応募者名簿!$I$11)","v":""},"交通安全ポスター",{"$f":"CONCATENATE(応募者名簿!K640)","v":""},{"$f":"CONCATENATE(応募者名簿!L640)","v":""},{"$f":"CONCATENATE(応募者名簿!M640)","v":""},{"$f":"CONCATENATE(応募者名簿!N640)","v":""}]
[{"$f":"応募者名簿!$B$8","v":0},{"$f":"CONCATENATE(応募者名簿!$B$11,応募者名簿!$D$11,応募者名簿!$E$11,応募者名簿!$I$11)","v":""},"交通安全ポスター",{"$f":"CONCATENATE(応募者名簿!K641)","v":""},{"$f":"CONCATENATE(応募者名簿!L641)","v":""},{"$f":"CONCATENATE(応募者名簿!M641)","v":""},{"$f":"CONCATENATE(応募者名簿!N641)","v":""}]
[{"$f":"応募者名簿!$B$8","v":0},{"$f":"CONCATENATE(応募者名簿!$B$11,応募者名簿!$D$11,応募者名簿!$E$11,応募者名簿!$I$11)","v":""},"交通安全ポスター",{"$f":"CONCATENATE(応募者名簿!K642)","v":""},{"$f":"CONCATENATE(応募者名簿!L642)","v":""},{"$f":"CONCATENATE(応募者名簿!M642)","v":""},{"$f":"CONCATENATE(応募者名簿!N642)","v":""}]
[{"$f":"応募者名簿!$B$8","v":0},{"$f":"CONCATENATE(応募者名簿!$B$11,応募者名簿!$D$11,応募者名簿!$E$11,応募者名簿!$I$11)","v":""},"交通安全ポスター",{"$f":"CONCATENATE(応募者名簿!K643)","v":""},{"$f":"CONCATENATE(応募者名簿!L643)","v":""},{"$f":"CONCATENATE(応募者名簿!M643)","v":""},{"$f":"CONCATENATE(応募者名簿!N643)","v":""}]
[{"$f":"応募者名簿!$B$8","v":0},{"$f":"CONCATENATE(応募者名簿!$B$11,応募者名簿!$D$11,応募者名簿!$E$11,応募者名簿!$I$11)","v":""},"交通安全ポスター",{"$f":"CONCATENATE(応募者名簿!K644)","v":""},{"$f":"CONCATENATE(応募者名簿!L644)","v":""},{"$f":"CONCATENATE(応募者名簿!M644)","v":""},{"$f":"CONCATENATE(応募者名簿!N644)","v":""}]
[{"$f":"応募者名簿!$B$8","v":0},{"$f":"CONCATENATE(応募者名簿!$B$11,応募者名簿!$D$11,応募者名簿!$E$11,応募者名簿!$I$11)","v":""},"交通安全ポスター",{"$f":"CONCATENATE(応募者名簿!K645)","v":""},{"$f":"CONCATENATE(応募者名簿!L645)","v":""},{"$f":"CONCATENATE(応募者名簿!M645)","v":""},{"$f":"CONCATENATE(応募者名簿!N645)","v":""}]
[{"$f":"応募者名簿!$B$8","v":0},{"$f":"CONCATENATE(応募者名簿!$B$11,応募者名簿!$D$11,応募者名簿!$E$11,応募者名簿!$I$11)","v":""},"交通安全ポスター",{"$f":"CONCATENATE(応募者名簿!K646)","v":""},{"$f":"CONCATENATE(応募者名簿!L646)","v":""},{"$f":"CONCATENATE(応募者名簿!M646)","v":""},{"$f":"CONCATENATE(応募者名簿!N646)","v":""}]
[{"$f":"応募者名簿!$B$8","v":0},{"$f":"CONCATENATE(応募者名簿!$B$11,応募者名簿!$D$11,応募者名簿!$E$11,応募者名簿!$I$11)","v":""},"交通安全ポスター",{"$f":"CONCATENATE(応募者名簿!K647)","v":""},{"$f":"CONCATENATE(応募者名簿!L647)","v":""},{"$f":"CONCATENATE(応募者名簿!M647)","v":""},{"$f":"CONCATENATE(応募者名簿!N647)","v":""}]
[{"$f":"応募者名簿!$B$8","v":0},{"$f":"CONCATENATE(応募者名簿!$B$11,応募者名簿!$D$11,応募者名簿!$E$11,応募者名簿!$I$11)","v":""},"交通安全ポスター",{"$f":"CONCATENATE(応募者名簿!K648)","v":""},{"$f":"CONCATENATE(応募者名簿!L648)","v":""},{"$f":"CONCATENATE(応募者名簿!M648)","v":""},{"$f":"CONCATENATE(応募者名簿!N648)","v":""}]
[{"$f":"応募者名簿!$B$8","v":0},{"$f":"CONCATENATE(応募者名簿!$B$11,応募者名簿!$D$11,応募者名簿!$E$11,応募者名簿!$I$11)","v":""},"交通安全ポスター",{"$f":"CONCATENATE(応募者名簿!K649)","v":""},{"$f":"CONCATENATE(応募者名簿!L649)","v":""},{"$f":"CONCATENATE(応募者名簿!M649)","v":""},{"$f":"CONCATENATE(応募者名簿!N649)","v":""}]
[{"$f":"応募者名簿!$B$8","v":0},{"$f":"CONCATENATE(応募者名簿!$B$11,応募者名簿!$D$11,応募者名簿!$E$11,応募者名簿!$I$11)","v":""},"交通安全ポスター",{"$f":"CONCATENATE(応募者名簿!K650)","v":""},{"$f":"CONCATENATE(応募者名簿!L650)","v":""},{"$f":"CONCATENATE(応募者名簿!M650)","v":""},{"$f":"CONCATENATE(応募者名簿!N650)","v":""}]
[{"$f":"応募者名簿!$B$8","v":0},{"$f":"CONCATENATE(応募者名簿!$B$11,応募者名簿!$D$11,応募者名簿!$E$11,応募者名簿!$I$11)","v":""},"交通安全ポスター",{"$f":"CONCATENATE(応募者名簿!K651)","v":""},{"$f":"CONCATENATE(応募者名簿!L651)","v":""},{"$f":"CONCATENATE(応募者名簿!M651)","v":""},{"$f":"CONCATENATE(応募者名簿!N651)","v":""}]
[{"$f":"応募者名簿!$B$8","v":0},{"$f":"CONCATENATE(応募者名簿!$B$11,応募者名簿!$D$11,応募者名簿!$E$11,応募者名簿!$I$11)","v":""},"交通安全ポスター",{"$f":"CONCATENATE(応募者名簿!K652)","v":""},{"$f":"CONCATENATE(応募者名簿!L652)","v":""},{"$f":"CONCATENATE(応募者名簿!M652)","v":""},{"$f":"CONCATENATE(応募者名簿!N652)","v":""}]
[{"$f":"応募者名簿!$B$8","v":0},{"$f":"CONCATENATE(応募者名簿!$B$11,応募者名簿!$D$11,応募者名簿!$E$11,応募者名簿!$I$11)","v":""},"交通安全ポスター",{"$f":"CONCATENATE(応募者名簿!K653)","v":""},{"$f":"CONCATENATE(応募者名簿!L653)","v":""},{"$f":"CONCATENATE(応募者名簿!M653)","v":""},{"$f":"CONCATENATE(応募者名簿!N653)","v":""}]
[{"$f":"応募者名簿!$B$8","v":0},{"$f":"CONCATENATE(応募者名簿!$B$11,応募者名簿!$D$11,応募者名簿!$E$11,応募者名簿!$I$11)","v":""},"交通安全ポスター",{"$f":"CONCATENATE(応募者名簿!K654)","v":""},{"$f":"CONCATENATE(応募者名簿!L654)","v":""},{"$f":"CONCATENATE(応募者名簿!M654)","v":""},{"$f":"CONCATENATE(応募者名簿!N654)","v":""}]
[{"$f":"応募者名簿!$B$8","v":0},{"$f":"CONCATENATE(応募者名簿!$B$11,応募者名簿!$D$11,応募者名簿!$E$11,応募者名簿!$I$11)","v":""},"交通安全ポスター",{"$f":"CONCATENATE(応募者名簿!K655)","v":""},{"$f":"CONCATENATE(応募者名簿!L655)","v":""},{"$f":"CONCATENATE(応募者名簿!M655)","v":""},{"$f":"CONCATENATE(応募者名簿!N655)","v":""}]
[{"$f":"応募者名簿!$B$8","v":0},{"$f":"CONCATENATE(応募者名簿!$B$11,応募者名簿!$D$11,応募者名簿!$E$11,応募者名簿!$I$11)","v":""},"交通安全ポスター",{"$f":"CONCATENATE(応募者名簿!K656)","v":""},{"$f":"CONCATENATE(応募者名簿!L656)","v":""},{"$f":"CONCATENATE(応募者名簿!M656)","v":""},{"$f":"CONCATENATE(応募者名簿!N656)","v":""}]
[{"$f":"応募者名簿!$B$8","v":0},{"$f":"CONCATENATE(応募者名簿!$B$11,応募者名簿!$D$11,応募者名簿!$E$11,応募者名簿!$I$11)","v":""},"交通安全ポスター",{"$f":"CONCATENATE(応募者名簿!K657)","v":""},{"$f":"CONCATENATE(応募者名簿!L657)","v":""},{"$f":"CONCATENATE(応募者名簿!M657)","v":""},{"$f":"CONCATENATE(応募者名簿!N657)","v":""}]
[{"$f":"応募者名簿!$B$8","v":0},{"$f":"CONCATENATE(応募者名簿!$B$11,応募者名簿!$D$11,応募者名簿!$E$11,応募者名簿!$I$11)","v":""},"交通安全ポスター",{"$f":"CONCATENATE(応募者名簿!K658)","v":""},{"$f":"CONCATENATE(応募者名簿!L658)","v":""},{"$f":"CONCATENATE(応募者名簿!M658)","v":""},{"$f":"CONCATENATE(応募者名簿!N658)","v":""}]
[{"$f":"応募者名簿!$B$8","v":0},{"$f":"CONCATENATE(応募者名簿!$B$11,応募者名簿!$D$11,応募者名簿!$E$11,応募者名簿!$I$11)","v":""},"交通安全ポスター",{"$f":"CONCATENATE(応募者名簿!K659)","v":""},{"$f":"CONCATENATE(応募者名簿!L659)","v":""},{"$f":"CONCATENATE(応募者名簿!M659)","v":""},{"$f":"CONCATENATE(応募者名簿!N659)","v":""}]
[{"$f":"応募者名簿!$B$8","v":0},{"$f":"CONCATENATE(応募者名簿!$B$11,応募者名簿!$D$11,応募者名簿!$E$11,応募者名簿!$I$11)","v":""},"交通安全ポスター",{"$f":"CONCATENATE(応募者名簿!K660)","v":""},{"$f":"CONCATENATE(応募者名簿!L660)","v":""},{"$f":"CONCATENATE(応募者名簿!M660)","v":""},{"$f":"CONCATENATE(応募者名簿!N660)","v":""}]
[{"$f":"応募者名簿!$B$8","v":0},{"$f":"CONCATENATE(応募者名簿!$B$11,応募者名簿!$D$11,応募者名簿!$E$11,応募者名簿!$I$11)","v":""},"交通安全ポスター",{"$f":"CONCATENATE(応募者名簿!K661)","v":""},{"$f":"CONCATENATE(応募者名簿!L661)","v":""},{"$f":"CONCATENATE(応募者名簿!M661)","v":""},{"$f":"CONCATENATE(応募者名簿!N661)","v":""}]
[{"$f":"応募者名簿!$B$8","v":0},{"$f":"CONCATENATE(応募者名簿!$B$11,応募者名簿!$D$11,応募者名簿!$E$11,応募者名簿!$I$11)","v":""},"交通安全ポスター",{"$f":"CONCATENATE(応募者名簿!K662)","v":""},{"$f":"CONCATENATE(応募者名簿!L662)","v":""},{"$f":"CONCATENATE(応募者名簿!M662)","v":""},{"$f":"CONCATENATE(応募者名簿!N662)","v":""}]
[{"$f":"応募者名簿!$B$8","v":0},{"$f":"CONCATENATE(応募者名簿!$B$11,応募者名簿!$D$11,応募者名簿!$E$11,応募者名簿!$I$11)","v":""},"交通安全ポスター",{"$f":"CONCATENATE(応募者名簿!K663)","v":""},{"$f":"CONCATENATE(応募者名簿!L663)","v":""},{"$f":"CONCATENATE(応募者名簿!M663)","v":""},{"$f":"CONCATENATE(応募者名簿!N663)","v":""}]
[{"$f":"応募者名簿!$B$8","v":0},{"$f":"CONCATENATE(応募者名簿!$B$11,応募者名簿!$D$11,応募者名簿!$E$11,応募者名簿!$I$11)","v":""},"交通安全ポスター",{"$f":"CONCATENATE(応募者名簿!K664)","v":""},{"$f":"CONCATENATE(応募者名簿!L664)","v":""},{"$f":"CONCATENATE(応募者名簿!M664)","v":""},{"$f":"CONCATENATE(応募者名簿!N664)","v":""}]
[{"$f":"応募者名簿!$B$8","v":0},{"$f":"CONCATENATE(応募者名簿!$B$11,応募者名簿!$D$11,応募者名簿!$E$11,応募者名簿!$I$11)","v":""},"交通安全ポスター",{"$f":"CONCATENATE(応募者名簿!K665)","v":""},{"$f":"CONCATENATE(応募者名簿!L665)","v":""},{"$f":"CONCATENATE(応募者名簿!M665)","v":""},{"$f":"CONCATENATE(応募者名簿!N665)","v":""}]
[{"$f":"応募者名簿!$B$8","v":0},{"$f":"CONCATENATE(応募者名簿!$B$11,応募者名簿!$D$11,応募者名簿!$E$11,応募者名簿!$I$11)","v":""},"交通安全ポスター",{"$f":"CONCATENATE(応募者名簿!K666)","v":""},{"$f":"CONCATENATE(応募者名簿!L666)","v":""},{"$f":"CONCATENATE(応募者名簿!M666)","v":""},{"$f":"CONCATENATE(応募者名簿!N666)","v":""}]
[{"$f":"応募者名簿!$B$8","v":0},{"$f":"CONCATENATE(応募者名簿!$B$11,応募者名簿!$D$11,応募者名簿!$E$11,応募者名簿!$I$11)","v":""},"交通安全ポスター",{"$f":"CONCATENATE(応募者名簿!K667)","v":""},{"$f":"CONCATENATE(応募者名簿!L667)","v":""},{"$f":"CONCATENATE(応募者名簿!M667)","v":""},{"$f":"CONCATENATE(応募者名簿!N667)","v":""}]
[{"$f":"応募者名簿!$B$8","v":0},{"$f":"CONCATENATE(応募者名簿!$B$11,応募者名簿!$D$11,応募者名簿!$E$11,応募者名簿!$I$11)","v":""},"交通安全ポスター",{"$f":"CONCATENATE(応募者名簿!K668)","v":""},{"$f":"CONCATENATE(応募者名簿!L668)","v":""},{"$f":"CONCATENATE(応募者名簿!M668)","v":""},{"$f":"CONCATENATE(応募者名簿!N668)","v":""}]
[{"$f":"応募者名簿!$B$8","v":0},{"$f":"CONCATENATE(応募者名簿!$B$11,応募者名簿!$D$11,応募者名簿!$E$11,応募者名簿!$I$11)","v":""},"交通安全ポスター",{"$f":"CONCATENATE(応募者名簿!K669)","v":""},{"$f":"CONCATENATE(応募者名簿!L669)","v":""},{"$f":"CONCATENATE(応募者名簿!M669)","v":""},{"$f":"CONCATENATE(応募者名簿!N669)","v":""}]
[{"$f":"応募者名簿!$B$8","v":0},{"$f":"CONCATENATE(応募者名簿!$B$11,応募者名簿!$D$11,応募者名簿!$E$11,応募者名簿!$I$11)","v":""},"交通安全ポスター",{"$f":"CONCATENATE(応募者名簿!K670)","v":""},{"$f":"CONCATENATE(応募者名簿!L670)","v":""},{"$f":"CONCATENATE(応募者名簿!M670)","v":""},{"$f":"CONCATENATE(応募者名簿!N670)","v":""}]
[{"$f":"応募者名簿!$B$8","v":0},{"$f":"CONCATENATE(応募者名簿!$B$11,応募者名簿!$D$11,応募者名簿!$E$11,応募者名簿!$I$11)","v":""},"交通安全ポスター",{"$f":"CONCATENATE(応募者名簿!K671)","v":""},{"$f":"CONCATENATE(応募者名簿!L671)","v":""},{"$f":"CONCATENATE(応募者名簿!M671)","v":""},{"$f":"CONCATENATE(応募者名簿!N671)","v":""}]
[{"$f":"応募者名簿!$B$8","v":0},{"$f":"CONCATENATE(応募者名簿!$B$11,応募者名簿!$D$11,応募者名簿!$E$11,応募者名簿!$I$11)","v":""},"交通安全ポスター",{"$f":"CONCATENATE(応募者名簿!K672)","v":""},{"$f":"CONCATENATE(応募者名簿!L672)","v":""},{"$f":"CONCATENATE(応募者名簿!M672)","v":""},{"$f":"CONCATENATE(応募者名簿!N672)","v":""}]
[{"$f":"応募者名簿!$B$8","v":0},{"$f":"CONCATENATE(応募者名簿!$B$11,応募者名簿!$D$11,応募者名簿!$E$11,応募者名簿!$I$11)","v":""},"交通安全ポスター",{"$f":"CONCATENATE(応募者名簿!K673)","v":""},{"$f":"CONCATENATE(応募者名簿!L673)","v":""},{"$f":"CONCATENATE(応募者名簿!M673)","v":""},{"$f":"CONCATENATE(応募者名簿!N673)","v":""}]
[{"$f":"応募者名簿!$B$8","v":0},{"$f":"CONCATENATE(応募者名簿!$B$11,応募者名簿!$D$11,応募者名簿!$E$11,応募者名簿!$I$11)","v":""},"交通安全ポスター",{"$f":"CONCATENATE(応募者名簿!K674)","v":""},{"$f":"CONCATENATE(応募者名簿!L674)","v":""},{"$f":"CONCATENATE(応募者名簿!M674)","v":""},{"$f":"CONCATENATE(応募者名簿!N674)","v":""}]
[{"$f":"応募者名簿!$B$8","v":0},{"$f":"CONCATENATE(応募者名簿!$B$11,応募者名簿!$D$11,応募者名簿!$E$11,応募者名簿!$I$11)","v":""},"交通安全ポスター",{"$f":"CONCATENATE(応募者名簿!K675)","v":""},{"$f":"CONCATENATE(応募者名簿!L675)","v":""},{"$f":"CONCATENATE(応募者名簿!M675)","v":""},{"$f":"CONCATENATE(応募者名簿!N675)","v":""}]
[{"$f":"応募者名簿!$B$8","v":0},{"$f":"CONCATENATE(応募者名簿!$B$11,応募者名簿!$D$11,応募者名簿!$E$11,応募者名簿!$I$11)","v":""},"交通安全ポスター",{"$f":"CONCATENATE(応募者名簿!K676)","v":""},{"$f":"CONCATENATE(応募者名簿!L676)","v":""},{"$f":"CONCATENATE(応募者名簿!M676)","v":""},{"$f":"CONCATENATE(応募者名簿!N676)","v":""}]
[{"$f":"応募者名簿!$B$8","v":0},{"$f":"CONCATENATE(応募者名簿!$B$11,応募者名簿!$D$11,応募者名簿!$E$11,応募者名簿!$I$11)","v":""},"交通安全ポスター",{"$f":"CONCATENATE(応募者名簿!K677)","v":""},{"$f":"CONCATENATE(応募者名簿!L677)","v":""},{"$f":"CONCATENATE(応募者名簿!M677)","v":""},{"$f":"CONCATENATE(応募者名簿!N677)","v":""}]
[{"$f":"応募者名簿!$B$8","v":0},{"$f":"CONCATENATE(応募者名簿!$B$11,応募者名簿!$D$11,応募者名簿!$E$11,応募者名簿!$I$11)","v":""},"交通安全ポスター",{"$f":"CONCATENATE(応募者名簿!K678)","v":""},{"$f":"CONCATENATE(応募者名簿!L678)","v":""},{"$f":"CONCATENATE(応募者名簿!M678)","v":""},{"$f":"CONCATENATE(応募者名簿!N678)","v":""}]
[{"$f":"応募者名簿!$B$8","v":0},{"$f":"CONCATENATE(応募者名簿!$B$11,応募者名簿!$D$11,応募者名簿!$E$11,応募者名簿!$I$11)","v":""},"交通安全ポスター",{"$f":"CONCATENATE(応募者名簿!K679)","v":""},{"$f":"CONCATENATE(応募者名簿!L679)","v":""},{"$f":"CONCATENATE(応募者名簿!M679)","v":""},{"$f":"CONCATENATE(応募者名簿!N679)","v":""}]
[{"$f":"応募者名簿!$B$8","v":0},{"$f":"CONCATENATE(応募者名簿!$B$11,応募者名簿!$D$11,応募者名簿!$E$11,応募者名簿!$I$11)","v":""},"交通安全ポスター",{"$f":"CONCATENATE(応募者名簿!K680)","v":""},{"$f":"CONCATENATE(応募者名簿!L680)","v":""},{"$f":"CONCATENATE(応募者名簿!M680)","v":""},{"$f":"CONCATENATE(応募者名簿!N680)","v":""}]
[{"$f":"応募者名簿!$B$8","v":0},{"$f":"CONCATENATE(応募者名簿!$B$11,応募者名簿!$D$11,応募者名簿!$E$11,応募者名簿!$I$11)","v":""},"交通安全ポスター",{"$f":"CONCATENATE(応募者名簿!K681)","v":""},{"$f":"CONCATENATE(応募者名簿!L681)","v":""},{"$f":"CONCATENATE(応募者名簿!M681)","v":""},{"$f":"CONCATENATE(応募者名簿!N681)","v":""}]
[{"$f":"応募者名簿!$B$8","v":0},{"$f":"CONCATENATE(応募者名簿!$B$11,応募者名簿!$D$11,応募者名簿!$E$11,応募者名簿!$I$11)","v":""},"交通安全ポスター",{"$f":"CONCATENATE(応募者名簿!K682)","v":""},{"$f":"CONCATENATE(応募者名簿!L682)","v":""},{"$f":"CONCATENATE(応募者名簿!M682)","v":""},{"$f":"CONCATENATE(応募者名簿!N682)","v":""}]
[{"$f":"応募者名簿!$B$8","v":0},{"$f":"CONCATENATE(応募者名簿!$B$11,応募者名簿!$D$11,応募者名簿!$E$11,応募者名簿!$I$11)","v":""},"交通安全ポスター",{"$f":"CONCATENATE(応募者名簿!K683)","v":""},{"$f":"CONCATENATE(応募者名簿!L683)","v":""},{"$f":"CONCATENATE(応募者名簿!M683)","v":""},{"$f":"CONCATENATE(応募者名簿!N683)","v":""}]
[{"$f":"応募者名簿!$B$8","v":0},{"$f":"CONCATENATE(応募者名簿!$B$11,応募者名簿!$D$11,応募者名簿!$E$11,応募者名簿!$I$11)","v":""},"交通安全ポスター",{"$f":"CONCATENATE(応募者名簿!K684)","v":""},{"$f":"CONCATENATE(応募者名簿!L684)","v":""},{"$f":"CONCATENATE(応募者名簿!M684)","v":""},{"$f":"CONCATENATE(応募者名簿!N684)","v":""}]
[{"$f":"応募者名簿!$B$8","v":0},{"$f":"CONCATENATE(応募者名簿!$B$11,応募者名簿!$D$11,応募者名簿!$E$11,応募者名簿!$I$11)","v":""},"交通安全ポスター",{"$f":"CONCATENATE(応募者名簿!K685)","v":""},{"$f":"CONCATENATE(応募者名簿!L685)","v":""},{"$f":"CONCATENATE(応募者名簿!M685)","v":""},{"$f":"CONCATENATE(応募者名簿!N685)","v":""}]
[{"$f":"応募者名簿!$B$8","v":0},{"$f":"CONCATENATE(応募者名簿!$B$11,応募者名簿!$D$11,応募者名簿!$E$11,応募者名簿!$I$11)","v":""},"交通安全ポスター",{"$f":"CONCATENATE(応募者名簿!K686)","v":""},{"$f":"CONCATENATE(応募者名簿!L686)","v":""},{"$f":"CONCATENATE(応募者名簿!M686)","v":""},{"$f":"CONCATENATE(応募者名簿!N686)","v":""}]
[{"$f":"応募者名簿!$B$8","v":0},{"$f":"CONCATENATE(応募者名簿!$B$11,応募者名簿!$D$11,応募者名簿!$E$11,応募者名簿!$I$11)","v":""},"交通安全ポスター",{"$f":"CONCATENATE(応募者名簿!K687)","v":""},{"$f":"CONCATENATE(応募者名簿!L687)","v":""},{"$f":"CONCATENATE(応募者名簿!M687)","v":""},{"$f":"CONCATENATE(応募者名簿!N687)","v":""}]
[{"$f":"応募者名簿!$B$8","v":0},{"$f":"CONCATENATE(応募者名簿!$B$11,応募者名簿!$D$11,応募者名簿!$E$11,応募者名簿!$I$11)","v":""},"交通安全ポスター",{"$f":"CONCATENATE(応募者名簿!K688)","v":""},{"$f":"CONCATENATE(応募者名簿!L688)","v":""},{"$f":"CONCATENATE(応募者名簿!M688)","v":""},{"$f":"CONCATENATE(応募者名簿!N688)","v":""}]
[{"$f":"応募者名簿!$B$8","v":0},{"$f":"CONCATENATE(応募者名簿!$B$11,応募者名簿!$D$11,応募者名簿!$E$11,応募者名簿!$I$11)","v":""},"交通安全ポスター",{"$f":"CONCATENATE(応募者名簿!K689)","v":""},{"$f":"CONCATENATE(応募者名簿!L689)","v":""},{"$f":"CONCATENATE(応募者名簿!M689)","v":""},{"$f":"CONCATENATE(応募者名簿!N689)","v":""}]
[{"$f":"応募者名簿!$B$8","v":0},{"$f":"CONCATENATE(応募者名簿!$B$11,応募者名簿!$D$11,応募者名簿!$E$11,応募者名簿!$I$11)","v":""},"交通安全ポスター",{"$f":"CONCATENATE(応募者名簿!K690)","v":""},{"$f":"CONCATENATE(応募者名簿!L690)","v":""},{"$f":"CONCATENATE(応募者名簿!M690)","v":""},{"$f":"CONCATENATE(応募者名簿!N690)","v":""}]
[{"$f":"応募者名簿!$B$8","v":0},{"$f":"CONCATENATE(応募者名簿!$B$11,応募者名簿!$D$11,応募者名簿!$E$11,応募者名簿!$I$11)","v":""},"交通安全ポスター",{"$f":"CONCATENATE(応募者名簿!K691)","v":""},{"$f":"CONCATENATE(応募者名簿!L691)","v":""},{"$f":"CONCATENATE(応募者名簿!M691)","v":""},{"$f":"CONCATENATE(応募者名簿!N691)","v":""}]
[{"$f":"応募者名簿!$B$8","v":0},{"$f":"CONCATENATE(応募者名簿!$B$11,応募者名簿!$D$11,応募者名簿!$E$11,応募者名簿!$I$11)","v":""},"交通安全ポスター",{"$f":"CONCATENATE(応募者名簿!K692)","v":""},{"$f":"CONCATENATE(応募者名簿!L692)","v":""},{"$f":"CONCATENATE(応募者名簿!M692)","v":""},{"$f":"CONCATENATE(応募者名簿!N692)","v":""}]
[{"$f":"応募者名簿!$B$8","v":0},{"$f":"CONCATENATE(応募者名簿!$B$11,応募者名簿!$D$11,応募者名簿!$E$11,応募者名簿!$I$11)","v":""},"交通安全ポスター",{"$f":"CONCATENATE(応募者名簿!K693)","v":""},{"$f":"CONCATENATE(応募者名簿!L693)","v":""},{"$f":"CONCATENATE(応募者名簿!M693)","v":""},{"$f":"CONCATENATE(応募者名簿!N693)","v":""}]
[{"$f":"応募者名簿!$B$8","v":0},{"$f":"CONCATENATE(応募者名簿!$B$11,応募者名簿!$D$11,応募者名簿!$E$11,応募者名簿!$I$11)","v":""},"交通安全ポスター",{"$f":"CONCATENATE(応募者名簿!K694)","v":""},{"$f":"CONCATENATE(応募者名簿!L694)","v":""},{"$f":"CONCATENATE(応募者名簿!M694)","v":""},{"$f":"CONCATENATE(応募者名簿!N694)","v":""}]
[{"$f":"応募者名簿!$B$8","v":0},{"$f":"CONCATENATE(応募者名簿!$B$11,応募者名簿!$D$11,応募者名簿!$E$11,応募者名簿!$I$11)","v":""},"交通安全ポスター",{"$f":"CONCATENATE(応募者名簿!K695)","v":""},{"$f":"CONCATENATE(応募者名簿!L695)","v":""},{"$f":"CONCATENATE(応募者名簿!M695)","v":""},{"$f":"CONCATENATE(応募者名簿!N695)","v":""}]
[{"$f":"応募者名簿!$B$8","v":0},{"$f":"CONCATENATE(応募者名簿!$B$11,応募者名簿!$D$11,応募者名簿!$E$11,応募者名簿!$I$11)","v":""},"交通安全ポスター",{"$f":"CONCATENATE(応募者名簿!K696)","v":""},{"$f":"CONCATENATE(応募者名簿!L696)","v":""},{"$f":"CONCATENATE(応募者名簿!M696)","v":""},{"$f":"CONCATENATE(応募者名簿!N696)","v":""}]
[{"$f":"応募者名簿!$B$8","v":0},{"$f":"CONCATENATE(応募者名簿!$B$11,応募者名簿!$D$11,応募者名簿!$E$11,応募者名簿!$I$11)","v":""},"交通安全ポスター",{"$f":"CONCATENATE(応募者名簿!K697)","v":""},{"$f":"CONCATENATE(応募者名簿!L697)","v":""},{"$f":"CONCATENATE(応募者名簿!M697)","v":""},{"$f":"CONCATENATE(応募者名簿!N697)","v":""}]
[{"$f":"応募者名簿!$B$8","v":0},{"$f":"CONCATENATE(応募者名簿!$B$11,応募者名簿!$D$11,応募者名簿!$E$11,応募者名簿!$I$11)","v":""},"交通安全ポスター",{"$f":"CONCATENATE(応募者名簿!K698)","v":""},{"$f":"CONCATENATE(応募者名簿!L698)","v":""},{"$f":"CONCATENATE(応募者名簿!M698)","v":""},{"$f":"CONCATENATE(応募者名簿!N698)","v":""}]
[{"$f":"応募者名簿!$B$8","v":0},{"$f":"CONCATENATE(応募者名簿!$B$11,応募者名簿!$D$11,応募者名簿!$E$11,応募者名簿!$I$11)","v":""},"交通安全ポスター",{"$f":"CONCATENATE(応募者名簿!K699)","v":""},{"$f":"CONCATENATE(応募者名簿!L699)","v":""},{"$f":"CONCATENATE(応募者名簿!M699)","v":""},{"$f":"CONCATENATE(応募者名簿!N699)","v":""}]
[{"$f":"応募者名簿!$B$8","v":0},{"$f":"CONCATENATE(応募者名簿!$B$11,応募者名簿!$D$11,応募者名簿!$E$11,応募者名簿!$I$11)","v":""},"交通安全ポスター",{"$f":"CONCATENATE(応募者名簿!K700)","v":""},{"$f":"CONCATENATE(応募者名簿!L700)","v":""},{"$f":"CONCATENATE(応募者名簿!M700)","v":""},{"$f":"CONCATENATE(応募者名簿!N700)","v":""}]
[{"$f":"応募者名簿!$B$8","v":0},{"$f":"CONCATENATE(応募者名簿!$B$11,応募者名簿!$D$11,応募者名簿!$E$11,応募者名簿!$I$11)","v":""},"交通安全ポスター",{"$f":"CONCATENATE(応募者名簿!K701)","v":""},{"$f":"CONCATENATE(応募者名簿!L701)","v":""},{"$f":"CONCATENATE(応募者名簿!M701)","v":""},{"$f":"CONCATENATE(応募者名簿!N701)","v":""}]
[{"$f":"応募者名簿!$B$8","v":0},{"$f":"CONCATENATE(応募者名簿!$B$11,応募者名簿!$D$11,応募者名簿!$E$11,応募者名簿!$I$11)","v":""},"交通安全ポスター",{"$f":"CONCATENATE(応募者名簿!K702)","v":""},{"$f":"CONCATENATE(応募者名簿!L702)","v":""},{"$f":"CONCATENATE(応募者名簿!M702)","v":""},{"$f":"CONCATENATE(応募者名簿!N702)","v":""}]
[{"$f":"応募者名簿!$B$8","v":0},{"$f":"CONCATENATE(応募者名簿!$B$11,応募者名簿!$D$11,応募者名簿!$E$11,応募者名簿!$I$11)","v":""},"交通安全ポスター",{"$f":"CONCATENATE(応募者名簿!K703)","v":""},{"$f":"CONCATENATE(応募者名簿!L703)","v":""},{"$f":"CONCATENATE(応募者名簿!M703)","v":""},{"$f":"CONCATENATE(応募者名簿!N703)","v":""}]
[{"$f":"応募者名簿!$B$8","v":0},{"$f":"CONCATENATE(応募者名簿!$B$11,応募者名簿!$D$11,応募者名簿!$E$11,応募者名簿!$I$11)","v":""},"交通安全ポスター",{"$f":"CONCATENATE(応募者名簿!K704)","v":""},{"$f":"CONCATENATE(応募者名簿!L704)","v":""},{"$f":"CONCATENATE(応募者名簿!M704)","v":""},{"$f":"CONCATENATE(応募者名簿!N704)","v":""}]
[{"$f":"応募者名簿!$B$8","v":0},{"$f":"CONCATENATE(応募者名簿!$B$11,応募者名簿!$D$11,応募者名簿!$E$11,応募者名簿!$I$11)","v":""},"交通安全ポスター",{"$f":"CONCATENATE(応募者名簿!K705)","v":""},{"$f":"CONCATENATE(応募者名簿!L705)","v":""},{"$f":"CONCATENATE(応募者名簿!M705)","v":""},{"$f":"CONCATENATE(応募者名簿!N705)","v":""}]
[{"$f":"応募者名簿!$B$8","v":0},{"$f":"CONCATENATE(応募者名簿!$B$11,応募者名簿!$D$11,応募者名簿!$E$11,応募者名簿!$I$11)","v":""},"交通安全ポスター",{"$f":"CONCATENATE(応募者名簿!K706)","v":""},{"$f":"CONCATENATE(応募者名簿!L706)","v":""},{"$f":"CONCATENATE(応募者名簿!M706)","v":""},{"$f":"CONCATENATE(応募者名簿!N706)","v":""}]
[{"$f":"応募者名簿!$B$8","v":0},{"$f":"CONCATENATE(応募者名簿!$B$11,応募者名簿!$D$11,応募者名簿!$E$11,応募者名簿!$I$11)","v":""},"交通安全ポスター",{"$f":"CONCATENATE(応募者名簿!K707)","v":""},{"$f":"CONCATENATE(応募者名簿!L707)","v":""},{"$f":"CONCATENATE(応募者名簿!M707)","v":""},{"$f":"CONCATENATE(応募者名簿!N707)","v":""}]
[{"$f":"応募者名簿!$B$8","v":0},{"$f":"CONCATENATE(応募者名簿!$B$11,応募者名簿!$D$11,応募者名簿!$E$11,応募者名簿!$I$11)","v":""},"交通安全ポスター",{"$f":"CONCATENATE(応募者名簿!K708)","v":""},{"$f":"CONCATENATE(応募者名簿!L708)","v":""},{"$f":"CONCATENATE(応募者名簿!M708)","v":""},{"$f":"CONCATENATE(応募者名簿!N708)","v":""}]
[{"$f":"応募者名簿!$B$8","v":0},{"$f":"CONCATENATE(応募者名簿!$B$11,応募者名簿!$D$11,応募者名簿!$E$11,応募者名簿!$I$11)","v":""},"交通安全ポスター",{"$f":"CONCATENATE(応募者名簿!K709)","v":""},{"$f":"CONCATENATE(応募者名簿!L709)","v":""},{"$f":"CONCATENATE(応募者名簿!M709)","v":""},{"$f":"CONCATENATE(応募者名簿!N709)","v":""}]
[{"$f":"応募者名簿!$B$8","v":0},{"$f":"CONCATENATE(応募者名簿!$B$11,応募者名簿!$D$11,応募者名簿!$E$11,応募者名簿!$I$11)","v":""},"交通安全ポスター",{"$f":"CONCATENATE(応募者名簿!K710)","v":""},{"$f":"CONCATENATE(応募者名簿!L710)","v":""},{"$f":"CONCATENATE(応募者名簿!M710)","v":""},{"$f":"CONCATENATE(応募者名簿!N710)","v":""}]
[{"$f":"応募者名簿!$B$8","v":0},{"$f":"CONCATENATE(応募者名簿!$B$11,応募者名簿!$D$11,応募者名簿!$E$11,応募者名簿!$I$11)","v":""},"交通安全ポスター",{"$f":"CONCATENATE(応募者名簿!K711)","v":""},{"$f":"CONCATENATE(応募者名簿!L711)","v":""},{"$f":"CONCATENATE(応募者名簿!M711)","v":""},{"$f":"CONCATENATE(応募者名簿!N711)","v":""}]
[{"$f":"応募者名簿!$B$8","v":0},{"$f":"CONCATENATE(応募者名簿!$B$11,応募者名簿!$D$11,応募者名簿!$E$11,応募者名簿!$I$11)","v":""},"交通安全ポスター",{"$f":"CONCATENATE(応募者名簿!K712)","v":""},{"$f":"CONCATENATE(応募者名簿!L712)","v":""},{"$f":"CONCATENATE(応募者名簿!M712)","v":""},{"$f":"CONCATENATE(応募者名簿!N712)","v":""}]
[{"$f":"応募者名簿!$B$8","v":0},{"$f":"CONCATENATE(応募者名簿!$B$11,応募者名簿!$D$11,応募者名簿!$E$11,応募者名簿!$I$11)","v":""},"交通安全ポスター",{"$f":"CONCATENATE(応募者名簿!K713)","v":""},{"$f":"CONCATENATE(応募者名簿!L713)","v":""},{"$f":"CONCATENATE(応募者名簿!M713)","v":""},{"$f":"CONCATENATE(応募者名簿!N713)","v":""}]
[{"$f":"応募者名簿!$B$8","v":0},{"$f":"CONCATENATE(応募者名簿!$B$11,応募者名簿!$D$11,応募者名簿!$E$11,応募者名簿!$I$11)","v":""},"交通安全ポスター",{"$f":"CONCATENATE(応募者名簿!K714)","v":""},{"$f":"CONCATENATE(応募者名簿!L714)","v":""},{"$f":"CONCATENATE(応募者名簿!M714)","v":""},{"$f":"CONCATENATE(応募者名簿!N714)","v":""}]
[{"$f":"応募者名簿!$B$8","v":0},{"$f":"CONCATENATE(応募者名簿!$B$11,応募者名簿!$D$11,応募者名簿!$E$11,応募者名簿!$I$11)","v":""},"交通安全ポスター",{"$f":"CONCATENATE(応募者名簿!K715)","v":""},{"$f":"CONCATENATE(応募者名簿!L715)","v":""},{"$f":"CONCATENATE(応募者名簿!M715)","v":""},{"$f":"CONCATENATE(応募者名簿!N715)","v":""}]
[{"$f":"応募者名簿!$B$8","v":0},{"$f":"CONCATENATE(応募者名簿!$B$11,応募者名簿!$D$11,応募者名簿!$E$11,応募者名簿!$I$11)","v":""},"交通安全ポスター",{"$f":"CONCATENATE(応募者名簿!K716)","v":""},{"$f":"CONCATENATE(応募者名簿!L716)","v":""},{"$f":"CONCATENATE(応募者名簿!M716)","v":""},{"$f":"CONCATENATE(応募者名簿!N716)","v":""}]
[{"$f":"応募者名簿!$B$8","v":0},{"$f":"CONCATENATE(応募者名簿!$B$11,応募者名簿!$D$11,応募者名簿!$E$11,応募者名簿!$I$11)","v":""},"交通安全ポスター",{"$f":"CONCATENATE(応募者名簿!K717)","v":""},{"$f":"CONCATENATE(応募者名簿!L717)","v":""},{"$f":"CONCATENATE(応募者名簿!M717)","v":""},{"$f":"CONCATENATE(応募者名簿!N717)","v":""}]
[{"$f":"応募者名簿!$B$8","v":0},{"$f":"CONCATENATE(応募者名簿!$B$11,応募者名簿!$D$11,応募者名簿!$E$11,応募者名簿!$I$11)","v":""},"交通安全ポスター",{"$f":"CONCATENATE(応募者名簿!K718)","v":""},{"$f":"CONCATENATE(応募者名簿!L718)","v":""},{"$f":"CONCATENATE(応募者名簿!M718)","v":""},{"$f":"CONCATENATE(応募者名簿!N718)","v":""}]
[{"$f":"応募者名簿!$B$8","v":0},{"$f":"CONCATENATE(応募者名簿!$B$11,応募者名簿!$D$11,応募者名簿!$E$11,応募者名簿!$I$11)","v":""},"交通安全ポスター",{"$f":"CONCATENATE(応募者名簿!K719)","v":""},{"$f":"CONCATENATE(応募者名簿!L719)","v":""},{"$f":"CONCATENATE(応募者名簿!M719)","v":""},{"$f":"CONCATENATE(応募者名簿!N719)","v":""}]
[{"$f":"応募者名簿!$B$8","v":0},{"$f":"CONCATENATE(応募者名簿!$B$11,応募者名簿!$D$11,応募者名簿!$E$11,応募者名簿!$I$11)","v":""},"交通安全ポスター",{"$f":"CONCATENATE(応募者名簿!K720)","v":""},{"$f":"CONCATENATE(応募者名簿!L720)","v":""},{"$f":"CONCATENATE(応募者名簿!M720)","v":""},{"$f":"CONCATENATE(応募者名簿!N720)","v":""}]
[{"$f":"応募者名簿!$B$8","v":0},{"$f":"CONCATENATE(応募者名簿!$B$11,応募者名簿!$D$11,応募者名簿!$E$11,応募者名簿!$I$11)","v":""},"交通安全ポスター",{"$f":"CONCATENATE(応募者名簿!K721)","v":""},{"$f":"CONCATENATE(応募者名簿!L721)","v":""},{"$f":"CONCATENATE(応募者名簿!M721)","v":""},{"$f":"CONCATENATE(応募者名簿!N721)","v":""}]
[{"$f":"応募者名簿!$B$8","v":0},{"$f":"CONCATENATE(応募者名簿!$B$11,応募者名簿!$D$11,応募者名簿!$E$11,応募者名簿!$I$11)","v":""},"交通安全ポスター",{"$f":"CONCATENATE(応募者名簿!K722)","v":""},{"$f":"CONCATENATE(応募者名簿!L722)","v":""},{"$f":"CONCATENATE(応募者名簿!M722)","v":""},{"$f":"CONCATENATE(応募者名簿!N722)","v":""}]
[{"$f":"応募者名簿!$B$8","v":0},{"$f":"CONCATENATE(応募者名簿!$B$11,応募者名簿!$D$11,応募者名簿!$E$11,応募者名簿!$I$11)","v":""},"交通安全ポスター",{"$f":"CONCATENATE(応募者名簿!K723)","v":""},{"$f":"CONCATENATE(応募者名簿!L723)","v":""},{"$f":"CONCATENATE(応募者名簿!M723)","v":""},{"$f":"CONCATENATE(応募者名簿!N723)","v":""}]
[{"$f":"応募者名簿!$B$8","v":0},{"$f":"CONCATENATE(応募者名簿!$B$11,応募者名簿!$D$11,応募者名簿!$E$11,応募者名簿!$I$11)","v":""},"交通安全ポスター",{"$f":"CONCATENATE(応募者名簿!K724)","v":""},{"$f":"CONCATENATE(応募者名簿!L724)","v":""},{"$f":"CONCATENATE(応募者名簿!M724)","v":""},{"$f":"CONCATENATE(応募者名簿!N724)","v":""}]
[{"$f":"応募者名簿!$B$8","v":0},{"$f":"CONCATENATE(応募者名簿!$B$11,応募者名簿!$D$11,応募者名簿!$E$11,応募者名簿!$I$11)","v":""},"交通安全ポスター",{"$f":"CONCATENATE(応募者名簿!K725)","v":""},{"$f":"CONCATENATE(応募者名簿!L725)","v":""},{"$f":"CONCATENATE(応募者名簿!M725)","v":""},{"$f":"CONCATENATE(応募者名簿!N725)","v":""}]
[{"$f":"応募者名簿!$B$8","v":0},{"$f":"CONCATENATE(応募者名簿!$B$11,応募者名簿!$D$11,応募者名簿!$E$11,応募者名簿!$I$11)","v":""},"交通安全ポスター",{"$f":"CONCATENATE(応募者名簿!K726)","v":""},{"$f":"CONCATENATE(応募者名簿!L726)","v":""},{"$f":"CONCATENATE(応募者名簿!M726)","v":""},{"$f":"CONCATENATE(応募者名簿!N726)","v":""}]
[{"$f":"応募者名簿!$B$8","v":0},{"$f":"CONCATENATE(応募者名簿!$B$11,応募者名簿!$D$11,応募者名簿!$E$11,応募者名簿!$I$11)","v":""},"交通安全ポスター",{"$f":"CONCATENATE(応募者名簿!K727)","v":""},{"$f":"CONCATENATE(応募者名簿!L727)","v":""},{"$f":"CONCATENATE(応募者名簿!M727)","v":""},{"$f":"CONCATENATE(応募者名簿!N727)","v":""}]
[{"$f":"応募者名簿!$B$8","v":0},{"$f":"CONCATENATE(応募者名簿!$B$11,応募者名簿!$D$11,応募者名簿!$E$11,応募者名簿!$I$11)","v":""},"交通安全ポスター",{"$f":"CONCATENATE(応募者名簿!K728)","v":""},{"$f":"CONCATENATE(応募者名簿!L728)","v":""},{"$f":"CONCATENATE(応募者名簿!M728)","v":""},{"$f":"CONCATENATE(応募者名簿!N728)","v":""}]
[{"$f":"応募者名簿!$B$8","v":0},{"$f":"CONCATENATE(応募者名簿!$B$11,応募者名簿!$D$11,応募者名簿!$E$11,応募者名簿!$I$11)","v":""},"交通安全ポスター",{"$f":"CONCATENATE(応募者名簿!K729)","v":""},{"$f":"CONCATENATE(応募者名簿!L729)","v":""},{"$f":"CONCATENATE(応募者名簿!M729)","v":""},{"$f":"CONCATENATE(応募者名簿!N729)","v":""}]
[{"$f":"応募者名簿!$B$8","v":0},{"$f":"CONCATENATE(応募者名簿!$B$11,応募者名簿!$D$11,応募者名簿!$E$11,応募者名簿!$I$11)","v":""},"交通安全ポスター",{"$f":"CONCATENATE(応募者名簿!K730)","v":""},{"$f":"CONCATENATE(応募者名簿!L730)","v":""},{"$f":"CONCATENATE(応募者名簿!M730)","v":""},{"$f":"CONCATENATE(応募者名簿!N730)","v":""}]
[{"$f":"応募者名簿!$B$8","v":0},{"$f":"CONCATENATE(応募者名簿!$B$11,応募者名簿!$D$11,応募者名簿!$E$11,応募者名簿!$I$11)","v":""},"交通安全ポスター",{"$f":"CONCATENATE(応募者名簿!K731)","v":""},{"$f":"CONCATENATE(応募者名簿!L731)","v":""},{"$f":"CONCATENATE(応募者名簿!M731)","v":""},{"$f":"CONCATENATE(応募者名簿!N731)","v":""}]
[{"$f":"応募者名簿!$B$8","v":0},{"$f":"CONCATENATE(応募者名簿!$B$11,応募者名簿!$D$11,応募者名簿!$E$11,応募者名簿!$I$11)","v":""},"交通安全ポスター",{"$f":"CONCATENATE(応募者名簿!K732)","v":""},{"$f":"CONCATENATE(応募者名簿!L732)","v":""},{"$f":"CONCATENATE(応募者名簿!M732)","v":""},{"$f":"CONCATENATE(応募者名簿!N732)","v":""}]
[{"$f":"応募者名簿!$B$8","v":0},{"$f":"CONCATENATE(応募者名簿!$B$11,応募者名簿!$D$11,応募者名簿!$E$11,応募者名簿!$I$11)","v":""},"交通安全ポスター",{"$f":"CONCATENATE(応募者名簿!K733)","v":""},{"$f":"CONCATENATE(応募者名簿!L733)","v":""},{"$f":"CONCATENATE(応募者名簿!M733)","v":""},{"$f":"CONCATENATE(応募者名簿!N733)","v":""}]
[{"$f":"応募者名簿!$B$8","v":0},{"$f":"CONCATENATE(応募者名簿!$B$11,応募者名簿!$D$11,応募者名簿!$E$11,応募者名簿!$I$11)","v":""},"交通安全ポスター",{"$f":"CONCATENATE(応募者名簿!K734)","v":""},{"$f":"CONCATENATE(応募者名簿!L734)","v":""},{"$f":"CONCATENATE(応募者名簿!M734)","v":""},{"$f":"CONCATENATE(応募者名簿!N734)","v":""}]
[{"$f":"応募者名簿!$B$8","v":0},{"$f":"CONCATENATE(応募者名簿!$B$11,応募者名簿!$D$11,応募者名簿!$E$11,応募者名簿!$I$11)","v":""},"交通安全ポスター",{"$f":"CONCATENATE(応募者名簿!K735)","v":""},{"$f":"CONCATENATE(応募者名簿!L735)","v":""},{"$f":"CONCATENATE(応募者名簿!M735)","v":""},{"$f":"CONCATENATE(応募者名簿!N735)","v":""}]
[{"$f":"応募者名簿!$B$8","v":0},{"$f":"CONCATENATE(応募者名簿!$B$11,応募者名簿!$D$11,応募者名簿!$E$11,応募者名簿!$I$11)","v":""},"交通安全ポスター",{"$f":"CONCATENATE(応募者名簿!K736)","v":""},{"$f":"CONCATENATE(応募者名簿!L736)","v":""},{"$f":"CONCATENATE(応募者名簿!M736)","v":""},{"$f":"CONCATENATE(応募者名簿!N736)","v":""}]
[{"$f":"応募者名簿!$B$8","v":0},{"$f":"CONCATENATE(応募者名簿!$B$11,応募者名簿!$D$11,応募者名簿!$E$11,応募者名簿!$I$11)","v":""},"交通安全ポスター",{"$f":"CONCATENATE(応募者名簿!K737)","v":""},{"$f":"CONCATENATE(応募者名簿!L737)","v":""},{"$f":"CONCATENATE(応募者名簿!M737)","v":""},{"$f":"CONCATENATE(応募者名簿!N737)","v":""}]
[{"$f":"応募者名簿!$B$8","v":0},{"$f":"CONCATENATE(応募者名簿!$B$11,応募者名簿!$D$11,応募者名簿!$E$11,応募者名簿!$I$11)","v":""},"交通安全ポスター",{"$f":"CONCATENATE(応募者名簿!K738)","v":""},{"$f":"CONCATENATE(応募者名簿!L738)","v":""},{"$f":"CONCATENATE(応募者名簿!M738)","v":""},{"$f":"CONCATENATE(応募者名簿!N738)","v":""}]
[{"$f":"応募者名簿!$B$8","v":0},{"$f":"CONCATENATE(応募者名簿!$B$11,応募者名簿!$D$11,応募者名簿!$E$11,応募者名簿!$I$11)","v":""},"交通安全ポスター",{"$f":"CONCATENATE(応募者名簿!K739)","v":""},{"$f":"CONCATENATE(応募者名簿!L739)","v":""},{"$f":"CONCATENATE(応募者名簿!M739)","v":""},{"$f":"CONCATENATE(応募者名簿!N739)","v":""}]
[{"$f":"応募者名簿!$B$8","v":0},{"$f":"CONCATENATE(応募者名簿!$B$11,応募者名簿!$D$11,応募者名簿!$E$11,応募者名簿!$I$11)","v":""},"交通安全ポスター",{"$f":"CONCATENATE(応募者名簿!K740)","v":""},{"$f":"CONCATENATE(応募者名簿!L740)","v":""},{"$f":"CONCATENATE(応募者名簿!M740)","v":""},{"$f":"CONCATENATE(応募者名簿!N740)","v":""}]
[{"$f":"応募者名簿!$B$8","v":0},{"$f":"CONCATENATE(応募者名簿!$B$11,応募者名簿!$D$11,応募者名簿!$E$11,応募者名簿!$I$11)","v":""},"交通安全ポスター",{"$f":"CONCATENATE(応募者名簿!K741)","v":""},{"$f":"CONCATENATE(応募者名簿!L741)","v":""},{"$f":"CONCATENATE(応募者名簿!M741)","v":""},{"$f":"CONCATENATE(応募者名簿!N741)","v":""}]
[{"$f":"応募者名簿!$B$8","v":0},{"$f":"CONCATENATE(応募者名簿!$B$11,応募者名簿!$D$11,応募者名簿!$E$11,応募者名簿!$I$11)","v":""},"交通安全ポスター",{"$f":"CONCATENATE(応募者名簿!K742)","v":""},{"$f":"CONCATENATE(応募者名簿!L742)","v":""},{"$f":"CONCATENATE(応募者名簿!M742)","v":""},{"$f":"CONCATENATE(応募者名簿!N742)","v":""}]
[{"$f":"応募者名簿!$B$8","v":0},{"$f":"CONCATENATE(応募者名簿!$B$11,応募者名簿!$D$11,応募者名簿!$E$11,応募者名簿!$I$11)","v":""},"交通安全ポスター",{"$f":"CONCATENATE(応募者名簿!K743)","v":""},{"$f":"CONCATENATE(応募者名簿!L743)","v":""},{"$f":"CONCATENATE(応募者名簿!M743)","v":""},{"$f":"CONCATENATE(応募者名簿!N743)","v":""}]
[{"$f":"応募者名簿!$B$8","v":0},{"$f":"CONCATENATE(応募者名簿!$B$11,応募者名簿!$D$11,応募者名簿!$E$11,応募者名簿!$I$11)","v":""},"交通安全ポスター",{"$f":"CONCATENATE(応募者名簿!K744)","v":""},{"$f":"CONCATENATE(応募者名簿!L744)","v":""},{"$f":"CONCATENATE(応募者名簿!M744)","v":""},{"$f":"CONCATENATE(応募者名簿!N744)","v":""}]
[{"$f":"応募者名簿!$B$8","v":0},{"$f":"CONCATENATE(応募者名簿!$B$11,応募者名簿!$D$11,応募者名簿!$E$11,応募者名簿!$I$11)","v":""},"交通安全ポスター",{"$f":"CONCATENATE(応募者名簿!K745)","v":""},{"$f":"CONCATENATE(応募者名簿!L745)","v":""},{"$f":"CONCATENATE(応募者名簿!M745)","v":""},{"$f":"CONCATENATE(応募者名簿!N745)","v":""}]
[{"$f":"応募者名簿!$B$8","v":0},{"$f":"CONCATENATE(応募者名簿!$B$11,応募者名簿!$D$11,応募者名簿!$E$11,応募者名簿!$I$11)","v":""},"交通安全ポスター",{"$f":"CONCATENATE(応募者名簿!K746)","v":""},{"$f":"CONCATENATE(応募者名簿!L746)","v":""},{"$f":"CONCATENATE(応募者名簿!M746)","v":""},{"$f":"CONCATENATE(応募者名簿!N746)","v":""}]
[{"$f":"応募者名簿!$B$8","v":0},{"$f":"CONCATENATE(応募者名簿!$B$11,応募者名簿!$D$11,応募者名簿!$E$11,応募者名簿!$I$11)","v":""},"交通安全ポスター",{"$f":"CONCATENATE(応募者名簿!K747)","v":""},{"$f":"CONCATENATE(応募者名簿!L747)","v":""},{"$f":"CONCATENATE(応募者名簿!M747)","v":""},{"$f":"CONCATENATE(応募者名簿!N747)","v":""}]
[{"$f":"応募者名簿!$B$8","v":0},{"$f":"CONCATENATE(応募者名簿!$B$11,応募者名簿!$D$11,応募者名簿!$E$11,応募者名簿!$I$11)","v":""},"交通安全ポスター",{"$f":"CONCATENATE(応募者名簿!K748)","v":""},{"$f":"CONCATENATE(応募者名簿!L748)","v":""},{"$f":"CONCATENATE(応募者名簿!M748)","v":""},{"$f":"CONCATENATE(応募者名簿!N748)","v":""}]
[{"$f":"応募者名簿!$B$8","v":0},{"$f":"CONCATENATE(応募者名簿!$B$11,応募者名簿!$D$11,応募者名簿!$E$11,応募者名簿!$I$11)","v":""},"交通安全ポスター",{"$f":"CONCATENATE(応募者名簿!K749)","v":""},{"$f":"CONCATENATE(応募者名簿!L749)","v":""},{"$f":"CONCATENATE(応募者名簿!M749)","v":""},{"$f":"CONCATENATE(応募者名簿!N749)","v":""}]
[{"$f":"応募者名簿!$B$8","v":0},{"$f":"CONCATENATE(応募者名簿!$B$11,応募者名簿!$D$11,応募者名簿!$E$11,応募者名簿!$I$11)","v":""},"交通安全ポスター",{"$f":"CONCATENATE(応募者名簿!K750)","v":""},{"$f":"CONCATENATE(応募者名簿!L750)","v":""},{"$f":"CONCATENATE(応募者名簿!M750)","v":""},{"$f":"CONCATENATE(応募者名簿!N750)","v":""}]
[{"$f":"応募者名簿!$B$8","v":0},{"$f":"CONCATENATE(応募者名簿!$B$11,応募者名簿!$D$11,応募者名簿!$E$11,応募者名簿!$I$11)","v":""},"交通安全ポスター",{"$f":"CONCATENATE(応募者名簿!K751)","v":""},{"$f":"CONCATENATE(応募者名簿!L751)","v":""},{"$f":"CONCATENATE(応募者名簿!M751)","v":""},{"$f":"CONCATENATE(応募者名簿!N751)","v":""}]
[{"$f":"応募者名簿!$B$8","v":0},{"$f":"CONCATENATE(応募者名簿!$B$11,応募者名簿!$D$11,応募者名簿!$E$11,応募者名簿!$I$11)","v":""},"交通安全ポスター",{"$f":"CONCATENATE(応募者名簿!K752)","v":""},{"$f":"CONCATENATE(応募者名簿!L752)","v":""},{"$f":"CONCATENATE(応募者名簿!M752)","v":""},{"$f":"CONCATENATE(応募者名簿!N752)","v":""}]
[{"$f":"応募者名簿!$B$8","v":0},{"$f":"CONCATENATE(応募者名簿!$B$11,応募者名簿!$D$11,応募者名簿!$E$11,応募者名簿!$I$11)","v":""},"交通安全ポスター",{"$f":"CONCATENATE(応募者名簿!K753)","v":""},{"$f":"CONCATENATE(応募者名簿!L753)","v":""},{"$f":"CONCATENATE(応募者名簿!M753)","v":""},{"$f":"CONCATENATE(応募者名簿!N753)","v":""}]
[{"$f":"応募者名簿!$B$8","v":0},{"$f":"CONCATENATE(応募者名簿!$B$11,応募者名簿!$D$11,応募者名簿!$E$11,応募者名簿!$I$11)","v":""},"交通安全ポスター",{"$f":"CONCATENATE(応募者名簿!K754)","v":""},{"$f":"CONCATENATE(応募者名簿!L754)","v":""},{"$f":"CONCATENATE(応募者名簿!M754)","v":""},{"$f":"CONCATENATE(応募者名簿!N754)","v":""}]
[{"$f":"応募者名簿!$B$8","v":0},{"$f":"CONCATENATE(応募者名簿!$B$11,応募者名簿!$D$11,応募者名簿!$E$11,応募者名簿!$I$11)","v":""},"交通安全ポスター",{"$f":"CONCATENATE(応募者名簿!K755)","v":""},{"$f":"CONCATENATE(応募者名簿!L755)","v":""},{"$f":"CONCATENATE(応募者名簿!M755)","v":""},{"$f":"CONCATENATE(応募者名簿!N755)","v":""}]
[{"$f":"応募者名簿!$B$8","v":0},{"$f":"CONCATENATE(応募者名簿!$B$11,応募者名簿!$D$11,応募者名簿!$E$11,応募者名簿!$I$11)","v":""},"交通安全ポスター",{"$f":"CONCATENATE(応募者名簿!K756)","v":""},{"$f":"CONCATENATE(応募者名簿!L756)","v":""},{"$f":"CONCATENATE(応募者名簿!M756)","v":""},{"$f":"CONCATENATE(応募者名簿!N756)","v":""}]
[{"$f":"応募者名簿!$B$8","v":0},{"$f":"CONCATENATE(応募者名簿!$B$11,応募者名簿!$D$11,応募者名簿!$E$11,応募者名簿!$I$11)","v":""},"交通安全ポスター",{"$f":"CONCATENATE(応募者名簿!K757)","v":""},{"$f":"CONCATENATE(応募者名簿!L757)","v":""},{"$f":"CONCATENATE(応募者名簿!M757)","v":""},{"$f":"CONCATENATE(応募者名簿!N757)","v":""}]
[{"$f":"応募者名簿!$B$8","v":0},{"$f":"CONCATENATE(応募者名簿!$B$11,応募者名簿!$D$11,応募者名簿!$E$11,応募者名簿!$I$11)","v":""},"交通安全ポスター",{"$f":"CONCATENATE(応募者名簿!K758)","v":""},{"$f":"CONCATENATE(応募者名簿!L758)","v":""},{"$f":"CONCATENATE(応募者名簿!M758)","v":""},{"$f":"CONCATENATE(応募者名簿!N758)","v":""}]
[{"$f":"応募者名簿!$B$8","v":0},{"$f":"CONCATENATE(応募者名簿!$B$11,応募者名簿!$D$11,応募者名簿!$E$11,応募者名簿!$I$11)","v":""},"交通安全ポスター",{"$f":"CONCATENATE(応募者名簿!K759)","v":""},{"$f":"CONCATENATE(応募者名簿!L759)","v":""},{"$f":"CONCATENATE(応募者名簿!M759)","v":""},{"$f":"CONCATENATE(応募者名簿!N759)","v":""}]
[{"$f":"応募者名簿!$B$8","v":0},{"$f":"CONCATENATE(応募者名簿!$B$11,応募者名簿!$D$11,応募者名簿!$E$11,応募者名簿!$I$11)","v":""},"交通安全ポスター",{"$f":"CONCATENATE(応募者名簿!K760)","v":""},{"$f":"CONCATENATE(応募者名簿!L760)","v":""},{"$f":"CONCATENATE(応募者名簿!M760)","v":""},{"$f":"CONCATENATE(応募者名簿!N760)","v":""}]
[{"$f":"応募者名簿!$B$8","v":0},{"$f":"CONCATENATE(応募者名簿!$B$11,応募者名簿!$D$11,応募者名簿!$E$11,応募者名簿!$I$11)","v":""},"交通安全ポスター",{"$f":"CONCATENATE(応募者名簿!K761)","v":""},{"$f":"CONCATENATE(応募者名簿!L761)","v":""},{"$f":"CONCATENATE(応募者名簿!M761)","v":""},{"$f":"CONCATENATE(応募者名簿!N761)","v":""}]
[{"$f":"応募者名簿!$B$8","v":0},{"$f":"CONCATENATE(応募者名簿!$B$11,応募者名簿!$D$11,応募者名簿!$E$11,応募者名簿!$I$11)","v":""},"交通安全ポスター",{"$f":"CONCATENATE(応募者名簿!K762)","v":""},{"$f":"CONCATENATE(応募者名簿!L762)","v":""},{"$f":"CONCATENATE(応募者名簿!M762)","v":""},{"$f":"CONCATENATE(応募者名簿!N762)","v":""}]
[{"$f":"応募者名簿!$B$8","v":0},{"$f":"CONCATENATE(応募者名簿!$B$11,応募者名簿!$D$11,応募者名簿!$E$11,応募者名簿!$I$11)","v":""},"交通安全ポスター",{"$f":"CONCATENATE(応募者名簿!K763)","v":""},{"$f":"CONCATENATE(応募者名簿!L763)","v":""},{"$f":"CONCATENATE(応募者名簿!M763)","v":""},{"$f":"CONCATENATE(応募者名簿!N763)","v":""}]
[{"$f":"応募者名簿!$B$8","v":0},{"$f":"CONCATENATE(応募者名簿!$B$11,応募者名簿!$D$11,応募者名簿!$E$11,応募者名簿!$I$11)","v":""},"交通安全ポスター",{"$f":"CONCATENATE(応募者名簿!K764)","v":""},{"$f":"CONCATENATE(応募者名簿!L764)","v":""},{"$f":"CONCATENATE(応募者名簿!M764)","v":""},{"$f":"CONCATENATE(応募者名簿!N764)","v":""}]
[{"$f":"応募者名簿!$B$8","v":0},{"$f":"CONCATENATE(応募者名簿!$B$11,応募者名簿!$D$11,応募者名簿!$E$11,応募者名簿!$I$11)","v":""},"交通安全ポスター",{"$f":"CONCATENATE(応募者名簿!K765)","v":""},{"$f":"CONCATENATE(応募者名簿!L765)","v":""},{"$f":"CONCATENATE(応募者名簿!M765)","v":""},{"$f":"CONCATENATE(応募者名簿!N765)","v":""}]
[{"$f":"応募者名簿!$B$8","v":0},{"$f":"CONCATENATE(応募者名簿!$B$11,応募者名簿!$D$11,応募者名簿!$E$11,応募者名簿!$I$11)","v":""},"交通安全ポスター",{"$f":"CONCATENATE(応募者名簿!K766)","v":""},{"$f":"CONCATENATE(応募者名簿!L766)","v":""},{"$f":"CONCATENATE(応募者名簿!M766)","v":""},{"$f":"CONCATENATE(応募者名簿!N766)","v":""}]
[{"$f":"応募者名簿!$B$8","v":0},{"$f":"CONCATENATE(応募者名簿!$B$11,応募者名簿!$D$11,応募者名簿!$E$11,応募者名簿!$I$11)","v":""},"交通安全ポスター",{"$f":"CONCATENATE(応募者名簿!K767)","v":""},{"$f":"CONCATENATE(応募者名簿!L767)","v":""},{"$f":"CONCATENATE(応募者名簿!M767)","v":""},{"$f":"CONCATENATE(応募者名簿!N767)","v":""}]
[{"$f":"応募者名簿!$B$8","v":0},{"$f":"CONCATENATE(応募者名簿!$B$11,応募者名簿!$D$11,応募者名簿!$E$11,応募者名簿!$I$11)","v":""},"交通安全ポスター",{"$f":"CONCATENATE(応募者名簿!K768)","v":""},{"$f":"CONCATENATE(応募者名簿!L768)","v":""},{"$f":"CONCATENATE(応募者名簿!M768)","v":""},{"$f":"CONCATENATE(応募者名簿!N768)","v":""}]
[{"$f":"応募者名簿!$B$8","v":0},{"$f":"CONCATENATE(応募者名簿!$B$11,応募者名簿!$D$11,応募者名簿!$E$11,応募者名簿!$I$11)","v":""},"交通安全ポスター",{"$f":"CONCATENATE(応募者名簿!K769)","v":""},{"$f":"CONCATENATE(応募者名簿!L769)","v":""},{"$f":"CONCATENATE(応募者名簿!M769)","v":""},{"$f":"CONCATENATE(応募者名簿!N769)","v":""}]
[{"$f":"応募者名簿!$B$8","v":0},{"$f":"CONCATENATE(応募者名簿!$B$11,応募者名簿!$D$11,応募者名簿!$E$11,応募者名簿!$I$11)","v":""},"交通安全ポスター",{"$f":"CONCATENATE(応募者名簿!K770)","v":""},{"$f":"CONCATENATE(応募者名簿!L770)","v":""},{"$f":"CONCATENATE(応募者名簿!M770)","v":""},{"$f":"CONCATENATE(応募者名簿!N770)","v":""}]
[{"$f":"応募者名簿!$B$8","v":0},{"$f":"CONCATENATE(応募者名簿!$B$11,応募者名簿!$D$11,応募者名簿!$E$11,応募者名簿!$I$11)","v":""},"交通安全ポスター",{"$f":"CONCATENATE(応募者名簿!K771)","v":""},{"$f":"CONCATENATE(応募者名簿!L771)","v":""},{"$f":"CONCATENATE(応募者名簿!M771)","v":""},{"$f":"CONCATENATE(応募者名簿!N771)","v":""}]
[{"$f":"応募者名簿!$B$8","v":0},{"$f":"CONCATENATE(応募者名簿!$B$11,応募者名簿!$D$11,応募者名簿!$E$11,応募者名簿!$I$11)","v":""},"交通安全ポスター",{"$f":"CONCATENATE(応募者名簿!K772)","v":""},{"$f":"CONCATENATE(応募者名簿!L772)","v":""},{"$f":"CONCATENATE(応募者名簿!M772)","v":""},{"$f":"CONCATENATE(応募者名簿!N772)","v":""}]
[{"$f":"応募者名簿!$B$8","v":0},{"$f":"CONCATENATE(応募者名簿!$B$11,応募者名簿!$D$11,応募者名簿!$E$11,応募者名簿!$I$11)","v":""},"交通安全ポスター",{"$f":"CONCATENATE(応募者名簿!K773)","v":""},{"$f":"CONCATENATE(応募者名簿!L773)","v":""},{"$f":"CONCATENATE(応募者名簿!M773)","v":""},{"$f":"CONCATENATE(応募者名簿!N773)","v":""}]
[{"$f":"応募者名簿!$B$8","v":0},{"$f":"CONCATENATE(応募者名簿!$B$11,応募者名簿!$D$11,応募者名簿!$E$11,応募者名簿!$I$11)","v":""},"交通安全ポスター",{"$f":"CONCATENATE(応募者名簿!K774)","v":""},{"$f":"CONCATENATE(応募者名簿!L774)","v":""},{"$f":"CONCATENATE(応募者名簿!M774)","v":""},{"$f":"CONCATENATE(応募者名簿!N774)","v":""}]
[{"$f":"応募者名簿!$B$8","v":0},{"$f":"CONCATENATE(応募者名簿!$B$11,応募者名簿!$D$11,応募者名簿!$E$11,応募者名簿!$I$11)","v":""},"交通安全ポスター",{"$f":"CONCATENATE(応募者名簿!K775)","v":""},{"$f":"CONCATENATE(応募者名簿!L775)","v":""},{"$f":"CONCATENATE(応募者名簿!M775)","v":""},{"$f":"CONCATENATE(応募者名簿!N775)","v":""}]
[{"$f":"応募者名簿!$B$8","v":0},{"$f":"CONCATENATE(応募者名簿!$B$11,応募者名簿!$D$11,応募者名簿!$E$11,応募者名簿!$I$11)","v":""},"交通安全ポスター",{"$f":"CONCATENATE(応募者名簿!K776)","v":""},{"$f":"CONCATENATE(応募者名簿!L776)","v":""},{"$f":"CONCATENATE(応募者名簿!M776)","v":""},{"$f":"CONCATENATE(応募者名簿!N776)","v":""}]
[{"$f":"応募者名簿!$B$8","v":0},{"$f":"CONCATENATE(応募者名簿!$B$11,応募者名簿!$D$11,応募者名簿!$E$11,応募者名簿!$I$11)","v":""},"交通安全ポスター",{"$f":"CONCATENATE(応募者名簿!K777)","v":""},{"$f":"CONCATENATE(応募者名簿!L777)","v":""},{"$f":"CONCATENATE(応募者名簿!M777)","v":""},{"$f":"CONCATENATE(応募者名簿!N777)","v":""}]
[{"$f":"応募者名簿!$B$8","v":0},{"$f":"CONCATENATE(応募者名簿!$B$11,応募者名簿!$D$11,応募者名簿!$E$11,応募者名簿!$I$11)","v":""},"交通安全ポスター",{"$f":"CONCATENATE(応募者名簿!K778)","v":""},{"$f":"CONCATENATE(応募者名簿!L778)","v":""},{"$f":"CONCATENATE(応募者名簿!M778)","v":""},{"$f":"CONCATENATE(応募者名簿!N778)","v":""}]
[{"$f":"応募者名簿!$B$8","v":0},{"$f":"CONCATENATE(応募者名簿!$B$11,応募者名簿!$D$11,応募者名簿!$E$11,応募者名簿!$I$11)","v":""},"交通安全ポスター",{"$f":"CONCATENATE(応募者名簿!K779)","v":""},{"$f":"CONCATENATE(応募者名簿!L779)","v":""},{"$f":"CONCATENATE(応募者名簿!M779)","v":""},{"$f":"CONCATENATE(応募者名簿!N779)","v":""}]
[{"$f":"応募者名簿!$B$8","v":0},{"$f":"CONCATENATE(応募者名簿!$B$11,応募者名簿!$D$11,応募者名簿!$E$11,応募者名簿!$I$11)","v":""},"交通安全ポスター",{"$f":"CONCATENATE(応募者名簿!K780)","v":""},{"$f":"CONCATENATE(応募者名簿!L780)","v":""},{"$f":"CONCATENATE(応募者名簿!M780)","v":""},{"$f":"CONCATENATE(応募者名簿!N780)","v":""}]
[{"$f":"応募者名簿!$B$8","v":0},{"$f":"CONCATENATE(応募者名簿!$B$11,応募者名簿!$D$11,応募者名簿!$E$11,応募者名簿!$I$11)","v":""},"交通安全ポスター",{"$f":"CONCATENATE(応募者名簿!K781)","v":""},{"$f":"CONCATENATE(応募者名簿!L781)","v":""},{"$f":"CONCATENATE(応募者名簿!M781)","v":""},{"$f":"CONCATENATE(応募者名簿!N781)","v":""}]
[{"$f":"応募者名簿!$B$8","v":0},{"$f":"CONCATENATE(応募者名簿!$B$11,応募者名簿!$D$11,応募者名簿!$E$11,応募者名簿!$I$11)","v":""},"交通安全ポスター",{"$f":"CONCATENATE(応募者名簿!K782)","v":""},{"$f":"CONCATENATE(応募者名簿!L782)","v":""},{"$f":"CONCATENATE(応募者名簿!M782)","v":""},{"$f":"CONCATENATE(応募者名簿!N782)","v":""}]
[{"$f":"応募者名簿!$B$8","v":0},{"$f":"CONCATENATE(応募者名簿!$B$11,応募者名簿!$D$11,応募者名簿!$E$11,応募者名簿!$I$11)","v":""},"交通安全ポスター",{"$f":"CONCATENATE(応募者名簿!K783)","v":""},{"$f":"CONCATENATE(応募者名簿!L783)","v":""},{"$f":"CONCATENATE(応募者名簿!M783)","v":""},{"$f":"CONCATENATE(応募者名簿!N783)","v":""}]
[{"$f":"応募者名簿!$B$8","v":0},{"$f":"CONCATENATE(応募者名簿!$B$11,応募者名簿!$D$11,応募者名簿!$E$11,応募者名簿!$I$11)","v":""},"交通安全ポスター",{"$f":"CONCATENATE(応募者名簿!K784)","v":""},{"$f":"CONCATENATE(応募者名簿!L784)","v":""},{"$f":"CONCATENATE(応募者名簿!M784)","v":""},{"$f":"CONCATENATE(応募者名簿!N784)","v":""}]
[{"$f":"応募者名簿!$B$8","v":0},{"$f":"CONCATENATE(応募者名簿!$B$11,応募者名簿!$D$11,応募者名簿!$E$11,応募者名簿!$I$11)","v":""},"交通安全ポスター",{"$f":"CONCATENATE(応募者名簿!K785)","v":""},{"$f":"CONCATENATE(応募者名簿!L785)","v":""},{"$f":"CONCATENATE(応募者名簿!M785)","v":""},{"$f":"CONCATENATE(応募者名簿!N785)","v":""}]
[{"$f":"応募者名簿!$B$8","v":0},{"$f":"CONCATENATE(応募者名簿!$B$11,応募者名簿!$D$11,応募者名簿!$E$11,応募者名簿!$I$11)","v":""},"交通安全ポスター",{"$f":"CONCATENATE(応募者名簿!K786)","v":""},{"$f":"CONCATENATE(応募者名簿!L786)","v":""},{"$f":"CONCATENATE(応募者名簿!M786)","v":""},{"$f":"CONCATENATE(応募者名簿!N786)","v":""}]
[{"$f":"応募者名簿!$B$8","v":0},{"$f":"CONCATENATE(応募者名簿!$B$11,応募者名簿!$D$11,応募者名簿!$E$11,応募者名簿!$I$11)","v":""},"交通安全ポスター",{"$f":"CONCATENATE(応募者名簿!K787)","v":""},{"$f":"CONCATENATE(応募者名簿!L787)","v":""},{"$f":"CONCATENATE(応募者名簿!M787)","v":""},{"$f":"CONCATENATE(応募者名簿!N787)","v":""}]
[{"$f":"応募者名簿!$B$8","v":0},{"$f":"CONCATENATE(応募者名簿!$B$11,応募者名簿!$D$11,応募者名簿!$E$11,応募者名簿!$I$11)","v":""},"交通安全ポスター",{"$f":"CONCATENATE(応募者名簿!K788)","v":""},{"$f":"CONCATENATE(応募者名簿!L788)","v":""},{"$f":"CONCATENATE(応募者名簿!M788)","v":""},{"$f":"CONCATENATE(応募者名簿!N788)","v":""}]
[{"$f":"応募者名簿!$B$8","v":0},{"$f":"CONCATENATE(応募者名簿!$B$11,応募者名簿!$D$11,応募者名簿!$E$11,応募者名簿!$I$11)","v":""},"交通安全ポスター",{"$f":"CONCATENATE(応募者名簿!K789)","v":""},{"$f":"CONCATENATE(応募者名簿!L789)","v":""},{"$f":"CONCATENATE(応募者名簿!M789)","v":""},{"$f":"CONCATENATE(応募者名簿!N789)","v":""}]
[{"$f":"応募者名簿!$B$8","v":0},{"$f":"CONCATENATE(応募者名簿!$B$11,応募者名簿!$D$11,応募者名簿!$E$11,応募者名簿!$I$11)","v":""},"交通安全ポスター",{"$f":"CONCATENATE(応募者名簿!K790)","v":""},{"$f":"CONCATENATE(応募者名簿!L790)","v":""},{"$f":"CONCATENATE(応募者名簿!M790)","v":""},{"$f":"CONCATENATE(応募者名簿!N790)","v":""}]
[{"$f":"応募者名簿!$B$8","v":0},{"$f":"CONCATENATE(応募者名簿!$B$11,応募者名簿!$D$11,応募者名簿!$E$11,応募者名簿!$I$11)","v":""},"交通安全ポスター",{"$f":"CONCATENATE(応募者名簿!K791)","v":""},{"$f":"CONCATENATE(応募者名簿!L791)","v":""},{"$f":"CONCATENATE(応募者名簿!M791)","v":""},{"$f":"CONCATENATE(応募者名簿!N791)","v":""}]
[{"$f":"応募者名簿!$B$8","v":0},{"$f":"CONCATENATE(応募者名簿!$B$11,応募者名簿!$D$11,応募者名簿!$E$11,応募者名簿!$I$11)","v":""},"交通安全ポスター",{"$f":"CONCATENATE(応募者名簿!K792)","v":""},{"$f":"CONCATENATE(応募者名簿!L792)","v":""},{"$f":"CONCATENATE(応募者名簿!M792)","v":""},{"$f":"CONCATENATE(応募者名簿!N792)","v":""}]
[{"$f":"応募者名簿!$B$8","v":0},{"$f":"CONCATENATE(応募者名簿!$B$11,応募者名簿!$D$11,応募者名簿!$E$11,応募者名簿!$I$11)","v":""},"交通安全ポスター",{"$f":"CONCATENATE(応募者名簿!K793)","v":""},{"$f":"CONCATENATE(応募者名簿!L793)","v":""},{"$f":"CONCATENATE(応募者名簿!M793)","v":""},{"$f":"CONCATENATE(応募者名簿!N793)","v":""}]
[{"$f":"応募者名簿!$B$8","v":0},{"$f":"CONCATENATE(応募者名簿!$B$11,応募者名簿!$D$11,応募者名簿!$E$11,応募者名簿!$I$11)","v":""},"交通安全ポスター",{"$f":"CONCATENATE(応募者名簿!K794)","v":""},{"$f":"CONCATENATE(応募者名簿!L794)","v":""},{"$f":"CONCATENATE(応募者名簿!M794)","v":""},{"$f":"CONCATENATE(応募者名簿!N794)","v":""}]
[{"$f":"応募者名簿!$B$8","v":0},{"$f":"CONCATENATE(応募者名簿!$B$11,応募者名簿!$D$11,応募者名簿!$E$11,応募者名簿!$I$11)","v":""},"交通安全ポスター",{"$f":"CONCATENATE(応募者名簿!K795)","v":""},{"$f":"CONCATENATE(応募者名簿!L795)","v":""},{"$f":"CONCATENATE(応募者名簿!M795)","v":""},{"$f":"CONCATENATE(応募者名簿!N795)","v":""}]
[{"$f":"応募者名簿!$B$8","v":0},{"$f":"CONCATENATE(応募者名簿!$B$11,応募者名簿!$D$11,応募者名簿!$E$11,応募者名簿!$I$11)","v":""},"交通安全ポスター",{"$f":"CONCATENATE(応募者名簿!K796)","v":""},{"$f":"CONCATENATE(応募者名簿!L796)","v":""},{"$f":"CONCATENATE(応募者名簿!M796)","v":""},{"$f":"CONCATENATE(応募者名簿!N796)","v":""}]
[{"$f":"応募者名簿!$B$8","v":0},{"$f":"CONCATENATE(応募者名簿!$B$11,応募者名簿!$D$11,応募者名簿!$E$11,応募者名簿!$I$11)","v":""},"交通安全ポスター",{"$f":"CONCATENATE(応募者名簿!K797)","v":""},{"$f":"CONCATENATE(応募者名簿!L797)","v":""},{"$f":"CONCATENATE(応募者名簿!M797)","v":""},{"$f":"CONCATENATE(応募者名簿!N797)","v":""}]
[{"$f":"応募者名簿!$B$8","v":0},{"$f":"CONCATENATE(応募者名簿!$B$11,応募者名簿!$D$11,応募者名簿!$E$11,応募者名簿!$I$11)","v":""},"交通安全ポスター",{"$f":"CONCATENATE(応募者名簿!K798)","v":""},{"$f":"CONCATENATE(応募者名簿!L798)","v":""},{"$f":"CONCATENATE(応募者名簿!M798)","v":""},{"$f":"CONCATENATE(応募者名簿!N798)","v":""}]
[{"$f":"応募者名簿!$B$8","v":0},{"$f":"CONCATENATE(応募者名簿!$B$11,応募者名簿!$D$11,応募者名簿!$E$11,応募者名簿!$I$11)","v":""},"交通安全ポスター",{"$f":"CONCATENATE(応募者名簿!K799)","v":""},{"$f":"CONCATENATE(応募者名簿!L799)","v":""},{"$f":"CONCATENATE(応募者名簿!M799)","v":""},{"$f":"CONCATENATE(応募者名簿!N799)","v":""}]
[{"$f":"応募者名簿!$B$8","v":0},{"$f":"CONCATENATE(応募者名簿!$B$11,応募者名簿!$D$11,応募者名簿!$E$11,応募者名簿!$I$11)","v":""},"交通安全ポスター",{"$f":"CONCATENATE(応募者名簿!K800)","v":""},{"$f":"CONCATENATE(応募者名簿!L800)","v":""},{"$f":"CONCATENATE(応募者名簿!M800)","v":""},{"$f":"CONCATENATE(応募者名簿!N800)","v":""}]
[{"$f":"応募者名簿!$B$8","v":0},{"$f":"CONCATENATE(応募者名簿!$B$11,応募者名簿!$D$11,応募者名簿!$E$11,応募者名簿!$I$11)","v":""},"交通安全ポスター",{"$f":"CONCATENATE(応募者名簿!K801)","v":""},{"$f":"CONCATENATE(応募者名簿!L801)","v":""},{"$f":"CONCATENATE(応募者名簿!M801)","v":""},{"$f":"CONCATENATE(応募者名簿!N801)","v":""}]
[{"$f":"応募者名簿!$B$8","v":0},{"$f":"CONCATENATE(応募者名簿!$B$11,応募者名簿!$D$11,応募者名簿!$E$11,応募者名簿!$I$11)","v":""},"交通安全ポスター",{"$f":"CONCATENATE(応募者名簿!K802)","v":""},{"$f":"CONCATENATE(応募者名簿!L802)","v":""},{"$f":"CONCATENATE(応募者名簿!M802)","v":""},{"$f":"CONCATENATE(応募者名簿!N802)","v":""}]
[{"$f":"応募者名簿!$B$8","v":0},{"$f":"CONCATENATE(応募者名簿!$B$11,応募者名簿!$D$11,応募者名簿!$E$11,応募者名簿!$I$11)","v":""},"交通安全ポスター",{"$f":"CONCATENATE(応募者名簿!K803)","v":""},{"$f":"CONCATENATE(応募者名簿!L803)","v":""},{"$f":"CONCATENATE(応募者名簿!M803)","v":""},{"$f":"CONCATENATE(応募者名簿!N803)","v":""}]
[{"$f":"応募者名簿!$B$8","v":0},{"$f":"CONCATENATE(応募者名簿!$B$11,応募者名簿!$D$11,応募者名簿!$E$11,応募者名簿!$I$11)","v":""},"交通安全ポスター",{"$f":"CONCATENATE(応募者名簿!K804)","v":""},{"$f":"CONCATENATE(応募者名簿!L804)","v":""},{"$f":"CONCATENATE(応募者名簿!M804)","v":""},{"$f":"CONCATENATE(応募者名簿!N804)","v":""}]
[{"$f":"応募者名簿!$B$8","v":0},{"$f":"CONCATENATE(応募者名簿!$B$11,応募者名簿!$D$11,応募者名簿!$E$11,応募者名簿!$I$11)","v":""},"交通安全ポスター",{"$f":"CONCATENATE(応募者名簿!K805)","v":""},{"$f":"CONCATENATE(応募者名簿!L805)","v":""},{"$f":"CONCATENATE(応募者名簿!M805)","v":""},{"$f":"CONCATENATE(応募者名簿!N805)","v":""}]
[{"$f":"応募者名簿!$B$8","v":0},{"$f":"CONCATENATE(応募者名簿!$B$11,応募者名簿!$D$11,応募者名簿!$E$11,応募者名簿!$I$11)","v":""},"交通安全ポスター",{"$f":"CONCATENATE(応募者名簿!K806)","v":""},{"$f":"CONCATENATE(応募者名簿!L806)","v":""},{"$f":"CONCATENATE(応募者名簿!M806)","v":""},{"$f":"CONCATENATE(応募者名簿!N806)","v":""}]
[{"$f":"応募者名簿!$B$8","v":0},{"$f":"CONCATENATE(応募者名簿!$B$11,応募者名簿!$D$11,応募者名簿!$E$11,応募者名簿!$I$11)","v":""},"交通安全ポスター",{"$f":"CONCATENATE(応募者名簿!K807)","v":""},{"$f":"CONCATENATE(応募者名簿!L807)","v":""},{"$f":"CONCATENATE(応募者名簿!M807)","v":""},{"$f":"CONCATENATE(応募者名簿!N807)","v":""}]
[{"$f":"応募者名簿!$B$8","v":0},{"$f":"CONCATENATE(応募者名簿!$B$11,応募者名簿!$D$11,応募者名簿!$E$11,応募者名簿!$I$11)","v":""},"交通安全ポスター",{"$f":"CONCATENATE(応募者名簿!K808)","v":""},{"$f":"CONCATENATE(応募者名簿!L808)","v":""},{"$f":"CONCATENATE(応募者名簿!M808)","v":""},{"$f":"CONCATENATE(応募者名簿!N808)","v":""}]
[{"$f":"応募者名簿!$B$8","v":0},{"$f":"CONCATENATE(応募者名簿!$B$11,応募者名簿!$D$11,応募者名簿!$E$11,応募者名簿!$I$11)","v":""},"交通安全ポスター",{"$f":"CONCATENATE(応募者名簿!K809)","v":""},{"$f":"CONCATENATE(応募者名簿!L809)","v":""},{"$f":"CONCATENATE(応募者名簿!M809)","v":""},{"$f":"CONCATENATE(応募者名簿!N809)","v":""}]
[{"$f":"応募者名簿!$B$8","v":0},{"$f":"CONCATENATE(応募者名簿!$B$11,応募者名簿!$D$11,応募者名簿!$E$11,応募者名簿!$I$11)","v":""},"交通安全ポスター",{"$f":"CONCATENATE(応募者名簿!K810)","v":""},{"$f":"CONCATENATE(応募者名簿!L810)","v":""},{"$f":"CONCATENATE(応募者名簿!M810)","v":""},{"$f":"CONCATENATE(応募者名簿!N810)","v":""}]
[{"$f":"応募者名簿!$B$8","v":0},{"$f":"CONCATENATE(応募者名簿!$B$11,応募者名簿!$D$11,応募者名簿!$E$11,応募者名簿!$I$11)","v":""},"交通安全ポスター",{"$f":"CONCATENATE(応募者名簿!K811)","v":""},{"$f":"CONCATENATE(応募者名簿!L811)","v":""},{"$f":"CONCATENATE(応募者名簿!M811)","v":""},{"$f":"CONCATENATE(応募者名簿!N811)","v":""}]
[{"$f":"応募者名簿!$B$8","v":0},{"$f":"CONCATENATE(応募者名簿!$B$11,応募者名簿!$D$11,応募者名簿!$E$11,応募者名簿!$I$11)","v":""},"交通安全ポスター",{"$f":"CONCATENATE(応募者名簿!K812)","v":""},{"$f":"CONCATENATE(応募者名簿!L812)","v":""},{"$f":"CONCATENATE(応募者名簿!M812)","v":""},{"$f":"CONCATENATE(応募者名簿!N812)","v":""}]
[{"$f":"応募者名簿!$B$8","v":0},{"$f":"CONCATENATE(応募者名簿!$B$11,応募者名簿!$D$11,応募者名簿!$E$11,応募者名簿!$I$11)","v":""},"交通安全ポスター",{"$f":"CONCATENATE(応募者名簿!K813)","v":""},{"$f":"CONCATENATE(応募者名簿!L813)","v":""},{"$f":"CONCATENATE(応募者名簿!M813)","v":""},{"$f":"CONCATENATE(応募者名簿!N813)","v":""}]
[{"$f":"応募者名簿!$B$8","v":0},{"$f":"CONCATENATE(応募者名簿!$B$11,応募者名簿!$D$11,応募者名簿!$E$11,応募者名簿!$I$11)","v":""},"交通安全ポスター",{"$f":"CONCATENATE(応募者名簿!K814)","v":""},{"$f":"CONCATENATE(応募者名簿!L814)","v":""},{"$f":"CONCATENATE(応募者名簿!M814)","v":""},{"$f":"CONCATENATE(応募者名簿!N814)","v":""}]
[{"$f":"応募者名簿!$B$8","v":0},{"$f":"CONCATENATE(応募者名簿!$B$11,応募者名簿!$D$11,応募者名簿!$E$11,応募者名簿!$I$11)","v":""},"交通安全ポスター",{"$f":"CONCATENATE(応募者名簿!K815)","v":""},{"$f":"CONCATENATE(応募者名簿!L815)","v":""},{"$f":"CONCATENATE(応募者名簿!M815)","v":""},{"$f":"CONCATENATE(応募者名簿!N815)","v":""}]
[{"$f":"応募者名簿!$B$8","v":0},{"$f":"CONCATENATE(応募者名簿!$B$11,応募者名簿!$D$11,応募者名簿!$E$11,応募者名簿!$I$11)","v":""},"交通安全ポスター",{"$f":"CONCATENATE(応募者名簿!K816)","v":""},{"$f":"CONCATENATE(応募者名簿!L816)","v":""},{"$f":"CONCATENATE(応募者名簿!M816)","v":""},{"$f":"CONCATENATE(応募者名簿!N816)","v":""}]
[{"$f":"応募者名簿!$B$8","v":0},{"$f":"CONCATENATE(応募者名簿!$B$11,応募者名簿!$D$11,応募者名簿!$E$11,応募者名簿!$I$11)","v":""},"交通安全ポスター",{"$f":"CONCATENATE(応募者名簿!K817)","v":""},{"$f":"CONCATENATE(応募者名簿!L817)","v":""},{"$f":"CONCATENATE(応募者名簿!M817)","v":""},{"$f":"CONCATENATE(応募者名簿!N817)","v":""}]
[{"$f":"応募者名簿!$B$8","v":0},{"$f":"CONCATENATE(応募者名簿!$B$11,応募者名簿!$D$11,応募者名簿!$E$11,応募者名簿!$I$11)","v":""},"交通安全ポスター",{"$f":"CONCATENATE(応募者名簿!K818)","v":""},{"$f":"CONCATENATE(応募者名簿!L818)","v":""},{"$f":"CONCATENATE(応募者名簿!M818)","v":""},{"$f":"CONCATENATE(応募者名簿!N818)","v":""}]
[{"$f":"応募者名簿!$B$8","v":0},{"$f":"CONCATENATE(応募者名簿!$B$11,応募者名簿!$D$11,応募者名簿!$E$11,応募者名簿!$I$11)","v":""},"交通安全ポスター",{"$f":"CONCATENATE(応募者名簿!K819)","v":""},{"$f":"CONCATENATE(応募者名簿!L819)","v":""},{"$f":"CONCATENATE(応募者名簿!M819)","v":""},{"$f":"CONCATENATE(応募者名簿!N819)","v":""}]
[{"$f":"応募者名簿!$B$8","v":0},{"$f":"CONCATENATE(応募者名簿!$B$11,応募者名簿!$D$11,応募者名簿!$E$11,応募者名簿!$I$11)","v":""},"交通安全ポスター",{"$f":"CONCATENATE(応募者名簿!K820)","v":""},{"$f":"CONCATENATE(応募者名簿!L820)","v":""},{"$f":"CONCATENATE(応募者名簿!M820)","v":""},{"$f":"CONCATENATE(応募者名簿!N820)","v":""}]
[{"$f":"応募者名簿!$B$8","v":0},{"$f":"CONCATENATE(応募者名簿!$B$11,応募者名簿!$D$11,応募者名簿!$E$11,応募者名簿!$I$11)","v":""},"交通安全ポスター",{"$f":"CONCATENATE(応募者名簿!K821)","v":""},{"$f":"CONCATENATE(応募者名簿!L821)","v":""},{"$f":"CONCATENATE(応募者名簿!M821)","v":""},{"$f":"CONCATENATE(応募者名簿!N821)","v":""}]
[{"$f":"応募者名簿!$B$8","v":0},{"$f":"CONCATENATE(応募者名簿!$B$11,応募者名簿!$D$11,応募者名簿!$E$11,応募者名簿!$I$11)","v":""},"交通安全ポスター",{"$f":"CONCATENATE(応募者名簿!K822)","v":""},{"$f":"CONCATENATE(応募者名簿!L822)","v":""},{"$f":"CONCATENATE(応募者名簿!M822)","v":""},{"$f":"CONCATENATE(応募者名簿!N822)","v":""}]
[{"$f":"応募者名簿!$B$8","v":0},{"$f":"CONCATENATE(応募者名簿!$B$11,応募者名簿!$D$11,応募者名簿!$E$11,応募者名簿!$I$11)","v":""},"交通安全ポスター",{"$f":"CONCATENATE(応募者名簿!K823)","v":""},{"$f":"CONCATENATE(応募者名簿!L823)","v":""},{"$f":"CONCATENATE(応募者名簿!M823)","v":""},{"$f":"CONCATENATE(応募者名簿!N823)","v":""}]
[{"$f":"応募者名簿!$B$8","v":0},{"$f":"CONCATENATE(応募者名簿!$B$11,応募者名簿!$D$11,応募者名簿!$E$11,応募者名簿!$I$11)","v":""},"交通安全ポスター",{"$f":"CONCATENATE(応募者名簿!K824)","v":""},{"$f":"CONCATENATE(応募者名簿!L824)","v":""},{"$f":"CONCATENATE(応募者名簿!M824)","v":""},{"$f":"CONCATENATE(応募者名簿!N824)","v":""}]
[{"$f":"応募者名簿!$B$8","v":0},{"$f":"CONCATENATE(応募者名簿!$B$11,応募者名簿!$D$11,応募者名簿!$E$11,応募者名簿!$I$11)","v":""},"交通安全ポスター",{"$f":"CONCATENATE(応募者名簿!K825)","v":""},{"$f":"CONCATENATE(応募者名簿!L825)","v":""},{"$f":"CONCATENATE(応募者名簿!M825)","v":""},{"$f":"CONCATENATE(応募者名簿!N825)","v":""}]
[{"$f":"応募者名簿!$B$8","v":0},{"$f":"CONCATENATE(応募者名簿!$B$11,応募者名簿!$D$11,応募者名簿!$E$11,応募者名簿!$I$11)","v":""},"交通安全ポスター",{"$f":"CONCATENATE(応募者名簿!K826)","v":""},{"$f":"CONCATENATE(応募者名簿!L826)","v":""},{"$f":"CONCATENATE(応募者名簿!M826)","v":""},{"$f":"CONCATENATE(応募者名簿!N826)","v":""}]
[{"$f":"応募者名簿!$B$8","v":0},{"$f":"CONCATENATE(応募者名簿!$B$11,応募者名簿!$D$11,応募者名簿!$E$11,応募者名簿!$I$11)","v":""},"交通安全ポスター",{"$f":"CONCATENATE(応募者名簿!K827)","v":""},{"$f":"CONCATENATE(応募者名簿!L827)","v":""},{"$f":"CONCATENATE(応募者名簿!M827)","v":""},{"$f":"CONCATENATE(応募者名簿!N827)","v":""}]
[{"$f":"応募者名簿!$B$8","v":0},{"$f":"CONCATENATE(応募者名簿!$B$11,応募者名簿!$D$11,応募者名簿!$E$11,応募者名簿!$I$11)","v":""},"交通安全ポスター",{"$f":"CONCATENATE(応募者名簿!K828)","v":""},{"$f":"CONCATENATE(応募者名簿!L828)","v":""},{"$f":"CONCATENATE(応募者名簿!M828)","v":""},{"$f":"CONCATENATE(応募者名簿!N828)","v":""}]
[{"$f":"応募者名簿!$B$8","v":0},{"$f":"CONCATENATE(応募者名簿!$B$11,応募者名簿!$D$11,応募者名簿!$E$11,応募者名簿!$I$11)","v":""},"交通安全ポスター",{"$f":"CONCATENATE(応募者名簿!K829)","v":""},{"$f":"CONCATENATE(応募者名簿!L829)","v":""},{"$f":"CONCATENATE(応募者名簿!M829)","v":""},{"$f":"CONCATENATE(応募者名簿!N829)","v":""}]
[{"$f":"応募者名簿!$B$8","v":0},{"$f":"CONCATENATE(応募者名簿!$B$11,応募者名簿!$D$11,応募者名簿!$E$11,応募者名簿!$I$11)","v":""},"交通安全ポスター",{"$f":"CONCATENATE(応募者名簿!K830)","v":""},{"$f":"CONCATENATE(応募者名簿!L830)","v":""},{"$f":"CONCATENATE(応募者名簿!M830)","v":""},{"$f":"CONCATENATE(応募者名簿!N830)","v":""}]
[{"$f":"応募者名簿!$B$8","v":0},{"$f":"CONCATENATE(応募者名簿!$B$11,応募者名簿!$D$11,応募者名簿!$E$11,応募者名簿!$I$11)","v":""},"交通安全ポスター",{"$f":"CONCATENATE(応募者名簿!K831)","v":""},{"$f":"CONCATENATE(応募者名簿!L831)","v":""},{"$f":"CONCATENATE(応募者名簿!M831)","v":""},{"$f":"CONCATENATE(応募者名簿!N831)","v":""}]
[{"$f":"応募者名簿!$B$8","v":0},{"$f":"CONCATENATE(応募者名簿!$B$11,応募者名簿!$D$11,応募者名簿!$E$11,応募者名簿!$I$11)","v":""},"交通安全ポスター",{"$f":"CONCATENATE(応募者名簿!K832)","v":""},{"$f":"CONCATENATE(応募者名簿!L832)","v":""},{"$f":"CONCATENATE(応募者名簿!M832)","v":""},{"$f":"CONCATENATE(応募者名簿!N832)","v":""}]
[{"$f":"応募者名簿!$B$8","v":0},{"$f":"CONCATENATE(応募者名簿!$B$11,応募者名簿!$D$11,応募者名簿!$E$11,応募者名簿!$I$11)","v":""},"交通安全ポスター",{"$f":"CONCATENATE(応募者名簿!K833)","v":""},{"$f":"CONCATENATE(応募者名簿!L833)","v":""},{"$f":"CONCATENATE(応募者名簿!M833)","v":""},{"$f":"CONCATENATE(応募者名簿!N833)","v":""}]
[{"$f":"応募者名簿!$B$8","v":0},{"$f":"CONCATENATE(応募者名簿!$B$11,応募者名簿!$D$11,応募者名簿!$E$11,応募者名簿!$I$11)","v":""},"交通安全ポスター",{"$f":"CONCATENATE(応募者名簿!K834)","v":""},{"$f":"CONCATENATE(応募者名簿!L834)","v":""},{"$f":"CONCATENATE(応募者名簿!M834)","v":""},{"$f":"CONCATENATE(応募者名簿!N834)","v":""}]
[{"$f":"応募者名簿!$B$8","v":0},{"$f":"CONCATENATE(応募者名簿!$B$11,応募者名簿!$D$11,応募者名簿!$E$11,応募者名簿!$I$11)","v":""},"交通安全ポスター",{"$f":"CONCATENATE(応募者名簿!K835)","v":""},{"$f":"CONCATENATE(応募者名簿!L835)","v":""},{"$f":"CONCATENATE(応募者名簿!M835)","v":""},{"$f":"CONCATENATE(応募者名簿!N835)","v":""}]
[{"$f":"応募者名簿!$B$8","v":0},{"$f":"CONCATENATE(応募者名簿!$B$11,応募者名簿!$D$11,応募者名簿!$E$11,応募者名簿!$I$11)","v":""},"交通安全ポスター",{"$f":"CONCATENATE(応募者名簿!K836)","v":""},{"$f":"CONCATENATE(応募者名簿!L836)","v":""},{"$f":"CONCATENATE(応募者名簿!M836)","v":""},{"$f":"CONCATENATE(応募者名簿!N836)","v":""}]
[{"$f":"応募者名簿!$B$8","v":0},{"$f":"CONCATENATE(応募者名簿!$B$11,応募者名簿!$D$11,応募者名簿!$E$11,応募者名簿!$I$11)","v":""},"交通安全ポスター",{"$f":"CONCATENATE(応募者名簿!K837)","v":""},{"$f":"CONCATENATE(応募者名簿!L837)","v":""},{"$f":"CONCATENATE(応募者名簿!M837)","v":""},{"$f":"CONCATENATE(応募者名簿!N837)","v":""}]
[{"$f":"応募者名簿!$B$8","v":0},{"$f":"CONCATENATE(応募者名簿!$B$11,応募者名簿!$D$11,応募者名簿!$E$11,応募者名簿!$I$11)","v":""},"交通安全ポスター",{"$f":"CONCATENATE(応募者名簿!K838)","v":""},{"$f":"CONCATENATE(応募者名簿!L838)","v":""},{"$f":"CONCATENATE(応募者名簿!M838)","v":""},{"$f":"CONCATENATE(応募者名簿!N838)","v":""}]
[{"$f":"応募者名簿!$B$8","v":0},{"$f":"CONCATENATE(応募者名簿!$B$11,応募者名簿!$D$11,応募者名簿!$E$11,応募者名簿!$I$11)","v":""},"交通安全ポスター",{"$f":"CONCATENATE(応募者名簿!K839)","v":""},{"$f":"CONCATENATE(応募者名簿!L839)","v":""},{"$f":"CONCATENATE(応募者名簿!M839)","v":""},{"$f":"CONCATENATE(応募者名簿!N839)","v":""}]
[{"$f":"応募者名簿!$B$8","v":0},{"$f":"CONCATENATE(応募者名簿!$B$11,応募者名簿!$D$11,応募者名簿!$E$11,応募者名簿!$I$11)","v":""},"交通安全ポスター",{"$f":"CONCATENATE(応募者名簿!K840)","v":""},{"$f":"CONCATENATE(応募者名簿!L840)","v":""},{"$f":"CONCATENATE(応募者名簿!M840)","v":""},{"$f":"CONCATENATE(応募者名簿!N840)","v":""}]
[{"$f":"応募者名簿!$B$8","v":0},{"$f":"CONCATENATE(応募者名簿!$B$11,応募者名簿!$D$11,応募者名簿!$E$11,応募者名簿!$I$11)","v":""},"交通安全ポスター",{"$f":"CONCATENATE(応募者名簿!K841)","v":""},{"$f":"CONCATENATE(応募者名簿!L841)","v":""},{"$f":"CONCATENATE(応募者名簿!M841)","v":""},{"$f":"CONCATENATE(応募者名簿!N841)","v":""}]
[{"$f":"応募者名簿!$B$8","v":0},{"$f":"CONCATENATE(応募者名簿!$B$11,応募者名簿!$D$11,応募者名簿!$E$11,応募者名簿!$I$11)","v":""},"交通安全ポスター",{"$f":"CONCATENATE(応募者名簿!K842)","v":""},{"$f":"CONCATENATE(応募者名簿!L842)","v":""},{"$f":"CONCATENATE(応募者名簿!M842)","v":""},{"$f":"CONCATENATE(応募者名簿!N842)","v":""}]
[{"$f":"応募者名簿!$B$8","v":0},{"$f":"CONCATENATE(応募者名簿!$B$11,応募者名簿!$D$11,応募者名簿!$E$11,応募者名簿!$I$11)","v":""},"交通安全ポスター",{"$f":"CONCATENATE(応募者名簿!K843)","v":""},{"$f":"CONCATENATE(応募者名簿!L843)","v":""},{"$f":"CONCATENATE(応募者名簿!M843)","v":""},{"$f":"CONCATENATE(応募者名簿!N843)","v":""}]
[{"$f":"応募者名簿!$B$8","v":0},{"$f":"CONCATENATE(応募者名簿!$B$11,応募者名簿!$D$11,応募者名簿!$E$11,応募者名簿!$I$11)","v":""},"交通安全ポスター",{"$f":"CONCATENATE(応募者名簿!K844)","v":""},{"$f":"CONCATENATE(応募者名簿!L844)","v":""},{"$f":"CONCATENATE(応募者名簿!M844)","v":""},{"$f":"CONCATENATE(応募者名簿!N844)","v":""}]
[{"$f":"応募者名簿!$B$8","v":0},{"$f":"CONCATENATE(応募者名簿!$B$11,応募者名簿!$D$11,応募者名簿!$E$11,応募者名簿!$I$11)","v":""},"交通安全ポスター",{"$f":"CONCATENATE(応募者名簿!K845)","v":""},{"$f":"CONCATENATE(応募者名簿!L845)","v":""},{"$f":"CONCATENATE(応募者名簿!M845)","v":""},{"$f":"CONCATENATE(応募者名簿!N845)","v":""}]
[{"$f":"応募者名簿!$B$8","v":0},{"$f":"CONCATENATE(応募者名簿!$B$11,応募者名簿!$D$11,応募者名簿!$E$11,応募者名簿!$I$11)","v":""},"交通安全ポスター",{"$f":"CONCATENATE(応募者名簿!K846)","v":""},{"$f":"CONCATENATE(応募者名簿!L846)","v":""},{"$f":"CONCATENATE(応募者名簿!M846)","v":""},{"$f":"CONCATENATE(応募者名簿!N846)","v":""}]
[{"$f":"応募者名簿!$B$8","v":0},{"$f":"CONCATENATE(応募者名簿!$B$11,応募者名簿!$D$11,応募者名簿!$E$11,応募者名簿!$I$11)","v":""},"交通安全ポスター",{"$f":"CONCATENATE(応募者名簿!K847)","v":""},{"$f":"CONCATENATE(応募者名簿!L847)","v":""},{"$f":"CONCATENATE(応募者名簿!M847)","v":""},{"$f":"CONCATENATE(応募者名簿!N847)","v":""}]
[{"$f":"応募者名簿!$B$8","v":0},{"$f":"CONCATENATE(応募者名簿!$B$11,応募者名簿!$D$11,応募者名簿!$E$11,応募者名簿!$I$11)","v":""},"交通安全ポスター",{"$f":"CONCATENATE(応募者名簿!K848)","v":""},{"$f":"CONCATENATE(応募者名簿!L848)","v":""},{"$f":"CONCATENATE(応募者名簿!M848)","v":""},{"$f":"CONCATENATE(応募者名簿!N848)","v":""}]
[{"$f":"応募者名簿!$B$8","v":0},{"$f":"CONCATENATE(応募者名簿!$B$11,応募者名簿!$D$11,応募者名簿!$E$11,応募者名簿!$I$11)","v":""},"交通安全ポスター",{"$f":"CONCATENATE(応募者名簿!K849)","v":""},{"$f":"CONCATENATE(応募者名簿!L849)","v":""},{"$f":"CONCATENATE(応募者名簿!M849)","v":""},{"$f":"CONCATENATE(応募者名簿!N849)","v":""}]
[{"$f":"応募者名簿!$B$8","v":0},{"$f":"CONCATENATE(応募者名簿!$B$11,応募者名簿!$D$11,応募者名簿!$E$11,応募者名簿!$I$11)","v":""},"交通安全ポスター",{"$f":"CONCATENATE(応募者名簿!K850)","v":""},{"$f":"CONCATENATE(応募者名簿!L850)","v":""},{"$f":"CONCATENATE(応募者名簿!M850)","v":""},{"$f":"CONCATENATE(応募者名簿!N850)","v":""}]
[{"$f":"応募者名簿!$B$8","v":0},{"$f":"CONCATENATE(応募者名簿!$B$11,応募者名簿!$D$11,応募者名簿!$E$11,応募者名簿!$I$11)","v":""},"交通安全ポスター",{"$f":"CONCATENATE(応募者名簿!K851)","v":""},{"$f":"CONCATENATE(応募者名簿!L851)","v":""},{"$f":"CONCATENATE(応募者名簿!M851)","v":""},{"$f":"CONCATENATE(応募者名簿!N851)","v":""}]
[{"$f":"応募者名簿!$B$8","v":0},{"$f":"CONCATENATE(応募者名簿!$B$11,応募者名簿!$D$11,応募者名簿!$E$11,応募者名簿!$I$11)","v":""},"交通安全ポスター",{"$f":"CONCATENATE(応募者名簿!K852)","v":""},{"$f":"CONCATENATE(応募者名簿!L852)","v":""},{"$f":"CONCATENATE(応募者名簿!M852)","v":""},{"$f":"CONCATENATE(応募者名簿!N852)","v":""}]
[{"$f":"応募者名簿!$B$8","v":0},{"$f":"CONCATENATE(応募者名簿!$B$11,応募者名簿!$D$11,応募者名簿!$E$11,応募者名簿!$I$11)","v":""},"交通安全ポスター",{"$f":"CONCATENATE(応募者名簿!K853)","v":""},{"$f":"CONCATENATE(応募者名簿!L853)","v":""},{"$f":"CONCATENATE(応募者名簿!M853)","v":""},{"$f":"CONCATENATE(応募者名簿!N853)","v":""}]
[{"$f":"応募者名簿!$B$8","v":0},{"$f":"CONCATENATE(応募者名簿!$B$11,応募者名簿!$D$11,応募者名簿!$E$11,応募者名簿!$I$11)","v":""},"交通安全ポスター",{"$f":"CONCATENATE(応募者名簿!K854)","v":""},{"$f":"CONCATENATE(応募者名簿!L854)","v":""},{"$f":"CONCATENATE(応募者名簿!M854)","v":""},{"$f":"CONCATENATE(応募者名簿!N854)","v":""}]
[{"$f":"応募者名簿!$B$8","v":0},{"$f":"CONCATENATE(応募者名簿!$B$11,応募者名簿!$D$11,応募者名簿!$E$11,応募者名簿!$I$11)","v":""},"交通安全ポスター",{"$f":"CONCATENATE(応募者名簿!K855)","v":""},{"$f":"CONCATENATE(応募者名簿!L855)","v":""},{"$f":"CONCATENATE(応募者名簿!M855)","v":""},{"$f":"CONCATENATE(応募者名簿!N855)","v":""}]
[{"$f":"応募者名簿!$B$8","v":0},{"$f":"CONCATENATE(応募者名簿!$B$11,応募者名簿!$D$11,応募者名簿!$E$11,応募者名簿!$I$11)","v":""},"交通安全ポスター",{"$f":"CONCATENATE(応募者名簿!K856)","v":""},{"$f":"CONCATENATE(応募者名簿!L856)","v":""},{"$f":"CONCATENATE(応募者名簿!M856)","v":""},{"$f":"CONCATENATE(応募者名簿!N856)","v":""}]
[{"$f":"応募者名簿!$B$8","v":0},{"$f":"CONCATENATE(応募者名簿!$B$11,応募者名簿!$D$11,応募者名簿!$E$11,応募者名簿!$I$11)","v":""},"交通安全ポスター",{"$f":"CONCATENATE(応募者名簿!K857)","v":""},{"$f":"CONCATENATE(応募者名簿!L857)","v":""},{"$f":"CONCATENATE(応募者名簿!M857)","v":""},{"$f":"CONCATENATE(応募者名簿!N857)","v":""}]
[{"$f":"応募者名簿!$B$8","v":0},{"$f":"CONCATENATE(応募者名簿!$B$11,応募者名簿!$D$11,応募者名簿!$E$11,応募者名簿!$I$11)","v":""},"交通安全ポスター",{"$f":"CONCATENATE(応募者名簿!K858)","v":""},{"$f":"CONCATENATE(応募者名簿!L858)","v":""},{"$f":"CONCATENATE(応募者名簿!M858)","v":""},{"$f":"CONCATENATE(応募者名簿!N858)","v":""}]
[{"$f":"応募者名簿!$B$8","v":0},{"$f":"CONCATENATE(応募者名簿!$B$11,応募者名簿!$D$11,応募者名簿!$E$11,応募者名簿!$I$11)","v":""},"交通安全ポスター",{"$f":"CONCATENATE(応募者名簿!K859)","v":""},{"$f":"CONCATENATE(応募者名簿!L859)","v":""},{"$f":"CONCATENATE(応募者名簿!M859)","v":""},{"$f":"CONCATENATE(応募者名簿!N859)","v":""}]
[{"$f":"応募者名簿!$B$8","v":0},{"$f":"CONCATENATE(応募者名簿!$B$11,応募者名簿!$D$11,応募者名簿!$E$11,応募者名簿!$I$11)","v":""},"交通安全ポスター",{"$f":"CONCATENATE(応募者名簿!K860)","v":""},{"$f":"CONCATENATE(応募者名簿!L860)","v":""},{"$f":"CONCATENATE(応募者名簿!M860)","v":""},{"$f":"CONCATENATE(応募者名簿!N860)","v":""}]
[{"$f":"応募者名簿!$B$8","v":0},{"$f":"CONCATENATE(応募者名簿!$B$11,応募者名簿!$D$11,応募者名簿!$E$11,応募者名簿!$I$11)","v":""},"交通安全ポスター",{"$f":"CONCATENATE(応募者名簿!K861)","v":""},{"$f":"CONCATENATE(応募者名簿!L861)","v":""},{"$f":"CONCATENATE(応募者名簿!M861)","v":""},{"$f":"CONCATENATE(応募者名簿!N861)","v":""}]
[{"$f":"応募者名簿!$B$8","v":0},{"$f":"CONCATENATE(応募者名簿!$B$11,応募者名簿!$D$11,応募者名簿!$E$11,応募者名簿!$I$11)","v":""},"交通安全ポスター",{"$f":"CONCATENATE(応募者名簿!K862)","v":""},{"$f":"CONCATENATE(応募者名簿!L862)","v":""},{"$f":"CONCATENATE(応募者名簿!M862)","v":""},{"$f":"CONCATENATE(応募者名簿!N862)","v":""}]
[{"$f":"応募者名簿!$B$8","v":0},{"$f":"CONCATENATE(応募者名簿!$B$11,応募者名簿!$D$11,応募者名簿!$E$11,応募者名簿!$I$11)","v":""},"交通安全ポスター",{"$f":"CONCATENATE(応募者名簿!K863)","v":""},{"$f":"CONCATENATE(応募者名簿!L863)","v":""},{"$f":"CONCATENATE(応募者名簿!M863)","v":""},{"$f":"CONCATENATE(応募者名簿!N863)","v":""}]
[{"$f":"応募者名簿!$B$8","v":0},{"$f":"CONCATENATE(応募者名簿!$B$11,応募者名簿!$D$11,応募者名簿!$E$11,応募者名簿!$I$11)","v":""},"交通安全ポスター",{"$f":"CONCATENATE(応募者名簿!K864)","v":""},{"$f":"CONCATENATE(応募者名簿!L864)","v":""},{"$f":"CONCATENATE(応募者名簿!M864)","v":""},{"$f":"CONCATENATE(応募者名簿!N864)","v":""}]
[{"$f":"応募者名簿!$B$8","v":0},{"$f":"CONCATENATE(応募者名簿!$B$11,応募者名簿!$D$11,応募者名簿!$E$11,応募者名簿!$I$11)","v":""},"交通安全ポスター",{"$f":"CONCATENATE(応募者名簿!K865)","v":""},{"$f":"CONCATENATE(応募者名簿!L865)","v":""},{"$f":"CONCATENATE(応募者名簿!M865)","v":""},{"$f":"CONCATENATE(応募者名簿!N865)","v":""}]
[{"$f":"応募者名簿!$B$8","v":0},{"$f":"CONCATENATE(応募者名簿!$B$11,応募者名簿!$D$11,応募者名簿!$E$11,応募者名簿!$I$11)","v":""},"交通安全ポスター",{"$f":"CONCATENATE(応募者名簿!K866)","v":""},{"$f":"CONCATENATE(応募者名簿!L866)","v":""},{"$f":"CONCATENATE(応募者名簿!M866)","v":""},{"$f":"CONCATENATE(応募者名簿!N866)","v":""}]
[{"$f":"応募者名簿!$B$8","v":0},{"$f":"CONCATENATE(応募者名簿!$B$11,応募者名簿!$D$11,応募者名簿!$E$11,応募者名簿!$I$11)","v":""},"交通安全ポスター",{"$f":"CONCATENATE(応募者名簿!K867)","v":""},{"$f":"CONCATENATE(応募者名簿!L867)","v":""},{"$f":"CONCATENATE(応募者名簿!M867)","v":""},{"$f":"CONCATENATE(応募者名簿!N867)","v":""}]
[{"$f":"応募者名簿!$B$8","v":0},{"$f":"CONCATENATE(応募者名簿!$B$11,応募者名簿!$D$11,応募者名簿!$E$11,応募者名簿!$I$11)","v":""},"交通安全ポスター",{"$f":"CONCATENATE(応募者名簿!K868)","v":""},{"$f":"CONCATENATE(応募者名簿!L868)","v":""},{"$f":"CONCATENATE(応募者名簿!M868)","v":""},{"$f":"CONCATENATE(応募者名簿!N868)","v":""}]
[{"$f":"応募者名簿!$B$8","v":0},{"$f":"CONCATENATE(応募者名簿!$B$11,応募者名簿!$D$11,応募者名簿!$E$11,応募者名簿!$I$11)","v":""},"交通安全ポスター",{"$f":"CONCATENATE(応募者名簿!K869)","v":""},{"$f":"CONCATENATE(応募者名簿!L869)","v":""},{"$f":"CONCATENATE(応募者名簿!M869)","v":""},{"$f":"CONCATENATE(応募者名簿!N869)","v":""}]
[{"$f":"応募者名簿!$B$8","v":0},{"$f":"CONCATENATE(応募者名簿!$B$11,応募者名簿!$D$11,応募者名簿!$E$11,応募者名簿!$I$11)","v":""},"交通安全ポスター",{"$f":"CONCATENATE(応募者名簿!K870)","v":""},{"$f":"CONCATENATE(応募者名簿!L870)","v":""},{"$f":"CONCATENATE(応募者名簿!M870)","v":""},{"$f":"CONCATENATE(応募者名簿!N870)","v":""}]
[{"$f":"応募者名簿!$B$8","v":0},{"$f":"CONCATENATE(応募者名簿!$B$11,応募者名簿!$D$11,応募者名簿!$E$11,応募者名簿!$I$11)","v":""},"交通安全ポスター",{"$f":"CONCATENATE(応募者名簿!K871)","v":""},{"$f":"CONCATENATE(応募者名簿!L871)","v":""},{"$f":"CONCATENATE(応募者名簿!M871)","v":""},{"$f":"CONCATENATE(応募者名簿!N871)","v":""}]
[{"$f":"応募者名簿!$B$8","v":0},{"$f":"CONCATENATE(応募者名簿!$B$11,応募者名簿!$D$11,応募者名簿!$E$11,応募者名簿!$I$11)","v":""},"交通安全ポスター",{"$f":"CONCATENATE(応募者名簿!K872)","v":""},{"$f":"CONCATENATE(応募者名簿!L872)","v":""},{"$f":"CONCATENATE(応募者名簿!M872)","v":""},{"$f":"CONCATENATE(応募者名簿!N872)","v":""}]
[{"$f":"応募者名簿!$B$8","v":0},{"$f":"CONCATENATE(応募者名簿!$B$11,応募者名簿!$D$11,応募者名簿!$E$11,応募者名簿!$I$11)","v":""},"交通安全ポスター",{"$f":"CONCATENATE(応募者名簿!K873)","v":""},{"$f":"CONCATENATE(応募者名簿!L873)","v":""},{"$f":"CONCATENATE(応募者名簿!M873)","v":""},{"$f":"CONCATENATE(応募者名簿!N873)","v":""}]
[{"$f":"応募者名簿!$B$8","v":0},{"$f":"CONCATENATE(応募者名簿!$B$11,応募者名簿!$D$11,応募者名簿!$E$11,応募者名簿!$I$11)","v":""},"交通安全ポスター",{"$f":"CONCATENATE(応募者名簿!K874)","v":""},{"$f":"CONCATENATE(応募者名簿!L874)","v":""},{"$f":"CONCATENATE(応募者名簿!M874)","v":""},{"$f":"CONCATENATE(応募者名簿!N874)","v":""}]
[{"$f":"応募者名簿!$B$8","v":0},{"$f":"CONCATENATE(応募者名簿!$B$11,応募者名簿!$D$11,応募者名簿!$E$11,応募者名簿!$I$11)","v":""},"交通安全ポスター",{"$f":"CONCATENATE(応募者名簿!K875)","v":""},{"$f":"CONCATENATE(応募者名簿!L875)","v":""},{"$f":"CONCATENATE(応募者名簿!M875)","v":""},{"$f":"CONCATENATE(応募者名簿!N875)","v":""}]
[{"$f":"応募者名簿!$B$8","v":0},{"$f":"CONCATENATE(応募者名簿!$B$11,応募者名簿!$D$11,応募者名簿!$E$11,応募者名簿!$I$11)","v":""},"交通安全ポスター",{"$f":"CONCATENATE(応募者名簿!K876)","v":""},{"$f":"CONCATENATE(応募者名簿!L876)","v":""},{"$f":"CONCATENATE(応募者名簿!M876)","v":""},{"$f":"CONCATENATE(応募者名簿!N876)","v":""}]
[{"$f":"応募者名簿!$B$8","v":0},{"$f":"CONCATENATE(応募者名簿!$B$11,応募者名簿!$D$11,応募者名簿!$E$11,応募者名簿!$I$11)","v":""},"交通安全ポスター",{"$f":"CONCATENATE(応募者名簿!K877)","v":""},{"$f":"CONCATENATE(応募者名簿!L877)","v":""},{"$f":"CONCATENATE(応募者名簿!M877)","v":""},{"$f":"CONCATENATE(応募者名簿!N877)","v":""}]
[{"$f":"応募者名簿!$B$8","v":0},{"$f":"CONCATENATE(応募者名簿!$B$11,応募者名簿!$D$11,応募者名簿!$E$11,応募者名簿!$I$11)","v":""},"交通安全ポスター",{"$f":"CONCATENATE(応募者名簿!K878)","v":""},{"$f":"CONCATENATE(応募者名簿!L878)","v":""},{"$f":"CONCATENATE(応募者名簿!M878)","v":""},{"$f":"CONCATENATE(応募者名簿!N878)","v":""}]
[{"$f":"応募者名簿!$B$8","v":0},{"$f":"CONCATENATE(応募者名簿!$B$11,応募者名簿!$D$11,応募者名簿!$E$11,応募者名簿!$I$11)","v":""},"交通安全ポスター",{"$f":"CONCATENATE(応募者名簿!K879)","v":""},{"$f":"CONCATENATE(応募者名簿!L879)","v":""},{"$f":"CONCATENATE(応募者名簿!M879)","v":""},{"$f":"CONCATENATE(応募者名簿!N879)","v":""}]
[{"$f":"応募者名簿!$B$8","v":0},{"$f":"CONCATENATE(応募者名簿!$B$11,応募者名簿!$D$11,応募者名簿!$E$11,応募者名簿!$I$11)","v":""},"交通安全ポスター",{"$f":"CONCATENATE(応募者名簿!K880)","v":""},{"$f":"CONCATENATE(応募者名簿!L880)","v":""},{"$f":"CONCATENATE(応募者名簿!M880)","v":""},{"$f":"CONCATENATE(応募者名簿!N880)","v":""}]
[{"$f":"応募者名簿!$B$8","v":0},{"$f":"CONCATENATE(応募者名簿!$B$11,応募者名簿!$D$11,応募者名簿!$E$11,応募者名簿!$I$11)","v":""},"交通安全ポスター",{"$f":"CONCATENATE(応募者名簿!K881)","v":""},{"$f":"CONCATENATE(応募者名簿!L881)","v":""},{"$f":"CONCATENATE(応募者名簿!M881)","v":""},{"$f":"CONCATENATE(応募者名簿!N881)","v":""}]
[{"$f":"応募者名簿!$B$8","v":0},{"$f":"CONCATENATE(応募者名簿!$B$11,応募者名簿!$D$11,応募者名簿!$E$11,応募者名簿!$I$11)","v":""},"交通安全ポスター",{"$f":"CONCATENATE(応募者名簿!K882)","v":""},{"$f":"CONCATENATE(応募者名簿!L882)","v":""},{"$f":"CONCATENATE(応募者名簿!M882)","v":""},{"$f":"CONCATENATE(応募者名簿!N882)","v":""}]
[{"$f":"応募者名簿!$B$8","v":0},{"$f":"CONCATENATE(応募者名簿!$B$11,応募者名簿!$D$11,応募者名簿!$E$11,応募者名簿!$I$11)","v":""},"交通安全ポスター",{"$f":"CONCATENATE(応募者名簿!K883)","v":""},{"$f":"CONCATENATE(応募者名簿!L883)","v":""},{"$f":"CONCATENATE(応募者名簿!M883)","v":""},{"$f":"CONCATENATE(応募者名簿!N883)","v":""}]
[{"$f":"応募者名簿!$B$8","v":0},{"$f":"CONCATENATE(応募者名簿!$B$11,応募者名簿!$D$11,応募者名簿!$E$11,応募者名簿!$I$11)","v":""},"交通安全ポスター",{"$f":"CONCATENATE(応募者名簿!K884)","v":""},{"$f":"CONCATENATE(応募者名簿!L884)","v":""},{"$f":"CONCATENATE(応募者名簿!M884)","v":""},{"$f":"CONCATENATE(応募者名簿!N884)","v":""}]
[{"$f":"応募者名簿!$B$8","v":0},{"$f":"CONCATENATE(応募者名簿!$B$11,応募者名簿!$D$11,応募者名簿!$E$11,応募者名簿!$I$11)","v":""},"交通安全ポスター",{"$f":"CONCATENATE(応募者名簿!K885)","v":""},{"$f":"CONCATENATE(応募者名簿!L885)","v":""},{"$f":"CONCATENATE(応募者名簿!M885)","v":""},{"$f":"CONCATENATE(応募者名簿!N885)","v":""}]
[{"$f":"応募者名簿!$B$8","v":0},{"$f":"CONCATENATE(応募者名簿!$B$11,応募者名簿!$D$11,応募者名簿!$E$11,応募者名簿!$I$11)","v":""},"交通安全ポスター",{"$f":"CONCATENATE(応募者名簿!K886)","v":""},{"$f":"CONCATENATE(応募者名簿!L886)","v":""},{"$f":"CONCATENATE(応募者名簿!M886)","v":""},{"$f":"CONCATENATE(応募者名簿!N886)","v":""}]
[{"$f":"応募者名簿!$B$8","v":0},{"$f":"CONCATENATE(応募者名簿!$B$11,応募者名簿!$D$11,応募者名簿!$E$11,応募者名簿!$I$11)","v":""},"交通安全ポスター",{"$f":"CONCATENATE(応募者名簿!K887)","v":""},{"$f":"CONCATENATE(応募者名簿!L887)","v":""},{"$f":"CONCATENATE(応募者名簿!M887)","v":""},{"$f":"CONCATENATE(応募者名簿!N887)","v":""}]
[{"$f":"応募者名簿!$B$8","v":0},{"$f":"CONCATENATE(応募者名簿!$B$11,応募者名簿!$D$11,応募者名簿!$E$11,応募者名簿!$I$11)","v":""},"交通安全ポスター",{"$f":"CONCATENATE(応募者名簿!K888)","v":""},{"$f":"CONCATENATE(応募者名簿!L888)","v":""},{"$f":"CONCATENATE(応募者名簿!M888)","v":""},{"$f":"CONCATENATE(応募者名簿!N888)","v":""}]
[{"$f":"応募者名簿!$B$8","v":0},{"$f":"CONCATENATE(応募者名簿!$B$11,応募者名簿!$D$11,応募者名簿!$E$11,応募者名簿!$I$11)","v":""},"交通安全ポスター",{"$f":"CONCATENATE(応募者名簿!K889)","v":""},{"$f":"CONCATENATE(応募者名簿!L889)","v":""},{"$f":"CONCATENATE(応募者名簿!M889)","v":""},{"$f":"CONCATENATE(応募者名簿!N889)","v":""}]
[{"$f":"応募者名簿!$B$8","v":0},{"$f":"CONCATENATE(応募者名簿!$B$11,応募者名簿!$D$11,応募者名簿!$E$11,応募者名簿!$I$11)","v":""},"交通安全ポスター",{"$f":"CONCATENATE(応募者名簿!K890)","v":""},{"$f":"CONCATENATE(応募者名簿!L890)","v":""},{"$f":"CONCATENATE(応募者名簿!M890)","v":""},{"$f":"CONCATENATE(応募者名簿!N890)","v":""}]
[{"$f":"応募者名簿!$B$8","v":0},{"$f":"CONCATENATE(応募者名簿!$B$11,応募者名簿!$D$11,応募者名簿!$E$11,応募者名簿!$I$11)","v":""},"交通安全ポスター",{"$f":"CONCATENATE(応募者名簿!K891)","v":""},{"$f":"CONCATENATE(応募者名簿!L891)","v":""},{"$f":"CONCATENATE(応募者名簿!M891)","v":""},{"$f":"CONCATENATE(応募者名簿!N891)","v":""}]
[{"$f":"応募者名簿!$B$8","v":0},{"$f":"CONCATENATE(応募者名簿!$B$11,応募者名簿!$D$11,応募者名簿!$E$11,応募者名簿!$I$11)","v":""},"交通安全ポスター",{"$f":"CONCATENATE(応募者名簿!K892)","v":""},{"$f":"CONCATENATE(応募者名簿!L892)","v":""},{"$f":"CONCATENATE(応募者名簿!M892)","v":""},{"$f":"CONCATENATE(応募者名簿!N892)","v":""}]
[{"$f":"応募者名簿!$B$8","v":0},{"$f":"CONCATENATE(応募者名簿!$B$11,応募者名簿!$D$11,応募者名簿!$E$11,応募者名簿!$I$11)","v":""},"交通安全ポスター",{"$f":"CONCATENATE(応募者名簿!K893)","v":""},{"$f":"CONCATENATE(応募者名簿!L893)","v":""},{"$f":"CONCATENATE(応募者名簿!M893)","v":""},{"$f":"CONCATENATE(応募者名簿!N893)","v":""}]
[{"$f":"応募者名簿!$B$8","v":0},{"$f":"CONCATENATE(応募者名簿!$B$11,応募者名簿!$D$11,応募者名簿!$E$11,応募者名簿!$I$11)","v":""},"交通安全ポスター",{"$f":"CONCATENATE(応募者名簿!K894)","v":""},{"$f":"CONCATENATE(応募者名簿!L894)","v":""},{"$f":"CONCATENATE(応募者名簿!M894)","v":""},{"$f":"CONCATENATE(応募者名簿!N894)","v":""}]
[{"$f":"応募者名簿!$B$8","v":0},{"$f":"CONCATENATE(応募者名簿!$B$11,応募者名簿!$D$11,応募者名簿!$E$11,応募者名簿!$I$11)","v":""},"交通安全ポスター",{"$f":"CONCATENATE(応募者名簿!K895)","v":""},{"$f":"CONCATENATE(応募者名簿!L895)","v":""},{"$f":"CONCATENATE(応募者名簿!M895)","v":""},{"$f":"CONCATENATE(応募者名簿!N895)","v":""}]
[{"$f":"応募者名簿!$B$8","v":0},{"$f":"CONCATENATE(応募者名簿!$B$11,応募者名簿!$D$11,応募者名簿!$E$11,応募者名簿!$I$11)","v":""},"交通安全ポスター",{"$f":"CONCATENATE(応募者名簿!K896)","v":""},{"$f":"CONCATENATE(応募者名簿!L896)","v":""},{"$f":"CONCATENATE(応募者名簿!M896)","v":""},{"$f":"CONCATENATE(応募者名簿!N896)","v":""}]
[{"$f":"応募者名簿!$B$8","v":0},{"$f":"CONCATENATE(応募者名簿!$B$11,応募者名簿!$D$11,応募者名簿!$E$11,応募者名簿!$I$11)","v":""},"交通安全ポスター",{"$f":"CONCATENATE(応募者名簿!K897)","v":""},{"$f":"CONCATENATE(応募者名簿!L897)","v":""},{"$f":"CONCATENATE(応募者名簿!M897)","v":""},{"$f":"CONCATENATE(応募者名簿!N897)","v":""}]
[{"$f":"応募者名簿!$B$8","v":0},{"$f":"CONCATENATE(応募者名簿!$B$11,応募者名簿!$D$11,応募者名簿!$E$11,応募者名簿!$I$11)","v":""},"交通安全ポスター",{"$f":"CONCATENATE(応募者名簿!K898)","v":""},{"$f":"CONCATENATE(応募者名簿!L898)","v":""},{"$f":"CONCATENATE(応募者名簿!M898)","v":""},{"$f":"CONCATENATE(応募者名簿!N898)","v":""}]
[{"$f":"応募者名簿!$B$8","v":0},{"$f":"CONCATENATE(応募者名簿!$B$11,応募者名簿!$D$11,応募者名簿!$E$11,応募者名簿!$I$11)","v":""},"交通安全ポスター",{"$f":"CONCATENATE(応募者名簿!K899)","v":""},{"$f":"CONCATENATE(応募者名簿!L899)","v":""},{"$f":"CONCATENATE(応募者名簿!M899)","v":""},{"$f":"CONCATENATE(応募者名簿!N899)","v":""}]
[{"$f":"応募者名簿!$B$8","v":0},{"$f":"CONCATENATE(応募者名簿!$B$11,応募者名簿!$D$11,応募者名簿!$E$11,応募者名簿!$I$11)","v":""},"交通安全ポスター",{"$f":"CONCATENATE(応募者名簿!K900)","v":""},{"$f":"CONCATENATE(応募者名簿!L900)","v":""},{"$f":"CONCATENATE(応募者名簿!M900)","v":""},{"$f":"CONCATENATE(応募者名簿!N900)","v":""}]
[{"$f":"応募者名簿!$B$8","v":0},{"$f":"CONCATENATE(応募者名簿!$B$11,応募者名簿!$D$11,応募者名簿!$E$11,応募者名簿!$I$11)","v":""},"交通安全ポスター",{"$f":"CONCATENATE(応募者名簿!K901)","v":""},{"$f":"CONCATENATE(応募者名簿!L901)","v":""},{"$f":"CONCATENATE(応募者名簿!M901)","v":""},{"$f":"CONCATENATE(応募者名簿!N901)","v":""}]
[{"$f":"応募者名簿!$B$8","v":0},{"$f":"CONCATENATE(応募者名簿!$B$11,応募者名簿!$D$11,応募者名簿!$E$11,応募者名簿!$I$11)","v":""},"交通安全ポスター",{"$f":"CONCATENATE(応募者名簿!K902)","v":""},{"$f":"CONCATENATE(応募者名簿!L902)","v":""},{"$f":"CONCATENATE(応募者名簿!M902)","v":""},{"$f":"CONCATENATE(応募者名簿!N902)","v":""}]
[{"$f":"応募者名簿!$B$8","v":0},{"$f":"CONCATENATE(応募者名簿!$B$11,応募者名簿!$D$11,応募者名簿!$E$11,応募者名簿!$I$11)","v":""},"交通安全ポスター",{"$f":"CONCATENATE(応募者名簿!K903)","v":""},{"$f":"CONCATENATE(応募者名簿!L903)","v":""},{"$f":"CONCATENATE(応募者名簿!M903)","v":""},{"$f":"CONCATENATE(応募者名簿!N903)","v":""}]
[{"$f":"応募者名簿!$B$8","v":0},{"$f":"CONCATENATE(応募者名簿!$B$11,応募者名簿!$D$11,応募者名簿!$E$11,応募者名簿!$I$11)","v":""},"交通安全ポスター",{"$f":"CONCATENATE(応募者名簿!K904)","v":""},{"$f":"CONCATENATE(応募者名簿!L904)","v":""},{"$f":"CONCATENATE(応募者名簿!M904)","v":""},{"$f":"CONCATENATE(応募者名簿!N904)","v":""}]
[{"$f":"応募者名簿!$B$8","v":0},{"$f":"CONCATENATE(応募者名簿!$B$11,応募者名簿!$D$11,応募者名簿!$E$11,応募者名簿!$I$11)","v":""},"交通安全ポスター",{"$f":"CONCATENATE(応募者名簿!K905)","v":""},{"$f":"CONCATENATE(応募者名簿!L905)","v":""},{"$f":"CONCATENATE(応募者名簿!M905)","v":""},{"$f":"CONCATENATE(応募者名簿!N905)","v":""}]
[{"$f":"応募者名簿!$B$8","v":0},{"$f":"CONCATENATE(応募者名簿!$B$11,応募者名簿!$D$11,応募者名簿!$E$11,応募者名簿!$I$11)","v":""},"交通安全ポスター",{"$f":"CONCATENATE(応募者名簿!K906)","v":""},{"$f":"CONCATENATE(応募者名簿!L906)","v":""},{"$f":"CONCATENATE(応募者名簿!M906)","v":""},{"$f":"CONCATENATE(応募者名簿!N906)","v":""}]
[{"$f":"応募者名簿!$B$8","v":0},{"$f":"CONCATENATE(応募者名簿!$B$11,応募者名簿!$D$11,応募者名簿!$E$11,応募者名簿!$I$11)","v":""},"交通安全ポスター",{"$f":"CONCATENATE(応募者名簿!K907)","v":""},{"$f":"CONCATENATE(応募者名簿!L907)","v":""},{"$f":"CONCATENATE(応募者名簿!M907)","v":""},{"$f":"CONCATENATE(応募者名簿!N907)","v":""}]
[{"$f":"応募者名簿!$B$8","v":0},{"$f":"CONCATENATE(応募者名簿!$B$11,応募者名簿!$D$11,応募者名簿!$E$11,応募者名簿!$I$11)","v":""},"交通安全ポスター",{"$f":"CONCATENATE(応募者名簿!K908)","v":""},{"$f":"CONCATENATE(応募者名簿!L908)","v":""},{"$f":"CONCATENATE(応募者名簿!M908)","v":""},{"$f":"CONCATENATE(応募者名簿!N908)","v":""}]
[{"$f":"応募者名簿!$B$8","v":0},{"$f":"CONCATENATE(応募者名簿!$B$11,応募者名簿!$D$11,応募者名簿!$E$11,応募者名簿!$I$11)","v":""},"交通安全ポスター",{"$f":"CONCATENATE(応募者名簿!K909)","v":""},{"$f":"CONCATENATE(応募者名簿!L909)","v":""},{"$f":"CONCATENATE(応募者名簿!M909)","v":""},{"$f":"CONCATENATE(応募者名簿!N909)","v":""}]
[{"$f":"応募者名簿!$B$8","v":0},{"$f":"CONCATENATE(応募者名簿!$B$11,応募者名簿!$D$11,応募者名簿!$E$11,応募者名簿!$I$11)","v":""},"交通安全ポスター",{"$f":"CONCATENATE(応募者名簿!K910)","v":""},{"$f":"CONCATENATE(応募者名簿!L910)","v":""},{"$f":"CONCATENATE(応募者名簿!M910)","v":""},{"$f":"CONCATENATE(応募者名簿!N910)","v":""}]
[{"$f":"応募者名簿!$B$8","v":0},{"$f":"CONCATENATE(応募者名簿!$B$11,応募者名簿!$D$11,応募者名簿!$E$11,応募者名簿!$I$11)","v":""},"交通安全ポスター",{"$f":"CONCATENATE(応募者名簿!K911)","v":""},{"$f":"CONCATENATE(応募者名簿!L911)","v":""},{"$f":"CONCATENATE(応募者名簿!M911)","v":""},{"$f":"CONCATENATE(応募者名簿!N911)","v":""}]
[{"$f":"応募者名簿!$B$8","v":0},{"$f":"CONCATENATE(応募者名簿!$B$11,応募者名簿!$D$11,応募者名簿!$E$11,応募者名簿!$I$11)","v":""},"交通安全ポスター",{"$f":"CONCATENATE(応募者名簿!K912)","v":""},{"$f":"CONCATENATE(応募者名簿!L912)","v":""},{"$f":"CONCATENATE(応募者名簿!M912)","v":""},{"$f":"CONCATENATE(応募者名簿!N912)","v":""}]
[{"$f":"応募者名簿!$B$8","v":0},{"$f":"CONCATENATE(応募者名簿!$B$11,応募者名簿!$D$11,応募者名簿!$E$11,応募者名簿!$I$11)","v":""},"交通安全ポスター",{"$f":"CONCATENATE(応募者名簿!K913)","v":""},{"$f":"CONCATENATE(応募者名簿!L913)","v":""},{"$f":"CONCATENATE(応募者名簿!M913)","v":""},{"$f":"CONCATENATE(応募者名簿!N913)","v":""}]
[{"$f":"応募者名簿!$B$8","v":0},{"$f":"CONCATENATE(応募者名簿!$B$11,応募者名簿!$D$11,応募者名簿!$E$11,応募者名簿!$I$11)","v":""},"交通安全ポスター",{"$f":"CONCATENATE(応募者名簿!K914)","v":""},{"$f":"CONCATENATE(応募者名簿!L914)","v":""},{"$f":"CONCATENATE(応募者名簿!M914)","v":""},{"$f":"CONCATENATE(応募者名簿!N914)","v":""}]
[{"$f":"応募者名簿!$B$8","v":0},{"$f":"CONCATENATE(応募者名簿!$B$11,応募者名簿!$D$11,応募者名簿!$E$11,応募者名簿!$I$11)","v":""},"交通安全ポスター",{"$f":"CONCATENATE(応募者名簿!K915)","v":""},{"$f":"CONCATENATE(応募者名簿!L915)","v":""},{"$f":"CONCATENATE(応募者名簿!M915)","v":""},{"$f":"CONCATENATE(応募者名簿!N915)","v":""}]
[{"$f":"応募者名簿!$B$8","v":0},{"$f":"CONCATENATE(応募者名簿!$B$11,応募者名簿!$D$11,応募者名簿!$E$11,応募者名簿!$I$11)","v":""},"交通安全ポスター",{"$f":"CONCATENATE(応募者名簿!K916)","v":""},{"$f":"CONCATENATE(応募者名簿!L916)","v":""},{"$f":"CONCATENATE(応募者名簿!M916)","v":""},{"$f":"CONCATENATE(応募者名簿!N916)","v":""}]
[{"$f":"応募者名簿!$B$8","v":0},{"$f":"CONCATENATE(応募者名簿!$B$11,応募者名簿!$D$11,応募者名簿!$E$11,応募者名簿!$I$11)","v":""},"交通安全ポスター",{"$f":"CONCATENATE(応募者名簿!K917)","v":""},{"$f":"CONCATENATE(応募者名簿!L917)","v":""},{"$f":"CONCATENATE(応募者名簿!M917)","v":""},{"$f":"CONCATENATE(応募者名簿!N917)","v":""}]
[{"$f":"応募者名簿!$B$8","v":0},{"$f":"CONCATENATE(応募者名簿!$B$11,応募者名簿!$D$11,応募者名簿!$E$11,応募者名簿!$I$11)","v":""},"交通安全ポスター",{"$f":"CONCATENATE(応募者名簿!K918)","v":""},{"$f":"CONCATENATE(応募者名簿!L918)","v":""},{"$f":"CONCATENATE(応募者名簿!M918)","v":""},{"$f":"CONCATENATE(応募者名簿!N918)","v":""}]
[{"$f":"応募者名簿!$B$8","v":0},{"$f":"CONCATENATE(応募者名簿!$B$11,応募者名簿!$D$11,応募者名簿!$E$11,応募者名簿!$I$11)","v":""},"交通安全ポスター",{"$f":"CONCATENATE(応募者名簿!K919)","v":""},{"$f":"CONCATENATE(応募者名簿!L919)","v":""},{"$f":"CONCATENATE(応募者名簿!M919)","v":""},{"$f":"CONCATENATE(応募者名簿!N919)","v":""}]
[{"$f":"応募者名簿!$B$8","v":0},{"$f":"CONCATENATE(応募者名簿!$B$11,応募者名簿!$D$11,応募者名簿!$E$11,応募者名簿!$I$11)","v":""},"交通安全ポスター",{"$f":"CONCATENATE(応募者名簿!K920)","v":""},{"$f":"CONCATENATE(応募者名簿!L920)","v":""},{"$f":"CONCATENATE(応募者名簿!M920)","v":""},{"$f":"CONCATENATE(応募者名簿!N920)","v":""}]
[{"$f":"応募者名簿!$B$8","v":0},{"$f":"CONCATENATE(応募者名簿!$B$11,応募者名簿!$D$11,応募者名簿!$E$11,応募者名簿!$I$11)","v":""},"交通安全ポスター",{"$f":"CONCATENATE(応募者名簿!K921)","v":""},{"$f":"CONCATENATE(応募者名簿!L921)","v":""},{"$f":"CONCATENATE(応募者名簿!M921)","v":""},{"$f":"CONCATENATE(応募者名簿!N921)","v":""}]
[{"$f":"応募者名簿!$B$8","v":0},{"$f":"CONCATENATE(応募者名簿!$B$11,応募者名簿!$D$11,応募者名簿!$E$11,応募者名簿!$I$11)","v":""},"交通安全ポスター",{"$f":"CONCATENATE(応募者名簿!K922)","v":""},{"$f":"CONCATENATE(応募者名簿!L922)","v":""},{"$f":"CONCATENATE(応募者名簿!M922)","v":""},{"$f":"CONCATENATE(応募者名簿!N922)","v":""}]
[{"$f":"応募者名簿!$B$8","v":0},{"$f":"CONCATENATE(応募者名簿!$B$11,応募者名簿!$D$11,応募者名簿!$E$11,応募者名簿!$I$11)","v":""},"交通安全ポスター",{"$f":"CONCATENATE(応募者名簿!K923)","v":""},{"$f":"CONCATENATE(応募者名簿!L923)","v":""},{"$f":"CONCATENATE(応募者名簿!M923)","v":""},{"$f":"CONCATENATE(応募者名簿!N923)","v":""}]
[{"$f":"応募者名簿!$B$8","v":0},{"$f":"CONCATENATE(応募者名簿!$B$11,応募者名簿!$D$11,応募者名簿!$E$11,応募者名簿!$I$11)","v":""},"交通安全ポスター",{"$f":"CONCATENATE(応募者名簿!K924)","v":""},{"$f":"CONCATENATE(応募者名簿!L924)","v":""},{"$f":"CONCATENATE(応募者名簿!M924)","v":""},{"$f":"CONCATENATE(応募者名簿!N924)","v":""}]
[{"$f":"応募者名簿!$B$8","v":0},{"$f":"CONCATENATE(応募者名簿!$B$11,応募者名簿!$D$11,応募者名簿!$E$11,応募者名簿!$I$11)","v":""},"交通安全ポスター",{"$f":"CONCATENATE(応募者名簿!K925)","v":""},{"$f":"CONCATENATE(応募者名簿!L925)","v":""},{"$f":"CONCATENATE(応募者名簿!M925)","v":""},{"$f":"CONCATENATE(応募者名簿!N925)","v":""}]
[{"$f":"応募者名簿!$B$8","v":0},{"$f":"CONCATENATE(応募者名簿!$B$11,応募者名簿!$D$11,応募者名簿!$E$11,応募者名簿!$I$11)","v":""},"交通安全ポスター",{"$f":"CONCATENATE(応募者名簿!K926)","v":""},{"$f":"CONCATENATE(応募者名簿!L926)","v":""},{"$f":"CONCATENATE(応募者名簿!M926)","v":""},{"$f":"CONCATENATE(応募者名簿!N926)","v":""}]
[{"$f":"応募者名簿!$B$8","v":0},{"$f":"CONCATENATE(応募者名簿!$B$11,応募者名簿!$D$11,応募者名簿!$E$11,応募者名簿!$I$11)","v":""},"交通安全ポスター",{"$f":"CONCATENATE(応募者名簿!K927)","v":""},{"$f":"CONCATENATE(応募者名簿!L927)","v":""},{"$f":"CONCATENATE(応募者名簿!M927)","v":""},{"$f":"CONCATENATE(応募者名簿!N927)","v":""}]
[{"$f":"応募者名簿!$B$8","v":0},{"$f":"CONCATENATE(応募者名簿!$B$11,応募者名簿!$D$11,応募者名簿!$E$11,応募者名簿!$I$11)","v":""},"交通安全ポスター",{"$f":"CONCATENATE(応募者名簿!K928)","v":""},{"$f":"CONCATENATE(応募者名簿!L928)","v":""},{"$f":"CONCATENATE(応募者名簿!M928)","v":""},{"$f":"CONCATENATE(応募者名簿!N928)","v":""}]
[{"$f":"応募者名簿!$B$8","v":0},{"$f":"CONCATENATE(応募者名簿!$B$11,応募者名簿!$D$11,応募者名簿!$E$11,応募者名簿!$I$11)","v":""},"交通安全ポスター",{"$f":"CONCATENATE(応募者名簿!K929)","v":""},{"$f":"CONCATENATE(応募者名簿!L929)","v":""},{"$f":"CONCATENATE(応募者名簿!M929)","v":""},{"$f":"CONCATENATE(応募者名簿!N929)","v":""}]
[{"$f":"応募者名簿!$B$8","v":0},{"$f":"CONCATENATE(応募者名簿!$B$11,応募者名簿!$D$11,応募者名簿!$E$11,応募者名簿!$I$11)","v":""},"交通安全ポスター",{"$f":"CONCATENATE(応募者名簿!K930)","v":""},{"$f":"CONCATENATE(応募者名簿!L930)","v":""},{"$f":"CONCATENATE(応募者名簿!M930)","v":""},{"$f":"CONCATENATE(応募者名簿!N930)","v":""}]
[{"$f":"応募者名簿!$B$8","v":0},{"$f":"CONCATENATE(応募者名簿!$B$11,応募者名簿!$D$11,応募者名簿!$E$11,応募者名簿!$I$11)","v":""},"交通安全ポスター",{"$f":"CONCATENATE(応募者名簿!K931)","v":""},{"$f":"CONCATENATE(応募者名簿!L931)","v":""},{"$f":"CONCATENATE(応募者名簿!M931)","v":""},{"$f":"CONCATENATE(応募者名簿!N931)","v":""}]
[{"$f":"応募者名簿!$B$8","v":0},{"$f":"CONCATENATE(応募者名簿!$B$11,応募者名簿!$D$11,応募者名簿!$E$11,応募者名簿!$I$11)","v":""},"交通安全ポスター",{"$f":"CONCATENATE(応募者名簿!K932)","v":""},{"$f":"CONCATENATE(応募者名簿!L932)","v":""},{"$f":"CONCATENATE(応募者名簿!M932)","v":""},{"$f":"CONCATENATE(応募者名簿!N932)","v":""}]
[{"$f":"応募者名簿!$B$8","v":0},{"$f":"CONCATENATE(応募者名簿!$B$11,応募者名簿!$D$11,応募者名簿!$E$11,応募者名簿!$I$11)","v":""},"交通安全ポスター",{"$f":"CONCATENATE(応募者名簿!K933)","v":""},{"$f":"CONCATENATE(応募者名簿!L933)","v":""},{"$f":"CONCATENATE(応募者名簿!M933)","v":""},{"$f":"CONCATENATE(応募者名簿!N933)","v":""}]
[{"$f":"応募者名簿!$B$8","v":0},{"$f":"CONCATENATE(応募者名簿!$B$11,応募者名簿!$D$11,応募者名簿!$E$11,応募者名簿!$I$11)","v":""},"交通安全ポスター",{"$f":"CONCATENATE(応募者名簿!K934)","v":""},{"$f":"CONCATENATE(応募者名簿!L934)","v":""},{"$f":"CONCATENATE(応募者名簿!M934)","v":""},{"$f":"CONCATENATE(応募者名簿!N934)","v":""}]
[{"$f":"応募者名簿!$B$8","v":0},{"$f":"CONCATENATE(応募者名簿!$B$11,応募者名簿!$D$11,応募者名簿!$E$11,応募者名簿!$I$11)","v":""},"交通安全ポスター",{"$f":"CONCATENATE(応募者名簿!K935)","v":""},{"$f":"CONCATENATE(応募者名簿!L935)","v":""},{"$f":"CONCATENATE(応募者名簿!M935)","v":""},{"$f":"CONCATENATE(応募者名簿!N935)","v":""}]
[{"$f":"応募者名簿!$B$8","v":0},{"$f":"CONCATENATE(応募者名簿!$B$11,応募者名簿!$D$11,応募者名簿!$E$11,応募者名簿!$I$11)","v":""},"交通安全ポスター",{"$f":"CONCATENATE(応募者名簿!K936)","v":""},{"$f":"CONCATENATE(応募者名簿!L936)","v":""},{"$f":"CONCATENATE(応募者名簿!M936)","v":""},{"$f":"CONCATENATE(応募者名簿!N936)","v":""}]
[{"$f":"応募者名簿!$B$8","v":0},{"$f":"CONCATENATE(応募者名簿!$B$11,応募者名簿!$D$11,応募者名簿!$E$11,応募者名簿!$I$11)","v":""},"交通安全ポスター",{"$f":"CONCATENATE(応募者名簿!K937)","v":""},{"$f":"CONCATENATE(応募者名簿!L937)","v":""},{"$f":"CONCATENATE(応募者名簿!M937)","v":""},{"$f":"CONCATENATE(応募者名簿!N937)","v":""}]
[{"$f":"応募者名簿!$B$8","v":0},{"$f":"CONCATENATE(応募者名簿!$B$11,応募者名簿!$D$11,応募者名簿!$E$11,応募者名簿!$I$11)","v":""},"交通安全ポスター",{"$f":"CONCATENATE(応募者名簿!K938)","v":""},{"$f":"CONCATENATE(応募者名簿!L938)","v":""},{"$f":"CONCATENATE(応募者名簿!M938)","v":""},{"$f":"CONCATENATE(応募者名簿!N938)","v":""}]
[{"$f":"応募者名簿!$B$8","v":0},{"$f":"CONCATENATE(応募者名簿!$B$11,応募者名簿!$D$11,応募者名簿!$E$11,応募者名簿!$I$11)","v":""},"交通安全ポスター",{"$f":"CONCATENATE(応募者名簿!K939)","v":""},{"$f":"CONCATENATE(応募者名簿!L939)","v":""},{"$f":"CONCATENATE(応募者名簿!M939)","v":""},{"$f":"CONCATENATE(応募者名簿!N939)","v":""}]
[{"$f":"応募者名簿!$B$8","v":0},{"$f":"CONCATENATE(応募者名簿!$B$11,応募者名簿!$D$11,応募者名簿!$E$11,応募者名簿!$I$11)","v":""},"交通安全ポスター",{"$f":"CONCATENATE(応募者名簿!K940)","v":""},{"$f":"CONCATENATE(応募者名簿!L940)","v":""},{"$f":"CONCATENATE(応募者名簿!M940)","v":""},{"$f":"CONCATENATE(応募者名簿!N940)","v":""}]
[{"$f":"応募者名簿!$B$8","v":0},{"$f":"CONCATENATE(応募者名簿!$B$11,応募者名簿!$D$11,応募者名簿!$E$11,応募者名簿!$I$11)","v":""},"交通安全ポスター",{"$f":"CONCATENATE(応募者名簿!K941)","v":""},{"$f":"CONCATENATE(応募者名簿!L941)","v":""},{"$f":"CONCATENATE(応募者名簿!M941)","v":""},{"$f":"CONCATENATE(応募者名簿!N941)","v":""}]
[{"$f":"応募者名簿!$B$8","v":0},{"$f":"CONCATENATE(応募者名簿!$B$11,応募者名簿!$D$11,応募者名簿!$E$11,応募者名簿!$I$11)","v":""},"交通安全ポスター",{"$f":"CONCATENATE(応募者名簿!K942)","v":""},{"$f":"CONCATENATE(応募者名簿!L942)","v":""},{"$f":"CONCATENATE(応募者名簿!M942)","v":""},{"$f":"CONCATENATE(応募者名簿!N942)","v":""}]
[{"$f":"応募者名簿!$B$8","v":0},{"$f":"CONCATENATE(応募者名簿!$B$11,応募者名簿!$D$11,応募者名簿!$E$11,応募者名簿!$I$11)","v":""},"交通安全ポスター",{"$f":"CONCATENATE(応募者名簿!K943)","v":""},{"$f":"CONCATENATE(応募者名簿!L943)","v":""},{"$f":"CONCATENATE(応募者名簿!M943)","v":""},{"$f":"CONCATENATE(応募者名簿!N943)","v":""}]
[{"$f":"応募者名簿!$B$8","v":0},{"$f":"CONCATENATE(応募者名簿!$B$11,応募者名簿!$D$11,応募者名簿!$E$11,応募者名簿!$I$11)","v":""},"交通安全ポスター",{"$f":"CONCATENATE(応募者名簿!K944)","v":""},{"$f":"CONCATENATE(応募者名簿!L944)","v":""},{"$f":"CONCATENATE(応募者名簿!M944)","v":""},{"$f":"CONCATENATE(応募者名簿!N944)","v":""}]
[{"$f":"応募者名簿!$B$8","v":0},{"$f":"CONCATENATE(応募者名簿!$B$11,応募者名簿!$D$11,応募者名簿!$E$11,応募者名簿!$I$11)","v":""},"交通安全ポスター",{"$f":"CONCATENATE(応募者名簿!K945)","v":""},{"$f":"CONCATENATE(応募者名簿!L945)","v":""},{"$f":"CONCATENATE(応募者名簿!M945)","v":""},{"$f":"CONCATENATE(応募者名簿!N945)","v":""}]
[{"$f":"応募者名簿!$B$8","v":0},{"$f":"CONCATENATE(応募者名簿!$B$11,応募者名簿!$D$11,応募者名簿!$E$11,応募者名簿!$I$11)","v":""},"交通安全ポスター",{"$f":"CONCATENATE(応募者名簿!K946)","v":""},{"$f":"CONCATENATE(応募者名簿!L946)","v":""},{"$f":"CONCATENATE(応募者名簿!M946)","v":""},{"$f":"CONCATENATE(応募者名簿!N946)","v":""}]
[{"$f":"応募者名簿!$B$8","v":0},{"$f":"CONCATENATE(応募者名簿!$B$11,応募者名簿!$D$11,応募者名簿!$E$11,応募者名簿!$I$11)","v":""},"交通安全ポスター",{"$f":"CONCATENATE(応募者名簿!K947)","v":""},{"$f":"CONCATENATE(応募者名簿!L947)","v":""},{"$f":"CONCATENATE(応募者名簿!M947)","v":""},{"$f":"CONCATENATE(応募者名簿!N947)","v":""}]
[{"$f":"応募者名簿!$B$8","v":0},{"$f":"CONCATENATE(応募者名簿!$B$11,応募者名簿!$D$11,応募者名簿!$E$11,応募者名簿!$I$11)","v":""},"交通安全ポスター",{"$f":"CONCATENATE(応募者名簿!K948)","v":""},{"$f":"CONCATENATE(応募者名簿!L948)","v":""},{"$f":"CONCATENATE(応募者名簿!M948)","v":""},{"$f":"CONCATENATE(応募者名簿!N948)","v":""}]
[{"$f":"応募者名簿!$B$8","v":0},{"$f":"CONCATENATE(応募者名簿!$B$11,応募者名簿!$D$11,応募者名簿!$E$11,応募者名簿!$I$11)","v":""},"交通安全ポスター",{"$f":"CONCATENATE(応募者名簿!K949)","v":""},{"$f":"CONCATENATE(応募者名簿!L949)","v":""},{"$f":"CONCATENATE(応募者名簿!M949)","v":""},{"$f":"CONCATENATE(応募者名簿!N949)","v":""}]
[{"$f":"応募者名簿!$B$8","v":0},{"$f":"CONCATENATE(応募者名簿!$B$11,応募者名簿!$D$11,応募者名簿!$E$11,応募者名簿!$I$11)","v":""},"交通安全ポスター",{"$f":"CONCATENATE(応募者名簿!K950)","v":""},{"$f":"CONCATENATE(応募者名簿!L950)","v":""},{"$f":"CONCATENATE(応募者名簿!M950)","v":""},{"$f":"CONCATENATE(応募者名簿!N950)","v":""}]
[{"$f":"応募者名簿!$B$8","v":0},{"$f":"CONCATENATE(応募者名簿!$B$11,応募者名簿!$D$11,応募者名簿!$E$11,応募者名簿!$I$11)","v":""},"交通安全ポスター",{"$f":"CONCATENATE(応募者名簿!K951)","v":""},{"$f":"CONCATENATE(応募者名簿!L951)","v":""},{"$f":"CONCATENATE(応募者名簿!M951)","v":""},{"$f":"CONCATENATE(応募者名簿!N951)","v":""}]
[{"$f":"応募者名簿!$B$8","v":0},{"$f":"CONCATENATE(応募者名簿!$B$11,応募者名簿!$D$11,応募者名簿!$E$11,応募者名簿!$I$11)","v":""},"交通安全ポスター",{"$f":"CONCATENATE(応募者名簿!K952)","v":""},{"$f":"CONCATENATE(応募者名簿!L952)","v":""},{"$f":"CONCATENATE(応募者名簿!M952)","v":""},{"$f":"CONCATENATE(応募者名簿!N952)","v":""}]
[{"$f":"応募者名簿!$B$8","v":0},{"$f":"CONCATENATE(応募者名簿!$B$11,応募者名簿!$D$11,応募者名簿!$E$11,応募者名簿!$I$11)","v":""},"交通安全ポスター",{"$f":"CONCATENATE(応募者名簿!K953)","v":""},{"$f":"CONCATENATE(応募者名簿!L953)","v":""},{"$f":"CONCATENATE(応募者名簿!M953)","v":""},{"$f":"CONCATENATE(応募者名簿!N953)","v":""}]
[{"$f":"応募者名簿!$B$8","v":0},{"$f":"CONCATENATE(応募者名簿!$B$11,応募者名簿!$D$11,応募者名簿!$E$11,応募者名簿!$I$11)","v":""},"交通安全ポスター",{"$f":"CONCATENATE(応募者名簿!K954)","v":""},{"$f":"CONCATENATE(応募者名簿!L954)","v":""},{"$f":"CONCATENATE(応募者名簿!M954)","v":""},{"$f":"CONCATENATE(応募者名簿!N954)","v":""}]
[{"$f":"応募者名簿!$B$8","v":0},{"$f":"CONCATENATE(応募者名簿!$B$11,応募者名簿!$D$11,応募者名簿!$E$11,応募者名簿!$I$11)","v":""},"交通安全ポスター",{"$f":"CONCATENATE(応募者名簿!K955)","v":""},{"$f":"CONCATENATE(応募者名簿!L955)","v":""},{"$f":"CONCATENATE(応募者名簿!M955)","v":""},{"$f":"CONCATENATE(応募者名簿!N955)","v":""}]
[{"$f":"応募者名簿!$B$8","v":0},{"$f":"CONCATENATE(応募者名簿!$B$11,応募者名簿!$D$11,応募者名簿!$E$11,応募者名簿!$I$11)","v":""},"交通安全ポスター",{"$f":"CONCATENATE(応募者名簿!K956)","v":""},{"$f":"CONCATENATE(応募者名簿!L956)","v":""},{"$f":"CONCATENATE(応募者名簿!M956)","v":""},{"$f":"CONCATENATE(応募者名簿!N956)","v":""}]
[{"$f":"応募者名簿!$B$8","v":0},{"$f":"CONCATENATE(応募者名簿!$B$11,応募者名簿!$D$11,応募者名簿!$E$11,応募者名簿!$I$11)","v":""},"交通安全ポスター",{"$f":"CONCATENATE(応募者名簿!K957)","v":""},{"$f":"CONCATENATE(応募者名簿!L957)","v":""},{"$f":"CONCATENATE(応募者名簿!M957)","v":""},{"$f":"CONCATENATE(応募者名簿!N957)","v":""}]
[{"$f":"応募者名簿!$B$8","v":0},{"$f":"CONCATENATE(応募者名簿!$B$11,応募者名簿!$D$11,応募者名簿!$E$11,応募者名簿!$I$11)","v":""},"交通安全ポスター",{"$f":"CONCATENATE(応募者名簿!K958)","v":""},{"$f":"CONCATENATE(応募者名簿!L958)","v":""},{"$f":"CONCATENATE(応募者名簿!M958)","v":""},{"$f":"CONCATENATE(応募者名簿!N958)","v":""}]
[{"$f":"応募者名簿!$B$8","v":0},{"$f":"CONCATENATE(応募者名簿!$B$11,応募者名簿!$D$11,応募者名簿!$E$11,応募者名簿!$I$11)","v":""},"交通安全ポスター",{"$f":"CONCATENATE(応募者名簿!K959)","v":""},{"$f":"CONCATENATE(応募者名簿!L959)","v":""},{"$f":"CONCATENATE(応募者名簿!M959)","v":""},{"$f":"CONCATENATE(応募者名簿!N959)","v":""}]
[{"$f":"応募者名簿!$B$8","v":0},{"$f":"CONCATENATE(応募者名簿!$B$11,応募者名簿!$D$11,応募者名簿!$E$11,応募者名簿!$I$11)","v":""},"交通安全ポスター",{"$f":"CONCATENATE(応募者名簿!K960)","v":""},{"$f":"CONCATENATE(応募者名簿!L960)","v":""},{"$f":"CONCATENATE(応募者名簿!M960)","v":""},{"$f":"CONCATENATE(応募者名簿!N960)","v":""}]
[{"$f":"応募者名簿!$B$8","v":0},{"$f":"CONCATENATE(応募者名簿!$B$11,応募者名簿!$D$11,応募者名簿!$E$11,応募者名簿!$I$11)","v":""},"交通安全ポスター",{"$f":"CONCATENATE(応募者名簿!K961)","v":""},{"$f":"CONCATENATE(応募者名簿!L961)","v":""},{"$f":"CONCATENATE(応募者名簿!M961)","v":""},{"$f":"CONCATENATE(応募者名簿!N961)","v":""}]
[{"$f":"応募者名簿!$B$8","v":0},{"$f":"CONCATENATE(応募者名簿!$B$11,応募者名簿!$D$11,応募者名簿!$E$11,応募者名簿!$I$11)","v":""},"交通安全ポスター",{"$f":"CONCATENATE(応募者名簿!K962)","v":""},{"$f":"CONCATENATE(応募者名簿!L962)","v":""},{"$f":"CONCATENATE(応募者名簿!M962)","v":""},{"$f":"CONCATENATE(応募者名簿!N962)","v":""}]
[{"$f":"応募者名簿!$B$8","v":0},{"$f":"CONCATENATE(応募者名簿!$B$11,応募者名簿!$D$11,応募者名簿!$E$11,応募者名簿!$I$11)","v":""},"交通安全ポスター",{"$f":"CONCATENATE(応募者名簿!K963)","v":""},{"$f":"CONCATENATE(応募者名簿!L963)","v":""},{"$f":"CONCATENATE(応募者名簿!M963)","v":""},{"$f":"CONCATENATE(応募者名簿!N963)","v":""}]
[{"$f":"応募者名簿!$B$8","v":0},{"$f":"CONCATENATE(応募者名簿!$B$11,応募者名簿!$D$11,応募者名簿!$E$11,応募者名簿!$I$11)","v":""},"交通安全ポスター",{"$f":"CONCATENATE(応募者名簿!K964)","v":""},{"$f":"CONCATENATE(応募者名簿!L964)","v":""},{"$f":"CONCATENATE(応募者名簿!M964)","v":""},{"$f":"CONCATENATE(応募者名簿!N964)","v":""}]
[{"$f":"応募者名簿!$B$8","v":0},{"$f":"CONCATENATE(応募者名簿!$B$11,応募者名簿!$D$11,応募者名簿!$E$11,応募者名簿!$I$11)","v":""},"交通安全ポスター",{"$f":"CONCATENATE(応募者名簿!K965)","v":""},{"$f":"CONCATENATE(応募者名簿!L965)","v":""},{"$f":"CONCATENATE(応募者名簿!M965)","v":""},{"$f":"CONCATENATE(応募者名簿!N965)","v":""}]
[{"$f":"応募者名簿!$B$8","v":0},{"$f":"CONCATENATE(応募者名簿!$B$11,応募者名簿!$D$11,応募者名簿!$E$11,応募者名簿!$I$11)","v":""},"交通安全ポスター",{"$f":"CONCATENATE(応募者名簿!K966)","v":""},{"$f":"CONCATENATE(応募者名簿!L966)","v":""},{"$f":"CONCATENATE(応募者名簿!M966)","v":""},{"$f":"CONCATENATE(応募者名簿!N966)","v":""}]
[{"$f":"応募者名簿!$B$8","v":0},{"$f":"CONCATENATE(応募者名簿!$B$11,応募者名簿!$D$11,応募者名簿!$E$11,応募者名簿!$I$11)","v":""},"交通安全ポスター",{"$f":"CONCATENATE(応募者名簿!K967)","v":""},{"$f":"CONCATENATE(応募者名簿!L967)","v":""},{"$f":"CONCATENATE(応募者名簿!M967)","v":""},{"$f":"CONCATENATE(応募者名簿!N967)","v":""}]
[{"$f":"応募者名簿!$B$8","v":0},{"$f":"CONCATENATE(応募者名簿!$B$11,応募者名簿!$D$11,応募者名簿!$E$11,応募者名簿!$I$11)","v":""},"交通安全ポスター",{"$f":"CONCATENATE(応募者名簿!K968)","v":""},{"$f":"CONCATENATE(応募者名簿!L968)","v":""},{"$f":"CONCATENATE(応募者名簿!M968)","v":""},{"$f":"CONCATENATE(応募者名簿!N968)","v":""}]
[{"$f":"応募者名簿!$B$8","v":0},{"$f":"CONCATENATE(応募者名簿!$B$11,応募者名簿!$D$11,応募者名簿!$E$11,応募者名簿!$I$11)","v":""},"交通安全ポスター",{"$f":"CONCATENATE(応募者名簿!K969)","v":""},{"$f":"CONCATENATE(応募者名簿!L969)","v":""},{"$f":"CONCATENATE(応募者名簿!M969)","v":""},{"$f":"CONCATENATE(応募者名簿!N969)","v":""}]
[{"$f":"応募者名簿!$B$8","v":0},{"$f":"CONCATENATE(応募者名簿!$B$11,応募者名簿!$D$11,応募者名簿!$E$11,応募者名簿!$I$11)","v":""},"交通安全ポスター",{"$f":"CONCATENATE(応募者名簿!K970)","v":""},{"$f":"CONCATENATE(応募者名簿!L970)","v":""},{"$f":"CONCATENATE(応募者名簿!M970)","v":""},{"$f":"CONCATENATE(応募者名簿!N970)","v":""}]
[{"$f":"応募者名簿!$B$8","v":0},{"$f":"CONCATENATE(応募者名簿!$B$11,応募者名簿!$D$11,応募者名簿!$E$11,応募者名簿!$I$11)","v":""},"交通安全ポスター",{"$f":"CONCATENATE(応募者名簿!K971)","v":""},{"$f":"CONCATENATE(応募者名簿!L971)","v":""},{"$f":"CONCATENATE(応募者名簿!M971)","v":""},{"$f":"CONCATENATE(応募者名簿!N971)","v":""}]
[{"$f":"応募者名簿!$B$8","v":0},{"$f":"CONCATENATE(応募者名簿!$B$11,応募者名簿!$D$11,応募者名簿!$E$11,応募者名簿!$I$11)","v":""},"交通安全ポスター",{"$f":"CONCATENATE(応募者名簿!K972)","v":""},{"$f":"CONCATENATE(応募者名簿!L972)","v":""},{"$f":"CONCATENATE(応募者名簿!M972)","v":""},{"$f":"CONCATENATE(応募者名簿!N972)","v":""}]
[{"$f":"応募者名簿!$B$8","v":0},{"$f":"CONCATENATE(応募者名簿!$B$11,応募者名簿!$D$11,応募者名簿!$E$11,応募者名簿!$I$11)","v":""},"交通安全ポスター",{"$f":"CONCATENATE(応募者名簿!K973)","v":""},{"$f":"CONCATENATE(応募者名簿!L973)","v":""},{"$f":"CONCATENATE(応募者名簿!M973)","v":""},{"$f":"CONCATENATE(応募者名簿!N973)","v":""}]
[{"$f":"応募者名簿!$B$8","v":0},{"$f":"CONCATENATE(応募者名簿!$B$11,応募者名簿!$D$11,応募者名簿!$E$11,応募者名簿!$I$11)","v":""},"交通安全ポスター",{"$f":"CONCATENATE(応募者名簿!K974)","v":""},{"$f":"CONCATENATE(応募者名簿!L974)","v":""},{"$f":"CONCATENATE(応募者名簿!M974)","v":""},{"$f":"CONCATENATE(応募者名簿!N974)","v":""}]
[{"$f":"応募者名簿!$B$8","v":0},{"$f":"CONCATENATE(応募者名簿!$B$11,応募者名簿!$D$11,応募者名簿!$E$11,応募者名簿!$I$11)","v":""},"交通安全ポスター",{"$f":"CONCATENATE(応募者名簿!K975)","v":""},{"$f":"CONCATENATE(応募者名簿!L975)","v":""},{"$f":"CONCATENATE(応募者名簿!M975)","v":""},{"$f":"CONCATENATE(応募者名簿!N975)","v":""}]
[{"$f":"応募者名簿!$B$8","v":0},{"$f":"CONCATENATE(応募者名簿!$B$11,応募者名簿!$D$11,応募者名簿!$E$11,応募者名簿!$I$11)","v":""},"交通安全ポスター",{"$f":"CONCATENATE(応募者名簿!K976)","v":""},{"$f":"CONCATENATE(応募者名簿!L976)","v":""},{"$f":"CONCATENATE(応募者名簿!M976)","v":""},{"$f":"CONCATENATE(応募者名簿!N976)","v":""}]
[{"$f":"応募者名簿!$B$8","v":0},{"$f":"CONCATENATE(応募者名簿!$B$11,応募者名簿!$D$11,応募者名簿!$E$11,応募者名簿!$I$11)","v":""},"交通安全ポスター",{"$f":"CONCATENATE(応募者名簿!K977)","v":""},{"$f":"CONCATENATE(応募者名簿!L977)","v":""},{"$f":"CONCATENATE(応募者名簿!M977)","v":""},{"$f":"CONCATENATE(応募者名簿!N977)","v":""}]
[{"$f":"応募者名簿!$B$8","v":0},{"$f":"CONCATENATE(応募者名簿!$B$11,応募者名簿!$D$11,応募者名簿!$E$11,応募者名簿!$I$11)","v":""},"交通安全ポスター",{"$f":"CONCATENATE(応募者名簿!K978)","v":""},{"$f":"CONCATENATE(応募者名簿!L978)","v":""},{"$f":"CONCATENATE(応募者名簿!M978)","v":""},{"$f":"CONCATENATE(応募者名簿!N978)","v":""}]
[{"$f":"応募者名簿!$B$8","v":0},{"$f":"CONCATENATE(応募者名簿!$B$11,応募者名簿!$D$11,応募者名簿!$E$11,応募者名簿!$I$11)","v":""},"交通安全ポスター",{"$f":"CONCATENATE(応募者名簿!K979)","v":""},{"$f":"CONCATENATE(応募者名簿!L979)","v":""},{"$f":"CONCATENATE(応募者名簿!M979)","v":""},{"$f":"CONCATENATE(応募者名簿!N979)","v":""}]
[{"$f":"応募者名簿!$B$8","v":0},{"$f":"CONCATENATE(応募者名簿!$B$11,応募者名簿!$D$11,応募者名簿!$E$11,応募者名簿!$I$11)","v":""},"交通安全ポスター",{"$f":"CONCATENATE(応募者名簿!K980)","v":""},{"$f":"CONCATENATE(応募者名簿!L980)","v":""},{"$f":"CONCATENATE(応募者名簿!M980)","v":""},{"$f":"CONCATENATE(応募者名簿!N980)","v":""}]
[{"$f":"応募者名簿!$B$8","v":0},{"$f":"CONCATENATE(応募者名簿!$B$11,応募者名簿!$D$11,応募者名簿!$E$11,応募者名簿!$I$11)","v":""},"交通安全ポスター",{"$f":"CONCATENATE(応募者名簿!K981)","v":""},{"$f":"CONCATENATE(応募者名簿!L981)","v":""},{"$f":"CONCATENATE(応募者名簿!M981)","v":""},{"$f":"CONCATENATE(応募者名簿!N981)","v":""}]
[{"$f":"応募者名簿!$B$8","v":0},{"$f":"CONCATENATE(応募者名簿!$B$11,応募者名簿!$D$11,応募者名簿!$E$11,応募者名簿!$I$11)","v":""},"交通安全ポスター",{"$f":"CONCATENATE(応募者名簿!K982)","v":""},{"$f":"CONCATENATE(応募者名簿!L982)","v":""},{"$f":"CONCATENATE(応募者名簿!M982)","v":""},{"$f":"CONCATENATE(応募者名簿!N982)","v":""}]
[{"$f":"応募者名簿!$B$8","v":0},{"$f":"CONCATENATE(応募者名簿!$B$11,応募者名簿!$D$11,応募者名簿!$E$11,応募者名簿!$I$11)","v":""},"交通安全ポスター",{"$f":"CONCATENATE(応募者名簿!K983)","v":""},{"$f":"CONCATENATE(応募者名簿!L983)","v":""},{"$f":"CONCATENATE(応募者名簿!M983)","v":""},{"$f":"CONCATENATE(応募者名簿!N983)","v":""}]
[{"$f":"応募者名簿!$B$8","v":0},{"$f":"CONCATENATE(応募者名簿!$B$11,応募者名簿!$D$11,応募者名簿!$E$11,応募者名簿!$I$11)","v":""},"交通安全ポスター",{"$f":"CONCATENATE(応募者名簿!K984)","v":""},{"$f":"CONCATENATE(応募者名簿!L984)","v":""},{"$f":"CONCATENATE(応募者名簿!M984)","v":""},{"$f":"CONCATENATE(応募者名簿!N984)","v":""}]
[{"$f":"応募者名簿!$B$8","v":0},{"$f":"CONCATENATE(応募者名簿!$B$11,応募者名簿!$D$11,応募者名簿!$E$11,応募者名簿!$I$11)","v":""},"交通安全ポスター",{"$f":"CONCATENATE(応募者名簿!K985)","v":""},{"$f":"CONCATENATE(応募者名簿!L985)","v":""},{"$f":"CONCATENATE(応募者名簿!M985)","v":""},{"$f":"CONCATENATE(応募者名簿!N985)","v":""}]
[{"$f":"応募者名簿!$B$8","v":0},{"$f":"CONCATENATE(応募者名簿!$B$11,応募者名簿!$D$11,応募者名簿!$E$11,応募者名簿!$I$11)","v":""},"交通安全ポスター",{"$f":"CONCATENATE(応募者名簿!K986)","v":""},{"$f":"CONCATENATE(応募者名簿!L986)","v":""},{"$f":"CONCATENATE(応募者名簿!M986)","v":""},{"$f":"CONCATENATE(応募者名簿!N986)","v":""}]
[{"$f":"応募者名簿!$B$8","v":0},{"$f":"CONCATENATE(応募者名簿!$B$11,応募者名簿!$D$11,応募者名簿!$E$11,応募者名簿!$I$11)","v":""},"交通安全ポスター",{"$f":"CONCATENATE(応募者名簿!K987)","v":""},{"$f":"CONCATENATE(応募者名簿!L987)","v":""},{"$f":"CONCATENATE(応募者名簿!M987)","v":""},{"$f":"CONCATENATE(応募者名簿!N987)","v":""}]
[{"$f":"応募者名簿!$B$8","v":0},{"$f":"CONCATENATE(応募者名簿!$B$11,応募者名簿!$D$11,応募者名簿!$E$11,応募者名簿!$I$11)","v":""},"交通安全ポスター",{"$f":"CONCATENATE(応募者名簿!K988)","v":""},{"$f":"CONCATENATE(応募者名簿!L988)","v":""},{"$f":"CONCATENATE(応募者名簿!M988)","v":""},{"$f":"CONCATENATE(応募者名簿!N988)","v":""}]
[{"$f":"応募者名簿!$B$8","v":0},{"$f":"CONCATENATE(応募者名簿!$B$11,応募者名簿!$D$11,応募者名簿!$E$11,応募者名簿!$I$11)","v":""},"交通安全ポスター",{"$f":"CONCATENATE(応募者名簿!K989)","v":""},{"$f":"CONCATENATE(応募者名簿!L989)","v":""},{"$f":"CONCATENATE(応募者名簿!M989)","v":""},{"$f":"CONCATENATE(応募者名簿!N989)","v":""}]
[{"$f":"応募者名簿!$B$8","v":0},{"$f":"CONCATENATE(応募者名簿!$B$11,応募者名簿!$D$11,応募者名簿!$E$11,応募者名簿!$I$11)","v":""},"交通安全ポスター",{"$f":"CONCATENATE(応募者名簿!K990)","v":""},{"$f":"CONCATENATE(応募者名簿!L990)","v":""},{"$f":"CONCATENATE(応募者名簿!M990)","v":""},{"$f":"CONCATENATE(応募者名簿!N990)","v":""}]
[{"$f":"応募者名簿!$B$8","v":0},{"$f":"CONCATENATE(応募者名簿!$B$11,応募者名簿!$D$11,応募者名簿!$E$11,応募者名簿!$I$11)","v":""},"交通安全ポスター",{"$f":"CONCATENATE(応募者名簿!K991)","v":""},{"$f":"CONCATENATE(応募者名簿!L991)","v":""},{"$f":"CONCATENATE(応募者名簿!M991)","v":""},{"$f":"CONCATENATE(応募者名簿!N991)","v":""}]
[{"$f":"応募者名簿!$B$8","v":0},{"$f":"CONCATENATE(応募者名簿!$B$11,応募者名簿!$D$11,応募者名簿!$E$11,応募者名簿!$I$11)","v":""},"交通安全ポスター",{"$f":"CONCATENATE(応募者名簿!K992)","v":""},{"$f":"CONCATENATE(応募者名簿!L992)","v":""},{"$f":"CONCATENATE(応募者名簿!M992)","v":""},{"$f":"CONCATENATE(応募者名簿!N992)","v":""}]
[{"$f":"応募者名簿!$B$8","v":0},{"$f":"CONCATENATE(応募者名簿!$B$11,応募者名簿!$D$11,応募者名簿!$E$11,応募者名簿!$I$11)","v":""},"交通安全ポスター",{"$f":"CONCATENATE(応募者名簿!K993)","v":""},{"$f":"CONCATENATE(応募者名簿!L993)","v":""},{"$f":"CONCATENATE(応募者名簿!M993)","v":""},{"$f":"CONCATENATE(応募者名簿!N993)","v":""}]
[{"$f":"応募者名簿!$B$8","v":0},{"$f":"CONCATENATE(応募者名簿!$B$11,応募者名簿!$D$11,応募者名簿!$E$11,応募者名簿!$I$11)","v":""},"交通安全ポスター",{"$f":"CONCATENATE(応募者名簿!K994)","v":""},{"$f":"CONCATENATE(応募者名簿!L994)","v":""},{"$f":"CONCATENATE(応募者名簿!M994)","v":""},{"$f":"CONCATENATE(応募者名簿!N994)","v":""}]
[{"$f":"応募者名簿!$B$8","v":0},{"$f":"CONCATENATE(応募者名簿!$B$11,応募者名簿!$D$11,応募者名簿!$E$11,応募者名簿!$I$11)","v":""},"交通安全ポスター",{"$f":"CONCATENATE(応募者名簿!K995)","v":""},{"$f":"CONCATENATE(応募者名簿!L995)","v":""},{"$f":"CONCATENATE(応募者名簿!M995)","v":""},{"$f":"CONCATENATE(応募者名簿!N995)","v":""}]
[{"$f":"応募者名簿!$B$8","v":0},{"$f":"CONCATENATE(応募者名簿!$B$11,応募者名簿!$D$11,応募者名簿!$E$11,応募者名簿!$I$11)","v":""},"交通安全ポスター",{"$f":"CONCATENATE(応募者名簿!K996)","v":""},{"$f":"CONCATENATE(応募者名簿!L996)","v":""},{"$f":"CONCATENATE(応募者名簿!M996)","v":""},{"$f":"CONCATENATE(応募者名簿!N996)","v":""}]
[{"$f":"応募者名簿!$B$8","v":0},{"$f":"CONCATENATE(応募者名簿!$B$11,応募者名簿!$D$11,応募者名簿!$E$11,応募者名簿!$I$11)","v":""},"交通安全ポスター",{"$f":"CONCATENATE(応募者名簿!K997)","v":""},{"$f":"CONCATENATE(応募者名簿!L997)","v":""},{"$f":"CONCATENATE(応募者名簿!M997)","v":""},{"$f":"CONCATENATE(応募者名簿!N997)","v":""}]
[{"$f":"応募者名簿!$B$8","v":0},{"$f":"CONCATENATE(応募者名簿!$B$11,応募者名簿!$D$11,応募者名簿!$E$11,応募者名簿!$I$11)","v":""},"交通安全ポスター",{"$f":"CONCATENATE(応募者名簿!K998)","v":""},{"$f":"CONCATENATE(応募者名簿!L998)","v":""},{"$f":"CONCATENATE(応募者名簿!M998)","v":""},{"$f":"CONCATENATE(応募者名簿!N998)","v":""}]
[{"$f":"応募者名簿!$B$8","v":0},{"$f":"CONCATENATE(応募者名簿!$B$11,応募者名簿!$D$11,応募者名簿!$E$11,応募者名簿!$I$11)","v":""},"交通安全ポスター",{"$f":"CONCATENATE(応募者名簿!K999)","v":""},{"$f":"CONCATENATE(応募者名簿!L999)","v":""},{"$f":"CONCATENATE(応募者名簿!M999)","v":""},{"$f":"CONCATENATE(応募者名簿!N999)","v":""}]
[{"$f":"応募者名簿!$B$8","v":0},{"$f":"CONCATENATE(応募者名簿!$B$11,応募者名簿!$D$11,応募者名簿!$E$11,応募者名簿!$I$11)","v":""},"交通安全ポスター",{"$f":"CONCATENATE(応募者名簿!K1000)","v":""},{"$f":"CONCATENATE(応募者名簿!L1000)","v":""},{"$f":"CONCATENATE(応募者名簿!M1000)","v":""},{"$f":"CONCATENATE(応募者名簿!N1000)","v":""}]
[{"$f":"応募者名簿!$B$8","v":0},{"$f":"CONCATENATE(応募者名簿!$B$11,応募者名簿!$D$11,応募者名簿!$E$11,応募者名簿!$I$11)","v":""},"交通安全ポスター",{"$f":"CONCATENATE(応募者名簿!K1001)","v":""},{"$f":"CONCATENATE(応募者名簿!L1001)","v":""},{"$f":"CONCATENATE(応募者名簿!M1001)","v":""},{"$f":"CONCATENATE(応募者名簿!N1001)","v":""}]
[{"$f":"応募者名簿!$B$8","v":0},{"$f":"CONCATENATE(応募者名簿!$B$11,応募者名簿!$D$11,応募者名簿!$E$11,応募者名簿!$I$11)","v":""},"交通安全ポスター",{"$f":"CONCATENATE(応募者名簿!K1002)","v":""},{"$f":"CONCATENATE(応募者名簿!L1002)","v":""},{"$f":"CONCATENATE(応募者名簿!M1002)","v":""},{"$f":"CONCATENATE(応募者名簿!N1002)","v":""}]
[{"$f":"応募者名簿!$B$8","v":0},{"$f":"CONCATENATE(応募者名簿!$B$11,応募者名簿!$D$11,応募者名簿!$E$11,応募者名簿!$I$11)","v":""},"交通安全ポスター",{"$f":"CONCATENATE(応募者名簿!K1003)","v":""},{"$f":"CONCATENATE(応募者名簿!L1003)","v":""},{"$f":"CONCATENATE(応募者名簿!M1003)","v":""},{"$f":"CONCATENATE(応募者名簿!N1003)","v":""}]
[{"$f":"応募者名簿!$B$8","v":0},{"$f":"CONCATENATE(応募者名簿!$B$11,応募者名簿!$D$11,応募者名簿!$E$11,応募者名簿!$I$11)","v":""},"交通安全ポスター",{"$f":"CONCATENATE(応募者名簿!K1004)","v":""},{"$f":"CONCATENATE(応募者名簿!L1004)","v":""},{"$f":"CONCATENATE(応募者名簿!M1004)","v":""},{"$f":"CONCATENATE(応募者名簿!N1004)","v":""}]
[{"$f":"応募者名簿!$B$8","v":0},{"$f":"CONCATENATE(応募者名簿!$B$11,応募者名簿!$D$11,応募者名簿!$E$11,応募者名簿!$I$11)","v":""},"交通安全ポスター",{"$f":"CONCATENATE(応募者名簿!K1005)","v":""},{"$f":"CONCATENATE(応募者名簿!L1005)","v":""},{"$f":"CONCATENATE(応募者名簿!M1005)","v":""},{"$f":"CONCATENATE(応募者名簿!N1005)","v":""}]
[{"$f":"応募者名簿!$B$8","v":0},{"$f":"CONCATENATE(応募者名簿!$B$11,応募者名簿!$D$11,応募者名簿!$E$11,応募者名簿!$I$11)","v":""},"交通安全ポスター",{"$f":"CONCATENATE(応募者名簿!K1006)","v":""},{"$f":"CONCATENATE(応募者名簿!L1006)","v":""},{"$f":"CONCATENATE(応募者名簿!M1006)","v":""},{"$f":"CONCATENATE(応募者名簿!N1006)","v":""}]
[{"$f":"応募者名簿!$B$8","v":0},{"$f":"CONCATENATE(応募者名簿!$B$11,応募者名簿!$D$11,応募者名簿!$E$11,応募者名簿!$I$11)","v":""},"交通安全ポスター",{"$f":"CONCATENATE(応募者名簿!K1007)","v":""},{"$f":"CONCATENATE(応募者名簿!L1007)","v":""},{"$f":"CONCATENATE(応募者名簿!M1007)","v":""},{"$f":"CONCATENATE(応募者名簿!N1007)","v":""}]
[{"$f":"応募者名簿!$B$8","v":0},{"$f":"CONCATENATE(応募者名簿!$B$11,応募者名簿!$D$11,応募者名簿!$E$11,応募者名簿!$I$11)","v":""},"交通安全ポスター",{"$f":"CONCATENATE(応募者名簿!K1008)","v":""},{"$f":"CONCATENATE(応募者名簿!L1008)","v":""},{"$f":"CONCATENATE(応募者名簿!M1008)","v":""},{"$f":"CONCATENATE(応募者名簿!N1008)","v":""}]
[{"$f":"応募者名簿!$B$8","v":0},{"$f":"CONCATENATE(応募者名簿!$B$11,応募者名簿!$D$11,応募者名簿!$E$11,応募者名簿!$I$11)","v":""},"交通安全ポスター",{"$f":"CONCATENATE(応募者名簿!K1009)","v":""},{"$f":"CONCATENATE(応募者名簿!L1009)","v":""},{"$f":"CONCATENATE(応募者名簿!M1009)","v":""},{"$f":"CONCATENATE(応募者名簿!N1009)","v":""}]
[{"$f":"応募者名簿!$B$8","v":0},{"$f":"CONCATENATE(応募者名簿!$B$11,応募者名簿!$D$11,応募者名簿!$E$11,応募者名簿!$I$11)","v":""},"交通安全ポスター",{"$f":"CONCATENATE(応募者名簿!K1010)","v":""},{"$f":"CONCATENATE(応募者名簿!L1010)","v":""},{"$f":"CONCATENATE(応募者名簿!M1010)","v":""},{"$f":"CONCATENATE(応募者名簿!N1010)","v":""}]
[{"$f":"応募者名簿!$B$8","v":0},{"$f":"CONCATENATE(応募者名簿!$B$11,応募者名簿!$D$11,応募者名簿!$E$11,応募者名簿!$I$11)","v":""},"交通安全ポスター",{"$f":"CONCATENATE(応募者名簿!K1011)","v":""},{"$f":"CONCATENATE(応募者名簿!L1011)","v":""},{"$f":"CONCATENATE(応募者名簿!M1011)","v":""},{"$f":"CONCATENATE(応募者名簿!N1011)","v":""}]
[{"$f":"応募者名簿!$B$8","v":0},{"$f":"CONCATENATE(応募者名簿!$B$11,応募者名簿!$D$11,応募者名簿!$E$11,応募者名簿!$I$11)","v":""},"交通安全ポスター",{"$f":"CONCATENATE(応募者名簿!K1012)","v":""},{"$f":"CONCATENATE(応募者名簿!L1012)","v":""},{"$f":"CONCATENATE(応募者名簿!M1012)","v":""},{"$f":"CONCATENATE(応募者名簿!N1012)","v":""}]
[{"$f":"応募者名簿!$B$8","v":0},{"$f":"CONCATENATE(応募者名簿!$B$11,応募者名簿!$D$11,応募者名簿!$E$11,応募者名簿!$I$11)","v":""},"交通安全ポスター",{"$f":"CONCATENATE(応募者名簿!K1013)","v":""},{"$f":"CONCATENATE(応募者名簿!L1013)","v":""},{"$f":"CONCATENATE(応募者名簿!M1013)","v":""},{"$f":"CONCATENATE(応募者名簿!N1013)","v":""}]
[{"$f":"応募者名簿!$B$8","v":0},{"$f":"CONCATENATE(応募者名簿!$B$11,応募者名簿!$D$11,応募者名簿!$E$11,応募者名簿!$I$11)","v":""},"交通安全ポスター",{"$f":"CONCATENATE(応募者名簿!K1014)","v":""},{"$f":"CONCATENATE(応募者名簿!L1014)","v":""},{"$f":"CONCATENATE(応募者名簿!M1014)","v":""},{"$f":"CONCATENATE(応募者名簿!N1014)","v":""}]
[{"$f":"応募者名簿!$B$8","v":0},{"$f":"CONCATENATE(応募者名簿!$B$11,応募者名簿!$D$11,応募者名簿!$E$11,応募者名簿!$I$11)","v":""},"交通安全ポスター",{"$f":"CONCATENATE(応募者名簿!K1015)","v":""},{"$f":"CONCATENATE(応募者名簿!L1015)","v":""},{"$f":"CONCATENATE(応募者名簿!M1015)","v":""},{"$f":"CONCATENATE(応募者名簿!N1015)","v":""}]
[{"$f":"応募者名簿!$B$8","v":0},{"$f":"CONCATENATE(応募者名簿!$B$11,応募者名簿!$D$11,応募者名簿!$E$11,応募者名簿!$I$11)","v":""},"交通安全ポスター",{"$f":"CONCATENATE(応募者名簿!K1016)","v":""},{"$f":"CONCATENATE(応募者名簿!L1016)","v":""},{"$f":"CONCATENATE(応募者名簿!M1016)","v":""},{"$f":"CONCATENATE(応募者名簿!N1016)","v":""}]
[{"$f":"応募者名簿!$B$8","v":0},{"$f":"CONCATENATE(応募者名簿!$B$11,応募者名簿!$D$11,応募者名簿!$E$11,応募者名簿!$I$11)","v":""},"交通安全ポスター",{"$f":"CONCATENATE(応募者名簿!K1017)","v":""},{"$f":"CONCATENATE(応募者名簿!L1017)","v":""},{"$f":"CONCATENATE(応募者名簿!M1017)","v":""},{"$f":"CONCATENATE(応募者名簿!N1017)","v":""}]
[{"$f":"応募者名簿!$B$8","v":0},{"$f":"CONCATENATE(応募者名簿!$B$11,応募者名簿!$D$11,応募者名簿!$E$11,応募者名簿!$I$11)","v":""},"交通安全ポスター",{"$f":"CONCATENATE(応募者名簿!#REF!)","v":{"$error":"#REF!"}},{"$f":"CONCATENATE(応募者名簿!#REF!)","v":{"$error":"#REF!"}},{"$f":"CONCATENATE(応募者名簿!#REF!)","v":{"$error":"#REF!"}},{"$f":"CONCATENATE(応募者名簿!#REF!)","v":{"$error":"#REF!"}}]